{"text_format":"1","workbook":"xlsx","n_sheets":9,"sheets":["FlashCards","Selected List","Printables","Index","English To Greek","Greek to English","Short Words","Instructions","Memorization"],"not_rendered":{"charts":2,"images":0,"macros":1,"external_links":0,"defined_names":0,"comments":0,"pivot_tables":0},"unopened":[],"bounds":{"document_bytes":16777216,"sheet_cells":100000,"rows_first":2000,"rows_last":500,"rows_between":2000,"halvings":0,"cell_chars":16384,"cell_head_chars":4096},"cells_cut":0,"cells_raw":0,"read":"whole","date_system":"1900"}

{"sheet":"FlashCards","index":0,"n_rows":2003,"n_cols":116,"rows_kept":562,"cut":true,"hidden":false,"merged":[[1,1,1,4],[10,14,10,15],[12,14,16,15]],"bounds":{"rows_first":250,"rows_last":62,"rows_between":250,"halvings":3}}
[" "]
[null,"Mounce Chapter (4th edition)",null,null,null,null,"      Word Type",null,null,"         Properties",null,null,null,null,null,null,null,null,null,null,null,"Chapter","Chapter",null,"Type","Type",null,"Properties","Properties",null,null,"Library",null,null,null,null,null,null,null,null,null,null,null,null,null,"Selected","Selected",null,"Include?","Include?","Include?","Include?","Include?","Include?","Include?","Include?","Include?","Include?",null,null,"Count:",{"$f":"COUNTIF(BG4:BG2003,\"<2500\")","v":1504},null,null,null,null,null,null,null,null,null,null,null,null,null,null,null,null,null,null,null,null,null,null,null,null,"English to Greek:",null,{"$f":"LOWER('English To Greek'!D4)","v":"comp"},{"$f":"IF(LEN(CK2)<2,\"^%*^&%*&^%&^\",CK2)","v":"comp"},null,"Contains \"Extra\"…","Count:",{"$f":"COUNTIF(CI4:CI1503,TRUE)","v":13},null,null,null,"Greek To English",null,{"$f":"LOWER('Greek to English'!D6)","v":"dom"},{"$f":"IF(LEN(CV2)<2,\"^%*^&%*&^%&^\",CV2)","v":"dom"},null,null,"Count:",{"$f":"COUNTIF(CT4:CT2003,TRUE)","v":4},null,null,null,"Short Word Def:",3,null,"count:",{"$f":"COUNTIF(DE4:DE2003,TRUE)","v":121}]
[null,"R","Chapter 4","R","Chapter 22",null,"R","Nouns",null,"R","Chapter?",null,null,"Chapter:",{"$f":"IF(BJ2=0,\"None\",IF(AA24=\"37\",\"Extra\",IF(AA24=\"38\",\"Index\",AA24)))","v":"11"},{"$f":"IF(BJ2=1,BJ2& \" word available\",BJ2& \" words available\")","v":"1504 words available"},null,null,null,null,null,"04",{"$f":"IF(B3=\"R\",TRUE,FALSE)","v":true},{"$f":"IF(W3,V3&\":\",\":\")","v":"04:"},"Noun  ",{"$f":"IF(G3=\"R\",TRUE,FALSE)","v":true},{"$f":"IF(Z3,Y3&\":\",\":\")","v":"Noun  :"},"Chapter",{"$f":"IF(J3=\"R\",TRUE,FALSE)","v":true},null,"#","Chapter","Lexical","Root","English Definition","Pronunciation","Part of Speech","Article","Past Imperfect","Future Active","Aorist Active","Phonetic.","Strong #s","Sort #","Copy","Chapter?","Type?","Selected?","Chapter","Root","Definition","Pronunciation","Grammar","Article","Past","Future","Aorist","Strongs","Num","Rank","Chapter","Lexical","Root","English Definition","Pronunciation","Part of Speech","Article","Past Imperfect","Future Active","Force Art","Aorist","Strongs","Index","Lookup","Chapter","Type","Lexical","Past","Future","Root","Pronunc","Def","Force Article","Formatted Chapter","Aorist","Strong #","Has Text?","Num","Rank","Lexical","English","Chapter","Index","Lookup","Result A","Result B",null,"Has Text?","Num","Rank","Root","Type","Result","Index","Lookup","Result A",null,null,"Is Short?","Number","Rank","Index","Lookup","Greek","English","Result"]
[null,"R","Chapter 6","R","Chapter 23",null,"R","Proper Nouns",null,"R","Root?",null,null,null,null,null,null,null,null,null,null,"06",{"$f":"IF(B4=\"R\",TRUE,FALSE)","v":true},{"$f":"IF(W4,V4&\":\",\":\")","v":"06:"},"Proper Noun",{"$f":"IF(G4=\"R\",TRUE,FALSE)","v":true},{"$f":"IF(Z4,Y4&\":\",\":\")","v":"Proper Noun:"},"Root",{"$f":"IF(J4=\"R\",TRUE,FALSE)","v":true},null,1,"07","-ς, -ος  "," ","(nominative, singular, masculine)"," ","Noun Ending"," "," "," ","  "," ","0",0.01,{"$f":"IF(AG4=\"\",\"\",AG4)","v":"-ς, -ος  "},{"$f":"IF(ISERR(FIND(AF4,$Y$22,1)),FALSE,TRUE)","v":true},{"$f":"IF(ISERR(FIND(AK4,$Y$23,1)),FALSE,TRUE)","v":true},{"$f":"AND(AT4,AU4)","v":true},{"$f":"IF(AC$3,AF4,\" \")","v":"07"},{"$f":"IF(AC$4,AH4,\" \")","v":" "},{"$f":"IF(TRUE,AI4,\" \")","v":"(nominative, singular, masculine)"},{"$f":"IF(AC$6,AJ4,\" \")","v":" "},{"$f":"IF(AC$7,AK4,\" \")","v":"Noun Ending"},{"$f":"IF(AC$8,AL4,\" \")","v":" "},{"$f":"IF(AC$9,AM4,\" \")","v":" "},{"$f":"IF(AC$10,AN4,\" \")","v":" "},{"$f":"IF(AC$9,AO4,\" \")","v":"  "},{"$f":"IF(AC$12,AQ4,\" \")","v":"0"},{"$f":"IF(AV4,AE4,AE4+5000)","v":1},{"$f":"RANK(BG4,BG$4:BG$2003,1)","v":1},{"$f":"IF($AV4,AW4,\" \")","v":"07"},{"$f":"IF($AV4,BO4&AG4,\" \")","v":"-ς, -ος  "},{"$f":"IF($AV4,AX4,\" \")","v":" "},"(nominative, singular, masculine)"," ","Noun Ending",{"$f":"IF($AV4,IF(BB4=\" \",\"\",BB4&\" \"),\"\")","v":""},{"$f":"IF($AV4,BC4,\" \")","v":" "}," ",{"$f":"IF($AV4,IF(AL4=\" \",\"\",AL4&\" \"),\"\")","v":""},{"$f":"IF($AV4,BE4,\" \")","v":"  "},{"$f":"IF($AV4,BF4,\" \")","v":"0"},1,{"$f":"IF(BU4<=BJ$2,MATCH(BU4,BH$4:BH$2003,0),\"\")","v":1},{"$f":"VLOOKUP($BU4,BH$4:BQ$2003,2,0)","v":"07"},{"$f":"VLOOKUP($BU4,BH$4:BQ$2003,7,0)","v":"Noun Ending"},{"$f":"VLOOKUP($BU4,BH$4:BQ$2003,3,0)","v":"-ς, -ος  "},{"$f":"VLOOKUP($BU4,BH$4:BQ$2003,9,0)","v":" "},{"$f":"VLOOKUP($BU4,BH$4:BQ$2003,10,0)","v":" "},{"$f":"VLOOKUP($BU4,BH$4:BQ$2003,4,0)","v":" "},{"$f":"VLOOKUP($BU4,BH$4:BQ$2003,6,0)","v":" "},{"$f":"VLOOKUP($BU4,BH$4:BQ$2003,5,0)","v":"(nominative, singular, masculine)"},{"$f":"IF(AC$8,BY4,VLOOKUP($BU4,BH$4:BR$2003,11,0)&BY4)","v":"-ς, -ος  "},{"$f":"IF(BV4=\"\",\"\",IF(BW4=\"37\",\"Extra\", IF(BW4=38, \"Index of Textbook\",\"Chapter \" &BW4))&\": \"&BX4)","v":"Chapter 07: Noun Ending"},{"$f":"VLOOKUP($BU4,BH$4:BS$2003,12,0)","v":"  "},{"$f":"VLOOKUP($BU4,BH$4:BT$2003,13,0)","v":"0"},{"$f":"IF(ISERR(SEARCH(CL$2,AY4,1)),FALSE, TRUE)","v":false},{"$f":"IF(CI4,AE4,AE4+5000)","v":5001},{"$f":"RANK(CJ4,CJ$4:CJ$2003,1)","v":14},{"$f":"IF($CI4,IF(BB4=\" \",\"\",BB4&\" \")&AG4,\" \")","v":" "},{"$f":"IF($CI4,AY4,\" \")","v":" "},{"$f":"IF($CI4,IF(AW4=\"37\",\" [Extra]\",IF(AW4=\"38\",\" [Index]\",  \" [Chap. \"&TEXT(VALUE(AW4),\"#\")&\"]\")),\" \")","v":" "},1,{"$f":"IF(CO4<=CP$2,MATCH(CO4,CK$4:CK$2003,0),\"\")","v":109},{"$f":"VLOOKUP($CO4,CK$4:CM$2003,2,0)","v":"ἀκολουθέω"},{"$f":"VLOOKUP($CO4,CK$4:CN$2003,3,0)&VLOOKUP($CO4,CK$4:CN$2003,4,0)","v":"I follow, I accompany [Chap. 21]"}," ",{"$f":"IF(ISERR(FIND(CW$2,AP4,1)),FALSE, TRUE)","v":false},{"$f":"IF(CT4,AE4,AE4+5000)","v":5001},{"$f":"RANK(CU4,CU$4:CU$2003,1)","v":5},{"$f":"IF($CT4,IF(AH4=\" \",\"\",\" [\"&AH4&\"]\"),\" \")","v":" "},{"$f":"IF($CT4,IF(AK4=\"Noun  \",\"Noun\",IF(AK4=\"Verb  \",\"Verb\",AK4)),\" \")","v":" "},{"$f":"IF($CT4,IF(BB4=\" \",\"\",BB4&\" \")&AG4&CW4&\": \"&AY4&  IF(AF4=\"37\",\"  (Extra\",IF(AF4=\"38\",\"  (Index\",\"  (Chapter \"&TEXT(AF4,\"#\"))) &\", \"&CX4& IF(LEN(AM4)>1,\" [\"&AM4&\"]\",\"\") &IF(LEN(AN4)>1,\" [\"&AN4&\"]\",\"\")         &\")\",\" \")","v":" "},1,{"$f":"IF(CZ4<=DA$2,MATCH(CZ4,CV$4:CV$2003,0),\"\")","v":964},{"$f":"VLOOKUP($CZ4,CV$4:CY$2003,4,0)","v":"οἰκοδομέω: I build, I construct  (Chapter 38, Verb [ᾠκοδόμουν] [οἰκοδομήσω])"}," "," ",{"$f":"IF(AND(LEN(AG4)<=DF$2,AG4<>\" \"),TRUE,FALSE)","v":false},{"$f":"IF(DE4,AE4,AE4+5000)","v":5001},{"$f":"RANK(DF4,DF$4:DF$2003,1)","v":122},1,{"$f":"IF(DH4<=DA$2,MATCH(DH4,DG$4:DG$2003,0),\"\")","v":10},{"$f":"IF($DE4,IF(BB4=\" \",\"\",BB4&\" \")&AG4,\" \")","v":" "},{"$f":"IF($DE4,AY4,\" \")","v":" "},{"$f":"IF($DH4<=$DI$2,VLOOKUP($DH4,DG$4:DK$2003,4,0)&\" [\" &VLOOKUP($DH4,DG$4:DK$2003,5,0) &\"]\",\" \")","v":"-ες [(nominative, plural, masculine or feminine, 3ʳᵈ declension)]"}]
[null,"R","Chapter 7","R","Chapter 24",null,"R","Pronouns",null,"£","Show Definition?",null,null,"Root:",{"$f":"Z27","v":"*ἐκκλησια"},{"$f":"\"(word \"  &   TEXT(Z19,\"#\") &   \" of \"  &  TEXT(BJ2,\"#\")&\")\"","v":"(word 471 of 1504)"},null,null,null,null,null,"07",true,"07:","Pronoun",true,"Pronoun:","Definition",false,null,2,"07","-, -η, -α"," ","(nominative, singular, feminine)"," ","Noun Ending"," "," "," ","  "," ","0",0.02,{"$f":"IF(AG5=\"\",\"\",AG5)","v":"-, -η, -α"},true,{"$f":"IF(ISERR(FIND(AK5,$Y$23,1)),FALSE,TRUE)","v":true},{"$f":"AND(AT5,AU5)","v":true},{"$f":"IF(AC$3,AF5,\" \")","v":"07"},{"$f":"IF(AC$4,AH5,\" \")","v":" "},{"$f":"IF(TRUE,AI5,\" \")","v":"(nominative, singular, feminine)"},{"$f":"IF(AC$6,AJ5,\" \")","v":" "},{"$f":"IF(AC$7,AK5,\" \")","v":"Noun Ending"},{"$f":"IF(AC$8,AL5,\" \")","v":" "},{"$f":"IF(AC$9,AM5,\" \")","v":" "},{"$f":"IF(AC$10,AN5,\" \")","v":" "},{"$f":"IF(AC$9,AO5,\" \")","v":"  "},{"$f":"IF(AC$12,AQ5,\" \")","v":"0"},2,2,{"$f":"IF(AV5,AW5,\" \")","v":"07"},"-, -η, -α"," ","(nominative, singular, feminine)"," ","Noun Ending",""," "," ",{"$f":"IF($AV5,IF(AL5=\" \",\"\",AL5&\" \"),\"\")","v":""},{"$f":"IF($AV5,BE5,\" \")","v":"  "},"0",2,2,"07","Noun Ending","-, -η, -α"," "," "," "," ","(nominative, singular, feminine)","-, -η, -α",{"$f":"IF(BV5=\"\",\"\",IF(BW5=\"37\",\"Extra\", IF(BW5=38, \"Index of Textbook\",\"Chapter \" &BW5))&\": \"&BX5)","v":"Chapter 07: Noun Ending"},"  ","0",{"$f":"IF(ISERR(SEARCH(CL$2,AY5,1)),FALSE, TRUE)","v":false},5002,15," ",{"$f":"IF($CI5,AY5,\" \")","v":" "},{"$f":"IF($CI5,IF(AW5=\"37\",\" [Extra]\",IF(AW5=\"38\",\" [Index]\",  \" [Chap. \"&TEXT(VALUE(AW5),\"#\")&\"]\")),\" \")","v":" "},2,178,"ἀποδίδωμι","I pay, I recompense; [middle]: I sell [Chap. 38]"," ",{"$f":"IF(ISERR(FIND(CW$2,AP5,1)),FALSE, TRUE)","v":false},5002,6," "," ",{"$f":"IF($CT5,IF(BB5=\" \",\"\",BB5&\" \")&AG5&CW5&\": \"&AY5&  IF(AF5=\"37\",\"  (Extra\",IF(AF5=\"38\",\"  (Index\",\"  (Chapter \"&TEXT(AF5,\"#\"))) &\", \"&CX5& IF(LEN(AM5)>1,\" [\"&AM5&\"]\",\"\") &IF(LEN(AN5)>1,\" [\"&AN5&\"]\",\"\")         &\")\",\" \")","v":" "},2,965,"ἡ οἰκοδομή: building, edification  (Chapter 38, Noun)"," "," ",false,5002,123,2,87," ",{"$f":"IF($DE5,AY5,\" \")","v":" "},"ἄγω [I lead, I bring, I arrest]"]
[null,"R","Chapter 8","R","Chapter 25",null,"R","Noun Endings",null,"R","Pronunciation?",null,null,null,null,null,null,null,null,null,null,"08",true,"08:","Noun Ending",true,"Noun Ending:","Pronunciation",true,null,3,"07","-ν, -ον"," ","(nominative, singular, neuter; accusative, singular, masculine or neuter)"," ","Noun Ending"," "," "," ","  "," ","0",0.03,"-ν, -ον",true,true,true,"07"," ","(nominative, singular, neuter; accusative, singular, masculine or neuter)"," ","Noun Ending"," "," "," ","  ","0",3,3,"07","-ν, -ον"," ","(nominative, singular, neuter; accusative, singular, masculine or neuter)"," ","Noun Ending",""," "," ","","  ","0",3,3,"07","Noun Ending","-ν, -ον"," "," "," "," ","(nominative, singular, neuter; accusative, singular, masculine or neuter)","-ν, -ον","Chapter 07: Noun Ending","  ","0",false,5003,16," "," "," ",3,488,"τό ἔλεος","mercy, compassion [Chap. 38]"," ",false,5003,7," "," "," ",3,1433,"φείδομαι: I spare  (Chapter 38, Verb [φείσομαι])"," "," ",false,5003,124,3,122," "," ","ἅμα [together with [dative]]"]
[null,"R","Chapter 9","R","Chapter 27",null,"R","Articles",null,"R","Part of Speech?",null,null,"Type:",{"$f":"Z25","v":"Noun  "},{"$f":"IF(Q7<>\" \",\"Imperfect\",\"\")","v":""},{"$f":"AA26","v":" "},null,null,null,null,"09",true,"09:","Article",true,"Article:","Grammar",true,null,4,"07","-υ, -ου"," ","(genitive, singular, masculine or neuter)"," ","Noun Ending"," "," "," ","  "," ","0",0.04,"-υ, -ου",true,true,true,"07"," ","(genitive, singular, masculine or neuter)"," ","Noun Ending"," "," "," ","  ","0",4,4,"07","-υ, -ου"," ","(genitive, singular, masculine or neuter)"," ","Noun Ending",""," "," ","","  ","0",4,4,"07","Noun Ending","-υ, -ου"," "," "," "," ","(genitive, singular, masculine or neuter)","-υ, -ου","Chapter 07: Noun Ending","  ","0",false,5004,17," "," "," ",4,568,"ἐπιτελέω","I finish, I complete, I accomplish [Index]"," ",false,5004,8," "," "," ",4,1491,"ψεύδομαι: I lie  (Chapter 38, Verb)"," "," ",false,5004,125,4,123," "," ","ἅμα [at the same time]"]
[null,"R","Chapter 10","R","Chapter 28",null,"R","Verbs",null,"R","Article?",null,null,null,null,{"$f":"IF(Q8<>\" \",\"Future Active\",\"\")","v":""},{"$f":"AB26","v":" "},null,null,null,null,10,true,"10:","Verb  ",true,"Verb  :","Article",true,null,5,"07","-ς, -ης, -ας"," ","(genitive, singular,  feminine)"," ","Noun Ending"," "," "," ","  "," ","0",0.05,"-ς, -ης, -ας",true,true,true,"07"," ","(genitive, singular,  feminine)"," ","Noun Ending"," "," "," ","  ","0",5,5,"07","-ς, -ης, -ας"," ","(genitive, singular,  feminine)"," ","Noun Ending",""," "," ","","  ","0",5,5,"07","Noun Ending","-ς, -ης, -ας"," "," "," "," ","(genitive, singular,  feminine)","-ς, -ης, -ας","Chapter 07: Noun Ending","  ","0",false,5005,18," "," "," ",5,759,"κατεργάζομαι","I accomplish, I produce [Index]"," ",false,5005,9," "," "," ",5,""," "," "," ",false,5005,126,5,""," "," ","ἄν [modifies relative pronoun (\"who\" becomes \"whoever\") (particle)]"]
[null,"R","Chapter 11","R","Chapter 29",null,"R","Verb Endings",null,"R","Verb Tenses?",null,null,"Greek:",{"$f":"Z26","v":"ἡ ἐκκλησία"},{"$f":"IF(Q7<>\" \",\"Aorist Active\",\"\")","v":""},{"$f":"AC26","v":"  "},null,null,null,null,11,true,"11:","Verb Ending",true,"Verb Ending:","Tenses",true,null,6,"07","-ι, -ῳ"," ","(dative, singular, masculine; dative, singular, neuter)"," ","Noun Ending"," "," "," ","  "," ","0",0.06,"-ι, -ῳ",true,true,true,"07"," ","(dative, singular, masculine; dative, singular, neuter)"," ","Noun Ending"," "," "," ","  ","0",6,6,"07","-ι, -ῳ",{"$f":"IF($AV9,AX9,\" \")","v":" "},{"$f":"IF($AV9,AY9,\" \")","v":"(dative, singular, masculine; dative, singular, neuter)"},{"$f":"IF($AV9,AZ9,\" \")","v":" "},{"$f":"IF($AV9,BA9,\" \")","v":"Noun Ending"},"",{"$f":"IF($AV9,BC9,\" \")","v":" "},{"$f":"IF($AV9,BD9,\" \")","v":" "},"","  ","0",6,6,"07","Noun Ending","-ι, -ῳ"," "," "," "," ","(dative, singular, masculine; dative, singular, neuter)","-ι, -ῳ","Chapter 07: Noun Ending","  ","0",false,5006,19," "," "," ",6,972,"ὅλος","whole, complete [Chap. 19]"," ",false,5006,10," "," "," ",6,""," "," "," ",false,5006,127,6,""," "," ","-ἄν [ending that changes \"what\" to \"whatever\"]"]
[null,"R","Chapter 12","R","Chapter 30",null,"R","Prepositions",null,"R","Endings Chart?",null,null,null,null,null,null,null,null,null,null,12,true,"12:","Preposition",true,"Preposition:","(updated to just link to \"tenses\")",{"$f":"AC9","v":true},null,7,"07","-ι, -ῃ, -ᾳ"," ","(dative, singular, feminine)"," ","Noun Ending"," "," "," ","  "," ","0",7.0000000000000007E-2,"-ι, -ῃ, -ᾳ",true,{"$f":"IF(ISERR(FIND(AK10,$Y$23,1)),FALSE,TRUE)","v":true},true,"07"," ","(dative, singular, feminine)"," ","Noun Ending"," "," "," ","  ","0",7,7,"07","-ι, -ῃ, -ᾳ"," ","(dative, singular, feminine)"," ","Noun Ending",""," "," ","","  ","0",7,7,"07","Noun Ending","-ι, -ῃ, -ᾳ"," "," "," "," ","(dative, singular, feminine)","-ι, -ῃ, -ᾳ","Chapter 07: Noun Ending","  ","0",false,5007,20," "," "," ",7,974,"ὁμιλέω","I converse with, I keep company with [Extra]"," ",false,5007,11," "," "," ",7,""," "," "," ",false,5007,128,7,""," "," ","ἀνά [among, between, each]"]
[null,"R","Chapter 13","R","Chapter 31",null,"R","Conjunctions",null,"R","Strong's #?",null,null,"Pronunciation:",{"$f":"Z28","v":"ek-lase-EE-ah"},null,null,null,null,null,null,13,true,"13:","Conjunction",true,"Conjunction:","Chart",{"$f":"IF(J10=\"R\",TRUE,FALSE)","v":true},null,8,"07","-ν, -ην, -αν"," ","(accusative, singular, feminine)"," ","Noun Ending"," "," "," ","  "," ","0",0.08,"-ν, -ην, -αν",true,true,true,"07"," ","(accusative, singular, feminine)"," ","Noun Ending"," "," "," ","  ","0",8,8,"07","-ν, -ην, -αν"," ","(accusative, singular, feminine)"," ","Noun Ending",""," "," ","","  ","0",8,8,"07","Noun Ending","-ν, -ην, -αν"," "," "," "," ","(accusative, singular, feminine)","-ν, -ην, -αν","Chapter 07: Noun Ending","  ","0",false,5008,21," "," "," ",8,978,"ὁμοιόω","I compare, I make like [Chap. 38]"," ",false,5008,12," "," "," ",8,""," "," "," ",false,5008,129,8,""," "," ","ἄρα [then, therefore (particle)]"]
[null,"R","Chapter 14","R","Chapter 32",null,"R","Adjectives",null,null,null,null,null,null,null,null,null,null,null,null,null,14,true,"14:","Adjective",true,"Adjective:","Strong's Number",{"$f":"IF(J11=\"R\",TRUE,FALSE)","v":true},null,9,"07","-ι, -οι"," ","(nominative, plural, masculine)"," ","Noun Ending"," "," "," ","  "," ","0",0.1,"-ι, -οι",true,true,true,"07"," ","(nominative, plural, masculine)"," ","Noun Ending",{"$f":"IF(AC$8,AL12,\" \")","v":" "}," "," ","  ","0",9,9,"07","-ι, -οι"," ","(nominative, plural, masculine)"," ","Noun Ending",""," "," ","","  ","0",9,9,"07","Noun Ending","-ι, -οι"," "," "," "," ","(nominative, plural, masculine)","-ι, -οι","Chapter 07: Noun Ending","  ","0",false,5009,22," "," "," ",9,1152,"πληρόω","I fill, I fulfill, I complete [Chap. 17]"," ",false,5009,13," "," "," ",9,""," "," "," ",false,5009,130,9,""," "," ","ἆρα [really? (introduces question with incredulity) (particle)]"]
[null,"R","Chapter 16","R","Chapter 33",null,"R","Adverbs",null,null,0.3131633996963501,null,null,"Definition:",{"$f":"Z29","v":"assembly, congregation, church"},null,"Strong's Number",null,null,null,null,16,true,"16:","Adverb",true,"Adverb:",null,null,null,10,"10","-ες"," ","(nominative, plural, masculine or feminine, 3ʳᵈ declension)"," ","Noun Ending"," "," "," "," "," ","0",0.11,"-ες",true,true,true,"10"," ","(nominative, plural, masculine or feminine, 3ʳᵈ declension)"," ","Noun Ending"," "," "," "," ","0",10,10,"10","-ες"," ","(nominative, plural, masculine or feminine, 3ʳᵈ declension)"," ","Noun Ending",""," "," ",""," ","0",10,10,"10","Noun Ending","-ες"," "," "," "," ","(nominative, plural, masculine or feminine, 3ʳᵈ declension)","-ες","Chapter 10: Noun Ending"," ","0",false,5010,23," "," "," ",10,1274,"τό σπλάγχνον","affection, heart, compassion [Chap. 38]"," ",false,5010,14," "," "," ",10,""," "," "," ",true,10,1,10,"","-ες","(nominative, plural, masculine or feminine, 3ʳᵈ declension)","γάρ [for, then (particle)]"]
[null,"R","Chapter 17","R","Chapter 34",null,"R","Idioms",null,null,true,null,null,null,null,null,{"$f":"IF(ISERR(VALUE(Z30)),Z30,IF(VALUE(Z30)<1,\"\",\"               \"&Z30))","v":"               1577"},null,null,null,null,17,true,"17:","Idiom",true,"Idiom:",null,null,null,11,"07","-ι, -αι"," ","(nominative, plural, feminine)"," ","Noun Ending"," "," "," ","  "," ","0",0.12,"-ι, -αι",true,true,true,"07"," ","(nominative, plural, feminine)"," ","Noun Ending"," "," "," ","  ","0",11,11,"07","-ι, -αι"," ","(nominative, plural, feminine)"," ","Noun Ending",""," "," ","","  ","0",11,11,"07","Noun Ending","-ι, -αι"," "," "," "," ","(nominative, plural, feminine)","-ι, -αι","Chapter 07: Noun Ending","  ","0",false,5011,24," "," "," ",11,1305,"συνέχω","I compel, I confine, I oppress, I distress [Chap. 38]"," ",false,5011,15," "," "," ",11,""," "," "," ",false,5011,131,11,""," "," ","γε [indeed, at least, even (particle)]"]
[null,"R","Chapter 18","R","Chapter 35",null,"R","Interjections",null,null,null,null,null,null,null,null,null,null,null,null,null,18,true,"18:","Interjection",{"$f":"IF(G15=\"R\",TRUE,FALSE)","v":true},"Interjection:",null,null,null,12,"07","-α     "," ","(nominative or accusative, plural, neuter)"," ","Noun Ending"," "," "," ","  "," ","0",0.13,"-α     ",true,true,true,"07"," ","(nominative or accusative, plural, neuter)"," ","Noun Ending"," "," "," ","  ","0",12,12,"07","-α     "," ","(nominative or accusative, plural, neuter)"," ","Noun Ending",{"$f":"IF($AV15,IF(BB15=\" \",\"\",BB15&\" \"),\"\")","v":""}," "," ","","  ","0",12,12,"07","Noun Ending","-α     "," "," "," "," ","(nominative or accusative, plural, neuter)","-α     ","Chapter 07: Noun Ending","  ","0",false,5012,25," "," "," ",12,1331,"τέλειος","complete, finished, perfect [Chap. 38]"," ",false,5012,16," "," "," ",12,""," "," "," ",false,5012,132,12,""," "," ","δεῖ [it is necessary]"]
[null,"R","Chapter 19","R","Chapter 36",null,null,null,null,null,null,null,null,null,null,null,null,null,null,null,null,19,true,"19:",null,null,null,null,null,null,13,"07","-ων     "," ","(genitive, plural, masculine, feminine, neuter)"," ","Noun Ending"," "," "," ","  "," ","0",0.2,"-ων     ",true,true,true,"07"," ","(genitive, plural, masculine, feminine, neuter)"," ","Noun Ending"," "," "," ","  ","0",13,13,"07","-ων     "," ","(genitive, plural, masculine, feminine, neuter)"," ","Noun Ending",{"$f":"IF($AV16,IF(BB16=\" \",\"\",BB16&\" \"),\"\")","v":""}," "," ","","  ","0",13,13,"07","Noun Ending","-ων     "," "," "," "," ","(genitive, plural, masculine, feminine, neuter)","-ων     ","Chapter 07: Noun Ending","  ","0",false,5013,26," "," "," ",13,1332,"τελειόω","I accomplish, I complete, I perfect [Index]"," ",false,5013,17," "," "," ",13,""," "," "," ",false,5013,133,13,""," "," ","δέω [I bind]"]
[null,"R","Chapter 20","R","Extra",null,null,null,null,null,null,null,null,null,null,null,null,null,null,null,null,20,true,"20:","when adding words, update this number",null,null,null,null,null,14,"07","-ις, -οις"," ","(dative, plural, masculine or neuter)"," ","Noun Ending"," "," "," ","  "," ","0",0.21099999999999999,"-ις, -οις",true,true,true,"07"," ","(dative, plural, masculine or neuter)"," ","Noun Ending"," "," "," ","  ","0",14,14,"07","-ις, -οις"," ","(dative, plural, masculine or neuter)"," ","Noun Ending",""," "," ","","  ","0",14,14,"07","Noun Ending","-ις, -οις"," "," "," "," ","(dative, plural, masculine or neuter)","-ις, -οις","Chapter 07: Noun Ending","  ","0",false,5014,27," "," "," ",14,""," ","  "," ",false,5014,18," "," "," ",14,""," "," "," ",false,5014,134,14,""," "," ","δή [now, therefore, indeed (particle)]"]
[null,"R","Chapter 21","R","Index",null,null,null,null,null,null,null,null,null,null,null,null,null,null,null,null,21,true,"21:",{"$f":"\"Currently \"&BJ2 &\" entries.\"","v":"Currently 1504 entries."},null,"in all yellow cells (and below most of them)",null,null,null,15,"07","-ις, -αις"," ","(dative, plural, feminine)"," ","Noun Ending"," "," "," ","  "," ","0",0.21199999999999999,"-ις, -αις",true,true,true,"07"," ","(dative, plural, feminine)"," ","Noun Ending"," "," "," ","  ","0",15,15,"07","-ις, -αις"," ","(dative, plural, feminine)"," ","Noun Ending",""," "," ","","  ","0",15,15,"07","Noun Ending","-ις, -αις"," "," "," "," ","(dative, plural, feminine)","-ις, -αις","Chapter 07: Noun Ending","  ","0",false,5015,28," "," "," ",15,""," ","  "," ",false,5015,19," "," "," ",15,""," "," "," ",false,5015,135,15,""," "," ","διό [therefore, for this reason]"]
[null,null,null,null,null,null,null,null,null,null,null,null,null,null,null,null,null,null,null,null,null,22,{"$f":"IF(D3=\"R\",TRUE,FALSE)","v":true},"22:","Chosen Index?",{"$f":"INT(K13*BJ2)+1","v":471},"(current workbook size is <2000)",null,null,null,16,"10","-σι(ν)"," ","(dative, plural, masculine/ feminine/neuter, 3ʳᵈ declension)"," ","Noun Ending"," "," "," "," "," ","0",0.21299999999999999,"-σι(ν)",true,true,true,"10"," ","(dative, plural, masculine/ feminine/neuter, 3ʳᵈ declension)"," ","Noun Ending"," "," "," "," ","0",16,16,"10","-σι(ν)"," ","(dative, plural, masculine/ feminine/neuter, 3ʳᵈ declension)"," ","Noun Ending",""," "," ",""," ","0",16,16,"10","Noun Ending","-σι(ν)"," "," "," "," ","(dative, plural, masculine/ feminine/neuter, 3ʳᵈ declension)","-σι(ν)","Chapter 10: Noun Ending"," ","0",false,5016,29," "," "," ",16,""," ","  "," ",false,5016,20," "," "," ",16,""," "," "," ",false,5016,136,16,""," "," ","δύο [two]"]
[null,null,null,null,null,null,null,null,null,null,null,null,null,"© 2025 E. M. Pogozelski   pogo@geneseo.edu",null,null,null,null,null,null,null,23,{"$f":"IF(D4=\"R\",TRUE,FALSE)","v":true},"23:",{"$f":"CONCATENATE(X3,X4,X5,X6,X7,X8,X9,X10,X11,X12,X13,X14,X15,X16)","v":"04:06:07:08:09:10:11:12:13:14:16:17:18:19:"},null,null,null,null,null,17,"07","-υς, -ους"," ","(accusative, plural, masculine)"," ","Noun Ending"," "," "," ","  "," ","0",0.22,"-υς, -ους",true,true,true,"07"," ","(accusative, plural, masculine)"," ","Noun Ending"," "," "," ","  ","0",17,17,"07","-υς, -ους"," ","(accusative, plural, masculine)"," ","Noun Ending",""," "," ","","  ","0",17,17,"07","Noun Ending","-υς, -ους"," "," "," "," ","(accusative, plural, masculine)","-υς, -ους","Chapter 07: Noun Ending","  ","0",false,5017,30," "," "," ",17,""," ","  "," ",false,5017,21," "," "," ",17,""," "," "," ",false,5017,137,17,""," "," ","ἐάν [if, when]"]
[null,null,null,null,null,null,null,null,null,null,null,null,null,"(you can give this away, but you can't change it, or sell it, or use it any way to make money)",null,null,null,null,null,null,null,24,{"$f":"IF(D5=\"R\",TRUE,FALSE)","v":true},"24:",{"$f":"CONCATENATE(X17,X18,X19,X20,X21,X22,X23,X24,X25,X26,X27,X28,X29,X30,X31,X32,X33,X34,X35)","v":"20:21:22:23:24:25::27:28:29:30:31:32:33:34:35:36:37:38:"},null,null,null,null,null,18,"07","-ς, -ας"," ","(accusative, plural, feminine)"," ","Noun Ending"," "," "," ","  "," ","0",0.23,"-ς, -ας",true,true,true,"07"," ","(accusative, plural, feminine)"," ","Noun Ending"," "," "," ","  ","0",18,18,"07","-ς, -ας"," ","(accusative, plural, feminine)"," ","Noun Ending",""," "," ","","  ","0",18,18,"07","Noun Ending","-ς, -ας"," "," "," "," ","(accusative, plural, feminine)","-ς, -ας","Chapter 07: Noun Ending","  ","0",false,5018,31," "," "," ",18,""," ","  "," ",false,5018,22," "," "," ",18,""," "," "," ",false,5018,138,18,""," "," ","ἐάω [I permit, I allow, I let go]"]
[null,null,null,null,null,null,null,null,null,null,null,null,null,null,null,null,null,null,null,null,null,25,{"$f":"IF(D6=\"R\",TRUE,FALSE)","v":true},"25:",{"$f":"CONCATENATE(Y20,Y21)","v":"04:06:07:08:09:10:11:12:13:14:16:17:18:19:20:21:22:23:24:25::27:28:29:30:31:32:33:34:35:36:37:38:"},null,null,null,null,null,19,"19","-εύς "," ","suffix for a person related to the stem (genitive, singular, masculine)","yoose","Noun Ending"," "," "," ","  ","eus","0",0.28000000000000003,"-εύς ",true,true,true,"19"," ","suffix for a person related to the stem (genitive, singular, masculine)","yoose","Noun Ending"," "," "," ","  ","0",19,19,"19","-εύς "," ","suffix for a person related to the stem (genitive, singular, masculine)","yoose","Noun Ending",""," "," ","","  ","0",19,19,"19","Noun Ending","-εύς "," "," "," ","yoose","suffix for a person related to the stem (genitive, singular, masculine)","-εύς ","Chapter 19: Noun Ending","  ","0",false,5019,32," "," "," ",19,""," ","  "," ",false,5019,23," "," "," ",19,""," "," "," ",false,5019,139,19,""," "," ","ἐγώ [I (nominative, singular)]"]
[null,null,null,null,null,null,null,null,null,null,null,null,null,null,null,null,null,null,null,null,null,26,false,":",{"$f":"CONCATENATE(AA3,AA4,AA5,AA6,AA7,AA8,AA9,AA10,AA11,AA12,AA13,AA14,AA15,)","v":"Noun  :Proper Noun:Pronoun:Noun Ending:Article:Verb  :Verb Ending:Preposition:Conjunction:Adjective:Adverb:Idiom:Interjection:"},null,null,null,null,null,20,"37","-ικός"," ","converts a noun into an adjective (\"king\" becomes \"royal\")","ee-KOSS","Noun Ending"," "," "," "," ","ikos","0",0.28999999999999998,"-ικός",true,true,true,"37"," ","converts a noun into an adjective (\"king\" becomes \"royal\")","ee-KOSS","Noun Ending"," "," "," "," ","0",20,20,"37","-ικός"," ","converts a noun into an adjective (\"king\" becomes \"royal\")","ee-KOSS","Noun Ending",""," "," ",""," ",{"$f":"IF($AV23,BF23,\" \")","v":"0"},20,20,"37","Noun Ending","-ικός"," "," "," ","ee-KOSS","converts a noun into an adjective (\"king\" becomes \"royal\")","-ικός","Extra: Noun Ending"," ","0",false,5020,33," "," "," ",20,""," ","  "," ",false,5020,24," "," "," ",20,""," "," "," ",false,5020,140,20,""," "," ","μοι [to me (dative singular)]"]
[null,null,null,null,null,null,null,null,null,null,null,null,null,null,null,null,null,null,null,null,null,27,{"$f":"IF(D7=\"R\",TRUE,FALSE)","v":true},"27:","Chapter:",{"$f":"IF(TRUE,VLOOKUP($Z$19,BU$4:CD$2003,3,0),\"\")","v":"11"},{"$f":"TEXT(Z24,\"#\")","v":"11"},null,null,null,21,"16","[active stem] +ω"," ","I am verbing (it) [present active indicative]"," ","Verb Ending"," "," "," ","  ",null,"0",0.3,"[active stem] +ω",true,true,true,"16"," ","I am verbing (it) [present active indicative]"," ","Verb Ending"," "," "," ","  ","0",21,21,{"$f":"IF(AV24,AW24,\" \")","v":"16"},"[active stem] +ω",{"$f":"IF($AV24,AX24,\" \")","v":" "},{"$f":"IF($AV24,AY24,\" \")","v":"I am verbing (it) [present active indicative]"},{"$f":"IF($AV24,AZ24,\" \")","v":" "},{"$f":"IF($AV24,BA24,\" \")","v":"Verb Ending"},"",{"$f":"IF($AV24,BC24,\" \")","v":" "},{"$f":"IF($AV24,BD24,\" \")","v":" "},"","  ",{"$f":"IF($AV24,BF24,\" \")","v":"0"},21,21,"16","Verb Ending","[active stem] +ω"," "," "," "," ","I am verbing (it) [present active indicative]","[active stem] +ω","Chapter 16: Verb Ending","  ","0",false,5021,34," "," "," ",21,""," ","  "," ",false,5021,25," "," "," ",21,""," "," "," ",false,5021,141,21,""," "," ","με [me (accusative singular)]"]
[null,null,null,null,null,null,null,null,null,null,null,null,null,null,null,null,null,null,null,null,null,28,{"$f":"IF(D8=\"R\",TRUE,FALSE)","v":true},"28:","Type:",{"$f":"IF(TRUE,VLOOKUP($Z$19,BU$4:CD$2003,4,0),\"\")","v":"Noun  "},null,null,null,null,22,"16","[active stem] +ες, +εις"," ","you are verbing (it) [present active indicative]"," ","Verb Ending"," "," "," ","  ",null,"0",0.30099999999999999,"[active stem] +ες, +εις",true,true,true,"16"," ","you are verbing (it) [present active indicative]"," ","Verb Ending"," "," "," ","  ","0",22,22,"16","[active stem] +ες, +εις"," ","you are verbing (it) [present active indicative]"," ","Verb Ending",""," "," ","","  ","0",22,22,"16","Verb Ending","[active stem] +ες, +εις"," "," "," "," ","you are verbing (it) [present active indicative]","[active stem] +ες, +εις","Chapter 16: Verb Ending","  ","0",false,5022,35," "," "," ",22,""," ","  "," ",false,5022,26," "," "," ",22,""," "," "," ",false,5022,142,22,""," "," ","ἐμέ [me (emphatic accusative singular)]"]
[null,null,null,null,null,null,null,null,null,null,null,null,null,null,null,null,null,null,null,null,null,29,true,"29:","Greek:",{"$f":"IF(TRUE,VLOOKUP($Z$19,BU$4:CD$2003,5,0),\"\")","v":"ἡ ἐκκλησία"},{"$f":"IF(TRUE,VLOOKUP($Z$19,BU$4:CD$2003,6,0),\"\")","v":" "},{"$f":"IF(TRUE,VLOOKUP($Z$19,BU$4:CD$2003,7,0),\"\")","v":" "},{"$f":"IF(TRUE,VLOOKUP($Z$19,BU$4:CG$2003,13,0),\"\")","v":"  "},null,23,"16","[active stem] +ει"," ","he/she/it is verbing (it) [present active indicative]"," ","Verb Ending"," "," "," ","  ",null,"0",0.30199999999999999,"[active stem] +ει",true,true,true,"16"," ","he/she/it is verbing (it) [present active indicative]"," ","Verb Ending"," "," "," ","  ","0",23,23,"16","[active stem] +ει"," ","he/she/it is verbing (it) [present active indicative]"," ","Verb Ending",""," "," ","","  ","0",23,23,"16","Verb Ending","[active stem] +ει"," "," "," "," ","he/she/it is verbing (it) [present active indicative]","[active stem] +ει","Chapter 16: Verb Ending","  ","0",false,5023,36," "," "," ",23,""," ","  "," ",false,5023,27," "," "," ",23,""," "," "," ",false,5023,143,23,""," "," ","εἰ [if (note absence of circumflex)]"]
[null,null,null,null,null,null,null,null,null,null,null,null,null,null,null,null,null,null,null,null,null,30,true,"30:","Root:",{"$f":"IF(TRUE,VLOOKUP($Z$19,BU$4:CD$2003,8,0),\"\")","v":"*ἐκκλησια"},null,null,null,null,24,"16","[active stem] +ομεν"," ","we are verbing (it) [present active indicative]"," ","Verb Ending"," "," "," ","  ",null,"0",0.30299999999999999,"[active stem] +ομεν",true,true,true,"16"," ","we are verbing (it) [present active indicative]"," ","Verb Ending"," "," "," ","  ","0",24,24,"16","[active stem] +ομεν"," ","we are verbing (it) [present active indicative]"," ","Verb Ending",""," "," ","","  ","0",24,24,"16","Verb Ending","[active stem] +ομεν"," "," "," "," ","we are verbing (it) [present active indicative]","[active stem] +ομεν","Chapter 16: Verb Ending","  ","0",false,5024,37," "," "," ",24,""," ","  "," ",false,5024,28," "," "," ",24,""," "," "," ",false,5024,144,24,""," "," ","εἶ [you (singular) are]"]
[null,null,null,null,null,null,null,null,null,null,null,null,null,null,null,null,null,null,null,null,null,31,true,"31:","Pronunciation:",{"$f":"IF(TRUE,VLOOKUP($Z$19,BU$4:CD$2003,9,0),\"\")","v":"ek-lase-EE-ah"},null,null,null,null,25,"16","[active stem] +ετε"," ","ya'll are verbing (it) [present active indicative]"," ","Verb Ending"," "," "," ","  ",null,"0",0.30399999999999999,"[active stem] +ετε",true,true,true,"16"," ","ya'll are verbing (it) [present active indicative]"," ","Verb Ending"," "," "," ","  ","0",25,25,"16","[active stem] +ετε"," ","ya'll are verbing (it) [present active indicative]"," ","Verb Ending",""," "," ","","  ","0",25,25,"16","Verb Ending","[active stem] +ετε"," "," "," "," ","ya'll are verbing (it) [present active indicative]","[active stem] +ετε","Chapter 16: Verb Ending","  ","0",false,5025,38," "," "," ",25,""," ","  "," ",false,5025,29," "," "," ",25,""," "," "," ",false,5025,145,25,""," "," ","ἦν [he/she/it was]"]
[null,null,null,null,null,null,null,null,null,null,null,null,null,null,null,null,null,null,null,null,null,32,true,"32:","Definition:",{"$f":"IF(OR(AND(K14,TRUE),AND(TRUE,AC5)),VLOOKUP($Z$19,BU$4:CD$2003,10,0),\"\")","v":"assembly, congregation, church"},null,null,null,null,26,"16","[active stem] +ονσι, +οσιν"," ","they are verbing (it) [present active indicative]"," ","Verb Ending"," "," "," ","  ",null,"0",0.30499999999999999,"[active stem] +ονσι, +οσιν",true,true,true,"16"," ","they are verbing (it) [present active indicative]"," ","Verb Ending"," "," "," ","  ","0",26,26,"16","[active stem] +ονσι, +οσιν"," ","they are verbing (it) [present active indicative]"," ","Verb Ending",""," "," ","","  ","0",26,26,"16","Verb Ending","[active stem] +ονσι, +οσιν"," "," "," "," ","they are verbing (it) [present active indicative]","[active stem] +ονσι, +οσιν","Chapter 16: Verb Ending","  ","0",false,5026,39," "," "," ",26,""," ","  "," ",false,5026,30," "," "," ",26,""," "," "," ",false,5026,146,26,""," "," ","εἷς [one (nominative, masculine)]"]
[null,null,null,null,null,null,null,null,null,null,null,null,null,null,null,null,null,null,null,null,null,33,true,"33:","Strong's #",{"$f":"IF(TRUE,VLOOKUP($Z$19,BU$4:CH$2003,14,0),\"\")","v":"1577"},null,null,null,null,27,"18","[middle stem] +ομαι, "," ","I verb, I am verbing [present middle indicative]"," ","Verb Ending"," "," "," ","  ",null,"0",0.31,"[middle stem] +ομαι, ",true,true,true,"18"," ","I verb, I am verbing [present middle indicative]"," ","Verb Ending"," "," "," ","  ","0",27,27,"18","[middle stem] +ομαι, "," ","I verb, I am verbing [present middle indicative]"," ","Verb Ending",""," "," ","","  ","0",27,27,"18","Verb Ending","[middle stem] +ομαι, "," "," "," "," ","I verb, I am verbing [present middle indicative]","[middle stem] +ομαι, ","Chapter 18: Verb Ending","  ","0",false,5027,40," "," "," ",27,""," ","  "," ",false,5027,31," "," "," ",27,""," "," "," ",false,5027,147,27,""," "," ","μία [one (nominative, feminine)]"]
[null,null,null,null,null,null,null,null,null,null,null,null,null,null,null,null,null,null,null,null,null,34,true,"34:",null,"Notes: when entering new data (in light green cells):",null,null,null,null,28,"18","[middle stem] +εσαι, +ῃ"," ","you verb, you are verbing [present middle indicative]"," ","Verb Ending"," "," "," ","  ",null,"0",0.311,"[middle stem] +εσαι, +ῃ",true,true,true,"18"," ","you verb, you are verbing [present middle indicative]"," ","Verb Ending"," "," "," ","  ","0",28,28,"18","[middle stem] +εσαι, +ῃ"," ","you verb, you are verbing [present middle indicative]"," ","Verb Ending",""," "," ","","  ","0",28,28,"18","Verb Ending","[middle stem] +εσαι, +ῃ"," "," "," "," ","you verb, you are verbing [present middle indicative]","[middle stem] +εσαι, +ῃ","Chapter 18: Verb Ending","  ","0",false,5028,41," "," "," ",28,""," ","  "," ",false,5028,32," "," "," ",28,""," "," "," ",false,5028,148,28,""," "," ","ἕν [one (nominative or accusative, neuter)]"]
[null,null,null,null,null,null,null,null,null,null,null,null,null,null,null,null,null,null,null,null,null,35,true,"35:",null,"1) \"Noun  \" instead of \"Noun\" (i.e., with 2 spaces)",null,null,null,null,29,"18","[middle stem] +εται"," ","he/she/it verbs, he is verbing [present middle indicative]"," ","Verb Ending"," "," "," ","  ",null,"0",0.312,"[middle stem] +εται",true,true,true,"18"," ","he/she/it verbs, he is verbing [present middle indicative]"," ","Verb Ending"," "," "," ","  ","0",29,29,"18","[middle stem] +εται"," ","he/she/it verbs, he is verbing [present middle indicative]"," ","Verb Ending",""," "," ","","  ","0",29,29,"18","Verb Ending","[middle stem] +εται"," "," "," "," ","he/she/it verbs, he is verbing [present middle indicative]","[middle stem] +εται","Chapter 18: Verb Ending","  ","0",false,5029,42," "," "," ",29,""," ","  "," ",false,5029,33," "," "," ",29,""," "," "," ",false,5029,149,29,""," "," ","ἑνί [to one (dative, masculine)]"]
[null,null,null,null,null,null,null,null,null,null,null,null,null,null,null,null,null,null,null,null,null,"36",true,"36:",null,"2) \"Verb  \" instead of \"Verb\" (i.e., with 2 spaces)",null,null,null,null,30,"18","[middle stem] +ομεθα"," ","we verb, we are verbing [present middle indicative]"," ","Verb Ending"," "," "," ","  ",null,"0",0.313,"[middle stem] +ομεθα",true,true,true,"18"," ","we verb, we are verbing [present middle indicative]"," ","Verb Ending"," "," "," ","  ","0",30,30,"18","[middle stem] +ομεθα"," ","we verb, we are verbing [present middle indicative]"," ","Verb Ending",""," "," ","","  ","0",30,30,"18","Verb Ending","[middle stem] +ομεθα"," "," "," "," ","we verb, we are verbing [present middle indicative]","[middle stem] +ομεθα","Chapter 18: Verb Ending","  ","0",false,5030,43," "," "," ",30,""," ","  "," ",false,5030,34," "," "," ",30,""," "," "," ",false,5030,150,30,""," "," ","μιᾷ [to one (dative, feminine)]"]
[null,null,null,null,null,null,null,null,null,null,null,null,null,null,null,null,null,null,null,null,null,"37",true,"37:",null,"3) No blank cells anywhere… always use 1 blank space instead.",null,null,null,null,31,"18","[middle stem] +εσθε "," ","ya'll verb, ya'll are verbing [present middle indicative]"," ","Verb Ending"," "," "," ","  ",null,"0",0.314,"[middle stem] +εσθε ",true,true,true,"18"," ","ya'll verb, ya'll are verbing [present middle indicative]"," ","Verb Ending"," "," "," ","  ","0",31,31,"18","[middle stem] +εσθε "," ","ya'll verb, ya'll are verbing [present middle indicative]"," ","Verb Ending",""," "," ","","  ","0",31,31,"18","Verb Ending","[middle stem] +εσθε "," "," "," "," ","ya'll verb, ya'll are verbing [present middle indicative]","[middle stem] +εσθε ","Chapter 18: Verb Ending","  ","0",false,5031,44," "," "," ",31,""," ","  "," ",false,5031,35," "," "," ",31,""," "," "," ",false,5031,151,31,""," "," ","ἕνα [one (accusative, masculine)]"]
[null,null,null,null,null,null,null,null,null,null,null,null,null,null,null,null,null,null,null,null,null,38,true,"38:",null,null,null,null,null,null,32,"18","[middle stem] +ονται"," ","they verb, they are verbing [present middle indicative]"," ","Verb Ending"," "," "," ","  ",null,"0",0.315,"[middle stem] +ονται",true,true,true,"18"," ","they verb, they are verbing [present middle indicative]"," ","Verb Ending"," "," "," ","  ","0",32,32,"18","[middle stem] +ονται"," ","they verb, they are verbing [present middle indicative]"," ","Verb Ending",""," "," ","","  ","0",32,32,"18","Verb Ending","[middle stem] +ονται"," "," "," "," ","they verb, they are verbing [present middle indicative]","[middle stem] +ονται","Chapter 18: Verb Ending","  ","0",false,5032,45," "," "," ",32,""," ","  "," ",false,5032,36," "," "," ",32,""," "," "," ",false,5032,152,32,""," "," ","ἐμή [my, mine (feminine)]"]
[null,null,null,null,null,null,null,null,null,null,null,null,null,null,null,null,null,null,null,null,null,null,null,null,"How many boxes are checked?",null,null,null,null,null,33,"18","[active stem] +ομαι"," ","I am being verbed (by it) [present passive indicative]"," ","Verb Ending"," "," "," ","  ",null,"0",0.32,"[active stem] +ομαι",true,true,true,"18"," ","I am being verbed (by it) [present passive indicative]"," ","Verb Ending"," "," "," ","  ","0",33,33,"18","[active stem] +ομαι"," ","I am being verbed (by it) [present passive indicative]"," ","Verb Ending",""," "," ","","  ","0",33,33,"18","Verb Ending","[active stem] +ομαι"," "," "," "," ","I am being verbed (by it) [present passive indicative]","[active stem] +ομαι","Chapter 18: Verb Ending","  ","0",false,5033,46," "," "," ",33,""," ","  "," ",false,5033,37," "," "," ",33,""," "," "," ",false,5033,153,33,""," "," ","ἑνί [to one (dative, masculine or neuter)]"]
[null,null,null,null,null,null,null,null,null,null,null,null,null,null,null,null,null,null,null,null,null,null,null,null,{"$f":"COUNTIF(W3:W35,TRUE)+COUNTIF(Z3:Z15,TRUE)+COUNTIF(AC3:AC12,TRUE)","v":54},{"$f":"Y37/56*100","v":96.428571428571431},"percent",null,null,null,34,"18","[active stem] +εσαι, +ῃ"," ","you are being verbed (by it) [present passive indicative]"," ","Verb Ending"," "," "," ","  ",null,"0",0.32100000000000001,"[active stem] +εσαι, +ῃ",true,true,true,"18"," ","you are being verbed (by it) [present passive indicative]"," ","Verb Ending"," "," "," ","  ","0",34,34,"18","[active stem] +εσαι, +ῃ"," ","you are being verbed (by it) [present passive indicative]"," ","Verb Ending",""," "," ","","  ","0",34,34,"18","Verb Ending","[active stem] +εσαι, +ῃ"," "," "," "," ","you are being verbed (by it) [present passive indicative]","[active stem] +εσαι, +ῃ","Chapter 18: Verb Ending","  ","0",false,5034,47," "," "," ",34,""," ","  "," ",false,5034,38," "," "," ",34,""," "," "," ",false,5034,154,34,""," "," ","ἕξ [six]"]
[null,null,null,null,null,null,null,null,null,null,null,null,null,null,null,null,null,null,null,null,null,null,null,null,"\"Chapter 37\" is words appearing in the workbook or Strongs",null,null,null,null,null,35,"18","[active stem] +εται"," ","he/she/it is being verbed (by it) [present passive indicative]"," ","Verb Ending"," "," "," ","  ",null,"0",0.32200000000000001,"[active stem] +εται",true,true,true,"18"," ","he/she/it is being verbed (by it) [present passive indicative]"," ","Verb Ending"," "," "," ","  ","0",35,35,"18","[active stem] +εται"," ","he/she/it is being verbed (by it) [present passive indicative]"," ","Verb Ending",""," "," ","","  ","0",35,35,"18","Verb Ending","[active stem] +εται"," "," "," "," ","he/she/it is being verbed (by it) [present passive indicative]","[active stem] +εται","Chapter 18: Verb Ending","  ","0",false,5035,48," "," "," ",35,""," ","  "," ",false,5035,39," "," "," ",35,""," "," "," ",false,5035,155,35,""," "," ","ἔσῃ [you will be ]"]
[null,null,null,null,null,null,null,null,null,null,null,null,null,null,null,null,null,null,null,null,null,null,null,null,"\"Chapter 38\" is words appearing only in the index",null,null,null,null,null,36,"18","[active stem] +ομεθα"," ","we are being verbed (by it) [present passive indicative]"," ","Verb Ending"," "," "," ","  ",null,"0",0.32300000000000001,"[active stem] +ομεθα",true,true,true,"18"," ","we are being verbed (by it) [present passive indicative]"," ","Verb Ending"," "," "," ","  ","0",36,36,"18","[active stem] +ομεθα"," ","we are being verbed (by it) [present passive indicative]"," ","Verb Ending",""," "," ","","  ","0",36,36,"18","Verb Ending","[active stem] +ομεθα"," "," "," "," ","we are being verbed (by it) [present passive indicative]","[active stem] +ομεθα","Chapter 18: Verb Ending","  ","0",false,5036,49," "," "," ",36,""," ","  "," ",false,5036,40," "," "," ",36,""," "," "," ",false,5036,156,36,""," "," ","ἔτι [still, yet, even]"]
[null,null,null,null,null,null,null,null,null,null,null,null,null,null,null,null,null,null,null,null,null,null,null,null,null,null,null,null,null,null,37,"18","[active stem] +εσθε "," ","ya'll are being verbed (by it) [present passive indicative]"," ","Verb Ending"," "," "," ","  ",null,"0",0.32400000000000001,"[active stem] +εσθε ",true,true,true,"18"," ","ya'll are being verbed (by it) [present passive indicative]"," ","Verb Ending"," "," "," ","  ","0",37,37,"18","[active stem] +εσθε "," ","ya'll are being verbed (by it) [present passive indicative]"," ","Verb Ending",""," "," ","","  ","0",37,37,"18","Verb Ending","[active stem] +εσθε "," "," "," "," ","ya'll are being verbed (by it) [present passive indicative]","[active stem] +εσθε ","Chapter 18: Verb Ending","  ","0",false,5037,50," "," "," ",37,""," ","  "," ",false,5037,41," "," "," ",37,""," "," "," ",false,5037,157,37,""," "," ","ἔχω [I have, I hold, I possess]"]
[null,null,null,null,null,null,null,null,null,null,null,null,null,null,null,null,null,null,null,null,null,null,null,null,"Word type for chart?",null,{"$f":"IF(Z25=\"Noun Ending\",TRUE,IF(Z25=\"Article\",TRUE,IF(AND(Z25=\"Pronoun\",AC41>0),TRUE,FALSE)))","v":false},"Chart Sum:",{"$f":"SUM(AA43:AC50)","v":0},null,38,"18","[active stem] +ονται"," ","they are being verbed (by it) [present passive indicative]"," ","Verb Ending"," "," "," ","  ",null,"0",0.32500000000000001,"[active stem] +ονται",true,true,true,"18"," ","they are being verbed (by it) [present passive indicative]"," ","Verb Ending"," "," "," ","  ","0",38,38,"18","[active stem] +ονται"," ","they are being verbed (by it) [present passive indicative]"," ","Verb Ending",""," "," ","","  ","0",38,38,"18","Verb Ending","[active stem] +ονται"," "," "," "," ","they are being verbed (by it) [present passive indicative]","[active stem] +ονται","Chapter 18: Verb Ending","  ","0",false,5038,51," "," "," ",38,""," ","  "," ",false,5038,42," "," "," ",38,""," "," "," ",false,5038,158,38,""," "," ","ζάω [I live]"]
[null,null,null,null,null,null,null,null,null,null,null,null,null,null,null,null,null,null,null,null,null,null,null,null,{"$f":"Z29","v":"assembly, congregation, church"},null,"masculine","feminine","neuter",null,39,"19","[active stem] +σω"," ","I will verb (it) [future active indicative]"," ","Verb Ending"," "," "," ","  ",null,"0",0.33,"[active stem] +σω",true,true,true,"19"," ","I will verb (it) [future active indicative]"," ","Verb Ending"," "," "," ","  ","0",39,39,"19","[active stem] +σω"," ","I will verb (it) [future active indicative]"," ","Verb Ending",""," "," ","","  ","0",39,39,"19","Verb Ending","[active stem] +σω"," "," "," "," ","I will verb (it) [future active indicative]","[active stem] +σω","Chapter 19: Verb Ending","  ","0",false,5039,52," "," "," ",39,""," ","  "," ",false,5039,43," "," "," ",39,""," "," "," ",false,5039,159,39,""," "," ","ἡ ζωή [life]"]
[null,null,null,null,null,null,null,null,null,null,null,null,null,null,null,null,null,null,null,null,null,null,null,1,"singular","nominative",{"$f":"IF(NOT(OR(ISERR(SEARCH(AA$42,$Y$42,1)),ISERR(SEARCH($Z43,$Y$42,1)),ISERR(SEARCH($Y43,$Y$42,1)))),$X43,0)","v":0},{"$f":"IF(NOT(OR(ISERR(SEARCH(AB$42,$Y$42,1)),ISERR(SEARCH($Z43,$Y$42,1)),ISERR(SEARCH($Y43,$Y$42,1)))),$X43,0)","v":0},{"$f":"IF(NOT(OR(ISERR(SEARCH(AC$42,$Y$42,1)),ISERR(SEARCH($Z43,$Y$42,1)),ISERR(SEARCH($Y43,$Y$42,1)))),$X43,0)","v":0},null,40,"19","[active stem] +σες, +σεις"," ","you will verb (it) [future active indicative]"," ","Verb Ending"," "," "," ","  ",null,"0",0.33100000000000002,"[active stem] +σες, +σεις",true,true,true,"19"," ","you will verb (it) [future active indicative]"," ","Verb Ending"," "," "," ","  ","0",40,40,"19","[active stem] +σες, +σεις"," ","you will verb (it) [future active indicative]"," ","Verb Ending",""," "," ","","  ","0",40,40,"19","Verb Ending","[active stem] +σες, +σεις"," "," "," "," ","you will verb (it) [future active indicative]","[active stem] +σες, +σεις","Chapter 19: Verb Ending","  ","0",false,5040,53," "," "," ",40,""," ","  "," ",false,5040,44," "," "," ",40,""," "," "," ",false,5040,160,40,""," "," ","ἤ [or, than]"]
[null,null,null,null,null,null,null,null,null,null,null,null,null,null,null,null,null,null,null,null,null,null,null,2,"singular","genitive",{"$f":"IF(NOT(OR(ISERR(SEARCH(AA$42,$Y$42,1)),ISERR(SEARCH($Z44,$Y$42,1)),ISERR(SEARCH($Y44,$Y$42,1)))),$X44,0)","v":0},0,0,null,41,"19","[active stem] +σει"," ","he/she/it will verb (it) [future active indicative]"," ","Verb Ending"," "," "," ","  ",null,"0",0.33200000000000002,"[active stem] +σει",true,true,true,"19"," ","he/she/it will verb (it) [future active indicative]"," ","Verb Ending"," "," "," ","  ","0",41,41,"19","[active stem] +σει"," ","he/she/it will verb (it) [future active indicative]"," ","Verb Ending",""," "," ","","  ","0",41,41,"19","Verb Ending","[active stem] +σει"," "," "," "," ","he/she/it will verb (it) [future active indicative]","[active stem] +σει","Chapter 19: Verb Ending","  ","0",false,5041,54," "," "," ",41,""," ","  "," ",false,5041,45," "," "," ",41,""," "," "," ",false,5041,161,41,""," "," ","ἤδη [now, already (particle)]"]
[null,null,null,null,null,null,null,null,null,null,null,null,null,null,null,null,null,null,null,null,null,null,null,3,"singular","dative",0,0,0,null,42,"19","[active stem] +σομεν"," ","we will verb (it) [future active indicative]"," ","Verb Ending"," "," "," ","  ",null,"0",0.33300000000000002,"[active stem] +σομεν",true,true,true,"19"," ","we will verb (it) [future active indicative]"," ","Verb Ending"," "," "," ","  ","0",42,42,"19","[active stem] +σομεν"," ","we will verb (it) [future active indicative]"," ","Verb Ending",""," "," ","","  ","0",42,42,"19","Verb Ending","[active stem] +σομεν"," "," "," "," ","we will verb (it) [future active indicative]","[active stem] +σομεν","Chapter 19: Verb Ending","  ","0",false,5042,55," "," "," ",42,""," ","  "," ",false,5042,46," "," "," ",42,""," "," "," ",false,5042,162,42,""," "," ","ἥκω [I have come]"]
[null,null,null,null,null,null,null,null,null,null,null,null,null,null,null,null,null,null,null,null,null,null,null,4,"singular","accusative",0,0,0,null,43,"19","[active stem] +σετε"," ","ya'll will verb (it) [future active indicative]"," ","Verb Ending"," "," "," ","  ",null,"0",0.33400000000000002,"[active stem] +σετε",true,true,true,"19"," ","ya'll will verb (it) [future active indicative]"," ","Verb Ending"," "," "," ","  ","0",43,43,"19","[active stem] +σετε"," ","ya'll will verb (it) [future active indicative]"," ","Verb Ending",""," "," ","","  ","0",43,43,"19","Verb Ending","[active stem] +σετε"," "," "," "," ","ya'll will verb (it) [future active indicative]","[active stem] +σετε","Chapter 19: Verb Ending","  ","0",false,5043,56," "," "," ",43,""," ","  "," ",false,5043,47," "," "," ",43,""," "," "," ",false,5043,163,43,""," "," ","θύω [I sacrifice, I kill]"]
[null,null,null,null,null,null,null,null,null,null,null,null,null,null,null,null,null,null,null,null,null,null,null,1,"plural","nominative",0,0,0,null,44,"19","[active stem] +σονσι, +σοσιν"," ","they will verb (it) [future active indicative]"," ","Verb Ending"," "," "," ","  ",null,"0",0.33500000000000002,"[active stem] +σονσι, +σοσιν",true,true,true,"19"," ","they will verb (it) [future active indicative]"," ","Verb Ending"," "," "," ","  ","0",44,44,"19","[active stem] +σονσι, +σοσιν"," ","they will verb (it) [future active indicative]"," ","Verb Ending",""," "," ","","  ","0",44,44,"19","Verb Ending","[active stem] +σονσι, +σοσιν"," "," "," "," ","they will verb (it) [future active indicative]","[active stem] +σονσι, +σοσιν","Chapter 19: Verb Ending","  ","0",false,5044,57," "," "," ",44,""," ","  "," ",false,5044,48," "," "," ",44,""," "," "," ",false,5044,164,44,""," "," ","ἴδε [See! Behold!]"]
[null,null,null,null,null,null,null,null,null,null,null,null,null,null,null,null,null,null,null,null,null,null,null,2,"plural","genitive",0,0,0,null,45,"19","[middle stem] +σομαι, "," ","I will verb [future middle indicative]"," ","Verb Ending"," "," "," ","  ",null,"0",0.34,"[middle stem] +σομαι, ",true,true,true,"19"," ","I will verb [future middle indicative]"," ","Verb Ending"," "," "," ","  ","0",45,45,"19","[middle stem] +σομαι, "," ","I will verb [future middle indicative]"," ","Verb Ending",""," "," ","","  ","0",45,45,"19","Verb Ending","[middle stem] +σομαι, "," "," "," "," ","I will verb [future middle indicative]","[middle stem] +σομαι, ","Chapter 19: Verb Ending","  ","0",false,5045,58," "," "," ",45,""," ","  "," ",false,5045,49," "," "," ",45,""," "," "," ",false,5045,165,45,""," "," ","ἵνα [that, in order that, so that]"]
[null,null,null,null,null,null,null,null,null,null,null,null,null,null,null,null,null,null,null,null,null,null,null,3,"plural","dative",0,0,0,null,46,"19","[middle stem] +σεσαι, +σῃ"," ","you will verb [future middle indicative]"," ","Verb Ending"," "," "," ","  ",null,"0",0.34100000000000003,"[middle stem] +σεσαι, +σῃ",true,true,true,"19"," ","you will verb [future middle indicative]"," ","Verb Ending"," "," "," ","  ","0",46,46,"19","[middle stem] +σεσαι, +σῃ"," ","you will verb [future middle indicative]"," ","Verb Ending",""," "," ","","  ","0",46,46,"19","Verb Ending","[middle stem] +σεσαι, +σῃ"," "," "," "," ","you will verb [future middle indicative]","[middle stem] +σεσαι, +σῃ","Chapter 19: Verb Ending","  ","0",false,5046,59," "," "," ",46,""," ","  "," ",false,5046,50," "," "," ",46,""," "," "," ",false,5046,166,46,""," "," ","καί [and, even, also, namely, and yet (particle)]"]
[null,null,null,null,null,null,null,null,null,null,null,null,null,null,null,null,null,null,null,null,null,null,null,4,"plural","accusative",0,0,0,null,47,"19","[middle stem] +σεται"," ","he/she/it will verb [future middle indicative]"," ","Verb Ending"," "," "," ","  ",null,"0",0.34200000000000003,"[middle stem] +σεται",true,true,true,"19"," ","he/she/it will verb [future middle indicative]"," ","Verb Ending"," "," "," ","  ","0",47,47,"19","[middle stem] +σεται"," ","he/she/it will verb [future middle indicative]"," ","Verb Ending",""," "," ","","  ","0",47,47,"19","Verb Ending","[middle stem] +σεται"," "," "," "," ","he/she/it will verb [future middle indicative]","[middle stem] +σεται","Chapter 19: Verb Ending","  ","0",false,5047,60," "," "," ",47,""," ","  "," ",false,5047,51," "," "," ",47,""," "," "," ",false,5047,167,47,""," "," ","κἄν [and if, even if (particle)]"]
[null,null,null,null,null,null,null,null,null,null,null,null,null,null,null,null,null,null,null,null,null,null,null,null,null,null,null,null,null,null,48,"19","[middle stem] +σομεθα"," ","we will verb [future middle indicative]"," ","Verb Ending"," "," "," ","  ",null,"0",0.34300000000000003,"[middle stem] +σομεθα",true,true,true,"19"," ","we will verb [future middle indicative]"," ","Verb Ending"," "," "," ","  ","0",48,48,"19","[middle stem] +σομεθα"," ","we will verb [future middle indicative]"," ","Verb Ending",""," "," ","","  ","0",48,48,"19","Verb Ending","[middle stem] +σομεθα"," "," "," "," ","we will verb [future middle indicative]","[middle stem] +σομεθα","Chapter 19: Verb Ending","  ","0",false,5048,61," "," "," ",48,""," ","  "," ",false,5048,52," "," "," ",48,""," "," "," ",false,5048,168,48,""," "," ","λύω [I loose, I untie, I destroy, I release]"]
[null,null,null,null,null,null,null,null,null,null,null,null,null,null,null,null,null,null,null,null,null,null,null,null,null,null,null,null,null,null,49,"19","[middle stem] +σεσθε "," ","ya'll will verb [future middle indicative]"," ","Verb Ending"," "," "," ","  ",null,"0",0.34399999999999997,"[middle stem] +σεσθε ",true,true,true,"19"," ","ya'll will verb [future middle indicative]"," ","Verb Ending"," "," "," ","  ","0",49,49,"19","[middle stem] +σεσθε "," ","ya'll will verb [future middle indicative]"," ","Verb Ending",""," "," ","","  ","0",49,49,"19","Verb Ending","[middle stem] +σεσθε "," "," "," "," ","ya'll will verb [future middle indicative]","[middle stem] +σεσθε ","Chapter 19: Verb Ending","  ","0",false,5049,62," "," "," ",49,""," ","  "," ",false,5049,53," "," "," ",49,""," "," "," ",false,5049,169,49,""," "," ","μέν [on the one hand, indeed (particle)]"]
[null,null,null,null,null,null,null,null,null,null,null,null,null,null,null,null,null,null,null,null,null,null,null,null,null,null,null,null,null,null,50,"19","[middle stem] +σονται"," ","they will verb [future middle indicative]"," ","Verb Ending"," "," "," ","  ",null,"0",0.34499999999999997,"[middle stem] +σονται",true,true,true,"19"," ","they will verb [future middle indicative]"," ","Verb Ending"," "," "," ","  ","0",50,50,"19","[middle stem] +σονται"," ","they will verb [future middle indicative]"," ","Verb Ending",""," "," ","","  ","0",50,50,"19","Verb Ending","[middle stem] +σονται"," "," "," "," ","they will verb [future middle indicative]","[middle stem] +σονται","Chapter 19: Verb Ending","  ","0",false,5050,63," "," "," ",50,""," ","  "," ",false,5050,54," "," "," ",50,""," "," "," ",false,5050,170,50,""," "," ","μή [not, lest (particle; used in non-indicative moods like subjunctive or imperative)]"]
[null,null,null,null,null,null,null,null,null,null,null,null,null,null,null,null,null,null,null,null,null,null,null,null,null,null,null,null,null,null,51,"21","ἐ + [active stem] +ον"," ","I was/they were verbing (it) [imperfect active indicative]"," ","Verb Ending"," "," "," ","  ",null,"0",0.35,"ἐ + [active stem] +ον",true,true,true,"21"," ","I was/they were verbing (it) [imperfect active indicative]"," ","Verb Ending"," "," "," ","  ","0",51,51,"21","ἐ + [active stem] +ον"," ","I was/they were verbing (it) [imperfect active indicative]"," ","Verb Ending",""," "," ","","  ","0",51,51,"21","Verb Ending","ἐ + [active stem] +ον"," "," "," "," ","I was/they were verbing (it) [imperfect active indicative]","ἐ + [active stem] +ον","Chapter 21: Verb Ending","  ","0",false,5051,64," "," "," ",51,""," ","  "," ",false,5051,55," "," "," ",51,""," "," "," ",false,5051,171,51,""," "," ","μου [my/of me (genitive singular)]"]
[null,null,null,null,null,null,null,null,null,null,null,null,null,null,null,null,null,null,null,null,null,null,null,null,null,null,null,null,null,null,52,"21","ἐ + [active stem] +ες, +εις"," ","you were verbing (it) [imperfect active indicative]"," ","Verb Ending"," "," "," ","  ",null,"0",0.35099999999999998,"ἐ + [active stem] +ες, +εις",true,true,true,"21"," ","you were verbing (it) [imperfect active indicative]"," ","Verb Ending"," "," "," ","  ","0",52,52,"21","ἐ + [active stem] +ες, +εις"," ","you were verbing (it) [imperfect active indicative]"," ","Verb Ending",""," "," ","","  ","0",52,52,"21","Verb Ending","ἐ + [active stem] +ες, +εις"," "," "," "," ","you were verbing (it) [imperfect active indicative]","ἐ + [active stem] +ες, +εις","Chapter 21: Verb Ending","  ","0",false,5052,65," "," "," ",52,""," ","  "," ",false,5052,56," "," "," ",52,""," "," "," ",false,5052,172,52,""," "," ","μου [my]"]
[null,null,null,null,null,null,null,null,null,null,null,null,null,null,null,null,null,null,null,null,null,null,null,null,null,null,null,null,null,null,53,"21","ἐ + [active stem] +ει"," ","he/she/it was verbing (it) [imperfect active indicative]"," ","Verb Ending"," "," "," ","  ",null,"0",0.35199999999999998,"ἐ + [active stem] +ει",true,true,true,"21"," ","he/she/it was verbing (it) [imperfect active indicative]"," ","Verb Ending"," "," "," ","  ","0",53,53,"21","ἐ + [active stem] +ει"," ","he/she/it was verbing (it) [imperfect active indicative]"," ","Verb Ending",""," "," ","","  ","0",53,53,"21","Verb Ending","ἐ + [active stem] +ει"," "," "," "," ","he/she/it was verbing (it) [imperfect active indicative]","ἐ + [active stem] +ει","Chapter 21: Verb Ending","  ","0",false,5053,66," "," "," ",53,""," ","  "," ",false,5053,57," "," "," ",53,""," "," "," ",false,5053,173,53,""," "," ","ναί [yes, certainly]"]
[null,null,null,null,null,null,null,null,null,null,null,null,null,null,null,null,null,null,null,null,null,null,null,null,null,null,null,null,null,null,54,"21","ἐ + [active stem] +ομεν"," ","we were verbing (it) [imperfect active indicative]"," ","Verb Ending"," "," "," ","  ",null,"0",0.35299999999999998,"ἐ + [active stem] +ομεν",true,true,true,"21"," ","we were verbing (it) [imperfect active indicative]"," ","Verb Ending"," "," "," ","  ","0",54,54,"21","ἐ + [active stem] +ομεν"," ","we were verbing (it) [imperfect active indicative]"," ","Verb Ending",""," "," ","","  ","0",54,54,"21","Verb Ending","ἐ + [active stem] +ομεν"," "," "," "," ","we were verbing (it) [imperfect active indicative]","ἐ + [active stem] +ομεν","Chapter 21: Verb Ending","  ","0",false,5054,67," "," "," ",54,""," ","  "," ",false,5054,58," "," "," ",54,""," "," "," ",false,5054,174,54,""," "," ","νῦν [now (particle)]"]
[null,null,null,null,null,null,null,null,null,null,null,null,null,null,null,null,null,null,null,null,null,null,null,null,null,null,null,null,null,null,55,"21","ἐ + [active stem] +ετε"," ","ya'll were verbing (it) [imperfect active indicative]"," ","Verb Ending"," "," "," ","  ",null,"0",0.35399999999999998,"ἐ + [active stem] +ετε",true,true,true,"21"," ","ya'll were verbing (it) [imperfect active indicative]"," ","Verb Ending"," "," "," ","  ","0",55,55,"21","ἐ + [active stem] +ετε"," ","ya'll were verbing (it) [imperfect active indicative]"," ","Verb Ending",""," "," ","","  ","0",55,55,"21","Verb Ending","ἐ + [active stem] +ετε"," "," "," "," ","ya'll were verbing (it) [imperfect active indicative]","ἐ + [active stem] +ετε","Chapter 21: Verb Ending","  ","0",false,5055,68," "," "," ",55,""," ","  "," ",false,5055,59," "," "," ",55,""," "," "," ",false,5055,175,55,""," "," ","ἡ νύξ [night]"]
[null,null,null,null,null,null,null,null,null,null,null,null,null,null,null,null,null,null,null,null,null,null,null,null,null,null,null,null,null,null,56,"21","ἐ + [active stem] +ον"," ","they were verbing (it) [imperfect active indicative]"," ","Verb Ending"," "," "," ","  ",null,"0",0.35499999999999998,"ἐ + [active stem] +ον",true,true,true,"21"," ","they were verbing (it) [imperfect active indicative]"," ","Verb Ending"," "," "," ","  ","0",56,56,"21","ἐ + [active stem] +ον"," ","they were verbing (it) [imperfect active indicative]"," ","Verb Ending",""," "," ","","  ","0",56,56,"21","Verb Ending","ἐ + [active stem] +ον"," "," "," "," ","they were verbing (it) [imperfect active indicative]","ἐ + [active stem] +ον","Chapter 21: Verb Ending","  ","0",false,5056,69," "," "," ",56,""," ","  "," ",false,5056,60," "," "," ",56,""," "," "," ",false,5056,176,56,""," "," ","ὁ [the (nominative, singular, masculine)]"]
[null,null,null,null,null,null,null,null,null,null,null,null,null,null,null,null,null,null,null,null,null,null,null,null,null,null,null,null,null,null,57,"21","ἐ + [active stem] +ομην"," ","I was being verbed (by it) [imperfect passive indicative]"," ","Verb Ending"," "," "," ","  ",null,"0",0.36,"ἐ + [active stem] +ομην",true,true,true,"21"," ","I was being verbed (by it) [imperfect passive indicative]"," ","Verb Ending"," "," "," ","  ","0",57,57,"21","ἐ + [active stem] +ομην"," ","I was being verbed (by it) [imperfect passive indicative]"," ","Verb Ending",""," "," ","","  ","0",57,57,"21","Verb Ending","ἐ + [active stem] +ομην"," "," "," "," ","I was being verbed (by it) [imperfect passive indicative]","ἐ + [active stem] +ομην","Chapter 21: Verb Ending","  ","0",false,5057,70," "," "," ",57,""," ","  "," ",false,5057,61," "," "," ",57,""," "," "," ",false,5057,177,57,""," "," ","ἡ [the (nominative, singular, feminine)]"]
[null,null,null,null,null,null,null,null,null,null,null,null,null,null,null,null,null,null,null,null,null,null,null,null,null,null,null,null,null,null,58,"21","ἐ + [active stem] +εσο"," ","you were being verbed (by it) [imperfect passive indicative]"," ","Verb Ending"," "," "," ","  ",null,"0",0.36099999999999999,"ἐ + [active stem] +εσο",true,true,true,"21"," ","you were being verbed (by it) [imperfect passive indicative]"," ","Verb Ending"," "," "," ","  ","0",58,58,"21","ἐ + [active stem] +εσο"," ","you were being verbed (by it) [imperfect passive indicative]"," ","Verb Ending",""," "," ","","  ","0",58,58,"21","Verb Ending","ἐ + [active stem] +εσο"," "," "," "," ","you were being verbed (by it) [imperfect passive indicative]","ἐ + [active stem] +εσο","Chapter 21: Verb Ending","  ","0",false,5058,71," "," "," ",58,""," ","  "," ",false,5058,62," "," "," ",58,""," "," "," ",false,5058,178,58,""," "," ","τό [the (nominative or accusative, singular, neuter)]"]
[null,null,null,null,null,null,null,null,null,null,null,null,null,null,null,null,null,null,null,null,null,null,null,null,null,null,null,null,null,null,59,"21","ἐ + [active stem] +ετο"," ","he/she/it was being verbed (by it) [imperfect passive indicative]"," ","Verb Ending"," "," "," ","  ",null,"0",0.36199999999999999,"ἐ + [active stem] +ετο",true,true,true,"21"," ","he/she/it was being verbed (by it) [imperfect passive indicative]"," ","Verb Ending"," "," "," ","  ","0",59,59,"21","ἐ + [active stem] +ετο"," ","he/she/it was being verbed (by it) [imperfect passive indicative]"," ","Verb Ending",""," "," ","","  ","0",59,59,"21","Verb Ending","ἐ + [active stem] +ετο"," "," "," "," ","he/she/it was being verbed (by it) [imperfect passive indicative]","ἐ + [active stem] +ετο","Chapter 21: Verb Ending","  ","0",false,5059,72," "," "," ",59,""," ","  "," ",false,5059,63," "," "," ",59,""," "," "," ",false,5059,179,59,""," "," ","τοῦ [the/of the (genitive, singular, masculine or neuter)]"]
[null,null,null,null,null,null,null,null,null,null,null,null,null,null,null,null,null,null,null,null,null,null,null,null,null,null,null,null,null,null,60,"21","ἐ + [active stem] +ομεθα"," ","we were being verbed (by it) [imperfect passive indicative]"," ","Verb Ending"," "," "," ","  ",null,"0",0.36299999999999999,"ἐ + [active stem] +ομεθα",true,true,true,"21"," ","we were being verbed (by it) [imperfect passive indicative]"," ","Verb Ending"," "," "," ","  ","0",60,60,"21","ἐ + [active stem] +ομεθα"," ","we were being verbed (by it) [imperfect passive indicative]"," ","Verb Ending",""," "," ","","  ","0",60,60,"21","Verb Ending","ἐ + [active stem] +ομεθα"," "," "," "," ","we were being verbed (by it) [imperfect passive indicative]","ἐ + [active stem] +ομεθα","Chapter 21: Verb Ending","  ","0",false,5060,73," "," "," ",60,""," ","  "," ",false,5060,64," "," "," ",60,""," "," "," ",false,5060,180,60,""," "," ","τῆς [the/of the (genitive, singular, feminine)]"]
[null,null,null,null,null,null,null,null,null,null,null,null,null,null,null,null,null,null,null,null,null,null,null,null,null,null,null,null,null,null,61,"21","ἐ + [active stem] +εσθε"," ","ya'll were being verbed (by it) [imperfect passive indicative]"," ","Verb Ending"," "," "," ","  ",null,"0",0.36399999999999999,"ἐ + [active stem] +εσθε",true,true,true,"21"," ","ya'll were being verbed (by it) [imperfect passive indicative]"," ","Verb Ending"," "," "," ","  ","0",61,61,"21","ἐ + [active stem] +εσθε"," ","ya'll were being verbed (by it) [imperfect passive indicative]"," ","Verb Ending",""," "," ","","  ","0",61,61,"21","Verb Ending","ἐ + [active stem] +εσθε"," "," "," "," ","ya'll were being verbed (by it) [imperfect passive indicative]","ἐ + [active stem] +εσθε","Chapter 21: Verb Ending","  ","0",false,5061,74," "," "," ",61,""," ","  "," ",false,5061,65," "," "," ",61,""," "," "," ",false,5061,181,61,""," "," ","τῷ [the/to the (dative, singular, masculine or neuter)]"]
[null,null,null,null,null,null,null,null,null,null,null,null,null,null,null,null,null,null,null,null,null,null,null,null,null,null,null,null,null,null,62,"21","ἐ + [active stem] +οντο"," ","they were being verbed (by it) [imperfect passive indicative]"," ","Verb Ending"," "," "," ","  ",null,"0",0.36499999999999999,"ἐ + [active stem] +οντο",true,true,true,"21"," ","they were being verbed (by it) [imperfect passive indicative]"," ","Verb Ending"," "," "," ","  ","0",62,62,"21","ἐ + [active stem] +οντο"," ","they were being verbed (by it) [imperfect passive indicative]"," ","Verb Ending",""," "," ","","  ","0",62,62,"21","Verb Ending","ἐ + [active stem] +οντο"," "," "," "," ","they were being verbed (by it) [imperfect passive indicative]","ἐ + [active stem] +οντο","Chapter 21: Verb Ending","  ","0",false,5062,75," "," "," ",62,""," ","  "," ",false,5062,66," "," "," ",62,""," "," "," ",false,5062,182,62,""," "," ","τῇ [the/ to the (dative, singular, feminine)]"]
[null,null,null,null,null,null,null,null,null,null,null,null,null,null,null,null,null,null,null,null,null,null,null,null,null,null,null,null,null,null,63,"21","ἐ + [middle stem] +ομην "," ","I was verbing [imperfect middle indicative]"," ","Verb Ending"," "," "," ","  ",null,"0",0.37,"ἐ + [middle stem] +ομην ",true,true,true,"21"," ","I was verbing [imperfect middle indicative]"," ","Verb Ending"," "," "," ","  ","0",63,63,"21","ἐ + [middle stem] +ομην "," ","I was verbing [imperfect middle indicative]"," ","Verb Ending",""," "," ","","  ","0",63,63,"21","Verb Ending","ἐ + [middle stem] +ομην "," "," "," "," ","I was verbing [imperfect middle indicative]","ἐ + [middle stem] +ομην ","Chapter 21: Verb Ending","  ","0",false,5063,76," "," "," ",63,""," ","  "," ",false,5063,67," "," "," ",63,""," "," "," ",false,5063,183,63,""," "," ","τόν [the (accusative, singular, masculine)]"]
[null,null,null,null,null,null,null,null,null,null,null,null,null,null,null,null,null,null,null,null,null,null,null,null,null,null,null,"■□Abc",null,null,64,"21","ἐ + [middle stem] +εσο"," ","you were verbing [imperfect middle indicative]"," ","Verb Ending"," "," "," ","  ",null,"0",0.371,"ἐ + [middle stem] +εσο",true,true,true,"21"," ","you were verbing [imperfect middle indicative]"," ","Verb Ending"," "," "," ","  ","0",64,64,"21","ἐ + [middle stem] +εσο"," ","you were verbing [imperfect middle indicative]"," ","Verb Ending",""," "," ","","  ","0",64,64,"21","Verb Ending","ἐ + [middle stem] +εσο"," "," "," "," ","you were verbing [imperfect middle indicative]","ἐ + [middle stem] +εσο","Chapter 21: Verb Ending","  ","0",false,5064,77," "," "," ",64,""," ","  "," ",false,5064,68," "," "," ",64,""," "," "," ",false,5064,184,64,""," "," ","τήν [the (accusative, singular, feminine)]"]
[null,null,null,null,null,null,null,null,null,null,null,null,null,null,null,null,null,null,null,null,null,null,null,null,"               M F N",{"$f":"IF(AND(AC$11,AA$41,$AD$79>0),Y68&\" \"&AB68&AC68&AD68,\"\")","v":""},1,null,null,null,65,"21","ἐ + [middle stem] +ετο"," ","he/she/it was verbing [imperfect middle indicative]"," ","Verb Ending"," "," "," ","  ",null,"0",0.372,"ἐ + [middle stem] +ετο",{"$f":"IF(ISERR(FIND(AF68,$Y$22,1)),FALSE,TRUE)","v":true},true,true,"21"," ","he/she/it was verbing [imperfect middle indicative]"," ","Verb Ending"," "," "," ","  ","0",{"$f":"IF(AV68,AE68,AE68+5000)","v":65},{"$f":"RANK(BG68,BG$4:BG$2003,1)","v":65},"21",{"$f":"IF($AV68,BO68&AG68,\" \")","v":"ἐ + [middle stem] +ετο"}," ","he/she/it was verbing [imperfect middle indicative]"," ","Verb Ending",""," "," ","","  ","0",65,{"$f":"IF(BU68<=BJ$2,MATCH(BU68,BH$4:BH$2003,0),\"\")","v":65},{"$f":"VLOOKUP($BU68,BH$4:BQ$2003,2,0)","v":"21"},{"$f":"VLOOKUP($BU68,BH$4:BQ$2003,7,0)","v":"Verb Ending"},{"$f":"VLOOKUP($BU68,BH$4:BQ$2003,3,0)","v":"ἐ + [middle stem] +ετο"},{"$f":"VLOOKUP($BU68,BH$4:BQ$2003,9,0)","v":" "},{"$f":"VLOOKUP($BU68,BH$4:BQ$2003,10,0)","v":" "},{"$f":"VLOOKUP($BU68,BH$4:BQ$2003,4,0)","v":" "},{"$f":"VLOOKUP($BU68,BH$4:BQ$2003,6,0)","v":" "},{"$f":"VLOOKUP($BU68,BH$4:BQ$2003,5,0)","v":"he/she/it was verbing [imperfect middle indicative]"},{"$f":"IF(AC$8,BY68,VLOOKUP($BU68,BH$4:BR$2003,11,0)&BY68)","v":"ἐ + [middle stem] +ετο"},"Chapter 21: Verb Ending",{"$f":"VLOOKUP($BU68,BH$4:BS$2003,12,0)","v":"  "},{"$f":"VLOOKUP($BU68,BH$4:BT$2003,13,0)","v":"0"},false,{"$f":"IF(CI68,AE68,AE68+5000)","v":5065},{"$f":"RANK(CJ68,CJ$4:CJ$2003,1)","v":78},{"$f":"IF($CI68,IF(BB68=\" \",\"\",BB68&\" \")&AG68,\" \")","v":" "}," "," ",65,{"$f":"IF(CO68<=CP$2,MATCH(CO68,CK$4:CK$2003,0),\"\")","v":""},{"$f":"VLOOKUP($CO68,CK$4:CM$2003,2,0)","v":" "},{"$f":"VLOOKUP($CO68,CK$4:CN$2003,3,0)&VLOOKUP($CO68,CK$4:CN$2003,4,0)","v":"  "}," ",{"$f":"IF(ISERR(FIND(CW$2,AP68,1)),FALSE, TRUE)","v":false},{"$f":"IF(CT68,AE68,AE68+5000)","v":5065},{"$f":"RANK(CU68,CU$4:CU$2003,1)","v":69},{"$f":"IF($CT68,IF(AH68=\" \",\"\",\" [\"&AH68&\"]\"),\" \")","v":" "},{"$f":"IF($CT68,IF(AK68=\"Noun  \",\"Noun\",IF(AK68=\"Verb  \",\"Verb\",AK68)),\" \")","v":" "}," ",65,{"$f":"IF(CZ68<=DA$2,MATCH(CZ68,CV$4:CV$2003,0),\"\")","v":""},{"$f":"VLOOKUP($CZ68,CV$4:CY$2003,4,0)","v":" "}," "," ",{"$f":"IF(AND(LEN(AG68)<=DF$2,AG68<>\" \"),TRUE,FALSE)","v":false},{"$f":"IF(DE68,AE68,AE68+5000)","v":5065},{"$f":"RANK(DF68,DF$4:DF$2003,1)","v":185},65,{"$f":"IF(DH68<=DA$2,MATCH(DH68,DG$4:DG$2003,0),\"\")","v":""},{"$f":"IF($DE68,IF(BB68=\" \",\"\",BB68&\" \")&AG68,\" \")","v":" "}," ",{"$f":"IF($DH68<=$DI$2,VLOOKUP($DH68,DG$4:DK$2003,4,0)&\" [\" &VLOOKUP($DH68,DG$4:DK$2003,5,0) &\"]\",\" \")","v":"οἱ [the (nominative, plural, masculine)]"}]
[null,null,null,null,null,null,null,null,null,null,null,null,null,null,null,null,null,null,null,null,null,null,null,null,"Nom Sing","",2,{"$f":"IF(AND(AA43>0,NOT(AA46>0)),\"■\",\"□\")","v":"□"},{"$f":"IF(AB43>0,\"■\",\"□\")","v":"□"},"□",66,"21","ἐ + [middle stem] +ομεθα"," ","we were verbing [imperfect middle indicative]"," ","Verb Ending"," "," "," ","  ",null,"0",0.373,{"$f":"IF(AG69=\"\",\"\",AG69)","v":"ἐ + [middle stem] +ομεθα"},true,{"$f":"IF(ISERR(FIND(AK69,$Y$23,1)),FALSE,TRUE)","v":true},{"$f":"AND(AT69,AU69)","v":true},{"$f":"IF(AC$3,AF69,\" \")","v":"21"},{"$f":"IF(AC$4,AH69,\" \")","v":" "},{"$f":"IF(TRUE,AI69,\" \")","v":"we were verbing [imperfect middle indicative]"},{"$f":"IF(AC$6,AJ69,\" \")","v":" "},{"$f":"IF(AC$7,AK69,\" \")","v":"Verb Ending"},{"$f":"IF(AC$8,AL69,\" \")","v":" "},{"$f":"IF(AC$9,AM69,\" \")","v":" "},{"$f":"IF(AC$10,AN69,\" \")","v":" "},{"$f":"IF(AC$9,AO69,\" \")","v":"  "},{"$f":"IF(AC$12,AQ69,\" \")","v":"0"},66,66,"21","ἐ + [middle stem] +ομεθα"," ","we were verbing [imperfect middle indicative]"," ","Verb Ending",""," "," ",{"$f":"IF($AV69,IF(AL69=\" \",\"\",AL69&\" \"),\"\")","v":""},{"$f":"IF($AV69,BE69,\" \")","v":"  "},"0",66,66,"21","Verb Ending","ἐ + [middle stem] +ομεθα"," "," "," "," ","we were verbing [imperfect middle indicative]","ἐ + [middle stem] +ομεθα",{"$f":"IF(BV69=\"\",\"\",IF(BW69=\"37\",\"Extra\", IF(BW69=38, \"Index of Textbook\",\"Chapter \" &BW69))&\": \"&BX69)","v":"Chapter 21: Verb Ending"},"  ","0",{"$f":"IF(ISERR(SEARCH(CL$2,AY69,1)),FALSE, TRUE)","v":false},5066,79," ",{"$f":"IF($CI69,AY69,\" \")","v":" "},{"$f":"IF($CI69,IF(AW69=\"37\",\" [Extra]\",IF(AW69=\"38\",\" [Index]\",  \" [Chap. \"&TEXT(VALUE(AW69),\"#\")&\"]\")),\" \")","v":" "},66,""," ","  "," ",false,5066,70," "," ",{"$f":"IF($CT69,IF(BB69=\" \",\"\",BB69&\" \")&AG69&CW69&\": \"&AY69&  IF(AF69=\"37\",\"  (Extra\",IF(AF69=\"38\",\"  (Index\",\"  (Chapter \"&TEXT(AF69,\"#\"))) &\", \"&CX69& IF(LEN(AM69)>1,\" [\"&AM69&\"]\",\"\") &IF(LEN(AN69)>1,\" [\"&AN69&\"]\",\"\")         &\")\",\" \")","v":" "},66,""," "," "," ",false,5066,186,66,""," ",{"$f":"IF($DE69,AY69,\" \")","v":" "},"αἱ [the (nominative, plural, feminine)]"]
[null,null,null,null,null,null,null,null,null,null,null,null,null,null,null,null,null,null,null,null,null,null,null,null,"  Gen Sing","",3,{"$f":"IF(AA44>0,\"■\",\"□\")","v":"□"},"□","□",67,"21","ἐ + [middle stem] +εσθε "," ","ya'll were verbing [imperfect middle indicative]"," ","Verb Ending"," "," "," ","  ",null,"0",0.374,"ἐ + [middle stem] +εσθε ",true,true,true,"21"," ","ya'll were verbing [imperfect middle indicative]"," ","Verb Ending"," "," "," ","  ","0",67,67,"21","ἐ + [middle stem] +εσθε "," ","ya'll were verbing [imperfect middle indicative]"," ","Verb Ending",""," "," ","","  ","0",67,67,"21","Verb Ending","ἐ + [middle stem] +εσθε "," "," "," "," ","ya'll were verbing [imperfect middle indicative]","ἐ + [middle stem] +εσθε ","Chapter 21: Verb Ending","  ","0",false,5067,80," "," "," ",67,""," ","  "," ",false,5067,71," "," "," ",67,""," "," "," ",false,5067,187,67,""," "," ","τά [the (nominative or accusative, plural, neuter)]"]
[null,null,null,null,null,null,null,null,null,null,null,null,null,null,null,null,null,null,null,null,null,null,null,null,"  Dat Sing","",4,{"$f":"IF(AA45>0,\"■\",\"□\")","v":"□"},"□","□",68,"21","ἐ + [middle stem] +οντο"," ","they were verbing [imperfect middle indicative]"," ","Verb Ending"," "," "," ","  ",null,"0",0.375,"ἐ + [middle stem] +οντο",true,true,true,"21"," ","they were verbing [imperfect middle indicative]"," ","Verb Ending"," "," "," ","  ","0",68,68,"21","ἐ + [middle stem] +οντο"," ","they were verbing [imperfect middle indicative]"," ","Verb Ending",""," "," ","","  ","0",68,68,"21","Verb Ending","ἐ + [middle stem] +οντο"," "," "," "," ","they were verbing [imperfect middle indicative]","ἐ + [middle stem] +οντο","Chapter 21: Verb Ending","  ","0",false,5068,81," "," "," ",68,""," ","  "," ",false,5068,72," "," "," ",68,""," "," "," ",false,5068,188,68,""," "," ","τῶν [the/of the (genitive, plural, masculine, feminine, neuter)]"]
[null,null,null,null,null,null,null,null,null,null,null,null,null,null,null,null,null,null,null,null,null,null,null,null,"  Acc Sing","",5,{"$f":"IF(AA46>0,\"■\",\"□\")","v":"□"},"□","□",69,"37","κατα-, κατε-"," ","verb prefix adding \"thoroughly\" to meaning"," ","Verb Ending"," "," "," ","  ","kata","0",0.99,"κατα-, κατε-",true,true,true,"37"," ","verb prefix adding \"thoroughly\" to meaning"," ","Verb Ending"," "," "," ","  ","0",69,69,"37","κατα-, κατε-"," ","verb prefix adding \"thoroughly\" to meaning"," ","Verb Ending",""," "," ","","  ","0",69,69,"37","Verb Ending","κατα-, κατε-"," "," "," "," ","verb prefix adding \"thoroughly\" to meaning","κατα-, κατε-","Extra: Verb Ending","  ","0",false,5069,82," "," "," ",69,""," ","  "," ",false,5069,73," "," "," ",69,""," "," "," ",false,5069,189,69,""," "," ","τάς [the (accusative, plural, feminine)]"]
[null,null,null,null,null,null,null,null,null,null,null,null,null,null,null,null,null,null,null,null,null,null,null,null,"              M F N","",6,null,null,null,70,"04","Ἀβραάμ","*ἀβρααμ","Abraham","ah-brah-AHM","Proper Noun","ὁ"," "," ","  ","abraam","11",11,"Ἀβραάμ",true,true,true,"04","*ἀβρααμ","Abraham","ah-brah-AHM","Proper Noun","ὁ"," "," ","  ","11",70,70,"04","ὁ Ἀβραάμ","*ἀβρααμ","Abraham","ah-brah-AHM","Proper Noun","ὁ "," "," ","ὁ ","  ","11",70,70,"04","Proper Noun","ὁ Ἀβραάμ"," "," ","*ἀβρααμ","ah-brah-AHM","Abraham","ὁ Ἀβραάμ","Chapter 04: Proper Noun","  ","11",false,5070,83," "," "," ",70,""," ","  "," ",false,5070,74," "," "," ",70,""," "," "," ",false,5070,190,70,""," "," ","ὅς [who/which/that (nominative, singular, masculine)]"]
[null,null,null,null,null,null,null,null,null,null,null,null,null,null,null,null,null,null,null,null,null,null,null,null," Nom Plur","",7,{"$f":"IF(AA47>0,\"■\",\"□\")","v":"□"},"□","□",71,"09","ἀγαθός","*ἀγαθο","good, useful","ah-gah-THOSS","Adjective"," "," "," ","  ","agaqos","18",18,"ἀγαθός",true,true,true,"09","*ἀγαθο","good, useful","ah-gah-THOSS","Adjective"," "," "," ","  ","18",71,71,"09","ἀγαθός","*ἀγαθο","good, useful","ah-gah-THOSS","Adjective",""," "," ","","  ","18",71,71,"09","Adjective","ἀγαθός"," "," ","*ἀγαθο","ah-gah-THOSS","good, useful","ἀγαθός","Chapter 09: Adjective","  ","18",false,5071,84," "," "," ",71,""," ","  "," ",false,5071,75," "," "," ",71,""," "," "," ",false,5071,191,71,""," "," ","ἥ [who/which/that (nominative, singular, feminine)]"]
[null,null,null,null,null,null,null,null,null,null,null,null,null,null,null,null,null,null,null,null,null,null,null,null,"    Gen Plur","",8,"□","□","□",72,38,"ἀγαλλιάω"," ","I exult","ah-gah-lee-AH-owe","Verb  "," ","-","-","ἠγαλλίασα","agalliaw hgalliasa","21",21,"ἀγαλλιάω",true,true,true,38," ","I exult","ah-gah-lee-AH-owe","Verb  "," ","-","-","ἠγαλλίασα","21",72,72,38,"ἀγαλλιάω"," ","I exult","ah-gah-lee-AH-owe","Verb  ","","-","-","","ἠγαλλίασα","21",72,72,38,"Verb  ","ἀγαλλιάω","-","-"," ","ah-gah-lee-AH-owe","I exult","ἀγαλλιάω","Index of Textbook: Verb  ","ἠγαλλίασα","21",false,5072,85," "," "," ",72,""," ","  "," ",false,5072,76," "," "," ",72,""," "," "," ",false,5072,192,72,""," "," ","ὅ [who/whom/which/that (nominative or accusative, singular, neuter)]"]
[null,null,null,null,null,null,null,null,null,null,null,null,null,null,null,null,null,null,null,null,null,null,null,null,"     Dat Plur","",9,{"$f":"IF(AA49>0,\"■\",\"□\")","v":"□"},"□","□",73,"17","ἀγαπάω","*ἀγαπα","I love, I cherish","ah-gah-PAY-owe","Verb  "," ","ἠγάπων","ἀγαπήσω","ἠγάπησα","agapaw hgapwn agaphsw hgaphsa","25",25,"ἀγαπάω",true,true,true,"17","*ἀγαπα","I love, I cherish","ah-gah-PAY-owe","Verb  "," ","ἠγάπων","ἀγαπήσω","ἠγάπησα","25",73,73,"17","ἀγαπάω","*ἀγαπα","I love, I cherish","ah-gah-PAY-owe","Verb  ","","ἠγάπων","ἀγαπήσω","","ἠγάπησα","25",73,73,"17","Verb  ","ἀγαπάω","ἠγάπων","ἀγαπήσω","*ἀγαπα","ah-gah-PAY-owe","I love, I cherish","ἀγαπάω","Chapter 17: Verb  ","ἠγάπησα","25",false,5073,86," "," "," ",73,""," ","  "," ",false,5073,77," "," "," ",73,""," "," "," ",false,5073,193,73,""," "," ","οὗ [of whom/of which/of whose (genitive, singular, masculine or neuter)]"]
[null,null,null,null,null,null,null,null,null,null,null,null,null,null,null,null,null,null,null,null,null,null,null,null,"   Acc Plur","",10,"□","□","□",74,"06","ἀγάπη","*ἀγαπη","love","ah-GAH-pay","Noun  ","ἡ"," "," ","  ","agaph","26",26,"ἀγάπη",true,true,true,"06","*ἀγαπη","love","ah-GAH-pay","Noun  ","ἡ"," "," ","  ","26",74,74,"06","ἡ ἀγάπη","*ἀγαπη","love","ah-GAH-pay","Noun  ","ἡ "," "," ","ἡ ","  ","26",74,74,"06","Noun  ","ἡ ἀγάπη"," "," ","*ἀγαπη","ah-GAH-pay","love","ἡ ἀγάπη","Chapter 06: Noun  ","  ","26",false,5074,87," "," "," ",74,""," ","  "," ",false,5074,78," "," "," ",74,""," "," "," ",false,5074,194,74,""," "," ","ἧς [of whom/of which/of whose (genitive, singular, feminine)]"]
[null,null,null,null,null,null,null,null,null,null,null,null,null,null,null,null,null,null,null,null,null,null,null,null,null,null,null,null,null,null,75,"09","ἀγαπητός","*ἀγαπητο","beloved","ah-ga-pay-TOSS","Adjective"," "," "," ","  ","agaphtos","27",27,"ἀγαπητός",true,true,true,"09","*ἀγαπητο","beloved","ah-ga-pay-TOSS","Adjective"," "," "," ","  ","27",75,75,"09","ἀγαπητός","*ἀγαπητο","beloved","ah-ga-pay-TOSS","Adjective",""," "," ","","  ","27",75,75,"09","Adjective","ἀγαπητός"," "," ","*ἀγαπητο","ah-ga-pay-TOSS","beloved","ἀγαπητός","Chapter 09: Adjective","  ","27",false,5075,88," "," "," ",75,""," ","  "," ",false,5075,79," "," "," ",75,""," "," "," ",false,5075,195,75,""," "," ","ᾧ [to whom/to which (dative, singular, masculine or neuter)]"]
[null,null,null,null,null,null,null,null,null,null,null,null,null,null,null,null,null,null,null,null,null,null,null,null,null,null,null,"Checkbox Count",null,{"$f":"SUM(AB80:AD88)","v":0},76,"37","ἀγγελία"," ","message","ahng-ell-EE-ah","Noun  ","ἡ"," "," ","  ","aggelia","31a",31.1,"ἀγγελία",true,true,true,"37"," ","message","ahng-ell-EE-ah","Noun  ","ἡ"," "," ","  ","31a",76,76,"37","ἡ ἀγγελία"," ","message","ahng-ell-EE-ah","Noun  ","ἡ "," "," ","ἡ ","  ","31a",76,76,"37","Noun  ","ἡ ἀγγελία"," "," "," ","ahng-ell-EE-ah","message","ἡ ἀγγελία","Extra: Noun  ","  ","31a",false,5076,89," "," "," ",76,""," ","  "," ",false,5076,80," "," "," ",76,""," "," "," ",false,5076,196,76,""," "," ","ᾗ [to whom/to which (dative, singular, feminine)]"]
[null,null,null,null,null,null,null,null,null,null,null,null,null,null,null,null,null,null,null,null,null,null,null,null,null,null,null,{"$f":"IF(AB69=\"■\",1,0)","v":0},{"$f":"IF(AC69=\"■\",1,0)","v":0},{"$f":"IF(AD69=\"■\",1,0)","v":0},77,"04","ἄγγελος","*ἀγγελο","angel, messenger","AHN-gell-oss","Noun  ","ὁ"," "," ","  ","aggelos","32a",32.1,"ἄγγελος",true,true,true,"04","*ἀγγελο","angel, messenger","AHN-gell-oss","Noun  ","ὁ"," "," ","  ","32a",77,77,"04","ὁ ἄγγελος","*ἀγγελο","angel, messenger","AHN-gell-oss","Noun  ",{"$f":"IF($AV80,IF(BB80=\" \",\"\",BB80&\" \"),\"\")","v":"ὁ "}," "," ","ὁ ","  ","32a",77,77,"04","Noun  ","ὁ ἄγγελος"," "," ","*ἀγγελο","AHN-gell-oss","angel, messenger","ὁ ἄγγελος","Chapter 04: Noun  ","  ","32a",false,5077,90," "," "," ",77,""," ","  "," ",false,5077,81," "," "," ",77,""," "," "," ",false,5077,197,77,""," "," ","ὅν [whom/which/that (accusative, singular, masculine)]"]
[null,null,null,null,null,null,null,null,null,null,null,null,null,null,null,null,null,null,null,null,null,null,null,null,null,null,null,{"$f":"IF(AB70=\"■\",1,0)","v":0},0,0,78,"35","ἁγιάζω","*ἁγιαδ","I consecrate, I sanctify","hah-gi-AH-zoe","Verb  "," ","-","-","ἥγιασα","agiazw hgiasa","37",37,"ἁγιάζω",true,true,true,"35","*ἁγιαδ","I consecrate, I sanctify","hah-gi-AH-zoe","Verb  "," ","-","-","ἥγιασα","37",78,78,"35","ἁγιάζω","*ἁγιαδ","I consecrate, I sanctify","hah-gi-AH-zoe","Verb  ","","-","-","","ἥγιασα","37",78,78,"35","Verb  ","ἁγιάζω","-","-","*ἁγιαδ","hah-gi-AH-zoe","I consecrate, I sanctify","ἁγιάζω","Chapter 35: Verb  ","ἥγιασα","37",false,5078,91," "," "," ",78,""," ","  "," ",false,5078,82," "," "," ",78,""," "," "," ",false,5078,198,78,""," "," ","ἥν [whom/which/that (accusative, singular, feminine)]"]
[null,null,null,null,null,null,null,null,null,null,null,null,null,null,null,null,null,null,null,null,null,null,null,null,null,null,null,0,0,0,79,"38","ἁγιασμός","*ἁγιο","holiness, consecration","Ha-gee-ahs-MOSS","Noun  ","ὁ"," "," "," ","agiasmos","38",38,"ἁγιασμός",true,true,true,"38","*ἁγιο","holiness, consecration","Ha-gee-ahs-MOSS","Noun  ","ὁ"," "," "," ","38",79,79,"38","ὁ ἁγιασμός","*ἁγιο","holiness, consecration","Ha-gee-ahs-MOSS","Noun  ","ὁ "," "," ","ὁ "," ","38",79,79,"38","Noun  ","ὁ ἁγιασμός"," "," ","*ἁγιο","Ha-gee-ahs-MOSS","holiness, consecration","ὁ ἁγιασμός","Chapter 38: Noun  "," ","38",false,5079,92," "," "," ",79,""," ","  "," ",false,5079,83," "," "," ",79,""," "," "," ",false,5079,199,79,""," "," ","οἵ [who/which/that (nominative, plural, masculine)]"]
[null,null,null,null,null,null,null,null,null,null,null,null,null,null,null,null,null,null,null,null,null,null,null,null,null,null,null,0,0,0,80,"09","ἅγιος (noun)","*ἁγιο","saint, holy one","HA-gi-oss","Noun  ","ὁ"," "," ","  ","agios","40",40,"ἅγιος (noun)",true,true,true,"09","*ἁγιο","saint, holy one","HA-gi-oss","Noun  ","ὁ"," "," ","  ","40",80,80,"09","ὁ ἅγιος (noun)","*ἁγιο","saint, holy one","HA-gi-oss","Noun  ","ὁ "," "," ","ὁ ","  ","40",80,80,"09","Noun  ","ὁ ἅγιος (noun)"," "," ","*ἁγιο","HA-gi-oss","saint, holy one","ὁ ἅγιος (noun)","Chapter 09: Noun  ","  ","40",false,5080,93," "," "," ",80,""," ","  "," ",false,5080,84," "," "," ",80,""," "," "," ",false,5080,200,80,""," "," ","αἵ [who/which/that (nominative, plural, feminine)]"]
[null,null,null,null,null,null,null,null,null,null,null,null,null,null,null,null,null,null,null,null,null,null,null,null,null,null,null,0,0,0,81,"09","ἅγιος (adj)","*ἁγιο","holy","HA-gi-oss","Adjective"," "," "," ","  ","agios","40",40.1,"ἅγιος (adj)",true,true,true,"09","*ἁγιο","holy","HA-gi-oss","Adjective"," "," "," ","  ","40",81,81,"09","ἅγιος (adj)","*ἁγιο","holy","HA-gi-oss","Adjective",""," "," ","","  ","40",81,81,"09","Adjective","ἅγιος (adj)"," "," ","*ἁγιο","HA-gi-oss","holy","ἅγιος (adj)","Chapter 09: Adjective","  ","40",false,5081,94," "," "," ",81,""," ","  "," ",false,5081,85," "," "," ",81,""," "," "," ",false,5081,201,81,""," "," ","ἅ [who/which/that/whom (nominative or accusative, plural, neuter)]"]
[null,null,null,null,null,null,null,null,null,null,null,null,null,null,null,null,null,null,null,null,null,null,null,null,null,null,null,0,0,0,82,38,"ἀγνοέω","*γνωσι","I do not know","ahg-no-eh-owe","Verb  "," ","ἠγνόουν","-","ἠγνόησα","agnoew hgnooun hgnohsa","50",50,"ἀγνοέω",true,true,true,38,"*γνωσι","I do not know","ahg-no-eh-owe","Verb  "," ","ἠγνόουν","-","ἠγνόησα","50",82,82,38,"ἀγνοέω","*γνωσι","I do not know","ahg-no-eh-owe","Verb  ","","ἠγνόουν","-","","ἠγνόησα","50",82,82,38,"Verb  ","ἀγνοέω","ἠγνόουν","-","*γνωσι","ahg-no-eh-owe","I do not know","ἀγνοέω","Index of Textbook: Verb  ","ἠγνόησα","50",false,5082,95," "," "," ",82,""," ","  "," ",false,5082,86," "," "," ",82,""," "," "," ",false,5082,202,82,""," "," ","ὧν [of whom/of which/of whose (genitive, plural, masculine, feminine, neuter)]"]
[null,null,null,null,null,null,null,null,null,null,null,null,null,null,null,null,null,null,null,null,null,null,null,null,null,null,null,0,0,0,83,"38","ἀγορά"," ","marketplace","ah-gorr-AH","Noun  ","ἡ"," "," ","  ","agora","58",58,"ἀγορά",true,true,true,"38"," ","marketplace","ah-gorr-AH","Noun  ","ἡ"," "," ","  ","58",83,83,"38","ἡ ἀγορά"," ","marketplace","ah-gorr-AH","Noun  ","ἡ "," "," ","ἡ ","  ","58",83,83,"38","Noun  ","ἡ ἀγορά"," "," "," ","ah-gorr-AH","marketplace","ἡ ἀγορά","Chapter 38: Noun  ","  ","58",false,5083,96," "," "," ",83,""," ","  "," ",false,5083,87," "," "," ",83,""," "," "," ",false,5083,203,83,""," "," ","οἷς [to whom/to which (dative, plural, masculine or neuter)]"]
[null,null,null,null,null,null,null,null,null,null,null,null,null,null,null,null,null,null,null,null,null,null,null,null,null,null,null,0,0,0,84,38,"ἀγοράζω"," ","I buy","ah-gorr-AH-zoe","Verb  "," "," ἠγόραζον",null,"ἠγόρασα","agorazw hgorasa","59",59,"ἀγοράζω",true,true,true,38," ","I buy","ah-gorr-AH-zoe","Verb  "," "," ἠγόραζον",0,"ἠγόρασα","59",84,84,38,"ἀγοράζω"," ","I buy","ah-gorr-AH-zoe","Verb  ",""," ἠγόραζον",0,"","ἠγόρασα","59",84,84,38,"Verb  ","ἀγοράζω"," ἠγόραζον",0," ","ah-gorr-AH-zoe","I buy","ἀγοράζω","Index of Textbook: Verb  ","ἠγόρασα","59",false,5084,97," "," "," ",84,""," ","  "," ",false,5084,88," "," "," ",84,""," "," "," ",false,5084,204,84,""," "," ","αἷς [to whom/to which (dative, plural, feminine)]"]
[null,null,null,null,null,null,null,null,null,null,null,null,null,null,null,null,null,null,null,null,null,null,null,null,null,null,null,0,0,0,85,"38","Ἀγρίππας"," ","Agrippa","Ah-GRIP-ahs","Proper Noun","ὁ"," "," "," ","agrippas","67",67,"Ἀγρίππας",true,true,true,"38"," ","Agrippa","Ah-GRIP-ahs","Proper Noun","ὁ"," "," "," ","67",85,85,{"$f":"IF(AV88,AW88,\" \")","v":"38"},"ὁ Ἀγρίππας",{"$f":"IF($AV88,AX88,\" \")","v":" "},{"$f":"IF($AV88,AY88,\" \")","v":"Agrippa"},{"$f":"IF($AV88,AZ88,\" \")","v":"Ah-GRIP-ahs"},{"$f":"IF($AV88,BA88,\" \")","v":"Proper Noun"},"ὁ ",{"$f":"IF($AV88,BC88,\" \")","v":" "},{"$f":"IF($AV88,BD88,\" \")","v":" "},"ὁ "," ",{"$f":"IF($AV88,BF88,\" \")","v":"67"},85,85,"38","Proper Noun","ὁ Ἀγρίππας"," "," "," ","Ah-GRIP-ahs","Agrippa","ὁ Ἀγρίππας","Chapter 38: Proper Noun"," ","67",false,5085,98," "," "," ",85,""," ","  "," ",false,5085,89," "," "," ",85,""," "," "," ",false,5085,205,85,""," "," ","οὕς [whom/which (accusative, plural, masculine)]"]
[null,null,null,null,null,null,null,null,null,null,null,null,null,null,null,null,null,null,null,null,null,null,null,null,null,null,null,null,null,null,86,38,"ἀγρός"," ","field, land","ah-grahs","Noun  ","ὁ"," "," ","  ","agros","68",68,"ἀγρός",true,true,true,38," ","field, land","ah-grahs","Noun  ","ὁ"," "," ","  ","68",86,86,38,"ὁ ἀγρός"," ","field, land","ah-grahs","Noun  ","ὁ "," "," ","ὁ ","  ","68",86,86,38,"Noun  ","ὁ ἀγρός"," "," "," ","ah-grahs","field, land","ὁ ἀγρός","Index of Textbook: Noun  ","  ","68",false,5086,99," "," "," ",86,""," ","  "," ",false,5086,90," "," "," ",86,""," "," "," ",false,5086,206,86,""," "," ","ἅς [whom/which (accusative, plural, feminine)]"]
[null,null,null,null,null,null,null,null,null,null,null,null,null,null,null,null,null,null,null,null,null,null,null,null,null,null,null,null,null,null,87,"24","ἄγω","*ἀγ","I lead, I bring, I arrest","AH-goe","Verb  "," ","ἦγον","ἄξω","ἤγαγον","agw hgon axw hgagon","71",71,"ἄγω",true,true,true,"24","*ἀγ","I lead, I bring, I arrest","AH-goe","Verb  "," ","ἦγον","ἄξω","ἤγαγον","71",87,87,"24","ἄγω","*ἀγ","I lead, I bring, I arrest","AH-goe","Verb  ","","ἦγον","ἄξω","","ἤγαγον","71",87,87,"24","Verb  ","ἄγω","ἦγον","ἄξω","*ἀγ","AH-goe","I lead, I bring, I arrest","ἄγω","Chapter 24: Verb  ","ἤγαγον","71",false,5087,100," "," "," ",87,""," ","  "," ",false,5087,91," "," "," ",87,""," "," "," ",true,87,2,87,"","ἄγω","I lead, I bring, I arrest","ὅτι [whoever, whichever, whatever (neuter) (usually appears as ὅ τι)]"]
[null,null,null,null,null,null,null,null,null,null,null,null,null,null,null,null,null,null,null,null,null,null,null,null,null,null,null,null,null,null,88,"38","ἀδελφή"," ","sister","ah-dell-FAY","Noun  ","ἡ"," "," ","  ","adelfh","79",79,"ἀδελφή",true,true,true,"38"," ","sister","ah-dell-FAY","Noun  ","ἡ"," "," ","  ","79",88,88,"38","ἡ ἀδελφή"," ","sister","ah-dell-FAY","Noun  ","ἡ "," "," ","ἡ ","  ","79",88,88,"38","Noun  ","ἡ ἀδελφή"," "," "," ","ah-dell-FAY","sister","ἡ ἀδελφή","Chapter 38: Noun  ","  ","79",false,5088,101," "," "," ",88,""," ","  "," ",false,5088,92," "," "," ",88,""," "," "," ",false,5088,207,88,""," "," ","ὄτε [when]"]
[null,null,null,null,null,null,null,null,null,null,null,null,null,null,null,null,null,null,null,null,null,null,null,null,null,null,null,null,null,null,89,"11","ἀδελφός","*ἀδελφο","brother","ah-dell-FOSS","Noun  ","ὁ"," "," ","  ","adelfos","80",80,"ἀδελφός",true,true,true,"11","*ἀδελφο","brother","ah-dell-FOSS","Noun  ","ὁ"," "," ","  ","80",89,89,"11","ὁ ἀδελφός","*ἀδελφο","brother","ah-dell-FOSS","Noun  ","ὁ "," "," ","ὁ ","  ","80",89,89,"11","Noun  ","ὁ ἀδελφός"," "," ","*ἀδελφο","ah-dell-FOSS","brother","ὁ ἀδελφός","Chapter 11: Noun  ","  ","80",false,5089,102," "," "," ",89,""," ","  "," ",false,5089,93," "," "," ",89,""," "," "," ",false,5089,208,89,""," "," ","ὅτι [that, since, because, or begin a quotation]"]
[null,null,null,null,null,null,null,null,null,null,null,null,null,null,null,null,null,null,null,null,null,null,null,null,null,null,null,null,null,null,90,"38","ᾁδης",null,"Hades or hades (\"the unseen place\"; not a proper noun as used in the New Testament)","HAH-dace","Noun  ","ὁ"," "," "," ","adhs","86",86,"ᾁδης",true,true,true,"38",0,"Hades or hades (\"the unseen place\"; not a proper noun as used in the New Testament)","HAH-dace","Noun  ","ὁ"," "," "," ","86",90,90,"38","ὁ ᾁδης",0,"Hades or hades (\"the unseen place\"; not a proper noun as used in the New Testament)","HAH-dace","Noun  ","ὁ "," "," ","ὁ "," ","86",90,90,"38","Noun  ","ὁ ᾁδης"," "," ",0,"HAH-dace","Hades or hades (\"the unseen place\"; not a proper noun as used in the New Testament)","ὁ ᾁδης","Chapter 38: Noun  "," ","86",false,5090,103," "," "," ",90,""," ","  "," ",false,5090,94," "," "," ",90,""," "," "," ",false,5090,209,90,""," "," ","οὗ [where]"]
[null,null,null,null,null,null,null,null,null,null,null,null,null,null,null,null,null,null,null,null,null,null,null,null,null,null,null,null,null,null,91,38,"ἀδικέω","*δικαιο","I injure, I do wrong","ah-dee-KEH-owe","Verb  "," ","-","ἀδικήσω","ἠδίκησα","adikew adikhsw hdikhsa","91",91,"ἀδικέω",true,true,true,38,"*δικαιο","I injure, I do wrong","ah-dee-KEH-owe","Verb  "," ","-","ἀδικήσω","ἠδίκησα","91",91,91,38,"ἀδικέω","*δικαιο","I injure, I do wrong","ah-dee-KEH-owe","Verb  ","","-","ἀδικήσω","","ἠδίκησα","91",91,91,38,"Verb  ","ἀδικέω","-","ἀδικήσω","*δικαιο","ah-dee-KEH-owe","I injure, I do wrong","ἀδικέω","Index of Textbook: Verb  ","ἠδίκησα","91",false,5091,104," "," "," ",91,""," ","  "," ",false,5091,95," "," "," ",91,""," "," "," ",false,5091,210,91,""," "," ","οὖν [so, therefore, accordingly, then (particle)]"]
[null,null,null,null,null,null,null,null,null,null,null,null,null,null,null,null,null,null,null,null,null,null,null,null,null,null,null,null,null,null,92,38,"ἀδικία","*δικαιο","unrighteousness","ah-dik-EE-ah","Noun  ","ἡ"," "," ","  ","adikia","93",93,"ἀδικία",true,true,true,38,"*δικαιο","unrighteousness","ah-dik-EE-ah","Noun  ","ἡ"," "," ","  ","93",92,92,38,"ἡ ἀδικία","*δικαιο","unrighteousness","ah-dik-EE-ah","Noun  ","ἡ "," "," ","ἡ ","  ","93",92,92,38,"Noun  ","ἡ ἀδικία"," "," ","*δικαιο","ah-dik-EE-ah","unrighteousness","ἡ ἀδικία","Index of Textbook: Noun  ","  ","93",false,5092,105," "," "," ",92,""," ","  "," ",false,5092,96," "," "," ",92,""," "," "," ",false,5092,211,92,""," "," ","πᾶν [each, every, all (neuter)]"]
[null,null,null,null,null,null,null,null,null,null,null,null,null,null,null,null,null,null,null,null,null,null,null,null,null,null,null,null,null,null,93,"38","ἂδικος","*δικαιο","unjust","AH-dee-koss","Adjective"," "," "," "," ","adikos","94",94,"ἂδικος",true,true,true,"38","*δικαιο","unjust","AH-dee-koss","Adjective"," "," "," "," ","94",93,93,"38","ἂδικος","*δικαιο","unjust","AH-dee-koss","Adjective",""," "," ",""," ","94",93,93,"38","Adjective","ἂδικος"," "," ","*δικαιο","AH-dee-koss","unjust","ἂδικος","Chapter 38: Adjective"," ","94",false,5093,106," "," "," ",93,""," ","  "," ",false,5093,97," "," "," ",93,""," "," "," ",false,5093,212,93,""," "," ","πᾶς [each, every, all (masculine)]"]
[null,null,null,null,null,null,null,null,null,null,null,null,null,null,null,null,null,null,null,null,null,null,null,null,null,null,null,null,null,null,94,"38","ἀδύνατος","*δυνα","impossible","Ah-DOON-ah-toss","Adjective"," "," "," "," ","adunatos","102",102,"ἀδύνατος",true,true,true,"38","*δυνα","impossible","Ah-DOON-ah-toss","Adjective"," "," "," "," ","102",94,94,"38","ἀδύνατος","*δυνα","impossible","Ah-DOON-ah-toss","Adjective",""," "," ",""," ","102",94,94,"38","Adjective","ἀδύνατος"," "," ","*δυνα","Ah-DOON-ah-toss","impossible","ἀδύνατος","Chapter 38: Adjective"," ","102",false,5094,107," "," "," ",94,""," ","  "," ",false,5094,98," "," "," ",94,""," "," "," ",false,5094,213,94,""," "," ","ποῦ [where? (particle)]"]
[null,null,null,null,null,null,null,null,null,null,null,null,null,null,null,null,null,null,null,null,null,null,null,null,null,null,null,null,null,null,95,38,"ἀθετέω"," ","I nullify, I reject","ah-thet-EH-owe","Verb  "," ","-","ἀθετήσω","ἠθέτησα","aqetew aqethsw hqethsa","114",114,"ἀθετέω",true,true,true,38," ","I nullify, I reject","ah-thet-EH-owe","Verb  "," ","-","ἀθετήσω","ἠθέτησα","114",95,95,38,"ἀθετέω"," ","I nullify, I reject","ah-thet-EH-owe","Verb  ","","-","ἀθετήσω","","ἠθέτησα","114",95,95,38,"Verb  ","ἀθετέω","-","ἀθετήσω"," ","ah-thet-EH-owe","I nullify, I reject","ἀθετέω","Index of Textbook: Verb  ","ἠθέτησα","114",false,5095,108," "," "," ",95,""," ","  "," ",false,5095,99," "," "," ",95,""," "," "," ",false,5095,214,95,""," "," ","πρό [before [genitive]]"]
[null,null,null,null,null,null,null,null,null,null,null,null,null,null,null,null,null,null,null,null,null,null,null,null,null,null,null,null,null,null,96,"38","Αἴγυπτος"," ","Egypt","EYE-goop-toss","Proper Noun","ἡ"," "," "," ","aiguptos","125",125,"Αἴγυπτος",true,true,true,"38"," ","Egypt","EYE-goop-toss","Proper Noun","ἡ"," "," "," ","125",96,96,"38","ἡ Αἴγυπτος"," ","Egypt","EYE-goop-toss","Proper Noun","ἡ "," "," ","ἡ "," ","125",96,96,"38","Proper Noun","ἡ Αἴγυπτος"," "," "," ","EYE-goop-toss","Egypt","ἡ Αἴγυπτος","Chapter 38: Proper Noun"," ","125",false,5096,109," "," "," ",96,""," ","  "," ",false,5096,100," "," "," ",96,""," "," "," ",false,5096,215,96,""," "," ","τό πῦρ [fire]"]
[null,null,null,null,null,null,null,null,null,null,null,null,null,null,null,null,null,null,null,null,null,null,null,null,null,null,null,null,null,null,97,"24","αἷμα","*αἱματ","blood","HAY-mah","Noun  ","τό"," "," ","  ","aima","129",129,"αἷμα",true,true,true,"24","*αἱματ","blood","HAY-mah","Noun  ","τό"," "," ","  ","129",97,97,"24","τό αἷμα","*αἱματ","blood","HAY-mah","Noun  ","τό "," "," ","τό ","  ","129",97,97,"24","Noun  ","τό αἷμα"," "," ","*αἱματ","HAY-mah","blood","τό αἷμα","Chapter 24: Noun  ","  ","129",false,5097,110," "," "," ",97,""," ","  "," ",false,5097,101," "," "," ",97,""," "," "," ",false,5097,216,97,""," "," ","πώς [somehow, perhaps (note the acute mark)]"]
[null,null,null,null,null,null,null,null,null,null,null,null,null,null,null,null,null,null,null,null,null,null,null,null,null,null,null,null,null,null,98,"20","αἴρω","*ἀρ","I raise, I take up, I take away","EYE-roe","Verb  "," ","-","ἀρῶ","ἦρα","airw arw hra","142",142,"αἴρω",true,true,true,"20","*ἀρ","I raise, I take up, I take away","EYE-roe","Verb  "," ","-","ἀρῶ","ἦρα","142",98,98,"20","αἴρω","*ἀρ","I raise, I take up, I take away","EYE-roe","Verb  ","","-","ἀρῶ","","ἦρα","142",98,98,"20","Verb  ","αἴρω","-","ἀρῶ","*ἀρ","EYE-roe","I raise, I take up, I take away","αἴρω","Chapter 20: Verb  ","ἦρα","142",false,5098,111," "," "," ",98,""," ","  "," ",false,5098,102," "," "," ",98,""," "," "," ",false,5098,217,98,""," "," ","πῶς [how? (note the circumflex)]"]
[null,null,null,null,null,null,null,null,null,null,null,null,null,null,null,null,null,null,null,null,null,null,null,null,null,null,null,null,null,null,99,"25","αἰτέω","*αἰτε","I ask, I demand","eye-TEH-owe","Verb  "," ","ᾔτουν","αἰτήσω","ᾔατησα","aitew htoun aithsw hathsa","154",154,"αἰτέω",true,true,true,"25","*αἰτε","I ask, I demand","eye-TEH-owe","Verb  "," ","ᾔτουν","αἰτήσω","ᾔατησα","154",99,99,"25","αἰτέω","*αἰτε","I ask, I demand","eye-TEH-owe","Verb  ","","ᾔτουν","αἰτήσω","","ᾔατησα","154",99,99,"25","Verb  ","αἰτέω","ᾔτουν","αἰτήσω","*αἰτε","eye-TEH-owe","I ask, I demand","αἰτέω","Chapter 25: Verb  ","ᾔατησα","154",false,5099,112," "," "," ",99,""," ","  "," ",false,5099,103," "," "," ",99,""," "," "," ",false,5099,218,99,""," "," ","σύ [you (singular)]"]
[null,null,null,null,null,null,null,null,null,null,null,null,null,null,null,null,null,null,null,null,null,null,null,null,null,null,null,null,null,null,100,"38","αἰτία"," ","cause, guilt, charge, accusation","ay-TEE-ah","Noun  ","ἡ"," "," ","  ","aitia","156",156,"αἰτία",true,true,true,"38"," ","cause, guilt, charge, accusation","ay-TEE-ah","Noun  ","ἡ"," "," ","  ","156",100,100,"38","ἡ αἰτία"," ","cause, guilt, charge, accusation","ay-TEE-ah","Noun  ","ἡ "," "," ","ἡ ","  ","156",100,100,"38","Noun  ","ἡ αἰτία"," "," "," ","ay-TEE-ah","cause, guilt, charge, accusation","ἡ αἰτία","Chapter 38: Noun  ","  ","156",false,5100,113," "," "," ",100,""," ","  "," ",false,5100,104," "," "," ",100,""," "," "," ",false,5100,219,100,""," "," ","σε [you (accusative singular)]"]
[null,null,null,null,null,null,null,null,null,null,null,null,null,null,null,null,null,null,null,null,null,null,null,null,null,null,null,null,null,null,101,"12","αἰών","*αἰων","age, eternity","eye-OWN","Noun  ","ὁ"," "," ","  ","aiwn","165",165,"αἰών",true,true,true,"12","*αἰων","age, eternity","eye-OWN","Noun  ","ὁ"," "," ","  ","165",101,101,"12","ὁ αἰών","*αἰων","age, eternity","eye-OWN","Noun  ","ὁ "," "," ","ὁ ","  ","165",101,101,"12","Noun  ","ὁ αἰών"," "," ","*αἰων","eye-OWN","age, eternity","ὁ αἰών","Chapter 12: Noun  ","  ","165",false,5101,114," "," "," ",101,""," ","  "," ",false,5101,105," "," "," ",101,""," "," "," ",false,5101,220,101,""," "," ","σέ [you (emphatic accusative singular)]"]
[null,null,null,null,null,null,null,null,null,null,null,null,null,null,null,null,null,null,null,null,null,null,null,null,null,null,null,null,null,null,102,"12","εἰς τὸν αἰῶνα","*αἰων","forever","ace TAHN eye-OWN-ah","Idiom"," "," "," ","  ","eis ton aiwna","1519, 165",165.2,"εἰς τὸν αἰῶνα",true,true,true,"12","*αἰων","forever","ace TAHN eye-OWN-ah","Idiom"," "," "," ","  ","1519, 165",102,102,"12","εἰς τὸν αἰῶνα","*αἰων","forever","ace TAHN eye-OWN-ah","Idiom",""," "," ","","  ","1519, 165",102,102,"12","Idiom","εἰς τὸν αἰῶνα"," "," ","*αἰων","ace TAHN eye-OWN-ah","forever","εἰς τὸν αἰῶνα","Chapter 12: Idiom","  ","1519, 165",false,5102,115," "," "," ",102,""," ","  "," ",false,5102,106," "," "," ",102,""," "," "," ",false,5102,221,102,""," "," ","σοῦ [your/of you (emphatic genitive singular)]"]
[null,null,null,null,null,null,null,null,null,null,null,null,null,null,null,null,null,null,null,null,null,null,null,null,null,null,null,null,null,null,103,"12","εἰς τοὺς αἰώνας","*αἰων","forever","ace TOOS eye-OWE-nahs","Idiom"," "," "," ","  ","eis tous aiwnas","1519, 165",165.3,"εἰς τοὺς αἰώνας",true,true,true,"12","*αἰων","forever","ace TOOS eye-OWE-nahs","Idiom"," "," "," ","  ","1519, 165",103,103,"12","εἰς τοὺς αἰώνας","*αἰων","forever","ace TOOS eye-OWE-nahs","Idiom",""," "," ","","  ","1519, 165",103,103,"12","Idiom","εἰς τοὺς αἰώνας"," "," ","*αἰων","ace TOOS eye-OWE-nahs","forever","εἰς τοὺς αἰώνας","Chapter 12: Idiom","  ","1519, 165",false,5103,116," "," "," ",103,""," ","  "," ",false,5103,107," "," "," ",103,""," "," "," ",false,5103,222,103,""," "," ","σύ [you (nominative singular)]"]
[null,null,null,null,null,null,null,null,null,null,null,null,null,null,null,null,null,null,null,null,null,null,null,null,null,null,null,null,null,null,104,"09","αἰώνιος","*αἰωνιο","eternal","eye-OWE-nee-oss","Adjective"," "," "," ","  ","aiwnios","166",166,"αἰώνιος",true,true,true,"09","*αἰωνιο","eternal","eye-OWE-nee-oss","Adjective"," "," "," ","  ","166",104,104,"09","αἰώνιος","*αἰωνιο","eternal","eye-OWE-nee-oss","Adjective",""," "," ","","  ","166",104,104,"09","Adjective","αἰώνιος"," "," ","*αἰωνιο","eye-OWE-nee-oss","eternal","αἰώνιος","Chapter 09: Adjective","  ","166",false,5104,117," "," "," ",104,""," ","  "," ",false,5104,108," "," "," ",104,""," "," "," ",false,5104,223,104,""," "," ","σοί [to you (emphatic dative singular)]"]
[null,null,null,null,null,null,null,null,null,null,null,null,null,null,null,null,null,null,null,null,null,null,null,null,null,null,null,null,null,null,105,"38","ἀκαθαρσία","*καθαρ","immorality, uncleanness","Ah-kath-","Noun  ","ἡ"," "," "," ","akaqarsia","167",167,"ἀκαθαρσία",true,true,true,"38","*καθαρ","immorality, uncleanness","Ah-kath-","Noun  ","ἡ"," "," "," ","167",105,105,"38","ἡ ἀκαθαρσία","*καθαρ","immorality, uncleanness","Ah-kath-","Noun  ","ἡ "," "," ","ἡ "," ","167",105,105,"38","Noun  ","ἡ ἀκαθαρσία"," "," ","*καθαρ","Ah-kath-","immorality, uncleanness","ἡ ἀκαθαρσία","Chapter 38: Noun  "," ","167",false,5105,118," "," "," ",105,""," ","  "," ",false,5105,109," "," "," ",105,""," "," "," ",false,5105,224,105,""," "," ","σός [your, of you (masculine)]"]
[null,null,null,null,null,null,null,null,null,null,null,null,null,null,null,null,null,null,null,null,null,null,null,null,null,null,null,null,null,null,106,38,"ἀκαθαρτος","*καθαρ","unclean, impure","ah-kah-thar-toss","Adjective"," "," "," ","  ","akaqartos","169",169,"ἀκαθαρτος",true,true,true,38,"*καθαρ","unclean, impure","ah-kah-thar-toss","Adjective"," "," "," ","  ","169",106,106,38,"ἀκαθαρτος","*καθαρ","unclean, impure","ah-kah-thar-toss","Adjective",""," "," ","","  ","169",106,106,38,"Adjective","ἀκαθαρτος"," "," ","*καθαρ","ah-kah-thar-toss","unclean, impure","ἀκαθαρτος","Index of Textbook: Adjective","  ","169",false,5106,119," "," "," ",106,""," ","  "," ",false,5106,110," "," "," ",106,""," "," "," ",false,5106,225,106,""," "," ","σή [your, of you (feminine)]"]
[null,null,null,null,null,null,null,null,null,null,null,null,null,null,null,null,null,null,null,null,null,null,null,null,null,null,null,null,null,null,107,"38","ἄκανθα"," ","thorn, thorny plant","AH-kahn-thah","Noun  ","ἡ"," "," "," ","akanqa","173",173,"ἄκανθα",true,true,true,"38"," ","thorn, thorny plant","AH-kahn-thah","Noun  ","ἡ"," "," "," ","173",107,107,"38","ἡ ἄκανθα"," ","thorn, thorny plant","AH-kahn-thah","Noun  ","ἡ "," "," ","ἡ "," ","173",107,107,"38","Noun  ","ἡ ἄκανθα"," "," "," ","AH-kahn-thah","thorn, thorny plant","ἡ ἄκανθα","Chapter 38: Noun  "," ","173",false,5107,120," "," "," ",107,""," ","  "," ",false,5107,111," "," "," ",107,""," "," "," ",false,5107,226,107,""," "," ","σόν [your, of you (neuter)]"]
[null,null,null,null,null,null,null,null,null,null,null,null,null,null,null,null,null,null,null,null,null,null,null,null,null,null,null,null,null,null,108,38,"ἀκοή"," ","hearing, report","ah-ko-ay","Noun  ","ἡ"," "," ","  ","akoh","189",189,"ἀκοή",true,true,true,38," ","hearing, report","ah-ko-ay","Noun  ","ἡ"," "," ","  ","189",108,108,38,"ἡ ἀκοή"," ","hearing, report","ah-ko-ay","Noun  ","ἡ "," "," ","ἡ ","  ","189",108,108,38,"Noun  ","ἡ ἀκοή"," "," "," ","ah-ko-ay","hearing, report","ἡ ἀκοή","Index of Textbook: Noun  ","  ","189",false,5108,121," "," "," ",108,""," ","  "," ",false,5108,112," "," "," ",108,""," "," "," ",false,5108,227,108,""," "," ","σοι [to you (dative singular)]"]
[null,null,null,null,null,null,null,null,null,null,null,null,null,null,null,null,null,null,null,null,null,null,null,null,null,null,null,null,null,null,109,"21","ἀκολουθέω","*ἀκολουθε","I follow, I accompany","ah-koll-oo-THEH-owe","Verb  "," ","ἠκολούθουν","ἀκολουθήσω","ἠκολούθησα","akolouqew hkolouqoun akolouqhsw hkolouqhsa","190",190,"ἀκολουθέω",true,true,true,"21","*ἀκολουθε","I follow, I accompany","ah-koll-oo-THEH-owe","Verb  "," ","ἠκολούθουν","ἀκολουθήσω","ἠκολούθησα","190",109,109,"21","ἀκολουθέω","*ἀκολουθε","I follow, I accompany","ah-koll-oo-THEH-owe","Verb  ","","ἠκολούθουν","ἀκολουθήσω","","ἠκολούθησα","190",109,109,"21","Verb  ","ἀκολουθέω","ἠκολούθουν","ἀκολουθήσω","*ἀκολουθε","ah-koll-oo-THEH-owe","I follow, I accompany","ἀκολουθέω","Chapter 21: Verb  ","ἠκολούθησα","190",true,109,1,"ἀκολουθέω","I follow, I accompany"," [Chap. 21]",109,""," ","  "," ",false,5109,113," "," "," ",109,""," "," "," ",false,5109,228,109,""," "," ","σου [your/of you (genitive singular)]"]
[null,null,null,null,null,null,null,null,null,null,null,null,null,null,null,null,null,null,null,null,null,null,null,null,null,null,null,null,null,null,110,"16","ἀκούω","*ἀκου","I hear, I learn, I obey, I understand","ah-KOO-owe","Verb  "," ","ἤκουον","ἀκούσω","ἤκουσα","akouw hkouov akousw hkousa","191",191,"ἀκούω",true,true,true,"16","*ἀκου","I hear, I learn, I obey, I understand","ah-KOO-owe","Verb  "," ","ἤκουον","ἀκούσω","ἤκουσα","191",110,110,"16","ἀκούω","*ἀκου","I hear, I learn, I obey, I understand","ah-KOO-owe","Verb  ","","ἤκουον","ἀκούσω","","ἤκουσα","191",110,110,"16","Verb  ","ἀκούω","ἤκουον","ἀκούσω","*ἀκου","ah-KOO-owe","I hear, I learn, I obey, I understand","ἀκούω","Chapter 16: Verb  ","ἤκουσα","191",false,5110,122," "," "," ",110,""," ","  "," ",false,5110,114," "," "," ",110,""," "," "," ",false,5110,229,110,""," "," ","τέ [so, and so]"]
[null,null,null,null,null,null,null,null,null,null,null,null,null,null,null,null,null,null,null,null,null,null,null,null,null,null,null,null,null,null,111,38,"ἀκροβυστία"," ","uncircumcision","ahk-row-boost-EE-ah","Noun  ","ἡ"," "," ","  ","akrobustia","203",203,"ἀκροβυστία",true,true,true,38," ","uncircumcision","ahk-row-boost-EE-ah","Noun  ","ἡ"," "," ","  ","203",111,111,38,"ἡ ἀκροβυστία"," ","uncircumcision","ahk-row-boost-EE-ah","Noun  ","ἡ "," "," ","ἡ ","  ","203",111,111,38,"Noun  ","ἡ ἀκροβυστία"," "," "," ","ahk-row-boost-EE-ah","uncircumcision","ἡ ἀκροβυστία","Index of Textbook: Noun  ","  ","203",false,5111,123," "," "," ",111,""," ","  "," ",false,5111,115," "," "," ",111,""," "," "," ",false,5111,230,111,""," "," ","τις [someone, something, anyone, anything (nominative, singular, masculine or feminine)]"]
[null,null,null,null,null,null,null,null,null,null,null,null,null,null,null,null,null,null,null,null,null,null,null,null,null,null,null,null,null,null,112,38,"ἀλέκτωρ"," ","rooster","ah-LEK-torr","Noun  ","ἡ"," "," ","  ","alektwr","220",220,"ἀλέκτωρ",true,true,true,38," ","rooster","ah-LEK-torr","Noun  ","ἡ"," "," ","  ","220",112,112,38,"ἡ ἀλέκτωρ"," ","rooster","ah-LEK-torr","Noun  ","ἡ "," "," ","ἡ ","  ","220",112,112,38,"Noun  ","ἡ ἀλέκτωρ"," "," "," ","ah-LEK-torr","rooster","ἡ ἀλέκτωρ","Index of Textbook: Noun  ","  ","220",false,5112,124," "," "," ",112,""," ","  "," ",false,5112,116," "," "," ",112,""," "," "," ",false,5112,231,112,""," "," ","τι [someone, something, anyone, anything (nominative or accusative, singular, neuter)]"]
[null,null,null,null,null,null,null,null,null,null,null,null,null,null,null,null,null,null,null,null,null,null,null,null,null,null,null,null,null,null,113,"14","ἀλήθεια","*αληθεια","truth","ah-LAY-thee-ah","Noun  ","ἡ"," "," ","  ","alhqeia","225",225,"ἀλήθεια",true,true,true,"14","*αληθεια","truth","ah-LAY-thee-ah","Noun  ","ἡ"," "," ","  ","225",113,113,"14","ἡ ἀλήθεια","*αληθεια","truth","ah-LAY-thee-ah","Noun  ","ἡ "," "," ","ἡ ","  ","225",113,113,"14","Noun  ","ἡ ἀλήθεια"," "," ","*αληθεια","ah-LAY-thee-ah","truth","ἡ ἀλήθεια","Chapter 14: Noun  ","  ","225",false,5113,125," "," "," ",113,""," ","  "," ",false,5113,117," "," "," ",113,""," "," "," ",false,5113,232,113,""," "," ","τίς [who? what? which? (nominative, singular, masculine or feminine)]"]
[null,null,null,null,null,null,null,null,null,null,null,null,null,null,null,null,null,null,null,null,null,null,null,null,null,null,null,null,null,null,114,38,"ἀληθής","*ἀληθεια","true, truthful","ah-lay-THACE","Adjective"," "," "," ","  ","alhqhs","227",227,"ἀληθής",true,true,true,38,"*ἀληθεια","true, truthful","ah-lay-THACE","Adjective"," "," "," ","  ","227",114,114,38,"ἀληθής","*ἀληθεια","true, truthful","ah-lay-THACE","Adjective",""," "," ","","  ","227",114,114,38,"Adjective","ἀληθής"," "," ","*ἀληθεια","ah-lay-THACE","true, truthful","ἀληθής","Index of Textbook: Adjective","  ","227",false,5114,126," "," "," ",114,""," ","  "," ",false,5114,118," "," "," ",114,""," "," "," ",false,5114,233,114,""," "," ","τί [why? who? what? which? (nominative or accusative, singular, neuter)]"]
[null,null,null,null,null,null,null,null,null,null,null,null,null,null,null,null,null,null,null,null,null,null,null,null,null,null,null,null,null,null,115,38,"ἀληθινός","*ἀληθεια","true, genuine","ah-lay-thin-OSS","Adjective"," "," "," ","  ","alhqinos","228",228,"ἀληθινός",true,true,true,38,"*ἀληθεια","true, genuine","ah-lay-thin-OSS","Adjective"," "," "," ","  ","228",115,115,38,"ἀληθινός","*ἀληθεια","true, genuine","ah-lay-thin-OSS","Adjective",""," "," ","","  ","228",115,115,38,"Adjective","ἀληθινός"," "," ","*ἀληθεια","ah-lay-thin-OSS","true, genuine","ἀληθινός","Index of Textbook: Adjective","  ","228",false,5115,127," "," "," ",115,""," ","  "," ",false,5115,119," "," "," ",115,""," "," "," ",false,5115,234,115,""," "," ","τοι [assuredly, certainly (particle)]"]
[null,null,null,null,null,null,null,null,null,null,null,null,null,null,null,null,null,null,null,null,null,null,null,null,null,null,null,null,null,null,116,38,"ἀληθῶς","*ἀληθεια","truly","ah-lay-THOCE","Adverb"," "," "," ","  ","alhqws","230",230,"ἀληθῶς",true,true,true,38,"*ἀληθεια","truly","ah-lay-THOCE","Adverb"," "," "," ","  ","230",116,116,38,"ἀληθῶς","*ἀληθεια","truly","ah-lay-THOCE","Adverb",""," "," ","","  ","230",116,116,38,"Adverb","ἀληθῶς"," "," ","*ἀληθεια","ah-lay-THOCE","truly","ἀληθῶς","Index of Textbook: Adverb","  ","230",false,5116,128," "," "," ",116,""," ","  "," ",false,5116,120," "," "," ",116,""," "," "," ",false,5116,235,116,""," "," ","ἔφη [he/she/it said/was saying/was affirming (3rd person singular)]"]
[null,null,null,null,null,null,null,null,null,null,null,null,null,null,null,null,null,null,null,null,null,null,null,null,null,null,null,null,null,null,117,"08","ἀλλά"," ","but, yet, rather (particle)","ahl-LAH","Conjunction"," "," "," ","  ","alla","235",235,"ἀλλά",true,true,true,"08"," ","but, yet, rather (particle)","ahl-LAH","Conjunction"," "," "," ","  ","235",117,117,"08","ἀλλά"," ","but, yet, rather (particle)","ahl-LAH","Conjunction",""," "," ","","  ","235",117,117,"08","Conjunction","ἀλλά"," "," "," ","ahl-LAH","but, yet, rather (particle)","ἀλλά","Chapter 08: Conjunction","  ","235",false,5117,129," "," "," ",117,""," ","  "," ",false,5117,121," "," "," ",117,""," "," "," ",false,5117,236,117,""," "," ","τό φῶς [light]"]
[null,null,null,null,null,null,null,null,null,null,null,null,null,null,null,null,null,null,null,null,null,null,null,null,null,null,null,null,null,null,118,"09","ἀλλήλωη","*ἀλληλο","one another [genitive plural…]","ahl-LAY-low-ay","Noun  ","ἡ"," "," ","  ","allhlwn","240",240,"ἀλλήλωη",true,true,true,"09","*ἀλληλο","one another [genitive plural…]","ahl-LAY-low-ay","Noun  ","ἡ"," "," ","  ","240",118,118,"09","ἡ ἀλλήλωη","*ἀλληλο","one another [genitive plural…]","ahl-LAY-low-ay","Noun  ","ἡ "," "," ","ἡ ","  ","240",118,118,"09","Noun  ","ἡ ἀλλήλωη"," "," ","*ἀλληλο","ahl-LAY-low-ay","one another [genitive plural…]","ἡ ἀλλήλωη","Chapter 09: Noun  ","  ","240",false,5118,130," "," "," ",118,""," ","  "," ",false,5118,122," "," "," ",118,""," "," "," ",false,5118,237,118,""," "," ","ὦ [oh!]"]
[null,null,null,null,null,null,null,null,null,null,null,null,null,null,null,null,null,null,null,null,null,null,null,null,null,null,null,null,null,null,119,"06","ἄλλος","*ἀλλο","other, another","ALL-oss","Pronoun"," "," "," ","  ","allos","243",243,"ἄλλος",true,true,true,"06","*ἀλλο","other, another","ALL-oss","Pronoun"," "," "," ","  ","243",119,119,"06","ἄλλος","*ἀλλο","other, another","ALL-oss","Pronoun",""," "," ","","  ","243",119,119,"06","Pronoun","ἄλλος"," "," ","*ἀλλο","ALL-oss","other, another","ἄλλος","Chapter 06: Pronoun","  ","243",false,5119,131," "," "," ",119,""," ","  "," ",false,5119,123," "," "," ",119,""," "," "," ",false,5119,238,119,""," "," ","ὧδε [here]"]
[null,null,null,null,null,null,null,null,null,null,null,null,null,null,null,null,null,null,null,null,null,null,null,null,null,null,null,null,null,null,120,"38","ἀλλότριος","*ἀλλο","strange, not one's own","ahl-LOT-ree-oss","Adjective"," "," "," ","  ","allotrios","245",245,"ἀλλότριος",true,true,true,"38","*ἀλλο","strange, not one's own","ahl-LOT-ree-oss","Adjective"," "," "," ","  ","245",120,120,"38","ἀλλότριος","*ἀλλο","strange, not one's own","ahl-LOT-ree-oss","Adjective",""," "," ","","  ","245",120,120,"38","Adjective","ἀλλότριος"," "," ","*ἀλλο","ahl-LOT-ree-oss","strange, not one's own","ἀλλότριος","Chapter 38: Adjective","  ","245",false,5120,132," "," "," ",120,""," ","  "," ",false,5120,124," "," "," ",120,""," "," "," ",false,5120,239,120,""," "," ","ἡ ὥρα [hour, occasion, moment]"]
[null,null,null,null,null,null,null,null,null,null,null,null,null,null,null,null,null,null,null,null,null,null,null,null,null,null,null,null,null,null,121,"38","ἅλυσις"," ","chain","HAH-loo-sis","Noun  ","ἡ"," "," "," ","alusis","254",254,"ἅλυσις",true,true,true,"38"," ","chain","HAH-loo-sis","Noun  ","ἡ"," "," "," ","254",121,121,"38","ἡ ἅλυσις"," ","chain","HAH-loo-sis","Noun  ","ἡ "," "," ","ἡ "," ","254",121,121,"38","Noun  ","ἡ ἅλυσις"," "," "," ","HAH-loo-sis","chain","ἡ ἅλυσις","Chapter 38: Noun  "," ","254",false,5121,133," "," "," ",121,""," ","  "," ",false,5121,125," "," "," ",121,""," "," "," ",false,5121,240,121,""," "," ","ὡς [as, like, that, when, after, approximately]"]
[null,null,null,null,null,null,null,null,null,null,null,null,null,null,null,null,null,null,null,null,null,null,null,null,null,null,null,null,null,null,122,38,"ἅμα"," ","together with [dative]","HA-mah","Preposition"," "," "," ","  ","ama","260",260,"ἅμα",true,true,true,38," ","together with [dative]","HA-mah","Preposition"," "," "," ","  ","260",122,122,38,"ἅμα"," ","together with [dative]","HA-mah","Preposition",""," "," ","","  ","260",122,122,38,"Preposition","ἅμα"," "," "," ","HA-mah","together with [dative]","ἅμα","Index of Textbook: Preposition","  ","260",false,5122,134," "," "," ",122,""," ","  "," ",false,5122,126," "," "," ",122,""," "," "," ",true,122,3,122,"","ἅμα","together with [dative]"," "]
[null,null,null,null,null,null,null,null,null,null,null,null,null,null,null,null,null,null,null,null,null,null,null,null,null,null,null,null,null,null,123,38,"ἅμα"," ","at the same time","HA-mah","Adverb"," "," "," ","  ","ama","260",260.10000000000002,"ἅμα",true,true,true,38," ","at the same time","HA-mah","Adverb"," "," "," ","  ","260",123,123,38,"ἅμα"," ","at the same time","HA-mah","Adverb",""," "," ","","  ","260",123,123,38,"Adverb","ἅμα"," "," "," ","HA-mah","at the same time","ἅμα","Index of Textbook: Adverb","  ","260",false,5123,135," "," "," ",123,""," ","  "," ",false,5123,127," "," "," ",123,""," "," "," ",true,123,4,123,"","ἅμα","at the same time"," "]
[null,null,null,null,null,null,null,null,null,null,null,null,null,null,null,null,null,null,null,null,null,null,null,null,null,null,null,null,null,null,124,"35","ἁμαρτάνω","*ἁμαρτ","I sin","ham-art-AH-noe","Verb  "," ","-","ἁμαρτήσω","ἡμάρτησα","amartanw amarthsw hmarthsa","264",264,"ἁμαρτάνω",true,true,true,"35","*ἁμαρτ","I sin","ham-art-AH-noe","Verb  "," ","-","ἁμαρτήσω","ἡμάρτησα","264",124,124,"35","ἁμαρτάνω","*ἁμαρτ","I sin","ham-art-AH-noe","Verb  ","","-","ἁμαρτήσω","","ἡμάρτησα","264",124,124,"35","Verb  ","ἁμαρτάνω","-","ἁμαρτήσω","*ἁμαρτ","ham-art-AH-noe","I sin","ἁμαρτάνω","Chapter 35: Verb  ","ἡμάρτησα","264",false,5124,136," "," "," ",124,""," ","  "," ",false,5124,128," "," "," ",124,""," "," "," ",false,5124,241,124,""," "," "," "]
[null,null,null,null,null,null,null,null,null,null,null,null,null,null,null,null,null,null,null,null,null,null,null,null,null,null,null,null,null,null,125,"07","ἁμαρτία","*ἁμαρτια","sin","ha-mar-TEE-ah","Noun  ","ἡ"," "," ","  ","amartia","266",266,"ἁμαρτία",true,true,true,"07","*ἁμαρτια","sin","ha-mar-TEE-ah","Noun  ","ἡ"," "," ","  ","266",125,125,"07","ἡ ἁμαρτία","*ἁμαρτια","sin","ha-mar-TEE-ah","Noun  ","ἡ "," "," ","ἡ ","  ","266",125,125,"07","Noun  ","ἡ ἁμαρτία"," "," ","*ἁμαρτια","ha-mar-TEE-ah","sin","ἡ ἁμαρτία","Chapter 07: Noun  ","  ","266",false,5125,137," "," "," ",125,""," ","  "," ",false,5125,129," "," "," ",125,""," "," "," ",false,5125,242,125,""," "," "," "]
[null,null,null,null,null,null,null,null,null,null,null,null,null,null,null,null,null,null,null,null,null,null,null,null,null,null,null,null,null,null,126,"35","ἁμαρτωλός [noun]","*ἁμαρτωλο","sinner","ham-arr-toe-LOSS","Noun  ","ὁ"," "," ","  ","amartwlos","268",268,"ἁμαρτωλός [noun]",true,true,true,"35","*ἁμαρτωλο","sinner","ham-arr-toe-LOSS","Noun  ","ὁ"," "," ","  ","268",126,126,"35","ὁ ἁμαρτωλός [noun]","*ἁμαρτωλο","sinner","ham-arr-toe-LOSS","Noun  ","ὁ "," "," ","ὁ ","  ","268",126,126,"35","Noun  ","ὁ ἁμαρτωλός [noun]"," "," ","*ἁμαρτωλο","ham-arr-toe-LOSS","sinner","ὁ ἁμαρτωλός [noun]","Chapter 35: Noun  ","  ","268",false,5126,138," "," "," ",126,""," ","  "," ",false,5126,130," "," "," ",126,""," "," "," ",false,5126,243,126,""," "," "," "]
[null,null,null,null,null,null,null,null,null,null,null,null,null,null,null,null,null,null,null,null,null,null,null,null,null,null,null,null,null,null,127,"35","ἁμαρτωλός [adjective]","*ἁμαρτωλο","sinful","ham-arr-toe-LOSS","Adjective"," "," "," ","  ","amartwlos","268",268.10000000000002,"ἁμαρτωλός [adjective]",true,true,true,"35","*ἁμαρτωλο","sinful","ham-arr-toe-LOSS","Adjective"," "," "," ","  ","268",127,127,"35","ἁμαρτωλός [adjective]","*ἁμαρτωλο","sinful","ham-arr-toe-LOSS","Adjective",""," "," ","","  ","268",127,127,"35","Adjective","ἁμαρτωλός [adjective]"," "," ","*ἁμαρτωλο","ham-arr-toe-LOSS","sinful","ἁμαρτωλός [adjective]","Chapter 35: Adjective","  ","268",false,5127,139," "," "," ",127,""," ","  "," ",false,5127,131," "," "," ",127,""," "," "," ",false,5127,244,127,""," "," "," "]
[null,null,null,null,null,null,null,null,null,null,null,null,null,null,null,null,null,null,null,null,null,null,null,null,null,null,null,null,null,null,128,"04","ἀμῄν"," ","truly, amen, let it be so","ah-MANE","Adverb"," "," "," ","  ","amhn","281",281,"ἀμῄν",true,true,true,"04"," ","truly, amen, let it be so","ah-MANE","Adverb"," "," "," ","  ","281",128,128,"04","ἀμῄν"," ","truly, amen, let it be so","ah-MANE","Adverb",""," "," ","","  ","281",128,128,"04","Adverb","ἀμῄν"," "," "," ","ah-MANE","truly, amen, let it be so","ἀμῄν","Chapter 04: Adverb","  ","281",false,5128,140," "," "," ",128,""," ","  "," ",false,5128,132," "," "," ",128,""," "," "," ",false,5128,245,128,""," "," "," "]
[null,null,null,null,null,null,null,null,null,null,null,null,null,null,null,null,null,null,null,null,null,null,null,null,null,null,null,null,null,null,129,38,"ἀμπελών"," ","vineyard","ahm-pell-OWN","Noun  ","ὁ"," "," ","  ","ampelwn","290",290,"ἀμπελών",{"$f":"IF(ISERR(FIND(AF132,$Y$22,1)),FALSE,TRUE)","v":true},true,true,38," ","vineyard","ahm-pell-OWN","Noun  ","ὁ"," "," ","  ","290",{"$f":"IF(AV132,AE132,AE132+5000)","v":129},{"$f":"RANK(BG132,BG$4:BG$2003,1)","v":129},38,{"$f":"IF($AV132,BO132&AG132,\" \")","v":"ὁ ἀμπελών"}," ","vineyard","ahm-pell-OWN","Noun  ","ὁ "," "," ","ὁ ","  ","290",129,{"$f":"IF(BU132<=BJ$2,MATCH(BU132,BH$4:BH$2003,0),\"\")","v":129},{"$f":"VLOOKUP($BU132,BH$4:BQ$2003,2,0)","v":38},{"$f":"VLOOKUP($BU132,BH$4:BQ$2003,7,0)","v":"Noun  "},{"$f":"VLOOKUP($BU132,BH$4:BQ$2003,3,0)","v":"ὁ ἀμπελών"},{"$f":"VLOOKUP($BU132,BH$4:BQ$2003,9,0)","v":" "},{"$f":"VLOOKUP($BU132,BH$4:BQ$2003,10,0)","v":" "},{"$f":"VLOOKUP($BU132,BH$4:BQ$2003,4,0)","v":" "},{"$f":"VLOOKUP($BU132,BH$4:BQ$2003,6,0)","v":"ahm-pell-OWN"},{"$f":"VLOOKUP($BU132,BH$4:BQ$2003,5,0)","v":"vineyard"},{"$f":"IF(AC$8,BY132,VLOOKUP($BU132,BH$4:BR$2003,11,0)&BY132)","v":"ὁ ἀμπελών"},"Index of Textbook: Noun  ",{"$f":"VLOOKUP($BU132,BH$4:BS$2003,12,0)","v":"  "},{"$f":"VLOOKUP($BU132,BH$4:BT$2003,13,0)","v":"290"},false,{"$f":"IF(CI132,AE132,AE132+5000)","v":5129},{"$f":"RANK(CJ132,CJ$4:CJ$2003,1)","v":141},{"$f":"IF($CI132,IF(BB132=\" \",\"\",BB132&\" \")&AG132,\" \")","v":" "}," "," ",129,{"$f":"IF(CO132<=CP$2,MATCH(CO132,CK$4:CK$2003,0),\"\")","v":""},{"$f":"VLOOKUP($CO132,CK$4:CM$2003,2,0)","v":" "},{"$f":"VLOOKUP($CO132,CK$4:CN$2003,3,0)&VLOOKUP($CO132,CK$4:CN$2003,4,0)","v":"  "}," ",{"$f":"IF(ISERR(FIND(CW$2,AP132,1)),FALSE, TRUE)","v":false},{"$f":"IF(CT132,AE132,AE132+5000)","v":5129},{"$f":"RANK(CU132,CU$4:CU$2003,1)","v":133},{"$f":"IF($CT132,IF(AH132=\" \",\"\",\" [\"&AH132&\"]\"),\" \")","v":" "},{"$f":"IF($CT132,IF(AK132=\"Noun  \",\"Noun\",IF(AK132=\"Verb  \",\"Verb\",AK132)),\" \")","v":" "}," ",129,{"$f":"IF(CZ132<=DA$2,MATCH(CZ132,CV$4:CV$2003,0),\"\")","v":""},{"$f":"VLOOKUP($CZ132,CV$4:CY$2003,4,0)","v":" "}," "," ",{"$f":"IF(AND(LEN(AG132)<=DF$2,AG132<>\" \"),TRUE,FALSE)","v":false},{"$f":"IF(DE132,AE132,AE132+5000)","v":5129},{"$f":"RANK(DF132,DF$4:DF$2003,1)","v":246},129,{"$f":"IF(DH132<=DA$2,MATCH(DH132,DG$4:DG$2003,0),\"\")","v":""},{"$f":"IF($DE132,IF(BB132=\" \",\"\",BB132&\" \")&AG132,\" \")","v":" "}," ",{"$f":"IF($DH132<=$DI$2,VLOOKUP($DH132,DG$4:DK$2003,4,0)&\" [\" &VLOOKUP($DH132,DG$4:DK$2003,5,0) &\"]\",\" \")","v":" "}]
[null,null,null,null,null,null,null,null,null,null,null,null,null,null,null,null,null,null,null,null,null,null,null,null,null,null,null,null,null,null,130,38,"ἀμφότεροι"," ","both","ahm-FOT-er-oy","Adjective"," "," "," ","  ","amfoteroi","297",297,{"$f":"IF(AG133=\"\",\"\",AG133)","v":"ἀμφότεροι"},true,{"$f":"IF(ISERR(FIND(AK133,$Y$23,1)),FALSE,TRUE)","v":true},{"$f":"AND(AT133,AU133)","v":true},{"$f":"IF(AC$3,AF133,\" \")","v":38},{"$f":"IF(AC$4,AH133,\" \")","v":" "},{"$f":"IF(TRUE,AI133,\" \")","v":"both"},{"$f":"IF(AC$6,AJ133,\" \")","v":"ahm-FOT-er-oy"},{"$f":"IF(AC$7,AK133,\" \")","v":"Adjective"},{"$f":"IF(AC$8,AL133,\" \")","v":" "},{"$f":"IF(AC$9,AM133,\" \")","v":" "},{"$f":"IF(AC$10,AN133,\" \")","v":" "},{"$f":"IF(AC$9,AO133,\" \")","v":"  "},{"$f":"IF(AC$12,AQ133,\" \")","v":"297"},130,130,38,"ἀμφότεροι"," ","both","ahm-FOT-er-oy","Adjective",""," "," ",{"$f":"IF($AV133,IF(AL133=\" \",\"\",AL133&\" \"),\"\")","v":""},{"$f":"IF($AV133,BE133,\" \")","v":"  "},"297",130,130,38,"Adjective","ἀμφότεροι"," "," "," ","ahm-FOT-er-oy","both","ἀμφότεροι",{"$f":"IF(BV133=\"\",\"\",IF(BW133=\"37\",\"Extra\", IF(BW133=38, \"Index of Textbook\",\"Chapter \" &BW133))&\": \"&BX133)","v":"Index of Textbook: Adjective"},"  ","297",{"$f":"IF(ISERR(SEARCH(CL$2,AY133,1)),FALSE, TRUE)","v":false},5130,142," ",{"$f":"IF($CI133,AY133,\" \")","v":" "},{"$f":"IF($CI133,IF(AW133=\"37\",\" [Extra]\",IF(AW133=\"38\",\" [Index]\",  \" [Chap. \"&TEXT(VALUE(AW133),\"#\")&\"]\")),\" \")","v":" "},130,""," ","  "," ",false,5130,134," "," ",{"$f":"IF($CT133,IF(BB133=\" \",\"\",BB133&\" \")&AG133&CW133&\": \"&AY133&  IF(AF133=\"37\",\"  (Extra\",IF(AF133=\"38\",\"  (Index\",\"  (Chapter \"&TEXT(AF133,\"#\"))) &\", \"&CX133& IF(LEN(AM133)>1,\" [\"&AM133&\"]\",\"\") &IF(LEN(AN133)>1,\" [\"&AN133&\"]\",\"\")         &\")\",\" \")","v":" "},130,""," "," "," ",false,5130,247,130,""," ",{"$f":"IF($DE133,AY133,\" \")","v":" "}," "]
[null,null,null,null,null,null,null,null,null,null,null,null,null,null,null,null,null,null,null,null,null,null,null,null,null,null,null,null,null,null,131,"14","ἄν"," ","modifies relative pronoun (\"who\" becomes \"whoever\") (particle)","AHN","Pronoun"," "," "," ","  ","an","302",302,"ἄν",true,true,true,"14"," ","modifies relative pronoun (\"who\" becomes \"whoever\") (particle)","AHN","Pronoun"," "," "," ","  ","302",131,131,"14","ἄν"," ","modifies relative pronoun (\"who\" becomes \"whoever\") (particle)","AHN","Pronoun",""," "," ","","  ","302",131,131,"14","Pronoun","ἄν"," "," "," ","AHN","modifies relative pronoun (\"who\" becomes \"whoever\") (particle)","ἄν","Chapter 14: Pronoun","  ","302",false,5131,143," "," "," ",131,""," ","  "," ",false,5131,135," "," "," ",131,""," "," "," ",true,131,5,131,"","ἄν","modifies relative pronoun (\"who\" becomes \"whoever\") (particle)"," "]
[null,null,null,null,null,null,null,null,null,null,null,null,null,null,null,null,null,null,null,null,null,null,null,null,null,null,null,null,null,null,132,"11","-ἄν"," ","ending that changes \"what\" to \"whatever\"","AHN","Noun Ending"," "," "," ","  ","an","302",302.10000000000002,"-ἄν",true,true,true,"11"," ","ending that changes \"what\" to \"whatever\"","AHN","Noun Ending"," "," "," ","  ","302",132,132,"11","-ἄν"," ","ending that changes \"what\" to \"whatever\"","AHN","Noun Ending",""," "," ","","  ","302",132,132,"11","Noun Ending","-ἄν"," "," "," ","AHN","ending that changes \"what\" to \"whatever\"","-ἄν","Chapter 11: Noun Ending","  ","302",false,5132,144," "," "," ",132,""," ","  "," ",false,5132,136," "," "," ",132,""," "," "," ",true,132,6,132,"","-ἄν","ending that changes \"what\" to \"whatever\""," "]
[null,null,null,null,null,null,null,null,null,null,null,null,null,null,null,null,null,null,null,null,null,null,null,null,null,null,null,null,null,null,133,38,"ἀνά"," ","among, between, each","ah-NA","Preposition"," "," "," ","  ","ana","303",303,"ἀνά",true,true,true,38," ","among, between, each","ah-NA","Preposition"," "," "," ","  ","303",133,133,38,"ἀνά"," ","among, between, each","ah-NA","Preposition",""," "," ","","  ","303",133,133,38,"Preposition","ἀνά"," "," "," ","ah-NA","among, between, each","ἀνά","Index of Textbook: Preposition","  ","303",false,5133,145," "," "," ",133,""," ","  "," ",false,5133,137," "," "," ",133,""," "," "," ",true,133,7,133,"","ἀνά","among, between, each"," "]
[null,null,null,null,null,null,null,null,null,null,null,null,null,null,null,null,null,null,null,null,null,null,null,null,null,null,null,null,null,null,134,"27","ἀναβαίνω","*ἀνα + *βα","I go up","ah-nah-BYE-noe","Verb  "," ","ἀνέβαινον","ἀναβήσομαι","ἀνέβην","anabainw anebainon anabhsomai anebhn","305",305,"ἀναβαίνω",true,true,true,"27","*ἀνα + *βα","I go up","ah-nah-BYE-noe","Verb  "," ","ἀνέβαινον","ἀναβήσομαι","ἀνέβην","305",134,134,"27","ἀναβαίνω","*ἀνα + *βα","I go up","ah-nah-BYE-noe","Verb  ","","ἀνέβαινον","ἀναβήσομαι","","ἀνέβην","305",134,134,"27","Verb  ","ἀναβαίνω","ἀνέβαινον","ἀναβήσομαι","*ἀνα + *βα","ah-nah-BYE-noe","I go up","ἀναβαίνω","Chapter 27: Verb  ","ἀνέβην","305",false,5134,146," "," "," ",134,""," ","  "," ",false,5134,138," "," "," ",134,""," "," "," ",false,5134,248,134,""," "," "," "]
[null,null,null,null,null,null,null,null,null,null,null,null,null,null,null,null,null,null,null,null,null,null,null,null,null,null,null,null,null,null,135,38,"ἀναβλέπω","*βλεπ","I look up, I receive sight","ah-NA-BLEPP-owe","Verb  "," ","-","-","ἀνέβλεψα","anablepw anebleya","308",308,"ἀναβλέπω",true,true,true,38,"*βλεπ","I look up, I receive sight","ah-NA-BLEPP-owe","Verb  "," ","-","-","ἀνέβλεψα","308",135,135,38,"ἀναβλέπω","*βλεπ","I look up, I receive sight","ah-NA-BLEPP-owe","Verb  ","","-","-","","ἀνέβλεψα","308",135,135,38,"Verb  ","ἀναβλέπω","-","-","*βλεπ","ah-NA-BLEPP-owe","I look up, I receive sight","ἀναβλέπω","Index of Textbook: Verb  ","ἀνέβλεψα","308",false,5135,147," "," "," ",135,""," ","  "," ",false,5135,139," "," "," ",135,""," "," "," ",false,5135,249,135,""," "," "," "]
[null,null,null,null,null,null,null,null,null,null,null,null,null,null,null,null,null,null,null,null,null,null,null,null,null,null,null,null,null,null,136,"38","ἀναγγέλλω"," ","I proclaim, I announce, I report","ah-nang-ELL-owe","Verb  "," ","ἀνήγγελλον","ἀναγγελῶ","ἀνήγγειλα","Anaggellw anhggellon anaggelw anhggeila","312",312,"ἀναγγέλλω",true,true,true,"38"," ","I proclaim, I announce, I report","ah-nang-ELL-owe","Verb  "," ","ἀνήγγελλον","ἀναγγελῶ","ἀνήγγειλα","312",136,136,"38","ἀναγγέλλω"," ","I proclaim, I announce, I report","ah-nang-ELL-owe","Verb  ","","ἀνήγγελλον","ἀναγγελῶ","","ἀνήγγειλα","312",136,136,"38","Verb  ","ἀναγγέλλω","ἀνήγγελλον","ἀναγγελῶ"," ","ah-nang-ELL-owe","I proclaim, I announce, I report","ἀναγγέλλω","Chapter 38: Verb  ","ἀνήγγειλα","312",false,5136,148," "," "," ",136,""," ","  "," ",false,5136,140," "," "," ",136,""," "," "," ",false,5136,250,136,""," "," "," "]
[null,null,null,null,null,null,null,null,null,null,null,null,null,null,null,null,null,null,null,null,null,null,null,null,null,null,null,null,null,null,137,38,"ἀναγινώσκω","*γνω","I read","ah-nah-giin-OSE-koe","Verb  "," ","ἀνεγίνωσκον","-","ἀνέγνων","anaginwskw aneginwskon anegnwn","314",314,"ἀναγινώσκω",true,true,true,38,"*γνω","I read","ah-nah-giin-OSE-koe","Verb  "," ","ἀνεγίνωσκον","-","ἀνέγνων","314",137,137,38,"ἀναγινώσκω","*γνω","I read","ah-nah-giin-OSE-koe","Verb  ","","ἀνεγίνωσκον","-","","ἀνέγνων","314",137,137,38,"Verb  ","ἀναγινώσκω","ἀνεγίνωσκον","-","*γνω","ah-nah-giin-OSE-koe","I read","ἀναγινώσκω","Index of Textbook: Verb  ","ἀνέγνων","314",false,5137,149," "," "," ",137,""," ","  "," ",false,5137,141," "," "," ",137,""," "," "," ",false,5137,251,137,""," "," "," "]
[null,null,null,null,null,null,null,null,null,null,null,null,null,null,null,null,null,null,null,null,null,null,null,null,null,null,null,null,null,null,138,38,"ἀνάγκη"," ","necessity, pressure, distress","ah-NANG-kay","Noun  ","ἡ"," "," ","  ","anagkh","318",318,"ἀνάγκη",true,true,true,38," ","necessity, pressure, distress","ah-NANG-kay","Noun  ","ἡ"," "," ","  ","318",138,138,38,"ἡ ἀνάγκη"," ","necessity, pressure, distress","ah-NANG-kay","Noun  ","ἡ "," "," ","ἡ ","  ","318",138,138,38,"Noun  ","ἡ ἀνάγκη"," "," "," ","ah-NANG-kay","necessity, pressure, distress","ἡ ἀνάγκη","Index of Textbook: Noun  ","  ","318",false,5138,150," "," "," ",138,""," ","  "," ",false,5138,142," "," "," ",138,""," "," "," ",false,5138,252,138,""," "," "," "]
[null,null,null,null,null,null,null,null,null,null,null,null,null,null,null,null,null,null,null,null,null,null,null,null,null,null,null,null,null,null,139,38,"ἀνάγω"," ","I lead up; (middle) I put out to sea","Ah-NAH-go","Verb  "," ","-","-","ἀνήγαγον","anagw anhgagon","321",321,"ἀνάγω",true,true,true,38," ","I lead up; (middle) I put out to sea","Ah-NAH-go","Verb  "," ","-","-","ἀνήγαγον","321",139,139,38,"ἀνάγω"," ","I lead up; (middle) I put out to sea","Ah-NAH-go","Verb  ","","-","-","","ἀνήγαγον","321",139,139,38,"Verb  ","ἀνάγω","-","-"," ","Ah-NAH-go","I lead up; (middle) I put out to sea","ἀνάγω","Index of Textbook: Verb  ","ἀνήγαγον","321",false,5139,151," "," "," ",139,""," ","  "," ",false,5139,143," "," "," ",139,""," "," "," ",false,5139,253,139,""," "," "," "]
[null,null,null,null,null,null,null,null,null,null,null,null,null,null,null,null,null,null,null,null,null,null,null,null,null,null,null,null,null,null,140,38,"ἀναιρέω"," ","I destroy, I slay, I make an end","ahn-eye-REH-owe","Verb  "," ","-","ἀνελω","ἀνεῖλα","anairew anelw aneila","337",337,"ἀναιρέω",true,true,true,38," ","I destroy, I slay, I make an end","ahn-eye-REH-owe","Verb  "," ","-","ἀνελω","ἀνεῖλα","337",140,140,38,"ἀναιρέω"," ","I destroy, I slay, I make an end","ahn-eye-REH-owe","Verb  ","","-","ἀνελω","","ἀνεῖλα","337",140,140,38,"Verb  ","ἀναιρέω","-","ἀνελω"," ","ahn-eye-REH-owe","I destroy, I slay, I make an end","ἀναιρέω","Index of Textbook: Verb  ","ἀνεῖλα","337",false,5140,152," "," "," ",140,""," ","  "," ",false,5140,144," "," "," ",140,""," "," "," ",false,5140,254,140,""," "," "," "]
[null,null,null,null,null,null,null,null,null,null,null,null,null,null,null,null,null,null,null,null,null,null,null,null,null,null,null,null,null,null,141,38,"ἀνάκειμαι"," ","I recline","ah-NAH-kay-my","Verb  "," ","ἀνεκειμην","-","-","anakeimai anekeimhn","345",345,"ἀνάκειμαι",true,true,true,38," ","I recline","ah-NAH-kay-my","Verb  "," ","ἀνεκειμην","-","-","345",141,141,38,"ἀνάκειμαι"," ","I recline","ah-NAH-kay-my","Verb  ",{"$f":"IF($AV144,IF(BB144=\" \",\"\",BB144&\" \"),\"\")","v":""},"ἀνεκειμην","-","","-","345",141,141,38,"Verb  ","ἀνάκειμαι","ἀνεκειμην","-"," ","ah-NAH-kay-my","I recline","ἀνάκειμαι","Index of Textbook: Verb  ","-","345",false,5141,153," "," "," ",141,""," ","  "," ",false,5141,145," "," "," ",141,""," "," "," ",false,5141,255,141,""," "," "," "]
[null,null,null,null,null,null,null,null,null,null,null,null,null,null,null,null,null,null,null,null,null,null,null,null,null,null,null,null,null,null,142,38,"ἀνακρίνω"," ","I question, I examine","ah-nah-KREE-no","Verb  "," ","-","-","ἀνεκρινα","anakrinw anekrina","350",350,"ἀνακρίνω",true,true,true,38," ","I question, I examine","ah-nah-KREE-no","Verb  "," ","-","-","ἀνεκρινα","350",142,142,38,"ἀνακρίνω"," ","I question, I examine","ah-nah-KREE-no","Verb  ","","-","-","","ἀνεκρινα","350",142,142,38,"Verb  ","ἀνακρίνω","-","-"," ","ah-nah-KREE-no","I question, I examine","ἀνακρίνω","Index of Textbook: Verb  ","ἀνεκρινα","350",false,5142,154," "," "," ",142,""," ","  "," ",false,5142,146," "," "," ",142,""," "," "," ",false,5142,256,142,""," "," "," "]
[null,null,null,null,null,null,null,null,null,null,null,null,null,null,null,null,null,null,null,null,null,null,null,null,null,null,null,null,null,null,143,"38","ἀναλαμβάνω"," ","I take up","ahn-ah-lahm-BAHN-owe","Verb  "," "," "," ","ἀνέλαβον","analambanw anelabon","353",353,"ἀναλαμβάνω",true,true,true,"38"," ","I take up","ahn-ah-lahm-BAHN-owe","Verb  "," "," "," ","ἀνέλαβον","353",143,143,"38","ἀναλαμβάνω"," ","I take up","ahn-ah-lahm-BAHN-owe","Verb  ",""," "," ","","ἀνέλαβον","353",143,143,"38","Verb  ","ἀναλαμβάνω"," "," "," ","ahn-ah-lahm-BAHN-owe","I take up","ἀναλαμβάνω","Chapter 38: Verb  ","ἀνέλαβον","353",false,5143,155," "," "," ",143,""," ","  "," ",false,5143,147," "," "," ",143,""," "," "," ",false,5143,257,143,""," "," "," "]
[null,null,null,null,null,null,null,null,null,null,null,null,null,null,null,null,null,null,null,null,null,null,null,null,null,null,null,null,null,null,144,"38","Ἁνανίας"," ","Ananias","hah-nah-NEE-ahss","Proper Noun","ὁ"," "," "," ","ananias","367",367,"Ἁνανίας",true,true,true,"38"," ","Ananias","hah-nah-NEE-ahss","Proper Noun","ὁ"," "," "," ","367",144,144,"38","ὁ Ἁνανίας"," ","Ananias","hah-nah-NEE-ahss","Proper Noun","ὁ "," "," ","ὁ "," ","367",144,144,"38","Proper Noun","ὁ Ἁνανίας"," "," "," ","hah-nah-NEE-ahss","Ananias","ὁ Ἁνανίας","Chapter 38: Proper Noun"," ","367",false,5144,156," "," "," ",144,""," ","  "," ",false,5144,148," "," "," ",144,""," "," "," ",false,5144,258,144,""," "," "," "]
[null,null,null,null,null,null,null,null,null,null,null,null,null,null,null,null,null,null,null,null,null,null,null,null,null,null,null,null,null,null,145,"38","ἀναπαύω"," ","I give rest, I refresh, I take a rest","ah-nah-POW-owe","Verb  "," "," ","ἀναπαύσω","ἀνέπαυσα","anapauw anapausw anepausa","373",373,"ἀναπαύω",true,true,true,"38"," ","I give rest, I refresh, I take a rest","ah-nah-POW-owe","Verb  "," "," ","ἀναπαύσω","ἀνέπαυσα","373",145,145,"38","ἀναπαύω"," ","I give rest, I refresh, I take a rest","ah-nah-POW-owe","Verb  ",""," ","ἀναπαύσω","","ἀνέπαυσα","373",145,145,"38","Verb  ","ἀναπαύω"," ","ἀναπαύσω"," ","ah-nah-POW-owe","I give rest, I refresh, I take a rest","ἀναπαύω","Chapter 38: Verb  ","ἀνέπαυσα","373",false,5145,157," "," "," ",145,""," ","  "," ",false,5145,149," "," "," ",145,""," "," "," ",false,5145,259,145,""," "," "," "]
[null,null,null,null,null,null,null,null,null,null,null,null,null,null,null,null,null,null,null,null,null,null,null,null,null,null,null,null,null,null,146,"38","ἀναπίπτω"," ","I lie down, I recline","ah-nah-PIP-toe","Verb  "," "," "," ","ἀνέπεσα","anapiptw anepesa","377",377,"ἀναπίπτω",true,true,true,"38"," ","I lie down, I recline","ah-nah-PIP-toe","Verb  "," "," "," ","ἀνέπεσα","377",146,146,"38","ἀναπίπτω"," ","I lie down, I recline","ah-nah-PIP-toe","Verb  ",""," "," ","","ἀνέπεσα","377",146,146,"38","Verb  ","ἀναπίπτω"," "," "," ","ah-nah-PIP-toe","I lie down, I recline","ἀναπίπτω","Chapter 38: Verb  ","ἀνέπεσα","377",false,5146,158," "," "," ",146,""," ","  "," ",false,5146,150," "," "," ",146,""," "," "," ",false,5146,260,146,""," "," "," "]
[null,null,null,null,null,null,null,null,null,null,null,null,null,null,null,null,null,null,null,null,null,null,null,null,null,null,null,null,null,null,147,"35","ἀνάστασις","*ἀναστασι","resurrection","ahn-AH-stahss-iss","Noun  ","ἡ"," "," ","  ","anastasis","386",386,"ἀνάστασις",true,true,true,"35","*ἀναστασι","resurrection","ahn-AH-stahss-iss","Noun  ","ἡ"," "," ","  ","386",147,147,"35","ἡ ἀνάστασις","*ἀναστασι","resurrection","ahn-AH-stahss-iss","Noun  ","ἡ "," "," ","ἡ ","  ","386",147,147,"35","Noun  ","ἡ ἀνάστασις"," "," ","*ἀναστασι","ahn-AH-stahss-iss","resurrection","ἡ ἀνάστασις","Chapter 35: Noun  ","  ","386",false,5147,159," "," "," ",147,""," ","  "," ",false,5147,151," "," "," ",147,""," "," "," ",false,5147,261,147,""," "," "," "]
[null,null,null,null,null,null,null,null,null,null,null,null,null,null,null,null,null,null,null,null,null,null,null,null,null,null,null,null,null,null,148,"38","ἀναστροφή"," ","way of life, conduct, behavior","ah-nah-stroff-AY","Noun  ","ἡ"," "," "," ","anastrofh","391",391,"ἀναστροφή",true,true,true,"38"," ","way of life, conduct, behavior","ah-nah-stroff-AY","Noun  ","ἡ"," "," "," ","391",148,148,"38","ἡ ἀναστροφή"," ","way of life, conduct, behavior","ah-nah-stroff-AY","Noun  ","ἡ "," "," ","ἡ "," ","391",148,148,"38","Noun  ","ἡ ἀναστροφή"," "," "," ","ah-nah-stroff-AY","way of life, conduct, behavior","ἡ ἀναστροφή","Chapter 38: Noun  "," ","391",false,5148,160," "," "," ",148,""," ","  "," ",false,5148,152," "," "," ",148,""," "," "," ",false,5148,262,148,""," "," "," "]
[null,null,null,null,null,null,null,null,null,null,null,null,null,null,null,null,null,null,null,null,null,null,null,null,null,null,null,null,null,null,149,"38","ἀνατολή"," ","east","ah-nah-toll-AY","Noun  ","ἡ"," "," "," ","anatolh","395",395,"ἀνατολή",true,true,true,"38"," ","east","ah-nah-toll-AY","Noun  ","ἡ"," "," "," ","395",149,149,{"$f":"IF(AV152,AW152,\" \")","v":"38"},"ἡ ἀνατολή",{"$f":"IF($AV152,AX152,\" \")","v":" "},{"$f":"IF($AV152,AY152,\" \")","v":"east"},{"$f":"IF($AV152,AZ152,\" \")","v":"ah-nah-toll-AY"},{"$f":"IF($AV152,BA152,\" \")","v":"Noun  "},"ἡ ",{"$f":"IF($AV152,BC152,\" \")","v":" "},{"$f":"IF($AV152,BD152,\" \")","v":" "},"ἡ "," ",{"$f":"IF($AV152,BF152,\" \")","v":"395"},149,149,"38","Noun  ","ἡ ἀνατολή"," "," "," ","ah-nah-toll-AY","east","ἡ ἀνατολή","Chapter 38: Noun  "," ","395",false,5149,161," "," "," ",149,""," ","  "," ",false,5149,153," "," "," ",149,""," "," "," ",false,5149,263,149,""," "," "," "]
[null,null,null,null,null,null,null,null,null,null,null,null,null,null,null,null,null,null,null,null,null,null,null,null,null,null,null,null,null,null,150,"38","ἀναφέρω"," ","I offer up, I bring up","ah-nah-FERR-owe","Verb  "," ","ἀνεφερόμην"," ","ἀνήνεγκα/ἀνήνεκον","anaferw aneferomhn anhnegka anhnekon","399",399,"ἀναφέρω",true,true,true,"38"," ","I offer up, I bring up","ah-nah-FERR-owe","Verb  "," ","ἀνεφερόμην"," ","ἀνήνεγκα/ἀνήνεκον","399",150,150,"38","ἀναφέρω"," ","I offer up, I bring up","ah-nah-FERR-owe","Verb  ","","ἀνεφερόμην"," ","","ἀνήνεγκα/ἀνήνεκον","399",150,150,"38","Verb  ","ἀναφέρω","ἀνεφερόμην"," "," ","ah-nah-FERR-owe","I offer up, I bring up","ἀναφέρω","Chapter 38: Verb  ","ἀνήνεγκα/ἀνήνεκον","399",false,5150,162," "," "," ",150,""," ","  "," ",false,5150,154," "," "," ",150,""," "," "," ",false,5150,264,150,""," "," "," "]
[null,null,null,null,null,null,null,null,null,null,null,null,null,null,null,null,null,null,null,null,null,null,null,null,null,null,null,null,null,null,151,38,"ἀναχωρέω"," ","I withdraw","ah-nahk-owe-RAY-owe","Verb  "," ","-","-","ἀνεχώρησα","anacwrew anecwrhsa","402",402,"ἀναχωρέω",true,true,true,38," ","I withdraw","ah-nahk-owe-RAY-owe","Verb  "," ","-","-","ἀνεχώρησα","402",151,151,38,"ἀναχωρέω"," ","I withdraw","ah-nahk-owe-RAY-owe","Verb  ","","-","-","","ἀνεχώρησα","402",151,151,38,"Verb  ","ἀναχωρέω","-","-"," ","ah-nahk-owe-RAY-owe","I withdraw","ἀναχωρέω","Index of Textbook: Verb  ","ἀνεχώρησα","402",false,5151,163," "," "," ",151,""," ","  "," ",false,5151,155," "," "," ",151,""," "," "," ",false,5151,265,151,""," "," "," "]
[null,null,null,null,null,null,null,null,null,null,null,null,null,null,null,null,null,null,null,null,null,null,null,null,null,null,null,null,null,null,152,"38","Ἀνδρέας"," ","Andrew","ahn-DREH-ahss","Proper Noun","ὁ"," "," "," ","andreas","406",406,"Ἀνδρέας",true,true,true,"38"," ","Andrew","ahn-DREH-ahss","Proper Noun","ὁ"," "," "," ","406",152,152,"38","ὁ Ἀνδρέας"," ","Andrew","ahn-DREH-ahss","Proper Noun","ὁ "," "," ","ὁ "," ","406",152,152,"38","Proper Noun","ὁ Ἀνδρέας"," "," "," ","ahn-DREH-ahss","Andrew","ὁ Ἀνδρέας","Chapter 38: Proper Noun"," ","406",false,5152,164," "," "," ",152,""," ","  "," ",false,5152,156," "," "," ",152,""," "," "," ",false,5152,266,152,""," "," "," "]
[null,null,null,null,null,null,null,null,null,null,null,null,null,null,null,null,null,null,null,null,null,null,null,null,null,null,null,null,null,null,153,"38","ἄνεμος"," ","wind","AH-nemm-oss","Noun  ","ὁ"," "," "," ","anemos","417",417,"ἄνεμος",true,true,true,"38"," ","wind","AH-nemm-oss","Noun  ","ὁ"," "," "," ","417",153,153,"38","ὁ ἄνεμος"," ","wind","AH-nemm-oss","Noun  ","ὁ "," "," ","ὁ "," ","417",153,153,"38","Noun  ","ὁ ἄνεμος"," "," "," ","AH-nemm-oss","wind","ὁ ἄνεμος","Chapter 38: Noun  "," ","417",false,5153,165," "," "," ",153,""," ","  "," ",false,5153,157," "," "," ",153,""," "," "," ",false,5153,267,153,""," "," "," "]
[null,null,null,null,null,null,null,null,null,null,null,null,null,null,null,null,null,null,null,null,null,null,null,null,null,null,null,null,null,null,154,"38","ἀνέχομαι",null,"I endure","ah-NECK-omm-eye","Verb  "," ","ἀνηρχόμην","ἀνέξομαι","ἀνέσχόμην","anecomai anhrcomhn anexomai anescomhn","430",430,"ἀνέχομαι",true,true,true,"38",0,"I endure","ah-NECK-omm-eye","Verb  "," ","ἀνηρχόμην","ἀνέξομαι","ἀνέσχόμην","430",154,154,"38","ἀνέχομαι",0,"I endure","ah-NECK-omm-eye","Verb  ","","ἀνηρχόμην","ἀνέξομαι","","ἀνέσχόμην","430",154,154,"38","Verb  ","ἀνέχομαι","ἀνηρχόμην","ἀνέξομαι",0,"ah-NECK-omm-eye","I endure","ἀνέχομαι","Chapter 38: Verb  ","ἀνέσχόμην","430",false,5154,166," "," "," ",154,""," ","  "," ",false,5154,158," "," "," ",154,""," "," "," ",false,5154,268,154,""," "," "," "]
[null,null,null,null,null,null,null,null,null,null,null,null,null,null,null,null,null,null,null,null,null,null,null,null,null,null,null,null,null,null,155,"11","ἀνήρ","*ἀνδρ","husband, male, man","ah-NAIR","Noun  ","ὁ"," "," ","  ","anhr","435",435,"ἀνήρ",true,true,true,"11","*ἀνδρ","husband, male, man","ah-NAIR","Noun  ","ὁ"," "," ","  ","435",155,155,"11","ὁ ἀνήρ","*ἀνδρ","husband, male, man","ah-NAIR","Noun  ","ὁ "," "," ","ὁ ","  ","435",155,155,"11","Noun  ","ὁ ἀνήρ"," "," ","*ἀνδρ","ah-NAIR","husband, male, man","ὁ ἀνήρ","Chapter 11: Noun  ","  ","435",false,5155,167," "," "," ",155,""," ","  "," ",false,5155,159," "," "," ",155,""," "," "," ",false,5155,269,155,""," "," "," "]
[null,null,null,null,null,null,null,null,null,null,null,null,null,null,null,null,null,null,null,null,null,null,null,null,null,null,null,null,null,null,156,"11","ἀνδρός","*ἀνδρ","husband, male, man","ahn-DROSS","Noun  ","ὁ"," "," ","  ","andros","435",435.1,"ἀνδρός",true,true,true,"11","*ἀνδρ","husband, male, man","ahn-DROSS","Noun  ","ὁ"," "," ","  ","435",156,156,"11","ὁ ἀνδρός","*ἀνδρ","husband, male, man","ahn-DROSS","Noun  ","ὁ "," "," ","ὁ ","  ","435",156,156,"11","Noun  ","ὁ ἀνδρός"," "," ","*ἀνδρ","ahn-DROSS","husband, male, man","ὁ ἀνδρός","Chapter 11: Noun  ","  ","435",false,5156,168," "," "," ",156,""," ","  "," ",false,5156,160," "," "," ",156,""," "," "," ",false,5156,270,156,""," "," "," "]
[null,null,null,null,null,null,null,null,null,null,null,null,null,null,null,null,null,null,null,null,null,null,null,null,null,null,null,null,null,null,157,38,"ἀνθίστημι"," ","I oppose","ahnth-EE-stay-mee","Verb  "," ","ἀνθιστόμην","-","ἀντέστην","anqisthmi antesthn","436",436,"ἀνθίστημι",true,true,true,38," ","I oppose","ahnth-EE-stay-mee","Verb  "," ","ἀνθιστόμην","-","ἀντέστην","436",157,157,38,"ἀνθίστημι"," ","I oppose","ahnth-EE-stay-mee","Verb  ","","ἀνθιστόμην","-","","ἀντέστην","436",157,157,38,"Verb  ","ἀνθίστημι","ἀνθιστόμην","-"," ","ahnth-EE-stay-mee","I oppose","ἀνθίστημι","Index of Textbook: Verb  ","ἀντέστην","436",false,5157,169," "," "," ",157,""," ","  "," ",false,5157,161," "," "," ",157,""," "," "," ",false,5157,271,157,""," "," "," "]
[null,null,null,null,null,null,null,null,null,null,null,null,null,null,null,null,null,null,null,null,null,null,null,null,null,null,null,null,null,null,158,"04","ἄνθρωπος","*ἀνθρωπο","man, person, mankind, human","AHN-throw-poss","Noun  ","ὁ"," "," ","  ","anqrwpos","444",444,"ἄνθρωπος",true,true,true,"04","*ἀνθρωπο","man, person, mankind, human","AHN-throw-poss","Noun  ","ὁ"," "," ","  ","444",158,158,"04","ὁ ἄνθρωπος","*ἀνθρωπο","man, person, mankind, human","AHN-throw-poss","Noun  ","ὁ "," "," ","ὁ ","  ","444",158,158,"04","Noun  ","ὁ ἄνθρωπος"," "," ","*ἀνθρωπο","AHN-throw-poss","man, person, mankind, human","ὁ ἄνθρωπος","Chapter 04: Noun  ","  ","444",false,5158,170," "," "," ",158,""," ","  "," ",false,5158,162," "," "," ",158,""," "," "," ",false,5158,272,158,""," "," "," "]
[null,null,null,null,null,null,null,null,null,null,null,null,null,null,null,null,null,null,null,null,null,null,null,null,null,null,null,null,null,null,159,"36","ἀνίστημι","ἀνά + *στα","I rise, I get up, I raise (another)","ahn-ISS-tay-mee","Verb  "," ","-","ἀναστήσω","ἀνέστησα","anisthmi anasthsw anesthsa","450",450,"ἀνίστημι",true,true,true,"36","ἀνά + *στα","I rise, I get up, I raise (another)","ahn-ISS-tay-mee","Verb  "," ","-","ἀναστήσω","ἀνέστησα","450",159,159,"36","ἀνίστημι","ἀνά + *στα","I rise, I get up, I raise (another)","ahn-ISS-tay-mee","Verb  ","","-","ἀναστήσω","","ἀνέστησα","450",159,159,"36","Verb  ","ἀνίστημι","-","ἀναστήσω","ἀνά + *στα","ahn-ISS-tay-mee","I rise, I get up, I raise (another)","ἀνίστημι","Chapter 36: Verb  ","ἀνέστησα","450",false,5159,171," "," "," ",159,""," ","  "," ",false,5159,163," "," "," ",159,""," "," "," ",false,5159,273,159,""," "," "," "]
[null,null,null,null,null,null,null,null,null,null,null,null,null,null,null,null,null,null,null,null,null,null,null,null,null,null,null,null,null,null,160,"36","ἀνοίγω","ἀνά + *οίγ","I open","ahn-OY-goe","Verb  "," ","-","ἀνοίξω","ἠνέῳξα","anoigw anoixw hnewxa","455",455,"ἀνοίγω",true,true,true,"36","ἀνά + *οίγ","I open","ahn-OY-goe","Verb  "," ","-","ἀνοίξω","ἠνέῳξα","455",160,160,"36","ἀνοίγω","ἀνά + *οίγ","I open","ahn-OY-goe","Verb  ","","-","ἀνοίξω","","ἠνέῳξα","455",160,160,"36","Verb  ","ἀνοίγω","-","ἀνοίξω","ἀνά + *οίγ","ahn-OY-goe","I open","ἀνοίγω","Chapter 36: Verb  ","ἠνέῳξα","455",false,5160,172," "," "," ",160,""," ","  "," ",false,5160,164," "," "," ",160,""," "," "," ",false,5160,274,160,""," "," "," "]
[null,null,null,null,null,null,null,null,null,null,null,null,null,null,null,null,null,null,null,null,null,null,null,null,null,null,null,null,null,null,161,38,"ἀνομία","*νομο","lawlessness","ah-nom-EE-ah","Noun  ","ἡ"," "," ","  ","anomia","458",458,"ἀνομία",true,true,true,38,"*νομο","lawlessness","ah-nom-EE-ah","Noun  ","ἡ"," "," ","  ","458",161,161,38,"ἡ ἀνομία","*νομο","lawlessness","ah-nom-EE-ah","Noun  ","ἡ "," "," ","ἡ ","  ","458",161,161,38,"Noun  ","ἡ ἀνομία"," "," ","*νομο","ah-nom-EE-ah","lawlessness","ἡ ἀνομία","Index of Textbook: Noun  ","  ","458",false,5161,173," "," "," ",161,""," ","  "," ",false,5161,165," "," "," ",161,""," "," "," ",false,5161,275,161,""," "," "," "]
[null,null,null,null,null,null,null,null,null,null,null,null,null,null,null,null,null,null,null,null,null,null,null,null,null,null,null,null,null,null,162,38,"ἀντί"," ","on behalf of, for, instead of [genitive]","ahn-TEE","Preposition"," "," "," ","  ","anti","473",473,"ἀντί",true,true,true,38," ","on behalf of, for, instead of [genitive]","ahn-TEE","Preposition"," "," "," ","  ","473",162,162,38,"ἀντί"," ","on behalf of, for, instead of [genitive]","ahn-TEE","Preposition",""," "," ","","  ","473",162,162,38,"Preposition","ἀντί"," "," "," ","ahn-TEE","on behalf of, for, instead of [genitive]","ἀντί","Index of Textbook: Preposition","  ","473",false,5162,174," "," "," ",162,""," ","  "," ",false,5162,166," "," "," ",162,""," "," "," ",false,5162,276,162,""," "," "," "]
[null,null,null,null,null,null,null,null,null,null,null,null,null,null,null,null,null,null,null,null,null,null,null,null,null,null,null,null,null,null,163,"37","ἀντιβάλλω"," ","I debate, (we) exchange","ahn-tee-BALL-owe","Verb  "," "," ","ἀντιβαλῶ"," ","antiballw","474",474,"ἀντιβάλλω",true,true,true,"37"," ","I debate, (we) exchange","ahn-tee-BALL-owe","Verb  "," "," ","ἀντιβαλῶ"," ","474",163,163,"37","ἀντιβάλλω"," ","I debate, (we) exchange","ahn-tee-BALL-owe","Verb  ",""," ","ἀντιβαλῶ",""," ","474",163,163,"37","Verb  ","ἀντιβάλλω"," ","ἀντιβαλῶ"," ","ahn-tee-BALL-owe","I debate, (we) exchange","ἀντιβάλλω","Extra: Verb  "," ","474",false,5163,175," "," "," ",163,""," ","  "," ",false,5163,167," "," "," ",163,""," "," "," ",false,5163,277,163,""," "," "," "]
[null,null,null,null,null,null,null,null,null,null,null,null,null,null,null,null,null,null,null,null,null,null,null,null,null,null,null,null,null,null,164,"38","Ἀντιόχεια"," ","Antioch","ahn-tee-OCK-ay-ah","Proper Noun","ἡ"," "," "," ","antioceia","490",490,"Ἀντιόχεια",true,true,true,"38"," ","Antioch","ahn-tee-OCK-ay-ah","Proper Noun","ἡ"," "," "," ","490",164,164,"38","ἡ Ἀντιόχεια"," ","Antioch","ahn-tee-OCK-ay-ah","Proper Noun","ἡ "," "," ","ἡ "," ","490",164,164,"38","Proper Noun","ἡ Ἀντιόχεια"," "," "," ","ahn-tee-OCK-ay-ah","Antioch","ἡ Ἀντιόχεια","Chapter 38: Proper Noun"," ","490",false,5164,176," "," "," ",164,""," ","  "," ",false,5164,168," "," "," ",164,""," "," "," ",false,5164,278,164,""," "," "," "]
[null,null,null,null,null,null,null,null,null,null,null,null,null,null,null,null,null,null,null,null,null,null,null,null,null,null,null,null,null,null,165,38,"ἄνωθεν"," ","from above, again","AH-knowth-en","Adverb"," "," "," ","  ","anwqen","509",509,"ἄνωθεν",true,true,true,38," ","from above, again","AH-knowth-en","Adverb"," "," "," ","  ","509",165,165,38,"ἄνωθεν"," ","from above, again","AH-knowth-en","Adverb",""," "," ","","  ","509",165,165,38,"Adverb","ἄνωθεν"," "," "," ","AH-knowth-en","from above, again","ἄνωθεν","Index of Textbook: Adverb","  ","509",false,5165,177," "," "," ",165,""," ","  "," ",false,5165,169," "," "," ",165,""," "," "," ",false,5165,279,165,""," "," "," "]
[null,null,null,null,null,null,null,null,null,null,null,null,null,null,null,null,null,null,null,null,null,null,null,null,null,null,null,null,null,null,166,38,"ἄξιος"," ","worthy","AX-ee-oss","Adjective"," "," "," ","  ","axios","514",514,"ἄξιος",true,true,true,38," ","worthy","AX-ee-oss","Adjective"," "," "," ","  ","514",166,166,38,"ἄξιος"," ","worthy","AX-ee-oss","Adjective",""," "," ","","  ","514",166,166,38,"Adjective","ἄξιος"," "," "," ","AX-ee-oss","worthy","ἄξιος","Index of Textbook: Adjective","  ","514",false,5166,178," "," "," ",166,""," ","  "," ",false,5166,170," "," "," ",166,""," "," "," ",false,5166,280,166,""," "," "," "]
[null,null,null,null,null,null,null,null,null,null,null,null,null,null,null,null,null,null,null,null,null,null,null,null,null,null,null,null,null,null,167,"35","ἀπαγγέλλω","ἀπό + *ἀγγελ","I report, I tell","ah-pahng-ELL-owe","Verb  "," ","ἀπήγγελλον","ἀπαγγελῶ","ἀπήγγειλα","apaggellw aphggellon apaggelw aphggeila","518",518,"ἀπαγγέλλω",true,true,true,"35","ἀπό + *ἀγγελ","I report, I tell","ah-pahng-ELL-owe","Verb  "," ","ἀπήγγελλον","ἀπαγγελῶ","ἀπήγγειλα","518",167,167,"35","ἀπαγγέλλω","ἀπό + *ἀγγελ","I report, I tell","ah-pahng-ELL-owe","Verb  ","","ἀπήγγελλον","ἀπαγγελῶ","","ἀπήγγειλα","518",167,167,"35","Verb  ","ἀπαγγέλλω","ἀπήγγελλον","ἀπαγγελῶ","ἀπό + *ἀγγελ","ah-pahng-ELL-owe","I report, I tell","ἀπαγγέλλω","Chapter 35: Verb  ","ἀπήγγειλα","518",false,5167,179," "," "," ",167,""," ","  "," ",false,5167,171," "," "," ",167,""," "," "," ",false,5167,281,167,""," "," "," "]
[null,null,null,null,null,null,null,null,null,null,null,null,null,null,null,null,null,null,null,null,null,null,null,null,null,null,null,null,null,null,168,38,"ἀπάγω"," ","I lead away","ah-PAH-go","Verb  "," ","-","-","ἀπήγαγον","apagw aphgagon","520",520,"ἀπάγω",true,true,true,38," ","I lead away","ah-PAH-go","Verb  "," ","-","-","ἀπήγαγον","520",168,168,38,"ἀπάγω"," ","I lead away","ah-PAH-go","Verb  ","","-","-","","ἀπήγαγον","520",168,168,38,"Verb  ","ἀπάγω","-","-"," ","ah-PAH-go","I lead away","ἀπάγω","Index of Textbook: Verb  ","ἀπήγαγον","520",false,5168,180," "," "," ",168,""," ","  "," ",false,5168,172," "," "," ",168,""," "," "," ",false,5168,282,168,""," "," "," "]
[null,null,null,null,null,null,null,null,null,null,null,null,null,null,null,null,null,null,null,null,null,null,null,null,null,null,null,null,null,null,169,38,"ἄπαξ"," ","once, once for all","AH-pahx","Adverb"," "," "," ","  ","apax","530",530,"ἄπαξ",true,true,true,38," ","once, once for all","AH-pahx","Adverb"," "," "," ","  ","530",169,169,38,"ἄπαξ"," ","once, once for all","AH-pahx","Adverb",""," "," ","","  ","530",169,169,38,"Adverb","ἄπαξ"," "," "," ","AH-pahx","once, once for all","ἄπαξ","Index of Textbook: Adverb","  ","530",false,5169,181," "," "," ",169,""," ","  "," ",false,5169,173," "," "," ",169,""," "," "," ",false,5169,283,169,""," "," "," "]
[null,null,null,null,null,null,null,null,null,null,null,null,null,null,null,null,null,null,null,null,null,null,null,null,null,null,null,null,null,null,170,"38","ἀπαρνέομαι"," ","I deny","ah-parr-NEH-omm-eye","Verb  "," "," ","ἀπαρνήσομαι","ἀπήρνησα","aparneomai aparnhsomai aphrnhsa","533",533,"ἀπαρνέομαι",true,true,true,"38"," ","I deny","ah-parr-NEH-omm-eye","Verb  "," "," ","ἀπαρνήσομαι","ἀπήρνησα","533",170,170,"38","ἀπαρνέομαι"," ","I deny","ah-parr-NEH-omm-eye","Verb  ",""," ","ἀπαρνήσομαι","","ἀπήρνησα","533",170,170,"38","Verb  ","ἀπαρνέομαι"," ","ἀπαρνήσομαι"," ","ah-parr-NEH-omm-eye","I deny","ἀπαρνέομαι","Chapter 38: Verb  ","ἀπήρνησα","533",false,5170,182," "," "," ",170,""," ","  "," ",false,5170,174," "," "," ",170,""," "," "," ",false,5170,284,170,""," "," "," "]
[null,null,null,null,null,null,null,null,null,null,null,null,null,null,null,null,null,null,null,null,null,null,null,null,null,null,null,null,null,null,171,38,"ἄπας"," ","all","AH-pass","Adjective"," "," "," ","  ","apas","537a",537.20000000000005,"ἄπας",true,true,true,38," ","all","AH-pass","Adjective"," "," "," ","  ","537a",171,171,38,"ἄπας"," ","all","AH-pass","Adjective",""," "," ","","  ","537a",171,171,38,"Adjective","ἄπας"," "," "," ","AH-pass","all","ἄπας","Index of Textbook: Adjective","  ","537a",false,5171,183," "," "," ",171,""," ","  "," ",false,5171,175," "," "," ",171,""," "," "," ",false,5171,285,171,""," "," "," "]
[null,null,null,null,null,null,null,null,null,null,null,null,null,null,null,null,null,null,null,null,null,null,null,null,null,null,null,null,null,null,172,"38","ἀπειθέω"," ","I disobey","ah-pay-THEH-owe","Verb  "," "," ","ἀπελεύσομαι","ἀπῆλθον","apeiqew apeleusomai aphlqon","544",544,"ἀπειθέω",true,true,true,"38"," ","I disobey","ah-pay-THEH-owe","Verb  "," "," ","ἀπελεύσομαι","ἀπῆλθον","544",172,172,"38","ἀπειθέω"," ","I disobey","ah-pay-THEH-owe","Verb  ",""," ","ἀπελεύσομαι","","ἀπῆλθον","544",172,172,"38","Verb  ","ἀπειθέω"," ","ἀπελεύσομαι"," ","ah-pay-THEH-owe","I disobey","ἀπειθέω","Chapter 38: Verb  ","ἀπῆλθον","544",false,5172,184," "," "," ",172,""," ","  "," ",false,5172,176," "," "," ",172,""," "," "," ",false,5172,286,172,""," "," "," "]
[null,null,null,null,null,null,null,null,null,null,null,null,null,null,null,null,null,null,null,null,null,null,null,null,null,null,null,null,null,null,173,"23","ἀπέρχομαι","*ἀπό + *ἐρχ/*ἐλευθ","I depart","ah-PERKS-owe-my","Verb  "," ","-","ἀπελεύσομαι","ἀπῆλθον","apercomai apeleusomai aphlqon","565",565,"ἀπέρχομαι",true,true,true,"23","*ἀπό + *ἐρχ/*ἐλευθ","I depart","ah-PERKS-owe-my","Verb  "," ","-","ἀπελεύσομαι","ἀπῆλθον","565",173,173,"23","ἀπέρχομαι","*ἀπό + *ἐρχ/*ἐλευθ","I depart","ah-PERKS-owe-my","Verb  ","","-","ἀπελεύσομαι","","ἀπῆλθον","565",173,173,"23","Verb  ","ἀπέρχομαι","-","ἀπελεύσομαι","*ἀπό + *ἐρχ/*ἐλευθ","ah-PERKS-owe-my","I depart","ἀπέρχομαι","Chapter 23: Verb  ","ἀπῆλθον","565",false,5173,185," "," "," ",173,""," ","  "," ",false,5173,177," "," "," ",173,""," "," "," ",false,5173,287,173,""," "," "," "]
[null,null,null,null,null,null,null,null,null,null,null,null,null,null,null,null,null,null,null,null,null,null,null,null,null,null,null,null,null,null,174,"38","ἀπέχω"," ","I receive in full; I am distant; I abstain","ah-PEKH-owe","Verb  "," ","ἀπεῖχον"," "," ","apecw apeicon","568",568,"ἀπέχω",true,true,true,"38"," ","I receive in full; I am distant; I abstain","ah-PEKH-owe","Verb  "," ","ἀπεῖχον"," "," ","568",174,174,"38","ἀπέχω"," ","I receive in full; I am distant; I abstain","ah-PEKH-owe","Verb  ","","ἀπεῖχον"," ",""," ","568",174,174,"38","Verb  ","ἀπέχω","ἀπεῖχον"," "," ","ah-PEKH-owe","I receive in full; I am distant; I abstain","ἀπέχω","Chapter 38: Verb  "," ","568",false,5174,186," "," "," ",174,""," ","  "," ",false,5174,178," "," "," ",174,""," "," "," ",false,5174,288,174,""," "," "," "]
[null,null,null,null,null,null,null,null,null,null,null,null,null,null,null,null,null,null,null,null,null,null,null,null,null,null,null,null,null,null,175,"38","ἀπιστία","*πιστι","unbelief","ah-piss-TEE-ah","Noun  ","ἡ"," "," "," ","apistia","570",570,"ἀπιστία",true,true,true,"38","*πιστι","unbelief","ah-piss-TEE-ah","Noun  ","ἡ"," "," "," ","570",175,175,"38","ἡ ἀπιστία","*πιστι","unbelief","ah-piss-TEE-ah","Noun  ","ἡ "," "," ","ἡ "," ","570",175,175,"38","Noun  ","ἡ ἀπιστία"," "," ","*πιστι","ah-piss-TEE-ah","unbelief","ἡ ἀπιστία","Chapter 38: Noun  "," ","570",false,5175,187," "," "," ",175,""," ","  "," ",false,5175,179," "," "," ",175,""," "," "," ",false,5175,289,175,""," "," "," "]
[null,null,null,null,null,null,null,null,null,null,null,null,null,null,null,null,null,null,null,null,null,null,null,null,null,null,null,null,null,null,176,"38","ἄπιστος","*πιστο","unbelieving","AH-piss-toss","Adjective"," "," "," "," ","apistos","571",571,"ἄπιστος",true,true,true,"38","*πιστο","unbelieving","AH-piss-toss","Adjective"," "," "," "," ","571",176,176,"38","ἄπιστος","*πιστο","unbelieving","AH-piss-toss","Adjective",""," "," ",""," ","571",176,176,"38","Adjective","ἄπιστος"," "," ","*πιστο","AH-piss-toss","unbelieving","ἄπιστος","Chapter 38: Adjective"," ","571",false,5176,188," "," "," ",176,""," ","  "," ",false,5176,180," "," "," ",176,""," "," "," ",false,5176,290,176,""," "," "," "]
[null,null,null,null,null,null,null,null,null,null,null,null,null,null,null,null,null,null,null,null,null,null,null,null,null,null,null,null,null,null,177,"08","ἀπό (ἀπʼ, ἀφʼ) [genitive]"," ","(away) from [genitive]","ah-POE","Preposition"," "," "," ","  ","apo","575",575,"ἀπό (ἀπʼ, ἀφʼ) [genitive]",true,true,true,"08"," ","(away) from [genitive]","ah-POE","Preposition"," "," "," ","  ","575",177,177,"08","ἀπό (ἀπʼ, ἀφʼ) [genitive]"," ","(away) from [genitive]","ah-POE","Preposition",""," "," ","","  ","575",177,177,"08","Preposition","ἀπό (ἀπʼ, ἀφʼ) [genitive]"," "," "," ","ah-POE","(away) from [genitive]","ἀπό (ἀπʼ, ἀφʼ) [genitive]","Chapter 08: Preposition","  ","575",false,5177,189," "," "," ",177,""," ","  "," ",false,5177,181," "," "," ",177,""," "," "," ",false,5177,291,177,""," "," "," "]
[null,null,null,null,null,null,null,null,null,null,null,null,null,null,null,null,null,null,null,null,null,null,null,null,null,null,null,null,null,null,178,38,"ἀποδίδωμι"," ","I pay, I recompense; [middle]: I sell","ah-pod-ID-owe-mee","Verb  "," ","ἀπεδίδουν","ἀποδώσω","ἀπέδωκα","apodidwmi apedidoun apodwsw apedwka","591",591,"ἀποδίδωμι",true,true,true,38," ","I pay, I recompense; [middle]: I sell","ah-pod-ID-owe-mee","Verb  "," ","ἀπεδίδουν","ἀποδώσω","ἀπέδωκα","591",178,178,38,"ἀποδίδωμι"," ","I pay, I recompense; [middle]: I sell","ah-pod-ID-owe-mee","Verb  ","","ἀπεδίδουν","ἀποδώσω","","ἀπέδωκα","591",178,178,38,"Verb  ","ἀποδίδωμι","ἀπεδίδουν","ἀποδώσω"," ","ah-pod-ID-owe-mee","I pay, I recompense; [middle]: I sell","ἀποδίδωμι","Index of Textbook: Verb  ","ἀπέδωκα","591",true,178,2,"ἀποδίδωμι","I pay, I recompense; [middle]: I sell"," [Chap. 38]",178,""," ","  "," ",false,5178,182," "," "," ",178,""," "," "," ",false,5178,292,178,""," "," "," "]
[null,null,null,null,null,null,null,null,null,null,null,null,null,null,null,null,null,null,null,null,null,null,null,null,null,null,null,null,null,null,179,"22","ἀποθνῄσκω","*ἀπό + *θαν","I die, I am about to die, I am freed from","ah-poth-NAY-skoe","Verb  "," ","ἀπέθνῃσκον","ἀποθανοῦμαι","ἀπέθανον","apoqnhskw apeqnhskon apoqanoumai apeqanon","599",599,"ἀποθνῄσκω",true,true,true,"22","*ἀπό + *θαν","I die, I am about to die, I am freed from","ah-poth-NAY-skoe","Verb  "," ","ἀπέθνῃσκον","ἀποθανοῦμαι","ἀπέθανον","599",179,179,"22","ἀποθνῄσκω","*ἀπό + *θαν","I die, I am about to die, I am freed from","ah-poth-NAY-skoe","Verb  ","","ἀπέθνῃσκον","ἀποθανοῦμαι","","ἀπέθανον","599",179,179,"22","Verb  ","ἀποθνῄσκω","ἀπέθνῃσκον","ἀποθανοῦμαι","*ἀπό + *θαν","ah-poth-NAY-skoe","I die, I am about to die, I am freed from","ἀποθνῄσκω","Chapter 22: Verb  ","ἀπέθανον","599",false,5179,190," "," "," ",179,""," ","  "," ",false,5179,183," "," "," ",179,""," "," "," ",false,5179,293,179,""," "," "," "]
[null,null,null,null,null,null,null,null,null,null,null,null,null,null,null,null,null,null,null,null,null,null,null,null,null,null,null,null,null,null,180,"37","ἀποκαθιστάνω/ἀποκαθίστημι"," ","I restore","ah-pok-ath-iss-TAHN-owe","Verb  "," "," ","ἀποκαταστήσω","ἀπεκατέστην","apokaqistanw apokaqisthmi apokatasthsw apekatesthn","600",600,"ἀποκαθιστάνω/ἀποκαθίστημι",true,true,true,"37"," ","I restore","ah-pok-ath-iss-TAHN-owe","Verb  "," "," ","ἀποκαταστήσω","ἀπεκατέστην","600",180,180,"37","ἀποκαθιστάνω/ἀποκαθίστημι"," ","I restore","ah-pok-ath-iss-TAHN-owe","Verb  ",""," ","ἀποκαταστήσω","","ἀπεκατέστην","600",180,180,"37","Verb  ","ἀποκαθιστάνω/ἀποκαθίστημι"," ","ἀποκαταστήσω"," ","ah-pok-ath-iss-TAHN-owe","I restore","ἀποκαθιστάνω/ἀποκαθίστημι","Extra: Verb  ","ἀπεκατέστην","600",false,5180,191," "," "," ",180,""," ","  "," ",false,5180,184," "," "," ",180,""," "," "," ",false,5180,294,180,""," "," "," "]
[null,null,null,null,null,null,null,null,null,null,null,null,null,null,null,null,null,null,null,null,null,null,null,null,null,null,null,null,null,null,181,"38","ἀποκαλύπτω"," ","I reveal","ah-pok-ah-LOOP-toe","Verb  "," ","-","ἀποκαλύψω","ἀπέκάλυψα","apokaluptw apokaluyw apekaluya","601",601,"ἀποκαλύπτω",true,true,true,"38"," ","I reveal","ah-pok-ah-LOOP-toe","Verb  "," ","-","ἀποκαλύψω","ἀπέκάλυψα","601",181,181,"38","ἀποκαλύπτω"," ","I reveal","ah-pok-ah-LOOP-toe","Verb  ","","-","ἀποκαλύψω","","ἀπέκάλυψα","601",181,181,"38","Verb  ","ἀποκαλύπτω","-","ἀποκαλύψω"," ","ah-pok-ah-LOOP-toe","I reveal","ἀποκαλύπτω","Chapter 38: Verb  ","ἀπέκάλυψα","601",false,5181,192," "," "," ",181,""," ","  "," ",false,5181,185," "," "," ",181,""," "," "," ",false,5181,295,181,""," "," "," "]
[null,null,null,null,null,null,null,null,null,null,null,null,null,null,null,null,null,null,null,null,null,null,null,null,null,null,null,null,null,null,182,"38","ἀποκάλυψις"," ","revelation","ah-pock-AH-loop-sis","Noun  ","ἡ"," "," "," ","apokaluyis","602",602,"ἀποκάλυψις",true,true,true,"38"," ","revelation","ah-pock-AH-loop-sis","Noun  ","ἡ"," "," "," ","602",182,182,"38","ἡ ἀποκάλυψις"," ","revelation","ah-pock-AH-loop-sis","Noun  ","ἡ "," "," ","ἡ "," ","602",182,182,"38","Noun  ","ἡ ἀποκάλυψις"," "," "," ","ah-pock-AH-loop-sis","revelation","ἡ ἀποκάλυψις","Chapter 38: Noun  "," ","602",false,5182,193," "," "," ",182,""," ","  "," ",false,5182,186," "," "," ",182,""," "," "," ",false,5182,296,182,""," "," "," "]
[null,null,null,null,null,null,null,null,null,null,null,null,null,null,null,null,null,null,null,null,null,null,null,null,null,null,null,null,null,null,183,"18","ἀποκρίνομαι","*ἀπο + *κριν","I answer","ah-pok-RIN-om-eye","Verb  "," ","-","ἀπεκρινάμην","ἀπεκρινάμην","apokrinomai apekrinamhn apekrinamhn","611",611,"ἀποκρίνομαι",true,true,true,"18","*ἀπο + *κριν","I answer","ah-pok-RIN-om-eye","Verb  "," ","-","ἀπεκρινάμην","ἀπεκρινάμην","611",183,183,"18","ἀποκρίνομαι","*ἀπο + *κριν","I answer","ah-pok-RIN-om-eye","Verb  ","","-","ἀπεκρινάμην","","ἀπεκρινάμην","611",183,183,"18","Verb  ","ἀποκρίνομαι","-","ἀπεκρινάμην","*ἀπο + *κριν","ah-pok-RIN-om-eye","I answer","ἀποκρίνομαι","Chapter 18: Verb  ","ἀπεκρινάμην","611",false,5183,194," "," "," ",183,""," ","  "," ",false,5183,187," "," "," ",183,""," "," "," ",false,5183,297,183,""," "," "," "]
[null,null,null,null,null,null,null,null,null,null,null,null,null,null,null,null,null,null,null,null,null,null,null,null,null,null,null,null,null,null,184,"09","ἀπεκρίθη"," ","he/she/it answered","ah-pek-RITH-ay","Verb  "," ","-","-","see ἀποκρίνομαι","apekriqh apokrinw","611",611.1,"ἀπεκρίθη",true,true,true,"09"," ","he/she/it answered","ah-pek-RITH-ay","Verb  "," ","-","-","see ἀποκρίνομαι","611",184,184,"09","ἀπεκρίθη"," ","he/she/it answered","ah-pek-RITH-ay","Verb  ","","-","-","","see ἀποκρίνομαι","611",184,184,"09","Verb  ","ἀπεκρίθη","-","-"," ","ah-pek-RITH-ay","he/she/it answered","ἀπεκρίθη","Chapter 09: Verb  ","see ἀποκρίνομαι","611",false,5184,195," "," "," ",184,""," ","  "," ",false,5184,188," "," "," ",184,""," "," "," ",false,5184,298,184,""," "," "," "]
[null,null,null,null,null,null,null,null,null,null,null,null,null,null,null,null,null,null,null,null,null,null,null,null,null,null,null,null,null,null,185,"20","ἀποκτείνω","*ἀπό + *κτεν","I kill","ah-pok-TAY-noe","Verb  "," ","-","ἀποκτενῶ","ἀπέκτεινα","apokteinw apoktenw apekteina","615",615,"ἀποκτείνω",true,true,true,"20","*ἀπό + *κτεν","I kill","ah-pok-TAY-noe","Verb  "," ","-","ἀποκτενῶ","ἀπέκτεινα","615",185,185,"20","ἀποκτείνω","*ἀπό + *κτεν","I kill","ah-pok-TAY-noe","Verb  ","","-","ἀποκτενῶ","","ἀπέκτεινα","615",185,185,"20","Verb  ","ἀποκτείνω","-","ἀποκτενῶ","*ἀπό + *κτεν","ah-pok-TAY-noe","I kill","ἀποκτείνω","Chapter 20: Verb  ","ἀπέκτεινα","615",false,5185,196," "," "," ",185,""," ","  "," ",false,5185,189," "," "," ",185,""," "," "," ",false,5185,299,185,""," "," "," "]
[null,null,null,null,null,null,null,null,null,null,null,null,null,null,null,null,null,null,null,null,null,null,null,null,null,null,null,null,null,null,186,38,"ἀπολαμβάνω"," ","I receive","ah-poll-ahm-BAHN-owe","Verb  "," ","-","ἀπολήμψομαι","ἀπέλαβον","apolambanw apolhmyomai apelabon","618",618,"ἀπολαμβάνω",true,true,true,38," ","I receive","ah-poll-ahm-BAHN-owe","Verb  "," ","-","ἀπολήμψομαι","ἀπέλαβον","618",186,186,38,"ἀπολαμβάνω"," ","I receive","ah-poll-ahm-BAHN-owe","Verb  ","","-","ἀπολήμψομαι","","ἀπέλαβον","618",186,186,38,"Verb  ","ἀπολαμβάνω","-","ἀπολήμψομαι"," ","ah-poll-ahm-BAHN-owe","I receive","ἀπολαμβάνω","Index of Textbook: Verb  ","ἀπέλαβον","618",false,5186,197," "," "," ",186,""," ","  "," ",false,5186,190," "," "," ",186,""," "," "," ",false,5186,300,186,""," "," "," "]
[null,null,null,null,null,null,null,null,null,null,null,null,null,null,null,null,null,null,null,null,null,null,null,null,null,null,null,null,null,null,187,"33","ἀπόλλυμι [active]","ἀπό + *όλ","I destroy, I kill","app-OLL-oo-mee","Verb  "," ","ἀπώλλυον","ἀπολέσω","ἀπώλεσα","apollumi apwlluov apolesw apwlesa","622",622,"ἀπόλλυμι [active]",true,true,true,"33","ἀπό + *όλ","I destroy, I kill","app-OLL-oo-mee","Verb  "," ","ἀπώλλυον","ἀπολέσω","ἀπώλεσα","622",187,187,"33","ἀπόλλυμι [active]","ἀπό + *όλ","I destroy, I kill","app-OLL-oo-mee","Verb  ","","ἀπώλλυον","ἀπολέσω","","ἀπώλεσα","622",187,187,"33","Verb  ","ἀπόλλυμι [active]","ἀπώλλυον","ἀπολέσω","ἀπό + *όλ","app-OLL-oo-mee","I destroy, I kill","ἀπόλλυμι [active]","Chapter 33: Verb  ","ἀπώλεσα","622",false,5187,198," "," "," ",187,""," ","  "," ",false,5187,191," "," "," ",187,""," "," "," ",false,5187,301,187,""," "," "," "]
[null,null,null,null,null,null,null,null,null,null,null,null,null,null,null,null,null,null,null,null,null,null,null,null,null,null,null,null,null,null,188,"33","ἀπόλλυμι [middle]","ἀπό + *όλ","I perish, I die","app-OLL-oo-mee","Verb  "," ","ἀπώλλυον","ἀπολέσω","ἀπώλεσα","apollumi apwlluon apolesw apwlesa","622",622.1,"ἀπόλλυμι [middle]",true,true,true,"33","ἀπό + *όλ","I perish, I die","app-OLL-oo-mee","Verb  "," ","ἀπώλλυον","ἀπολέσω","ἀπώλεσα","622",188,188,"33","ἀπόλλυμι [middle]","ἀπό + *όλ","I perish, I die","app-OLL-oo-mee","Verb  ","","ἀπώλλυον","ἀπολέσω","","ἀπώλεσα","622",188,188,"33","Verb  ","ἀπόλλυμι [middle]","ἀπώλλυον","ἀπολέσω","ἀπό + *όλ","app-OLL-oo-mee","I perish, I die","ἀπόλλυμι [middle]","Chapter 33: Verb  ","ἀπώλεσα","622",false,5188,199," "," "," ",188,""," ","  "," ",false,5188,192," "," "," ",188,""," "," "," ",false,5188,302,188,""," "," "," "]
[null,null,null,null,null,null,null,null,null,null,null,null,null,null,null,null,null,null,null,null,null,null,null,null,null,null,null,null,null,null,189,"38","Ἀπολλῶς"," ","Apollos","ah-poll-OSE","Proper Noun","ὁ"," "," "," ","apollws","625",625,"Ἀπολλῶς",true,true,true,"38"," ","Apollos","ah-poll-OSE","Proper Noun","ὁ"," "," "," ","625",189,189,"38","ὁ Ἀπολλῶς"," ","Apollos","ah-poll-OSE","Proper Noun","ὁ "," "," ","ὁ "," ","625",189,189,"38","Proper Noun","ὁ Ἀπολλῶς"," "," "," ","ah-poll-OSE","Apollos","ὁ Ἀπολλῶς","Chapter 38: Proper Noun"," ","625",false,5189,200," "," "," ",189,""," ","  "," ",false,5189,193," "," "," ",189,""," "," "," ",false,5189,303,189,""," "," "," "]
[null,null,null,null,null,null,null,null,null,null,null,null,null,null,null,null,null,null,null,null,null,null,null,null,null,null,null,null,null,null,190,"38","ἀπολογέομαι"," ","I defend myself (with speech)","ah-poll-ogg-EH-omm-eye","Verb  "," ","ἀπελογούμην","ἀπολογήσω","ἀπελογοησάμην","apologeomai apelogoumhn apologhsw apelogohsamhn","626",626,"ἀπολογέομαι",true,true,true,"38"," ","I defend myself (with speech)","ah-poll-ogg-EH-omm-eye","Verb  "," ","ἀπελογούμην","ἀπολογήσω","ἀπελογοησάμην","626",190,190,"38","ἀπολογέομαι"," ","I defend myself (with speech)","ah-poll-ogg-EH-omm-eye","Verb  ","","ἀπελογούμην","ἀπολογήσω","","ἀπελογοησάμην","626",190,190,"38","Verb  ","ἀπολογέομαι","ἀπελογούμην","ἀπολογήσω"," ","ah-poll-ogg-EH-omm-eye","I defend myself (with speech)","ἀπολογέομαι","Chapter 38: Verb  ","ἀπελογοησάμην","626",false,5190,201," "," "," ",190,""," ","  "," ",false,5190,194," "," "," ",190,""," "," "," ",false,5190,304,190,""," "," "," "]
[null,null,null,null,null,null,null,null,null,null,null,null,null,null,null,null,null,null,null,null,null,null,null,null,null,null,null,null,null,null,191,"37","ἀπολογία"," ","defense, answer","ah-poll-ogg-EE-ah","Noun  ","ἡ"," "," "," ","apologia","627",627,"ἀπολογία",true,true,true,"37"," ","defense, answer","ah-poll-ogg-EE-ah","Noun  ","ἡ"," "," "," ","627",191,191,"37","ἡ ἀπολογία"," ","defense, answer","ah-poll-ogg-EE-ah","Noun  ","ἡ "," "," ","ἡ "," ","627",191,191,"37","Noun  ","ἡ ἀπολογία"," "," "," ","ah-poll-ogg-EE-ah","defense, answer","ἡ ἀπολογία","Extra: Noun  "," ","627",false,5191,202," "," "," ",191,""," ","  "," ",false,5191,195," "," "," ",191,""," "," "," ",false,5191,305,191,""," "," "," "]
[null,null,null,null,null,null,null,null,null,null,null,null,null,null,null,null,null,null,null,null,null,null,null,null,null,null,null,null,null,null,192,"38","ἀπολύτρωσις",null,"redemption","ah-poll-OOH-trowe-sis","Noun  ","ἡ"," "," "," ","apolutrwsis","629",629,"ἀπολύτρωσις",true,true,true,"38",0,"redemption","ah-poll-OOH-trowe-sis","Noun  ","ἡ"," "," "," ","629",192,192,"38","ἡ ἀπολύτρωσις",0,"redemption","ah-poll-OOH-trowe-sis","Noun  ","ἡ "," "," ","ἡ "," ","629",192,192,"38","Noun  ","ἡ ἀπολύτρωσις"," "," ",0,"ah-poll-OOH-trowe-sis","redemption","ἡ ἀπολύτρωσις","Chapter 38: Noun  "," ","629",false,5192,203," "," "," ",192,""," ","  "," ",false,5192,196," "," "," ",192,""," "," "," ",false,5192,306,192,""," "," "," "]
[null,null,null,null,null,null,null,null,null,null,null,null,null,null,null,null,null,null,null,null,null,null,null,null,null,null,null,null,null,null,193,"33","ἀπολύω","ἀπό + *λυ","I release, I set free","app-oll-OOH-owe","Verb  "," ","ἀπέλυον","ἀπολύσω","ἀπέλυσα","apoluw apeluon apolusw apelusa","630",630,"ἀπολύω",{"$f":"IF(ISERR(FIND(AF196,$Y$22,1)),FALSE,TRUE)","v":true},true,true,"33","ἀπό + *λυ","I release, I set free","app-oll-OOH-owe","Verb  "," ","ἀπέλυον","ἀπολύσω","ἀπέλυσα","630",{"$f":"IF(AV196,AE196,AE196+5000)","v":193},{"$f":"RANK(BG196,BG$4:BG$2003,1)","v":193},"33",{"$f":"IF($AV196,BO196&AG196,\" \")","v":"ἀπολύω"},"ἀπό + *λυ","I release, I set free","app-oll-OOH-owe","Verb  ","","ἀπέλυον","ἀπολύσω","","ἀπέλυσα","630",193,{"$f":"IF(BU196<=BJ$2,MATCH(BU196,BH$4:BH$2003,0),\"\")","v":193},{"$f":"VLOOKUP($BU196,BH$4:BQ$2003,2,0)","v":"33"},{"$f":"VLOOKUP($BU196,BH$4:BQ$2003,7,0)","v":"Verb  "},{"$f":"VLOOKUP($BU196,BH$4:BQ$2003,3,0)","v":"ἀπολύω"},{"$f":"VLOOKUP($BU196,BH$4:BQ$2003,9,0)","v":"ἀπέλυον"},{"$f":"VLOOKUP($BU196,BH$4:BQ$2003,10,0)","v":"ἀπολύσω"},{"$f":"VLOOKUP($BU196,BH$4:BQ$2003,4,0)","v":"ἀπό + *λυ"},{"$f":"VLOOKUP($BU196,BH$4:BQ$2003,6,0)","v":"app-oll-OOH-owe"},{"$f":"VLOOKUP($BU196,BH$4:BQ$2003,5,0)","v":"I release, I set free"},{"$f":"IF(AC$8,BY196,VLOOKUP($BU196,BH$4:BR$2003,11,0)&BY196)","v":"ἀπολύω"},"Chapter 33: Verb  ",{"$f":"VLOOKUP($BU196,BH$4:BS$2003,12,0)","v":"ἀπέλυσα"},{"$f":"VLOOKUP($BU196,BH$4:BT$2003,13,0)","v":"630"},false,{"$f":"IF(CI196,AE196,AE196+5000)","v":5193},{"$f":"RANK(CJ196,CJ$4:CJ$2003,1)","v":204},{"$f":"IF($CI196,IF(BB196=\" \",\"\",BB196&\" \")&AG196,\" \")","v":" "}," "," ",193,{"$f":"IF(CO196<=CP$2,MATCH(CO196,CK$4:CK$2003,0),\"\")","v":""},{"$f":"VLOOKUP($CO196,CK$4:CM$2003,2,0)","v":" "},{"$f":"VLOOKUP($CO196,CK$4:CN$2003,3,0)&VLOOKUP($CO196,CK$4:CN$2003,4,0)","v":"  "}," ",{"$f":"IF(ISERR(FIND(CW$2,AP196,1)),FALSE, TRUE)","v":false},{"$f":"IF(CT196,AE196,AE196+5000)","v":5193},{"$f":"RANK(CU196,CU$4:CU$2003,1)","v":197},{"$f":"IF($CT196,IF(AH196=\" \",\"\",\" [\"&AH196&\"]\"),\" \")","v":" "},{"$f":"IF($CT196,IF(AK196=\"Noun  \",\"Noun\",IF(AK196=\"Verb  \",\"Verb\",AK196)),\" \")","v":" "}," ",193,{"$f":"IF(CZ196<=DA$2,MATCH(CZ196,CV$4:CV$2003,0),\"\")","v":""},{"$f":"VLOOKUP($CZ196,CV$4:CY$2003,4,0)","v":" "}," "," ",{"$f":"IF(AND(LEN(AG196)<=DF$2,AG196<>\" \"),TRUE,FALSE)","v":false},{"$f":"IF(DE196,AE196,AE196+5000)","v":5193},{"$f":"RANK(DF196,DF$4:DF$2003,1)","v":307},193,{"$f":"IF(DH196<=DA$2,MATCH(DH196,DG$4:DG$2003,0),\"\")","v":""},{"$f":"IF($DE196,IF(BB196=\" \",\"\",BB196&\" \")&AG196,\" \")","v":" "}," ",{"$f":"IF($DH196<=$DI$2,VLOOKUP($DH196,DG$4:DK$2003,4,0)&\" [\" &VLOOKUP($DH196,DG$4:DK$2003,5,0) &\"]\",\" \")","v":" "}]
[null,null,null,null,null,null,null,null,null,null,null,null,null,null,null,null,null,null,null,null,null,null,null,null,null,null,null,null,null,null,194,"37","ἀπορέω"," ","I am perplexed","ah-porr-EH-owe","Verb  "," ","ἠπόρουν","ἀπορήσω","ἠπόρησα","aporew","639",639,{"$f":"IF(AG197=\"\",\"\",AG197)","v":"ἀπορέω"},true,{"$f":"IF(ISERR(FIND(AK197,$Y$23,1)),FALSE,TRUE)","v":true},{"$f":"AND(AT197,AU197)","v":true},{"$f":"IF(AC$3,AF197,\" \")","v":"37"},{"$f":"IF(AC$4,AH197,\" \")","v":" "},{"$f":"IF(TRUE,AI197,\" \")","v":"I am perplexed"},{"$f":"IF(AC$6,AJ197,\" \")","v":"ah-porr-EH-owe"},{"$f":"IF(AC$7,AK197,\" \")","v":"Verb  "},{"$f":"IF(AC$8,AL197,\" \")","v":" "},{"$f":"IF(AC$9,AM197,\" \")","v":"ἠπόρουν"},{"$f":"IF(AC$10,AN197,\" \")","v":"ἀπορήσω"},{"$f":"IF(AC$9,AO197,\" \")","v":"ἠπόρησα"},{"$f":"IF(AC$12,AQ197,\" \")","v":"639"},194,194,"37","ἀπορέω"," ","I am perplexed","ah-porr-EH-owe","Verb  ","","ἠπόρουν","ἀπορήσω",{"$f":"IF($AV197,IF(AL197=\" \",\"\",AL197&\" \"),\"\")","v":""},{"$f":"IF($AV197,BE197,\" \")","v":"ἠπόρησα"},"639",194,194,"37","Verb  ","ἀπορέω","ἠπόρουν","ἀπορήσω"," ","ah-porr-EH-owe","I am perplexed","ἀπορέω",{"$f":"IF(BV197=\"\",\"\",IF(BW197=\"37\",\"Extra\", IF(BW197=38, \"Index of Textbook\",\"Chapter \" &BW197))&\": \"&BX197)","v":"Extra: Verb  "},"ἠπόρησα","639",{"$f":"IF(ISERR(SEARCH(CL$2,AY197,1)),FALSE, TRUE)","v":false},5194,205," ",{"$f":"IF($CI197,AY197,\" \")","v":" "},{"$f":"IF($CI197,IF(AW197=\"37\",\" [Extra]\",IF(AW197=\"38\",\" [Index]\",  \" [Chap. \"&TEXT(VALUE(AW197),\"#\")&\"]\")),\" \")","v":" "},194,""," ","  "," ",false,5194,198," "," ",{"$f":"IF($CT197,IF(BB197=\" \",\"\",BB197&\" \")&AG197&CW197&\": \"&AY197&  IF(AF197=\"37\",\"  (Extra\",IF(AF197=\"38\",\"  (Index\",\"  (Chapter \"&TEXT(AF197,\"#\"))) &\", \"&CX197& IF(LEN(AM197)>1,\" [\"&AM197&\"]\",\"\") &IF(LEN(AN197)>1,\" [\"&AN197&\"]\",\"\")         &\")\",\" \")","v":" "},194,""," "," "," ",false,5194,308,194,""," ",{"$f":"IF($DE197,AY197,\" \")","v":" "}," "]
[null,null,null,null,null,null,null,null,null,null,null,null,null,null,null,null,null,null,null,null,null,null,null,null,null,null,null,null,null,null,195,"20","ἀποστέλλω","*ἀπό + *στελ","I send (away)","ah-poss-TELL-owe","Verb  "," ","-","ἀποστελῶ","ἀπέστειλα","apostellw apostelw apesteila","649",649,"ἀποστέλλω",true,true,true,"20","*ἀπό + *στελ","I send (away)","ah-poss-TELL-owe","Verb  "," ","-","ἀποστελῶ","ἀπέστειλα","649",195,195,"20","ἀποστέλλω","*ἀπό + *στελ","I send (away)","ah-poss-TELL-owe","Verb  ","","-","ἀποστελῶ","","ἀπέστειλα","649",195,195,"20","Verb  ","ἀποστέλλω","-","ἀποστελῶ","*ἀπό + *στελ","ah-poss-TELL-owe","I send (away)","ἀποστέλλω","Chapter 20: Verb  ","ἀπέστειλα","649",false,5195,206," "," "," ",195,""," ","  "," ",false,5195,199," "," "," ",195,""," "," "," ",false,5195,309,195,""," "," "," "]
[null,null,null,null,null,null,null,null,null,null,null,null,null,null,null,null,null,null,null,null,null,null,null,null,null,null,null,null,null,null,196,"04","ἀπόστολος","*ἀπόστολο","messenger, envoy, apostle","ah-POSS-toll-oss","Noun  ","ὁ"," "," ","  ","apostolos","652",652,"ἀπόστολος",true,true,true,"04","*ἀπόστολο","messenger, envoy, apostle","ah-POSS-toll-oss","Noun  ","ὁ"," "," ","  ","652",196,196,"04","ὁ ἀπόστολος","*ἀπόστολο","messenger, envoy, apostle","ah-POSS-toll-oss","Noun  ","ὁ "," "," ","ὁ ","  ","652",196,196,"04","Noun  ","ὁ ἀπόστολος"," "," ","*ἀπόστολο","ah-POSS-toll-oss","messenger, envoy, apostle","ὁ ἀπόστολος","Chapter 04: Noun  ","  ","652",false,5196,207," "," "," ",196,""," ","  "," ",false,5196,200," "," "," ",196,""," "," "," ",false,5196,310,196,""," "," "," "]
[null,null,null,null,null,null,null,null,null,null,null,null,null,null,null,null,null,null,null,null,null,null,null,null,null,null,null,null,null,null,197,38,"ἅπτω"," ","I kindle; [middle]: I touch, I take hold of","HAHP-toe","Verb  "," ","-","-","ἧψα","aptw","681",681,"ἅπτω",true,true,true,38," ","I kindle; [middle]: I touch, I take hold of","HAHP-toe","Verb  "," ","-","-","ἧψα","681",197,197,38,"ἅπτω"," ","I kindle; [middle]: I touch, I take hold of","HAHP-toe","Verb  ","","-","-","","ἧψα","681",197,197,38,"Verb  ","ἅπτω","-","-"," ","HAHP-toe","I kindle; [middle]: I touch, I take hold of","ἅπτω","Index of Textbook: Verb  ","ἧψα","681",false,5197,208," "," "," ",197,""," ","  "," ",false,5197,201," "," "," ",197,""," "," "," ",false,5197,311,197,""," "," "," "]
[null,null,null,null,null,null,null,null,null,null,null,null,null,null,null,null,null,null,null,null,null,null,null,null,null,null,null,null,null,null,198,"38","ἀπώλεια"," ","destruction","Ah-POE-lay-ah","Noun  ","ἡ"," "," "," ","apwleia","684",684,"ἀπώλεια",true,{"$f":"IF(ISERR(FIND(AK201,$Y$23,1)),FALSE,TRUE)","v":true},true,"38"," ","destruction","Ah-POE-lay-ah","Noun  ","ἡ"," "," "," ","684",198,198,"38","ἡ ἀπώλεια"," ","destruction","Ah-POE-lay-ah","Noun  ","ἡ "," "," ","ἡ "," ","684",198,198,"38","Noun  ","ἡ ἀπώλεια"," "," "," ","Ah-POE-lay-ah","destruction","ἡ ἀπώλεια","Chapter 38: Noun  "," ","684",false,5198,209," "," "," ",198,""," ","  "," ",false,5198,202," "," "," ",198,""," "," "," ",false,5198,312,198,""," "," "," "]
[null,null,null,null,null,null,null,null,null,null,null,null,null,null,null,null,null,null,null,null,null,null,null,null,null,null,null,null,null,null,199,38,"ἄρα"," ","then, therefore (particle)","ARR-ah","Adverb"," "," "," ","  ","ara","686",686,"ἄρα",true,true,true,38," ","then, therefore (particle)","ARR-ah","Adverb"," "," "," ","  ","686",199,199,38,"ἄρα"," ","then, therefore (particle)","ARR-ah","Adverb",""," "," ","","  ","686",199,199,38,"Adverb","ἄρα"," "," "," ","ARR-ah","then, therefore (particle)","ἄρα","Index of Textbook: Adverb","  ","686",false,5199,210," "," "," ",199,""," ","  "," ",false,5199,203," "," "," ",199,""," "," "," ",true,199,8,199,"","ἄρα","then, therefore (particle)"," "]
[null,null,null,null,null,null,null,null,null,null,null,null,null,null,null,null,null,null,null,null,null,null,null,null,null,null,null,null,null,null,200,"37","ἄραγε"," ","expresses doubt or wonderment (particle)","ARR-ah-geh","Adverb"," "," "," "," ","arage","686+1065",686.1,"ἄραγε",true,true,true,"37"," ","expresses doubt or wonderment (particle)","ARR-ah-geh","Adverb"," "," "," "," ","686+1065",200,200,"37","ἄραγε"," ","expresses doubt or wonderment (particle)","ARR-ah-geh","Adverb",""," "," ",""," ","686+1065",200,200,"37","Adverb","ἄραγε"," "," "," ","ARR-ah-geh","expresses doubt or wonderment (particle)","ἄραγε","Extra: Adverb"," ","686+1065",false,5200,211," "," "," ",200,""," ","  "," ",false,5200,204," "," "," ",200,""," "," "," ",false,5200,313,200,""," "," "," "]
[null,null,null,null,null,null,null,null,null,null,null,null,null,null,null,null,null,null,null,null,null,null,null,null,null,null,null,null,null,null,201,"37","ἆρα"," ","really? (introduces question with incredulity) (particle)","ARR-ah","Adverb"," "," "," "," ","ara","687",687,"ἆρα",true,true,true,"37"," ","really? (introduces question with incredulity) (particle)","ARR-ah","Adverb"," "," "," "," ","687",201,201,"37","ἆρα"," ","really? (introduces question with incredulity) (particle)","ARR-ah","Adverb",""," "," ",""," ","687",201,201,"37","Adverb","ἆρα"," "," "," ","ARR-ah","really? (introduces question with incredulity) (particle)","ἆρα","Extra: Adverb"," ","687",false,5201,212," "," "," ",201,""," ","  "," ",false,5201,205," "," "," ",201,""," "," "," ",true,201,9,201,"","ἆρα","really? (introduces question with incredulity) (particle)"," "]
[null,null,null,null,null,null,null,null,null,null,null,null,null,null,null,null,null,null,null,null,null,null,null,null,null,null,null,null,null,null,202,38,"ἀργύριον"," ","silver, money","ahr-GORE-ee-on","Noun  ","τό"," "," ","  ","argurion","694",694,"ἀργύριον",true,true,true,38," ","silver, money","ahr-GORE-ee-on","Noun  ","τό"," "," ","  ","694",202,202,38,"τό ἀργύριον"," ","silver, money","ahr-GORE-ee-on","Noun  ","τό "," "," ","τό ","  ","694",202,202,38,"Noun  ","τό ἀργύριον"," "," "," ","ahr-GORE-ee-on","silver, money","τό ἀργύριον","Index of Textbook: Noun  ","  ","694",false,5202,213," "," "," ",202,""," ","  "," ",false,5202,206," "," "," ",202,""," "," "," ",false,5202,314,202,""," "," "," "]
[null,null,null,null,null,null,null,null,null,null,null,null,null,null,null,null,null,null,null,null,null,null,null,null,null,null,null,null,null,null,203,"38","ἀρέσκω"," ","I please","ah-RESS-koe","Verb  "," ","ἤρεσκον"," ","ἤρεσα","areskw hreskon hresa","700",700,"ἀρέσκω",true,true,true,"38"," ","I please","ah-RESS-koe","Verb  "," ","ἤρεσκον"," ","ἤρεσα","700",203,203,"38","ἀρέσκω"," ","I please","ah-RESS-koe","Verb  ","","ἤρεσκον"," ","","ἤρεσα","700",203,203,"38","Verb  ","ἀρέσκω","ἤρεσκον"," "," ","ah-RESS-koe","I please","ἀρέσκω","Chapter 38: Verb  ","ἤρεσα","700",false,5203,214," "," "," ",203,""," ","  "," ",false,5203,207," "," "," ",203,""," "," "," ",false,5203,315,203,""," "," "," "]
[null,null,null,null,null,null,null,null,null,null,null,null,null,null,null,null,null,null,null,null,null,null,null,null,null,null,null,null,null,null,204,"38","ἀριθμός","*ἀριθμο","number","ah-rith-MOSS","Noun  ","ὁ"," "," ","  ","ariqmos","706",706,"ἀριθμός",true,true,true,"38","*ἀριθμο","number","ah-rith-MOSS","Noun  ","ὁ"," "," ","  ","706",204,204,"38","ὁ ἀριθμός","*ἀριθμο","number","ah-rith-MOSS","Noun  ","ὁ "," "," ","ὁ ","  ","706",204,204,"38","Noun  ","ὁ ἀριθμός"," "," ","*ἀριθμο","ah-rith-MOSS","number","ὁ ἀριθμός","Chapter 38: Noun  ","  ","706",false,5204,215," "," "," ",204,""," ","  "," ",false,5204,208," "," "," ",204,""," "," "," ",false,5204,316,204,""," "," "," "]
[null,null,null,null,null,null,null,null,null,null,null,null,null,null,null,null,null,null,null,null,null,null,null,null,null,null,null,null,null,null,205,38,"ἀρνέομαι"," ","I deny","arn-EH-owe-my","Verb  "," ","ἠρνοῦμην","ἀρνήσομαι","ἠρνησάμην","arneomai hrnoumhn arnhsomai hrnhsamhn","720",720,"ἀρνέομαι",true,true,true,38," ","I deny","arn-EH-owe-my","Verb  "," ","ἠρνοῦμην","ἀρνήσομαι","ἠρνησάμην","720",205,205,38,"ἀρνέομαι"," ","I deny","arn-EH-owe-my","Verb  ",{"$f":"IF($AV208,IF(BB208=\" \",\"\",BB208&\" \"),\"\")","v":""},"ἠρνοῦμην","ἀρνήσομαι","","ἠρνησάμην","720",205,205,38,"Verb  ","ἀρνέομαι","ἠρνοῦμην","ἀρνήσομαι"," ","arn-EH-owe-my","I deny","ἀρνέομαι","Index of Textbook: Verb  ","ἠρνησάμην","720",false,5205,216," "," "," ",205,""," ","  "," ",false,5205,209," "," "," ",205,""," "," "," ",false,5205,317,205,""," "," "," "]
[null,null,null,null,null,null,null,null,null,null,null,null,null,null,null,null,null,null,null,null,null,null,null,null,null,null,null,null,null,null,206,38,"ἀρνίον"," ","sheep, lamb","ar-NEE-on","Noun  ","τό"," "," ","  ","arnion","721b",721.2,"ἀρνίον",true,true,true,38," ","sheep, lamb","ar-NEE-on","Noun  ","τό"," "," ","  ","721b",206,206,38,"τό ἀρνίον"," ","sheep, lamb","ar-NEE-on","Noun  ","τό "," "," ","τό ","  ","721b",206,206,38,"Noun  ","τό ἀρνίον"," "," "," ","ar-NEE-on","sheep, lamb","τό ἀρνίον","Index of Textbook: Noun  ","  ","721b",false,5206,217," "," "," ",206,""," ","  "," ",false,5206,210," "," "," ",206,""," "," "," ",false,5206,318,206,""," "," "," "]
[null,null,null,null,null,null,null,null,null,null,null,null,null,null,null,null,null,null,null,null,null,null,null,null,null,null,null,null,null,null,207,"38","ἁρπάζω"," ","I seize, I snatch","har-PAHZ-owe","Verb  "," "," ","ἁρπάσω","ἤρπασα","arpazw arpasw hrpasa","726",726,"ἁρπάζω",true,true,true,"38"," ","I seize, I snatch","har-PAHZ-owe","Verb  "," "," ","ἁρπάσω","ἤρπασα","726",207,207,"38","ἁρπάζω"," ","I seize, I snatch","har-PAHZ-owe","Verb  ",""," ","ἁρπάσω","","ἤρπασα","726",207,207,"38","Verb  ","ἁρπάζω"," ","ἁρπάσω"," ","har-PAHZ-owe","I seize, I snatch","ἁρπάζω","Chapter 38: Verb  ","ἤρπασα","726",false,5207,218," "," "," ",207,""," ","  "," ",false,5207,211," "," "," ",207,""," "," "," ",false,5207,319,207,""," "," "," "]
[null,null,null,null,null,null,null,null,null,null,null,null,null,null,null,null,null,null,null,null,null,null,null,null,null,null,null,null,null,null,208,38,"ἄρτι"," ","now","ARR-tee","Adverb"," "," "," ","  ","arti","737",737,"ἄρτι",true,true,true,38," ","now","ARR-tee","Adverb"," "," "," ","  ","737",208,208,38,"ἄρτι"," ","now","ARR-tee","Adverb",""," "," ","","  ","737",208,208,38,"Adverb","ἄρτι"," "," "," ","ARR-tee","now","ἄρτι","Index of Textbook: Adverb","  ","737",false,5208,219," "," "," ",208,""," ","  "," ",false,5208,212," "," "," ",208,""," "," "," ",false,5208,320,208,""," "," "," "]
[null,null,null,null,null,null,null,null,null,null,null,null,null,null,null,null,null,null,null,null,null,null,null,null,null,null,null,null,null,null,209,"22","ἄρτος","*ἀρτο","bread, food, loaf","ARR-toss","Noun  ","ὁ"," "," ","  ","artos","740",740,"ἄρτος",true,true,true,"22","*ἀρτο","bread, food, loaf","ARR-toss","Noun  ","ὁ"," "," ","  ","740",209,209,"22","ὁ ἄρτος","*ἀρτο","bread, food, loaf","ARR-toss","Noun  ","ὁ "," "," ","ὁ ","  ","740",209,209,"22","Noun  ","ὁ ἄρτος"," "," ","*ἀρτο","ARR-toss","bread, food, loaf","ὁ ἄρτος","Chapter 22: Noun  ","  ","740",false,5209,220," "," "," ",209,""," ","  "," ",false,5209,213," "," "," ",209,""," "," "," ",false,5209,321,209,""," "," "," "]
[null,null,null,null,null,null,null,null,null,null,null,null,null,null,null,null,null,null,null,null,null,null,null,null,null,null,null,null,null,null,210,"38","ἀρχαῖος"," ","ancient, old","ark-EYE-oss","Adjective"," "," "," "," ","arcaios","744",744,"ἀρχαῖος",true,true,true,"38"," ","ancient, old","ark-EYE-oss","Adjective"," "," "," "," ","744",210,210,"38","ἀρχαῖος"," ","ancient, old","ark-EYE-oss","Adjective",""," "," ",""," ","744",210,210,"38","Adjective","ἀρχαῖος"," "," "," ","ark-EYE-oss","ancient, old","ἀρχαῖος","Chapter 38: Adjective"," ","744",false,5210,221," "," "," ",210,""," ","  "," ",false,5210,214," "," "," ",210,""," "," "," ",false,5210,322,210,""," "," "," "]
[null,null,null,null,null,null,null,null,null,null,null,null,null,null,null,null,null,null,null,null,null,null,null,null,null,null,null,null,null,null,211,"07","ἀρχή","*ἀρχη","beginning, ruler","arr-KAY","Noun  ","ἡ"," "," ","  ","arch","746",746,"ἀρχή",true,true,true,"07","*ἀρχη","beginning, ruler","arr-KAY","Noun  ","ἡ"," "," ","  ","746",211,211,"07","ἡ ἀρχή","*ἀρχη","beginning, ruler","arr-KAY","Noun  ","ἡ "," "," ","ἡ ","  ","746",211,211,"07","Noun  ","ἡ ἀρχή"," "," ","*ἀρχη","arr-KAY","beginning, ruler","ἡ ἀρχή","Chapter 07: Noun  ","  ","746",false,5211,222," "," "," ",211,""," ","  "," ",false,5211,215," "," "," ",211,""," "," "," ",false,5211,323,211,""," "," "," "]
[null,null,null,null,null,null,null,null,null,null,null,null,null,null,null,null,null,null,null,null,null,null,null,null,null,null,null,null,null,null,212,"27","ἀρχιερεύς","*ἀρχιερευ","chief priest, high priest","arx-ee-err-YUCE","Noun  ","ὁ"," "," ","  ","arciereus","749",749,"ἀρχιερεύς",true,true,true,"27","*ἀρχιερευ","chief priest, high priest","arx-ee-err-YUCE","Noun  ","ὁ"," "," ","  ","749",212,212,"27","ὁ ἀρχιερεύς","*ἀρχιερευ","chief priest, high priest","arx-ee-err-YUCE","Noun  ","ὁ "," "," ","ὁ ","  ","749",212,212,"27","Noun  ","ὁ ἀρχιερεύς"," "," ","*ἀρχιερευ","arx-ee-err-YUCE","chief priest, high priest","ὁ ἀρχιερεύς","Chapter 27: Noun  ","  ","749",false,5212,223," "," "," ",212,""," ","  "," ",false,5212,216," "," "," ",212,""," "," "," ",false,5212,324,212,""," "," "," "]
[null,null,null,null,null,null,null,null,null,null,null,null,null,null,null,null,null,null,null,null,null,null,null,null,null,null,null,null,null,null,213,"23","ἄρχομαι","*ἀρχ","I begin, (I rule)","ARX-om-eye","Verb  "," ","-","ἄρξομαι","ἠρξάμην","arcomai arxomai hrxamhn","756, 757",756.1,"ἄρχομαι",true,true,true,"23","*ἀρχ","I begin, (I rule)","ARX-om-eye","Verb  "," ","-","ἄρξομαι","ἠρξάμην","756, 757",213,213,{"$f":"IF(AV216,AW216,\" \")","v":"23"},"ἄρχομαι",{"$f":"IF($AV216,AX216,\" \")","v":"*ἀρχ"},{"$f":"IF($AV216,AY216,\" \")","v":"I begin, (I rule)"},{"$f":"IF($AV216,AZ216,\" \")","v":"ARX-om-eye"},{"$f":"IF($AV216,BA216,\" \")","v":"Verb  "},"",{"$f":"IF($AV216,BC216,\" \")","v":"-"},{"$f":"IF($AV216,BD216,\" \")","v":"ἄρξομαι"},"","ἠρξάμην",{"$f":"IF($AV216,BF216,\" \")","v":"756, 757"},213,213,"23","Verb  ","ἄρχομαι","-","ἄρξομαι","*ἀρχ","ARX-om-eye","I begin, (I rule)","ἄρχομαι","Chapter 23: Verb  ","ἠρξάμην","756, 757",false,5213,224," "," "," ",213,""," ","  "," ",false,5213,217," "," "," ",213,""," "," "," ",false,5213,325,213,""," "," "," "]
[null,null,null,null,null,null,null,null,null,null,null,null,null,null,null,null,null,null,null,null,null,null,null,null,null,null,null,null,null,null,214,38,"ἄρχων"," ","ruler, official","ar-kone","Noun  ","ὁ"," "," ","  ","arcwn","758",758,"ἄρχων",true,true,true,38," ","ruler, official","ar-kone","Noun  ","ὁ"," "," ","  ","758",214,214,38,"ὁ ἄρχων"," ","ruler, official","ar-kone","Noun  ","ὁ "," "," ","ὁ ","  ","758",214,214,38,"Noun  ","ὁ ἄρχων"," "," "," ","ar-kone","ruler, official","ὁ ἄρχων","Index of Textbook: Noun  ","  ","758",false,5214,225," "," "," ",214,""," ","  "," ",false,5214,218," "," "," ",214,""," "," "," ",false,5214,326,214,""," "," "," "]
[null,null,null,null,null,null,null,null,null,null,null,null,null,null,null,null,null,null,null,null,null,null,null,null,null,null,null,null,null,null,215,"38","ἀσέλγεια"," ","licentiousness, debauchery, sensuality","ah-SEL-gay-ah","Noun  ","ἡ"," "," "," ","aselgeia","766",766,"ἀσέλγεια",true,true,true,"38"," ","licentiousness, debauchery, sensuality","ah-SEL-gay-ah","Noun  ","ἡ"," "," "," ","766",215,215,"38","ἡ ἀσέλγεια"," ","licentiousness, debauchery, sensuality","ah-SEL-gay-ah","Noun  ","ἡ "," "," ","ἡ "," ","766",215,215,"38","Noun  ","ἡ ἀσέλγεια"," "," "," ","ah-SEL-gay-ah","licentiousness, debauchery, sensuality","ἡ ἀσέλγεια","Chapter 38: Noun  "," ","766",false,5215,226," "," "," ",215,""," ","  "," ",false,5215,219," "," "," ",215,""," "," "," ",false,5215,327,215,""," "," "," "]
[null,null,null,null,null,null,null,null,null,null,null,null,null,null,null,null,null,null,null,null,null,null,null,null,null,null,null,null,null,null,216,38,"ἀσθένεια"," ","weakness, sickness","as-THENN-ay-ah","Noun  ","ἡ"," "," ","  ","asqeneia","769",769,"ἀσθένεια",true,true,true,38," ","weakness, sickness","as-THENN-ay-ah","Noun  ","ἡ"," "," ","  ","769",216,216,38,"ἡ ἀσθένεια"," ","weakness, sickness","as-THENN-ay-ah","Noun  ","ἡ "," "," ","ἡ ","  ","769",216,216,38,"Noun  ","ἡ ἀσθένεια"," "," "," ","as-THENN-ay-ah","weakness, sickness","ἡ ἀσθένεια","Index of Textbook: Noun  ","  ","769",false,5216,227," "," "," ",216,""," ","  "," ",false,5216,220," "," "," ",216,""," "," "," ",false,5216,328,216,""," "," "," "]
[null,null,null,null,null,null,null,null,null,null,null,null,null,null,null,null,null,null,null,null,null,null,null,null,null,null,null,null,null,null,217,38,"ἀσθενέω"," ","I am sick, I am weak","as-thenn-EH-owe","Verb  "," ","ἠσθενοῦν","-","ἠσθένησα","asqenew hsqenhsa","770",770,"ἀσθενέω",true,true,true,38," ","I am sick, I am weak","as-thenn-EH-owe","Verb  "," ","ἠσθενοῦν","-","ἠσθένησα","770",217,217,38,"ἀσθενέω"," ","I am sick, I am weak","as-thenn-EH-owe","Verb  ","","ἠσθενοῦν","-","","ἠσθένησα","770",217,217,38,"Verb  ","ἀσθενέω","ἠσθενοῦν","-"," ","as-thenn-EH-owe","I am sick, I am weak","ἀσθενέω","Index of Textbook: Verb  ","ἠσθένησα","770",false,5217,228," "," "," ",217,""," ","  "," ",false,5217,221," "," "," ",217,""," "," "," ",false,5217,329,217,""," "," "," "]
[null,null,null,null,null,null,null,null,null,null,null,null,null,null,null,null,null,null,null,null,null,null,null,null,null,null,null,null,null,null,218,38,"ἀσθενής"," ","weak, sick","as-thenn-ACE","Adjective"," "," "," ","  ","asqenhs","772",772,"ἀσθενής",true,true,true,38," ","weak, sick","as-thenn-ACE","Adjective"," "," "," ","  ","772",218,218,38,"ἀσθενής"," ","weak, sick","as-thenn-ACE","Adjective",""," "," ","","  ","772",218,218,38,"Adjective","ἀσθενής"," "," "," ","as-thenn-ACE","weak, sick","ἀσθενής","Index of Textbook: Adjective","  ","772",false,5218,229," "," "," ",218,""," ","  "," ",false,5218,222," "," "," ",218,""," "," "," ",false,5218,330,218,""," "," "," "]
[null,null,null,null,null,null,null,null,null,null,null,null,null,null,null,null,null,null,null,null,null,null,null,null,null,null,null,null,null,null,219,"38","Ἀσία"," ","Asia (the Roman province that is now more-or-less Turkey; not the continent)","ahss-EE-ah","Proper Noun","ἡ"," "," "," ","asia","773",773,"Ἀσία",true,true,true,"38"," ","Asia (the Roman province that is now more-or-less Turkey; not the continent)","ahss-EE-ah","Proper Noun","ἡ"," "," "," ","773",219,219,"38","ἡ Ἀσία"," ","Asia (the Roman province that is now more-or-less Turkey; not the continent)","ahss-EE-ah","Proper Noun","ἡ "," "," ","ἡ "," ","773",219,219,"38","Proper Noun","ἡ Ἀσία"," "," "," ","ahss-EE-ah","Asia (the Roman province that is now more-or-less Turkey; not the continent)","ἡ Ἀσία","Chapter 38: Proper Noun"," ","773",false,5219,230," "," "," ",219,""," ","  "," ",false,5219,223," "," "," ",219,""," "," "," ",false,5219,331,219,""," "," "," "]
[null,null,null,null,null,null,null,null,null,null,null,null,null,null,null,null,null,null,null,null,null,null,null,null,null,null,null,null,null,null,220,"38","ἀσκός"," ","leather bottle, wineskin","ah-SKOSS","Noun  ","ὁ"," "," "," ","askos","779",779,"ἀσκός",true,true,true,"38"," ","leather bottle, wineskin","ah-SKOSS","Noun  ","ὁ"," "," "," ","779",220,220,"38","ὁ ἀσκός"," ","leather bottle, wineskin","ah-SKOSS","Noun  ","ὁ "," "," ","ὁ "," ","779",220,220,"38","Noun  ","ὁ ἀσκός"," "," "," ","ah-SKOSS","leather bottle, wineskin","ὁ ἀσκός","Chapter 38: Noun  "," ","779",false,5220,231," "," "," ",220,""," ","  "," ",false,5220,224," "," "," ",220,""," "," "," ",false,5220,332,220,""," "," "," "]
[null,null,null,null,null,null,null,null,null,null,null,null,null,null,null,null,null,null,null,null,null,null,null,null,null,null,null,null,null,null,221,"28","ἀσπάζομαι","*ἀσπαδ","I greet, I salute","ahs-PAHZ-oe-my","Verb  "," ","ἠσπαζόμην","-","ἠσπασάμην","aspazomai hspazomhn hspasamhn","782",782,"ἀσπάζομαι",true,true,true,"28","*ἀσπαδ","I greet, I salute","ahs-PAHZ-oe-my","Verb  "," ","ἠσπαζόμην","-","ἠσπασάμην","782",221,221,"28","ἀσπάζομαι","*ἀσπαδ","I greet, I salute","ahs-PAHZ-oe-my","Verb  ","","ἠσπαζόμην","-","","ἠσπασάμην","782",221,221,"28","Verb  ","ἀσπάζομαι","ἠσπαζόμην","-","*ἀσπαδ","ahs-PAHZ-oe-my","I greet, I salute","ἀσπάζομαι","Chapter 28: Verb  ","ἠσπασάμην","782",false,5221,232," "," "," ",221,""," ","  "," ",false,5221,225," "," "," ",221,""," "," "," ",false,5221,333,221,""," "," "," "]
[null,null,null,null,null,null,null,null,null,null,null,null,null,null,null,null,null,null,null,null,null,null,null,null,null,null,null,null,null,null,222,"38","ἀσπασμός"," ","greeting","ah-spahss-MOSS","Noun  ","ὁ"," "," "," ","aspasmos","783",783,"ἀσπασμός",true,true,true,"38"," ","greeting","ah-spahss-MOSS","Noun  ","ὁ"," "," "," ","783",222,222,"38","ὁ ἀσπασμός"," ","greeting","ah-spahss-MOSS","Noun  ","ὁ "," "," ","ὁ "," ","783",222,222,"38","Noun  ","ὁ ἀσπασμός"," "," "," ","ah-spahss-MOSS","greeting","ὁ ἀσπασμός","Chapter 38: Noun  "," ","783",false,5222,233," "," "," ",222,""," ","  "," ",false,5222,226," "," "," ",222,""," "," "," ",false,5222,334,222,""," "," "," "]
[null,null,null,null,null,null,null,null,null,null,null,null,null,null,null,null,null,null,null,null,null,null,null,null,null,null,null,null,null,null,223,"38","ἀστήρ",null,"star, celestial body,","ah-STARE","Noun  ","ὁ"," "," "," ","asthr","792",792,"ἀστήρ",true,true,true,"38",0,"star, celestial body,","ah-STARE","Noun  ","ὁ"," "," "," ","792",223,223,"38","ὁ ἀστήρ",0,"star, celestial body,","ah-STARE","Noun  ","ὁ "," "," ","ὁ "," ","792",223,223,"38","Noun  ","ὁ ἀστήρ"," "," ",0,"ah-STARE","star, celestial body,","ὁ ἀστήρ","Chapter 38: Noun  "," ","792",false,5223,234," "," "," ",223,""," ","  "," ",false,5223,227," "," "," ",223,""," "," "," ",false,5223,335,223,""," "," "," "]
[null,null,null,null,null,null,null,null,null,null,null,null,null,null,null,null,null,null,null,null,null,null,null,null,null,null,null,null,null,null,224,"37","ἀστράπτω"," ","I dazzle","ahss-TRAHP-toe","Verb  "," "," ","ἤστραψα"," ","astraptw","797",797,"ἀστράπτω",true,true,true,"37"," ","I dazzle","ahss-TRAHP-toe","Verb  "," "," ","ἤστραψα"," ","797",224,224,"37","ἀστράπτω"," ","I dazzle","ahss-TRAHP-toe","Verb  ",""," ","ἤστραψα",""," ","797",224,224,"37","Verb  ","ἀστράπτω"," ","ἤστραψα"," ","ahss-TRAHP-toe","I dazzle","ἀστράπτω","Extra: Verb  "," ","797",false,5224,235," "," "," ",224,""," ","  "," ",false,5224,228," "," "," ",224,""," "," "," ",false,5224,336,224,""," "," "," "]
[null,null,null,null,null,null,null,null,null,null,null,null,null,null,null,null,null,null,null,null,null,null,null,null,null,null,null,null,null,null,225,"37","ἀσύμφορος"," ","harmful, unprofitable, inconvenient, useless","ah-SOOM-for-oss","Adjective"," "," "," ","  ","asumforos","800a",800.1,"ἀσύμφορος",true,true,true,"37"," ","harmful, unprofitable, inconvenient, useless","ah-SOOM-for-oss","Adjective"," "," "," ","  ","800a",225,225,"37","ἀσύμφορος"," ","harmful, unprofitable, inconvenient, useless","ah-SOOM-for-oss","Adjective",""," "," ","","  ","800a",225,225,"37","Adjective","ἀσύμφορος"," "," "," ","ah-SOOM-for-oss","harmful, unprofitable, inconvenient, useless","ἀσύμφορος","Extra: Adjective","  ","800a",false,5225,236," "," "," ",225,""," ","  "," ",false,5225,229," "," "," ",225,""," "," "," ",false,5225,337,225,""," "," "," "]
[null,null,null,null,null,null,null,null,null,null,null,null,null,null,null,null,null,null,null,null,null,null,null,null,null,null,null,null,null,null,226,"38","ἀτενίζω"," ","I stare at; I look (at) intently","ah-ten-EE-zoe","Verb  "," "," "," ","ἠτένισα","atenizw htenisa","816",816,"ἀτενίζω",true,true,true,"38"," ","I stare at; I look (at) intently","ah-ten-EE-zoe","Verb  "," "," "," ","ἠτένισα","816",226,226,"38","ἀτενίζω"," ","I stare at; I look (at) intently","ah-ten-EE-zoe","Verb  ",""," "," ","","ἠτένισα","816",226,226,"38","Verb  ","ἀτενίζω"," "," "," ","ah-ten-EE-zoe","I stare at; I look (at) intently","ἀτενίζω","Chapter 38: Verb  ","ἠτένισα","816",false,5226,237," "," "," ",226,""," ","  "," ",false,5226,230," "," "," ",226,""," "," "," ",false,5226,338,226,""," "," "," "]
[null,null,null,null,null,null,null,null,null,null,null,null,null,null,null,null,null,null,null,null,null,null,null,null,null,null,null,null,null,null,227,"38","αύλή"," ","courtyard","ow-LAY","Noun  ","ἡ"," "," "," ","aulh","833",833,"αύλή",true,true,true,"38"," ","courtyard","ow-LAY","Noun  ","ἡ"," "," "," ","833",227,227,"38","ἡ αύλή"," ","courtyard","ow-LAY","Noun  ","ἡ "," "," ","ἡ "," ","833",227,227,"38","Noun  ","ἡ αύλή"," "," "," ","ow-LAY","courtyard","ἡ αύλή","Chapter 38: Noun  "," ","833",false,5227,238," "," "," ",227,""," ","  "," ",false,5227,231," "," "," ",227,""," "," "," ",false,5227,339,227,""," "," "," "]
[null,null,null,null,null,null,null,null,null,null,null,null,null,null,null,null,null,null,null,null,null,null,null,null,null,null,null,null,null,null,228,38,"αὐξάνω"," ","I grow, I increase","owk-SAHN-owe","Verb  "," ","ηὔξανον","αὐξήσω","ηὔξησα","auxanw huxanon auxhsw huxhsa","837",837,"αὐξάνω",true,true,true,38," ","I grow, I increase","owk-SAHN-owe","Verb  "," ","ηὔξανον","αὐξήσω","ηὔξησα","837",228,228,38,"αὐξάνω"," ","I grow, I increase","owk-SAHN-owe","Verb  ","","ηὔξανον","αὐξήσω","","ηὔξησα","837",228,228,38,"Verb  ","αὐξάνω","ηὔξανον","αὐξήσω"," ","owk-SAHN-owe","I grow, I increase","αὐξάνω","Index of Textbook: Verb  ","ηὔξησα","837",false,5228,239," "," "," ",228,""," ","  "," ",false,5228,232," "," "," ",228,""," "," "," ",false,5228,340,228,""," "," "," "]
[null,null,null,null,null,null,null,null,null,null,null,null,null,null,null,null,null,null,null,null,null,null,null,null,null,null,null,null,null,null,229,"38","αὔριον"," ","tomorrow, next day","OW-ree-on","Adverb"," "," "," ","  ","aurion","839",839,"αὔριον",true,true,true,"38"," ","tomorrow, next day","OW-ree-on","Adverb"," "," "," ","  ","839",229,229,"38","αὔριον"," ","tomorrow, next day","OW-ree-on","Adverb",""," "," ","","  ","839",229,229,"38","Adverb","αὔριον"," "," "," ","OW-ree-on","tomorrow, next day","αὔριον","Chapter 38: Adverb","  ","839",false,5229,240," "," "," ",229,""," ","  "," ",false,5229,233," "," "," ",229,""," "," "," ",false,5229,341,229,""," "," "," "]
[null,null,null,null,null,null,null,null,null,null,null,null,null,null,null,null,null,null,null,null,null,null,null,null,null,null,null,null,null,null,230,"12","αὐτός","*αὐτο","he (nominative, singular, masculine)","ow-TOSS","Pronoun"," "," "," ","  ","autos","846",846.01,"αὐτός",true,true,true,"12","*αὐτο","he (nominative, singular, masculine)","ow-TOSS","Pronoun"," "," "," ","  ","846",230,230,"12","αὐτός","*αὐτο","he (nominative, singular, masculine)","ow-TOSS","Pronoun",""," "," ","","  ","846",230,230,"12","Pronoun","αὐτός"," "," ","*αὐτο","ow-TOSS","he (nominative, singular, masculine)","αὐτός","Chapter 12: Pronoun","  ","846",false,5230,241," "," "," ",230,""," ","  "," ",false,5230,234," "," "," ",230,""," "," "," ",false,5230,342,230,""," "," "," "]
[null,null,null,null,null,null,null,null,null,null,null,null,null,null,null,null,null,null,null,null,null,null,null,null,null,null,null,null,null,null,231,"12","αὐτή","*αὐτο","she (nominative, singular, feminine)","ow-TAY","Pronoun"," "," "," ","  ","auth","846",846.02,"αὐτή",true,true,true,"12","*αὐτο","she (nominative, singular, feminine)","ow-TAY","Pronoun"," "," "," ","  ","846",231,231,"12","αὐτή","*αὐτο","she (nominative, singular, feminine)","ow-TAY","Pronoun",""," "," ","","  ","846",231,231,"12","Pronoun","αὐτή"," "," ","*αὐτο","ow-TAY","she (nominative, singular, feminine)","αὐτή","Chapter 12: Pronoun","  ","846",false,5231,242," "," "," ",231,""," ","  "," ",false,5231,235," "," "," ",231,""," "," "," ",false,5231,343,231,""," "," "," "]
[null,null,null,null,null,null,null,null,null,null,null,null,null,null,null,null,null,null,null,null,null,null,null,null,null,null,null,null,null,null,232,"12","αὐτό","*αὐτο","it (nominative or accusative, singular, neuter)","ow-TAH","Pronoun"," "," "," ","  ","auto","846",846.03,"αὐτό",true,true,true,"12","*αὐτο","it (nominative or accusative, singular, neuter)","ow-TAH","Pronoun"," "," "," ","  ","846",232,232,"12","αὐτό","*αὐτο","it (nominative or accusative, singular, neuter)","ow-TAH","Pronoun",""," "," ","","  ","846",232,232,"12","Pronoun","αὐτό"," "," ","*αὐτο","ow-TAH","it (nominative or accusative, singular, neuter)","αὐτό","Chapter 12: Pronoun","  ","846",false,5232,243," "," "," ",232,""," ","  "," ",false,5232,236," "," "," ",232,""," "," "," ",false,5232,344,232,""," "," "," "]
[null,null,null,null,null,null,null,null,null,null,null,null,null,null,null,null,null,null,null,null,null,null,null,null,null,null,null,null,null,null,233,"12","αὐτοῦ","*αὐτο","his/of him/its/of it (genitive, singular, masculine or neuter)","ow-TOO","Pronoun"," "," "," ","  ","autou","846",846.04,"αὐτοῦ",true,true,true,"12","*αὐτο","his/of him/its/of it (genitive, singular, masculine or neuter)","ow-TOO","Pronoun"," "," "," ","  ","846",233,233,"12","αὐτοῦ","*αὐτο","his/of him/its/of it (genitive, singular, masculine or neuter)","ow-TOO","Pronoun",""," "," ","","  ","846",233,233,"12","Pronoun","αὐτοῦ"," "," ","*αὐτο","ow-TOO","his/of him/its/of it (genitive, singular, masculine or neuter)","αὐτοῦ","Chapter 12: Pronoun","  ","846",false,5233,244," "," "," ",233,""," ","  "," ",false,5233,237," "," "," ",233,""," "," "," ",false,5233,345,233,""," "," "," "]
[null,null,null,null,null,null,null,null,null,null,null,null,null,null,null,null,null,null,null,null,null,null,null,null,null,null,null,null,null,null,234,"12","αὐτῆς","*αὐτο","her/hers/of her (genitive, singular, feminine)","ow-TASE","Pronoun"," "," "," ","  ","auths","846",846.05,"αὐτῆς",true,true,true,"12","*αὐτο","her/hers/of her (genitive, singular, feminine)","ow-TASE","Pronoun"," "," "," ","  ","846",234,234,"12","αὐτῆς","*αὐτο","her/hers/of her (genitive, singular, feminine)","ow-TASE","Pronoun",""," "," ","","  ","846",234,234,"12","Pronoun","αὐτῆς"," "," ","*αὐτο","ow-TASE","her/hers/of her (genitive, singular, feminine)","αὐτῆς","Chapter 12: Pronoun","  ","846",false,5234,245," "," "," ",234,""," ","  "," ",false,5234,238," "," "," ",234,""," "," "," ",false,5234,346,234,""," "," "," "]
[null,null,null,null,null,null,null,null,null,null,null,null,null,null,null,null,null,null,null,null,null,null,null,null,null,null,null,null,null,null,235,"12","αὐτῷ","*αὐτο","to him/to it (dative, singular, masculine or neuter)","ow-TOE","Pronoun"," "," "," ","  ","autw","846",846.06,"αὐτῷ",true,true,true,"12","*αὐτο","to him/to it (dative, singular, masculine or neuter)","ow-TOE","Pronoun"," "," "," ","  ","846",235,235,"12","αὐτῷ","*αὐτο","to him/to it (dative, singular, masculine or neuter)","ow-TOE","Pronoun",""," "," ","","  ","846",235,235,"12","Pronoun","αὐτῷ"," "," ","*αὐτο","ow-TOE","to him/to it (dative, singular, masculine or neuter)","αὐτῷ","Chapter 12: Pronoun","  ","846",false,5235,246," "," "," ",235,""," ","  "," ",false,5235,239," "," "," ",235,""," "," "," ",false,5235,347,235,""," "," "," "]
[null,null,null,null,null,null,null,null,null,null,null,null,null,null,null,null,null,null,null,null,null,null,null,null,null,null,null,null,null,null,236,"12","αὐτῇ","*αὐτο","to her (dative, singular, feminine)","ow-TAY","Pronoun"," "," "," ","  ","auth","846",846.07,"αὐτῇ",true,true,true,"12","*αὐτο","to her (dative, singular, feminine)","ow-TAY","Pronoun"," "," "," ","  ","846",236,236,"12","αὐτῇ","*αὐτο","to her (dative, singular, feminine)","ow-TAY","Pronoun",""," "," ","","  ","846",236,236,"12","Pronoun","αὐτῇ"," "," ","*αὐτο","ow-TAY","to her (dative, singular, feminine)","αὐτῇ","Chapter 12: Pronoun","  ","846",false,5236,247," "," "," ",236,""," ","  "," ",false,5236,240," "," "," ",236,""," "," "," ",false,5236,348,236,""," "," "," "]
[null,null,null,null,null,null,null,null,null,null,null,null,null,null,null,null,null,null,null,null,null,null,null,null,null,null,null,null,null,null,237,"12","αὐτόν","*αὐτο","him (accusative, singular, masculine)","ow-TAHN","Pronoun"," "," "," ","  ","auton","846",846.08,"αὐτόν",true,true,true,"12","*αὐτο","him (accusative, singular, masculine)","ow-TAHN","Pronoun"," "," "," ","  ","846",237,237,"12","αὐτόν","*αὐτο","him (accusative, singular, masculine)","ow-TAHN","Pronoun",""," "," ","","  ","846",237,237,"12","Pronoun","αὐτόν"," "," ","*αὐτο","ow-TAHN","him (accusative, singular, masculine)","αὐτόν","Chapter 12: Pronoun","  ","846",false,5237,248," "," "," ",237,""," ","  "," ",false,5237,241," "," "," ",237,""," "," "," ",false,5237,349,237,""," "," "," "]
[null,null,null,null,null,null,null,null,null,null,null,null,null,null,null,null,null,null,null,null,null,null,null,null,null,null,null,null,null,null,238,"12","αὐτήν","*αὐτο","her (accusative, singular, feminine)","ow-TAYN","Pronoun"," "," "," ","  ","authn","846",846.09,"αὐτήν",true,true,true,"12","*αὐτο","her (accusative, singular, feminine)","ow-TAYN","Pronoun"," "," "," ","  ","846",238,238,"12","αὐτήν","*αὐτο","her (accusative, singular, feminine)","ow-TAYN","Pronoun",""," "," ","","  ","846",238,238,"12","Pronoun","αὐτήν"," "," ","*αὐτο","ow-TAYN","her (accusative, singular, feminine)","αὐτήν","Chapter 12: Pronoun","  ","846",false,5238,249," "," "," ",238,""," ","  "," ",false,5238,242," "," "," ",238,""," "," "," ",false,5238,350,238,""," "," "," "]
[null,null,null,null,null,null,null,null,null,null,null,null,null,null,null,null,null,null,null,null,null,null,null,null,null,null,null,null,null,null,239,"12","αὐτοί","*αὐτο","they (nominative, plural, masculine)","ow-TOY","Pronoun"," "," "," ","  ","autoi","846",846.1,"αὐτοί",true,true,true,"12","*αὐτο","they (nominative, plural, masculine)","ow-TOY","Pronoun"," "," "," ","  ","846",239,239,"12","αὐτοί","*αὐτο","they (nominative, plural, masculine)","ow-TOY","Pronoun",""," "," ","","  ","846",239,239,"12","Pronoun","αὐτοί"," "," ","*αὐτο","ow-TOY","they (nominative, plural, masculine)","αὐτοί","Chapter 12: Pronoun","  ","846",false,5239,250," "," "," ",239,""," ","  "," ",false,5239,243," "," "," ",239,""," "," "," ",false,5239,351,239,""," "," "," "]
[null,null,null,null,null,null,null,null,null,null,null,null,null,null,null,null,null,null,null,null,null,null,null,null,null,null,null,null,null,null,240,"12","αὐταί","*αὐτο","they (nominative, plural, feminine)","ow-TIE","Pronoun"," "," "," ","  ","autai","846",846.11,"αὐταί",true,true,true,"12","*αὐτο","they (nominative, plural, feminine)","ow-TIE","Pronoun"," "," "," ","  ","846",240,240,"12","αὐταί","*αὐτο","they (nominative, plural, feminine)","ow-TIE","Pronoun",""," "," ","","  ","846",240,240,"12","Pronoun","αὐταί"," "," ","*αὐτο","ow-TIE","they (nominative, plural, feminine)","αὐταί","Chapter 12: Pronoun","  ","846",false,5240,251," "," "," ",240,""," ","  "," ",false,5240,244," "," "," ",240,""," "," "," ",false,5240,352,240,""," "," "," "]
[null,null,null,null,null,null,null,null,null,null,null,null,null,null,null,null,null,null,null,null,null,null,null,null,null,null,null,null,null,null,241,"12","αὐτά","*αὐτο","they/them (nominative or accusative, plural, neuter)","ow-TAH","Pronoun"," "," "," ","  ","auta","846",846.12,"αὐτά",true,true,true,"12","*αὐτο","they/them (nominative or accusative, plural, neuter)","ow-TAH","Pronoun"," "," "," ","  ","846",241,241,"12","αὐτά","*αὐτο","they/them (nominative or accusative, plural, neuter)","ow-TAH","Pronoun",""," "," ","","  ","846",241,241,"12","Pronoun","αὐτά"," "," ","*αὐτο","ow-TAH","they/them (nominative or accusative, plural, neuter)","αὐτά","Chapter 12: Pronoun","  ","846",false,5241,252," "," "," ",241,""," ","  "," ",false,5241,245," "," "," ",241,""," "," "," ",false,5241,353,241,""," "," "," "]
[null,null,null,null,null,null,null,null,null,null,null,null,null,null,null,null,null,null,null,null,null,null,null,null,null,null,null,null,null,null,242,"12","αὐτῶν","*αὐτο","their/theirs/of them (genitive, plural, masculine, feminine, neuter)","ow-TONE","Pronoun"," "," "," ","  ","autwn","846",846.13,"αὐτῶν",true,true,true,"12","*αὐτο","their/theirs/of them (genitive, plural, masculine, feminine, neuter)","ow-TONE","Pronoun"," "," "," ","  ","846",242,242,"12","αὐτῶν","*αὐτο","their/theirs/of them (genitive, plural, masculine, feminine, neuter)","ow-TONE","Pronoun",""," "," ","","  ","846",242,242,"12","Pronoun","αὐτῶν"," "," ","*αὐτο","ow-TONE","their/theirs/of them (genitive, plural, masculine, feminine, neuter)","αὐτῶν","Chapter 12: Pronoun","  ","846",false,5242,253," "," "," ",242,""," ","  "," ",false,5242,246," "," "," ",242,""," "," "," ",false,5242,354,242,""," "," "," "]
[null,null,null,null,null,null,null,null,null,null,null,null,null,null,null,null,null,null,null,null,null,null,null,null,null,null,null,null,null,null,243,"12","αὐτοῖς","*αὐτο","to them (dative, plural, masculine or neuter)","ow-TOISE","Pronoun"," "," "," ","  ","autois","846",846.14,"αὐτοῖς",true,true,true,"12","*αὐτο","to them (dative, plural, masculine or neuter)","ow-TOISE","Pronoun"," "," "," ","  ","846",243,243,"12","αὐτοῖς","*αὐτο","to them (dative, plural, masculine or neuter)","ow-TOISE","Pronoun",""," "," ","","  ","846",243,243,"12","Pronoun","αὐτοῖς"," "," ","*αὐτο","ow-TOISE","to them (dative, plural, masculine or neuter)","αὐτοῖς","Chapter 12: Pronoun","  ","846",false,5243,254," "," "," ",243,""," ","  "," ",false,5243,247," "," "," ",243,""," "," "," ",false,5243,355,243,""," "," "," "]
[null,null,null,null,null,null,null,null,null,null,null,null,null,null,null,null,null,null,null,null,null,null,null,null,null,null,null,null,null,null,244,"12","αὐταῖς","*αὐτο","to them (dative, plural, feminine)","ow-TICE","Pronoun"," "," "," ","  ","autais","846",846.15,"αὐταῖς",true,true,true,"12","*αὐτο","to them (dative, plural, feminine)","ow-TICE","Pronoun"," "," "," ","  ","846",244,244,"12","αὐταῖς","*αὐτο","to them (dative, plural, feminine)","ow-TICE","Pronoun",""," "," ","","  ","846",244,244,"12","Pronoun","αὐταῖς"," "," ","*αὐτο","ow-TICE","to them (dative, plural, feminine)","αὐταῖς","Chapter 12: Pronoun","  ","846",false,5244,255," "," "," ",244,""," ","  "," ",false,5244,248," "," "," ",244,""," "," "," ",false,5244,356,244,""," "," "," "]
[null,null,null,null,null,null,null,null,null,null,null,null,null,null,null,null,null,null,null,null,null,null,null,null,null,null,null,null,null,null,245,"12","αὐτούς","*αὐτο","them (accusative, plural, masculine)","ow-TOOSE","Pronoun"," "," "," ","  ","autous","846",846.16,"αὐτούς",true,true,true,"12","*αὐτο","them (accusative, plural, masculine)","ow-TOOSE","Pronoun"," "," "," ","  ","846",245,245,"12","αὐτούς","*αὐτο","them (accusative, plural, masculine)","ow-TOOSE","Pronoun",""," "," ","","  ","846",245,245,"12","Pronoun","αὐτούς"," "," ","*αὐτο","ow-TOOSE","them (accusative, plural, masculine)","αὐτούς","Chapter 12: Pronoun","  ","846",false,5245,256," "," "," ",245,""," ","  "," ",false,5245,249," "," "," ",245,""," "," "," ",false,5245,357,245,""," "," "," "]
[null,null,null,null,null,null,null,null,null,null,null,null,null,null,null,null,null,null,null,null,null,null,null,null,null,null,null,null,null,null,246,"12","αὐτάς","*αὐτο","them (accusative, plural, feminine)","ow-TAHS","Pronoun"," "," "," ","  ","autas","846",846.17,"αὐτάς",true,true,true,"12","*αὐτο","them (accusative, plural, feminine)","ow-TAHS","Pronoun"," "," "," ","  ","846",246,246,"12","αὐτάς","*αὐτο","them (accusative, plural, feminine)","ow-TAHS","Pronoun",""," "," ","","  ","846",246,246,"12","Pronoun","αὐτάς"," "," ","*αὐτο","ow-TAHS","them (accusative, plural, feminine)","αὐτάς","Chapter 12: Pronoun","  ","846",false,5246,257," "," "," ",246,""," ","  "," ",false,5246,250," "," "," ",246,""," "," "," ",false,5246,358,246,""," "," "," "]
[null,null,null,null,null,null,null,null,null,null,null,null,null,null,null,null,null,null,null,null,null,null,null,null,null,null,null,null,null,null,247,"38","ἀφαιρέω"," ","I remove, I cut off","ah-fiye-REH-owe","Verb  "," "," ","ἀφελῶ","ἀφεῖλον","afairew afelw afeilon","851",851,"ἀφαιρέω",true,true,true,"38"," ","I remove, I cut off","ah-fiye-REH-owe","Verb  "," "," ","ἀφελῶ","ἀφεῖλον","851",247,247,"38","ἀφαιρέω"," ","I remove, I cut off","ah-fiye-REH-owe","Verb  ",""," ","ἀφελῶ","","ἀφεῖλον","851",247,247,"38","Verb  ","ἀφαιρέω"," ","ἀφελῶ"," ","ah-fiye-REH-owe","I remove, I cut off","ἀφαιρέω","Chapter 38: Verb  ","ἀφεῖλον","851",false,5247,258," "," "," ",247,""," ","  "," ",false,5247,251," "," "," ",247,""," "," "," ",false,5247,359,247,""," "," "," "]
[null,null,null,null,null,null,null,null,null,null,null,null,null,null,null,null,null,null,null,null,null,null,null,null,null,null,null,null,null,null,251,"38","ἀφορίζω"," ","I separate, I set apart","ah-for-EE-zoe","Verb  "," ","ἀφώριζον","ἀφοριῶ or ἀφορίσω","ἀφώρισα","aforizw afwrizon aforiw aforisw afwrisa","873",873,"ἀφορίζω",true,true,true,"38"," ","I separate, I set apart","ah-for-EE-zoe","Verb  "," ","ἀφώριζον","ἀφοριῶ or ἀφορίσω","ἀφώρισα","873",251,251,"38","ἀφορίζω"," ","I separate, I set apart","ah-for-EE-zoe","Verb  ","","ἀφώριζον","ἀφοριῶ or ἀφορίσω","","ἀφώρισα","873",251,251,"38","Verb  ","ἀφορίζω","ἀφώριζον","ἀφοριῶ or ἀφορίσω"," ","ah-for-EE-zoe","I separate, I set apart","ἀφορίζω","Chapter 38: Verb  ","ἀφώρισα","873",false,5251,262," "," "," ",251,""," ","  "," ",false,5251,255," "," "," ",251,""," "," "," ",false,5251,363,251,""," "," "," "]
[null,null,null,null,null,null,null,null,null,null,null,null,null,null,null,null,null,null,null,null,null,null,null,null,null,null,null,null,null,null,256,"37","βαθύς"," ","deep, early","bah-THOOS","Adjective"," "," "," "," ","baqus","901",901,"βαθύς",true,true,true,"37"," ","deep, early","bah-THOOS","Adjective"," "," "," "," ","901",256,256,"37","βαθύς"," ","deep, early","bah-THOOS","Adjective",""," "," ",""," ","901",256,256,"37","Adjective","βαθύς"," "," "," ","bah-THOOS","deep, early","βαθύς","Extra: Adjective"," ","901",false,5256,267," "," "," ",256,""," ","  "," ",false,5256,260," "," "," ",256,""," "," "," ",false,5256,368,256,""," "," "," "]
[null,null,null,null,null,null,null,null,null,null,null,null,null,null,null,null,null,null,null,null,null,null,null,null,null,null,null,null,null,null,264,"06","βασιλεία","*βασιλεια","kingdom","bah-sill-AY-ah","Noun  ","ἡ"," "," ","  ","basileia","932",932,"βασιλεία",true,true,true,"06","*βασιλεια","kingdom","bah-sill-AY-ah","Noun  ","ἡ"," "," ","  ","932",264,264,"06","ἡ βασιλεία","*βασιλεια","kingdom","bah-sill-AY-ah","Noun  ","ἡ "," "," ","ἡ ","  ","932",264,264,"06","Noun  ","ἡ βασιλεία"," "," ","*βασιλεια","bah-sill-AY-ah","kingdom","ἡ βασιλεία","Chapter 06: Noun  ","  ","932",false,5264,275," "," "," ",264,""," ","  "," ",false,5264,268," "," "," ",264,""," "," "," ",false,5264,376,264,""," "," "," "]
[null,null,null,null,null,null,null,null,null,null,null,null,null,null,null,null,null,null,null,null,null,null,null,null,null,null,null,null,null,null,269,"38","βῆμα"," ","tribunal, judgement seat","BAY-mah","Noun  ","τό"," "," "," ","bhma","968",968,"βῆμα",true,true,true,"38"," ","tribunal, judgement seat","BAY-mah","Noun  ","τό"," "," "," ","968",269,269,"38","τό βῆμα"," ","tribunal, judgement seat","BAY-mah","Noun  ",{"$f":"IF($AV272,IF(BB272=\" \",\"\",BB272&\" \"),\"\")","v":"τό "}," "," ","τό "," ","968",269,269,"38","Noun  ","τό βῆμα"," "," "," ","BAY-mah","tribunal, judgement seat","τό βῆμα","Chapter 38: Noun  "," ","968",false,5269,280," "," "," ",269,""," ","  "," ",false,5269,273," "," "," ",269,""," "," "," ",false,5269,381,269,""," "," "," "]
[null,null,null,null,null,null,null,null,null,null,null,null,null,null,null,null,null,null,null,null,null,null,null,null,null,null,null,null,null,null,280,38,"βρῶμα"," ","food","BROE-mah","Noun  ","τό"," "," ","  ","brwma","1033",1033,"βρῶμα",true,true,true,38," ","food","BROE-mah","Noun  ","τό"," "," ","  ","1033",280,280,38,"τό βρῶμα"," ","food","BROE-mah","Noun  ","τό "," "," ","τό ","  ","1033",280,280,38,"Noun  ","τό βρῶμα"," "," "," ","BROE-mah","food","τό βρῶμα","Index of Textbook: Noun  ","  ","1033",false,5280,291," "," "," ",280,""," ","  "," ",false,5280,284," "," "," ",280,""," "," "," ",false,5280,392,280,""," "," "," "]
[null,null,null,null,null,null,null,null,null,null,null,null,null,null,null,null,null,null,null,null,null,null,null,null,null,null,null,null,null,null,284,38,"γαμέω"," ","I marry","gah-MEH-owe","Verb  "," ","ἐγάμουν","-","ἔγμηα, ἐγάμησα","gamew egamoun egmha egamhsa","1060",1060,"γαμέω",true,true,true,38," ","I marry","gah-MEH-owe","Verb  "," ","ἐγάμουν","-","ἔγμηα, ἐγάμησα","1060",284,284,38,"γαμέω"," ","I marry","gah-MEH-owe","Verb  ","","ἐγάμουν","-","","ἔγμηα, ἐγάμησα","1060",284,284,38,"Verb  ","γαμέω","ἐγάμουν","-"," ","gah-MEH-owe","I marry","γαμέω","Index of Textbook: Verb  ","ἔγμηα, ἐγάμησα","1060",false,5284,295," "," "," ",284,""," ","  "," ",false,5284,288," "," "," ",284,""," "," "," ",false,5284,396,284,""," "," "," "]
[null,null,null,null,null,null,null,null,null,null,null,null,null,null,null,null,null,null,null,null,null,null,null,null,null,null,null,null,null,null,289,"38","γέμω"," ","I am full","GEHM-owe","Verb  "," "," "," "," ","gemw","1073",1073,"γέμω",true,true,true,"38"," ","I am full","GEHM-owe","Verb  "," "," "," "," ","1073",289,289,"38","γέμω"," ","I am full","GEHM-owe","Verb  ",""," "," ",""," ","1073",289,289,"38","Verb  ","γέμω"," "," "," ","GEHM-owe","I am full","γέμω","Chapter 38: Verb  "," ","1073",false,5289,300," "," "," ",289,""," ","  "," ",false,5289,293," "," "," ",289,""," "," "," ",false,5289,399,289,""," "," "," "]
[null,null,null,null,null,null,null,null,null,null,null,null,null,null,null,null,null,null,null,null,null,null,null,null,null,null,null,null,null,null,297,"20","γινώσκω","*γνω","I know, I realize, I learn, I understand","gynn-owe-skoe","Verb  "," ","ἐγίνωσκον","γνώσομαι","ἔγνων","ginwskw eginwskon gnwsomai egnwn","1097",1097,"γινώσκω",true,true,true,"20","*γνω","I know, I realize, I learn, I understand","gynn-owe-skoe","Verb  "," ","ἐγίνωσκον","γνώσομαι","ἔγνων","1097",297,297,"20","γινώσκω","*γνω","I know, I realize, I learn, I understand","gynn-owe-skoe","Verb  ","","ἐγίνωσκον","γνώσομαι","","ἔγνων","1097",297,297,"20","Verb  ","γινώσκω","ἐγίνωσκον","γνώσομαι","*γνω","gynn-owe-skoe","I know, I realize, I learn, I understand","γινώσκω","Chapter 20: Verb  ","ἔγνων","1097",false,5297,308," "," "," ",297,""," ","  "," ",false,5297,301," "," "," ",297,""," "," "," ",false,5297,407,297,""," "," "," "]
[null,null,null,null,null,null,null,null,null,null,null,null,null,null,null,null,null,null,null,null,null,null,null,null,null,null,null,null,null,null,303,38,"γονεύς",null,"parent","gonn-YOOSE","Noun  ","ὁ"," "," ","  ","goneus","1118",1118,"γονεύς",true,true,true,38,0,"parent","gonn-YOOSE","Noun  ","ὁ"," "," ","  ","1118",303,303,38,"ὁ γονεύς",0,"parent","gonn-YOOSE","Noun  ","ὁ "," "," ","ὁ ","  ","1118",303,303,38,"Noun  ","ὁ γονεύς"," "," ",0,"gonn-YOOSE","parent","ὁ γονεύς","Index of Textbook: Noun  ","  ","1118",false,5303,314," "," "," ",303,""," ","  "," ",false,5303,307," "," "," ",303,""," "," "," ",false,5303,413,303,""," "," "," "]
[null,null,null,null,null,null,null,null,null,null,null,null,null,null,null,null,null,null,null,null,null,null,null,null,null,null,null,null,null,null,309,38,"γρηγορέω"," ","I am alert, I am watchful","gray-gor-EH-owe","Verb  "," ","-","-","ἐγρηγόρησα","grhgorew egrhgorhsa","1127",1127,"γρηγορέω",true,true,true,38," ","I am alert, I am watchful","gray-gor-EH-owe","Verb  "," ","-","-","ἐγρηγόρησα","1127",309,309,38,"γρηγορέω"," ","I am alert, I am watchful","gray-gor-EH-owe","Verb  ","","-","-","","ἐγρηγόρησα","1127",309,309,38,"Verb  ","γρηγορέω","-","-"," ","gray-gor-EH-owe","I am alert, I am watchful","γρηγορέω","Index of Textbook: Verb  ","ἐγρηγόρησα","1127",false,5309,320," "," "," ",309,""," ","  "," ",false,5309,313," "," "," ",309,""," "," "," ",false,5309,419,309,""," "," "," "]
[null,null,null,null,null,null,null,null,null,null,null,null,null,null,null,null,null,null,null,null,null,null,null,null,null,null,null,null,null,null,317,"06","δέ or δ"," ","but, and (particle)","deh","Conjunction"," "," "," ","  ","de","1161",1161,"δέ or δ",true,true,true,"06"," ","but, and (particle)","deh","Conjunction"," "," "," ","  ","1161",317,317,"06","δέ or δ"," ","but, and (particle)","deh","Conjunction",""," "," ","","  ","1161",317,317,"06","Conjunction","δέ or δ"," "," "," ","deh","but, and (particle)","δέ or δ","Chapter 06: Conjunction","  ","1161",false,5317,328," "," "," ",317,""," ","  "," ",false,5317,321," "," "," ",317,""," "," "," ",false,5317,427,317,""," "," "," "]
[null,null,null,null,null,null,null,null,null,null,null,null,null,null,null,null,null,null,null,null,null,null,null,null,null,null,null,null,null,null,322,38,"δεῖπνον"," ","dinner, an important meal","DAPE-non","Noun  ","τό"," "," ","  ","deipnon","1173",1173,{"$f":"IF(AG325=\"\",\"\",AG325)","v":"δεῖπνον"},true,{"$f":"IF(ISERR(FIND(AK325,$Y$23,1)),FALSE,TRUE)","v":true},{"$f":"AND(AT325,AU325)","v":true},{"$f":"IF(AC$3,AF325,\" \")","v":38},{"$f":"IF(AC$4,AH325,\" \")","v":" "},{"$f":"IF(TRUE,AI325,\" \")","v":"dinner, an important meal"},{"$f":"IF(AC$6,AJ325,\" \")","v":"DAPE-non"},{"$f":"IF(AC$7,AK325,\" \")","v":"Noun  "},{"$f":"IF(AC$8,AL325,\" \")","v":"τό"},{"$f":"IF(AC$9,AM325,\" \")","v":" "},{"$f":"IF(AC$10,AN325,\" \")","v":" "},{"$f":"IF(AC$9,AO325,\" \")","v":"  "},{"$f":"IF(AC$12,AQ325,\" \")","v":"1173"},322,322,38,"τό δεῖπνον"," ","dinner, an important meal","DAPE-non","Noun  ","τό "," "," ",{"$f":"IF($AV325,IF(AL325=\" \",\"\",AL325&\" \"),\"\")","v":"τό "},{"$f":"IF($AV325,BE325,\" \")","v":"  "},"1173",322,322,38,"Noun  ","τό δεῖπνον"," "," "," ","DAPE-non","dinner, an important meal","τό δεῖπνον",{"$f":"IF(BV325=\"\",\"\",IF(BW325=\"37\",\"Extra\", IF(BW325=38, \"Index of Textbook\",\"Chapter \" &BW325))&\": \"&BX325)","v":"Index of Textbook: Noun  "},"  ","1173",{"$f":"IF(ISERR(SEARCH(CL$2,AY325,1)),FALSE, TRUE)","v":false},5322,333," ",{"$f":"IF($CI325,AY325,\" \")","v":" "},{"$f":"IF($CI325,IF(AW325=\"37\",\" [Extra]\",IF(AW325=\"38\",\" [Index]\",  \" [Chap. \"&TEXT(VALUE(AW325),\"#\")&\"]\")),\" \")","v":" "},322,""," ","  "," ",false,5322,326," "," ",{"$f":"IF($CT325,IF(BB325=\" \",\"\",BB325&\" \")&AG325&CW325&\": \"&AY325&  IF(AF325=\"37\",\"  (Extra\",IF(AF325=\"38\",\"  (Index\",\"  (Chapter \"&TEXT(AF325,\"#\"))) &\", \"&CX325& IF(LEN(AM325)>1,\" [\"&AM325&\"]\",\"\") &IF(LEN(AN325)>1,\" [\"&AN325&\"]\",\"\")         &\")\",\" \")","v":" "},322,""," "," "," ",false,5322,431,322,""," ",{"$f":"IF($DE325,AY325,\" \")","v":" "}," "]
[null,null,null,null,null,null,null,null,null,null,null,null,null,null,null,null,null,null,null,null,null,null,null,null,null,null,null,null,null,null,334,38,"δέω"," ","I bind","DEH-owe","Verb  "," ","-","-","ἔδησα","dew edhsa","1210",1210,"δέω",true,true,true,38," ","I bind","DEH-owe","Verb  "," ","-","-","ἔδησα","1210",334,334,38,"δέω"," ","I bind","DEH-owe","Verb  ","","-","-","","ἔδησα","1210",334,334,38,"Verb  ","δέω","-","-"," ","DEH-owe","I bind","δέω","Index of Textbook: Verb  ","ἔδησα","1210",false,5334,345," "," "," ",334,""," ","  "," ",false,5334,338," "," "," ",334,""," "," "," ",true,334,13,334,"","δέω","I bind"," "]
[null,null,null,null,null,null,null,null,null,null,null,null,null,null,null,null,null,null,null,null,null,null,null,null,null,null,null,null,null,null,337,"08","διά (διʼ) [accusative]"," ","on account of (rare) [accusative]","dee-AH","Preposition"," "," "," ","  ","dia","1223",1223,"διά (διʼ) [accusative]",true,true,true,"08"," ","on account of (rare) [accusative]","dee-AH","Preposition"," "," "," ","  ","1223",337,337,"08","διά (διʼ) [accusative]"," ","on account of (rare) [accusative]","dee-AH","Preposition",""," "," ","","  ","1223",337,337,"08","Preposition","διά (διʼ) [accusative]"," "," "," ","dee-AH","on account of (rare) [accusative]","διά (διʼ) [accusative]","Chapter 08: Preposition","  ","1223",false,5337,348," "," "," ",337,""," ","  "," ",false,5337,341," "," "," ",337,""," "," "," ",false,5337,444,337,""," "," "," "]
[null,null,null,null,null,null,null,null,null,null,null,null,null,null,null,null,null,null,null,null,null,null,null,null,null,null,null,null,null,null,342,38,"διάβολος",null,"devil","dee-AHB-oll-oss","Noun  ","ὁ"," "," ","  ","diabolos","1228",1228,"διάβολος",true,true,true,38,0,"devil","dee-AHB-oll-oss","Noun  ","ὁ"," "," ","  ","1228",342,342,38,"ὁ διάβολος",0,"devil","dee-AHB-oll-oss","Noun  ","ὁ "," "," ","ὁ ","  ","1228",342,342,38,"Noun  ","ὁ διάβολος"," "," ",0,"dee-AHB-oll-oss","devil","ὁ διάβολος","Index of Textbook: Noun  ","  ","1228",false,5342,353," "," "," ",342,""," ","  "," ",false,5342,346," "," "," ",342,""," "," "," ",false,5342,449,342,""," "," "," "]
[null,null,null,null,null,null,null,null,null,null,null,null,null,null,null,null,null,null,null,null,null,null,null,null,null,null,null,null,null,null,350,38,"διαλέγομαι"," ","I discuss, I argue","dee-ah-LEG-om-eye","Verb  "," ","διαλεγόμην","-","διελεξάμην","dialegomai dialegomhn dielexamhn","1256",1256,"διαλέγομαι",true,true,true,38," ","I discuss, I argue","dee-ah-LEG-om-eye","Verb  "," ","διαλεγόμην","-","διελεξάμην","1256",350,350,38,"διαλέγομαι"," ","I discuss, I argue","dee-ah-LEG-om-eye","Verb  ","","διαλεγόμην","-","","διελεξάμην","1256",350,350,38,"Verb  ","διαλέγομαι","διαλεγόμην","-"," ","dee-ah-LEG-om-eye","I discuss, I argue","διαλέγομαι","Index of Textbook: Verb  ","διελεξάμην","1256",false,5350,361," "," "," ",350,""," ","  "," ",false,5350,354," "," "," ",350,""," "," "," ",false,5350,457,350,""," "," "," "]
[null,null,null,null,null,null,null,null,null,null,null,null,null,null,null,null,null,null,null,null,null,null,null,null,null,null,null,null,null,null,357,"38","διαφέρω",null,"I differ; I am more worthy","dee-ah-FERR-owe","Verb  "," ","διαφερόμην"," ","διήνεγκα","diaferw diaferomahn dihnegka","1308",1308,"διαφέρω",true,true,true,"38",0,"I differ; I am more worthy","dee-ah-FERR-owe","Verb  "," ","διαφερόμην"," ","διήνεγκα","1308",357,357,"38","διαφέρω",0,"I differ; I am more worthy","dee-ah-FERR-owe","Verb  ","","διαφερόμην"," ","","διήνεγκα","1308",357,357,"38","Verb  ","διαφέρω","διαφερόμην"," ",0,"dee-ah-FERR-owe","I differ; I am more worthy","διαφέρω","Chapter 38: Verb  ","διήνεγκα","1308",false,5357,368," "," "," ",357,""," ","  "," ",false,5357,361," "," "," ",357,""," "," "," ",false,5357,464,357,""," "," "," "]
[null,null,null,null,null,null,null,null,null,null,null,null,null,null,null,null,null,null,null,null,null,null,null,null,null,null,null,null,null,null,362,"21","διδάσκω","*διδακ","I teach ","did-AH-skoe","Verb  "," ","ἐδίδασκον","διδάξω","ἐδίδαξα","didaskw edidaskon didaxw edidaxa","1321",1321,"διδάσκω",true,true,true,"21","*διδακ","I teach ","did-AH-skoe","Verb  "," ","ἐδίδασκον","διδάξω","ἐδίδαξα","1321",362,362,"21","διδάσκω","*διδακ","I teach ","did-AH-skoe","Verb  ","","ἐδίδασκον","διδάξω","","ἐδίδαξα","1321",362,362,"21","Verb  ","διδάσκω","ἐδίδασκον","διδάξω","*διδακ","did-AH-skoe","I teach ","διδάσκω","Chapter 21: Verb  ","ἐδίδαξα","1321",false,5362,373," "," "," ",362,""," ","  "," ",false,5362,366," "," "," ",362,""," "," "," ",false,5362,469,362,""," "," "," "]
[null,null,null,null,null,null,null,null,null,null,null,null,null,null,null,null,null,null,null,null,null,null,null,null,null,null,null,null,null,null,370,38,"δίκτυον"," ","fishing net","DIK-two-onn","Noun  ","τό"," "," ","  ","diktuon","1350",1350,"δίκτυον",true,true,true,38," ","fishing net","DIK-two-onn","Noun  ","τό"," "," ","  ","1350",370,370,38,"τό δίκτυον"," ","fishing net","DIK-two-onn","Noun  ","τό "," "," ","τό ","  ","1350",370,370,38,"Noun  ","τό δίκτυον"," "," "," ","DIK-two-onn","fishing net","τό δίκτυον","Index of Textbook: Noun  ","  ","1350",false,5370,381," "," "," ",370,""," ","  "," ",false,5370,374," "," "," ",370,""," "," "," ",false,5370,477,370,""," "," "," "]
[null,null,null,null,null,null,null,null,null,null,null,null,null,null,null,null,null,null,null,null,null,null,null,null,null,null,null,null,null,null,382,"38","δουλεύω","*δουλο","I serve, I obey, I (am a) slave","dool-OY-owe","Verb  "," "," ","δουλεύσω","ἐδούλευσα","douleuw douleusw edouleusa","1398",1398,"δουλεύω",true,true,true,"38","*δουλο","I serve, I obey, I (am a) slave","dool-OY-owe","Verb  "," "," ","δουλεύσω","ἐδούλευσα","1398",382,382,"38","δουλεύω","*δουλο","I serve, I obey, I (am a) slave","dool-OY-owe","Verb  ",""," ","δουλεύσω","","ἐδούλευσα","1398",382,382,"38","Verb  ","δουλεύω"," ","δουλεύσω","*δουλο","dool-OY-owe","I serve, I obey, I (am a) slave","δουλεύω","Chapter 38: Verb  ","ἐδούλευσα","1398",false,5382,393," "," "," ",382,""," ","  "," ",false,5382,386," "," "," ",382,""," "," "," ",false,5382,488,382,""," "," "," "]
[null,null,null,null,null,null,null,null,null,null,null,null,null,null,null,null,null,null,null,null,null,null,null,null,null,null,null,null,null,null,383,"09","δοῦλος","*δουλο","slave, servant","DOO-loss","Noun  ","ὁ"," "," ","  ","doulos","1401",1401,"δοῦλος",true,true,true,"09","*δουλο","slave, servant","DOO-loss","Noun  ","ὁ"," "," ","  ","1401",383,383,"09","ὁ δοῦλος","*δουλο","slave, servant","DOO-loss","Noun  ","ὁ "," "," ","ὁ ","  ","1401",383,383,"09","Noun  ","ὁ δοῦλος"," "," ","*δουλο","DOO-loss","slave, servant","ὁ δοῦλος","Chapter 09: Noun  ","  ","1401",false,5383,394," "," "," ",383,""," ","  "," ",false,5383,387," "," "," ",383,""," "," "," ",false,5383,489,383,""," "," "," "]
[null,null,null,null,null,null,null,null,null,null,null,null,null,null,null,null,null,null,null,null,null,null,null,null,null,null,null,null,null,null,390,38,"δωρεά"," ","gift","doe-re-AH","Noun  ","ἡ"," "," ","  ","dwrea","1431",1431,"δωρεά",true,true,true,38," ","gift","doe-re-AH","Noun  ","ἡ"," "," ","  ","1431",390,390,38,"ἡ δωρεά"," ","gift","doe-re-AH","Noun  ","ἡ "," "," ","ἡ ","  ","1431",390,390,38,"Noun  ","ἡ δωρεά"," "," "," ","doe-re-AH","gift","ἡ δωρεά","Index of Textbook: Noun  ","  ","1431",false,5390,401," "," "," ",390,""," ","  "," ",false,5390,394," "," "," ",390,""," "," "," ",false,5390,495,390,""," "," "," "]
[null,null,null,null,null,null,null,null,null,null,null,null,null,null,null,null,null,null,null,null,null,null,null,null,null,null,null,null,null,null,402,"13","ἑαυταῖς","*ἑαυτο","to themselves (dative, plural, feminine)","hey-ow-TICE","Pronoun"," "," "," "," ","eautais","1438",1438.12,"ἑαυταῖς",true,true,true,"13","*ἑαυτο","to themselves (dative, plural, feminine)","hey-ow-TICE","Pronoun"," "," "," "," ","1438",402,402,"13","ἑαυταῖς","*ἑαυτο","to themselves (dative, plural, feminine)","hey-ow-TICE","Pronoun",""," "," ",""," ","1438",402,402,"13","Pronoun","ἑαυταῖς"," "," ","*ἑαυτο","hey-ow-TICE","to themselves (dative, plural, feminine)","ἑαυταῖς","Chapter 13: Pronoun"," ","1438",false,5402,413," "," "," ",402,""," ","  "," ",false,5402,406," "," "," ",402,""," "," "," ",false,5402,506,402,""," "," "," "]
[null,null,null,null,null,null,null,null,null,null,null,null,null,null,null,null,null,null,null,null,null,null,null,null,null,null,null,null,null,null,403,"13","ἑαυτούς ","*ἑαυτο","themselves (accusative, plural, masculine)","hey-ow-TOOS","Pronoun"," "," "," "," ","eautous","1438",1438.13,"ἑαυτούς ",true,true,true,"13","*ἑαυτο","themselves (accusative, plural, masculine)","hey-ow-TOOS","Pronoun"," "," "," "," ","1438",403,403,"13","ἑαυτούς ","*ἑαυτο","themselves (accusative, plural, masculine)","hey-ow-TOOS","Pronoun",""," "," ",""," ","1438",403,403,"13","Pronoun","ἑαυτούς "," "," ","*ἑαυτο","hey-ow-TOOS","themselves (accusative, plural, masculine)","ἑαυτούς ","Chapter 13: Pronoun"," ","1438",false,5403,414," "," "," ",403,""," ","  "," ",false,5403,407," "," "," ",403,""," "," "," ",false,5403,507,403,""," "," "," "]
[null,null,null,null,null,null,null,null,null,null,null,null,null,null,null,null,null,null,null,null,null,null,null,null,null,null,null,null,null,null,415,"11","ἡμεῖς","ἐγώ","we (nominative, plural)","hay-MACE","Pronoun"," "," "," ","  ","hmeis","1473",1473.5,"ἡμεῖς",true,true,true,"11","ἐγώ","we (nominative, plural)","hay-MACE","Pronoun"," "," "," ","  ","1473",415,415,"11","ἡμεῖς","ἐγώ","we (nominative, plural)","hay-MACE","Pronoun",""," "," ","","  ","1473",415,415,"11","Pronoun","ἡμεῖς"," "," ","ἐγώ","hay-MACE","we (nominative, plural)","ἡμεῖς","Chapter 11: Pronoun","  ","1473",false,5415,426," "," "," ",415,""," ","  "," ",false,5415,419," "," "," ",415,""," "," "," ",false,5415,514,415,""," "," "," "]
[null,null,null,null,null,null,null,null,null,null,null,null,null,null,null,null,null,null,null,null,null,null,null,null,null,null,null,null,null,null,421,"37","εί μὴ"," ","only","AY MAY","Idiom"," "," "," ","  ","ei mh","1487+3361",1487.2,"εί μὴ",true,true,true,"37"," ","only","AY MAY","Idiom"," "," "," ","  ","1487+3361",421,421,"37","εί μὴ"," ","only","AY MAY","Idiom",""," "," ","","  ","1487+3361",421,421,"37","Idiom","εί μὴ"," "," "," ","AY MAY","only","εί μὴ","Extra: Idiom","  ","1487+3361",false,5421,432," "," "," ",421,""," ","  "," ",false,5421,425," "," "," ",421,""," "," "," ",false,5421,519,421,""," "," "," "]
[null,null,null,null,null,null,null,null,null,null,null,null,null,null,null,null,null,null,null,null,null,null,null,null,null,null,null,null,null,null,423,"17","οἶδα","*οιδ","I know, I understand","OY-dah","Verb  "," ","-","εἰδήσω","ᾔδειν","oida eidhsw hdein","1492",1492,"οἶδα",true,true,true,"17","*οιδ","I know, I understand","OY-dah","Verb  "," ","-","εἰδήσω","ᾔδειν","1492",423,423,"17","οἶδα","*οιδ","I know, I understand","OY-dah","Verb  ","","-","εἰδήσω","","ᾔδειν","1492",423,423,"17","Verb  ","οἶδα","-","εἰδήσω","*οιδ","OY-dah","I know, I understand","οἶδα","Chapter 17: Verb  ","ᾔδειν","1492",false,5423,434," "," "," ",423,""," ","  "," ",false,5423,427," "," "," ",423,""," "," "," ",false,5423,520,423,""," "," "," "]
[null,null,null,null,null,null,null,null,null,null,null,null,null,null,null,null,null,null,null,null,null,null,null,null,null,null,null,null,null,null,435,"10","μιᾶς","*μια","of one (genitive, feminine)","MEE-ahss","Adjective"," "," "," ","  ","mias","1520",1520.5,"μιᾶς",true,true,true,"10","*μια","of one (genitive, feminine)","MEE-ahss","Adjective"," "," "," ","  ","1520",435,435,"10","μιᾶς","*μια","of one (genitive, feminine)","MEE-ahss","Adjective",""," "," ","","  ","1520",435,435,"10","Adjective","μιᾶς"," "," ","*μια","MEE-ahss","of one (genitive, feminine)","μιᾶς","Chapter 10: Adjective","  ","1520",false,5435,446," "," "," ",435,""," ","  "," ",false,5435,439," "," "," ",435,""," "," "," ",false,5435,528,435,""," "," "," "]
[null,null,null,null,null,null,null,null,null,null,null,null,null,null,null,null,null,null,null,null,null,null,null,null,null,null,null,null,null,null,443,"38","εἰσπορεύομαι","*πορευ","I enter, I go into","ace-porr-YEW-omm-ah","Verb  "," ","εἰσεπορευόμην"," "," ","eisporeuoma eiseporeuomhn","1531",1531,"εἰσπορεύομαι",true,true,true,"38","*πορευ","I enter, I go into","ace-porr-YEW-omm-ah","Verb  "," ","εἰσεπορευόμην"," "," ","1531",443,443,"38","εἰσπορεύομαι","*πορευ","I enter, I go into","ace-porr-YEW-omm-ah","Verb  ","","εἰσεπορευόμην"," ",""," ","1531",443,443,"38","Verb  ","εἰσπορεύομαι","εἰσεπορευόμην"," ","*πορευ","ace-porr-YEW-omm-ah","I enter, I go into","εἰσπορεύομαι","Chapter 38: Verb  "," ","1531",false,5443,454," "," "," ",443,""," ","  "," ",false,5443,447," "," "," ",443,""," "," "," ",false,5443,533,443,""," "," "," "]
[null,null,null,null,null,null,null,null,null,null,null,null,null,null,null,null,null,null,null,null,null,null,null,null,null,null,null,null,null,null,444,38,"εἶτα"," ","then, next","EYE-tah","Adverb"," "," "," ","  ","eita","1534",1534,"εἶτα",true,true,true,38," ","then, next","EYE-tah","Adverb"," "," "," ","  ","1534",444,444,38,"εἶτα"," ","then, next","EYE-tah","Adverb",""," "," ","","  ","1534",444,444,38,"Adverb","εἶτα"," "," "," ","EYE-tah","then, next","εἶτα","Index of Textbook: Adverb","  ","1534",false,5444,455," "," "," ",444,""," ","  "," ",false,5444,448," "," "," ",444,""," "," "," ",false,5444,534,444,""," "," "," "]
[null,null,null,null,null,null,null,null,null,null,null,null,null,null,null,null,null,null,null,null,null,null,null,null,null,null,null,null,null,null,455,"13","ἐκείνη","*ἐκεινο","that (nominative, singular, feminine)","ek-KAY-nay","Pronoun"," "," "," ","  ","ekenh","1565",1565.02,"ἐκείνη",true,true,true,"13","*ἐκεινο","that (nominative, singular, feminine)","ek-KAY-nay","Pronoun"," "," "," ","  ","1565",455,455,"13","ἐκείνη","*ἐκεινο","that (nominative, singular, feminine)","ek-KAY-nay","Pronoun",""," "," ","","  ","1565",455,455,"13","Pronoun","ἐκείνη"," "," ","*ἐκεινο","ek-KAY-nay","that (nominative, singular, feminine)","ἐκείνη","Chapter 13: Pronoun","  ","1565",false,5455,466," "," "," ",455,""," ","  "," ",false,5455,459," "," "," ",455,""," "," "," ",false,5455,545,455,""," "," "," "]
[null,null,null,null,null,null,null,null,null,null,null,null,null,null,null,null,null,null,null,null,null,null,null,null,null,null,null,null,null,null,463,"13","ἐκεῖνοι","*ἐκεινο","those (nominative, plural, masculine)","ek-KAY-noy","Pronoun"," "," "," ","  ","ekeinoi","1565",1565.1,"ἐκεῖνοι",true,true,true,"13","*ἐκεινο","those (nominative, plural, masculine)","ek-KAY-noy","Pronoun"," "," "," ","  ","1565",463,463,"13","ἐκεῖνοι","*ἐκεινο","those (nominative, plural, masculine)","ek-KAY-noy","Pronoun",""," "," ","","  ","1565",463,463,"13","Pronoun","ἐκεῖνοι"," "," ","*ἐκεινο","ek-KAY-noy","those (nominative, plural, masculine)","ἐκεῖνοι","Chapter 13: Pronoun","  ","1565",false,5463,474," "," "," ",463,""," ","  "," ",false,5463,467," "," "," ",463,""," "," "," ",false,5463,553,463,""," "," "," "]
[null,null,null,null,null,null,null,null,null,null,null,null,null,null,null,null,null,null,null,null,null,null,null,null,null,null,null,null,null,null,468,"13","ἐκείναις","*ἐκεινο","to those (dative, plural, feminine)","ek-KAY-nice","Pronoun"," "," "," ","  ","ekeinais","1565",1565.15,"ἐκείναις",true,true,true,"13","*ἐκεινο","to those (dative, plural, feminine)","ek-KAY-nice","Pronoun"," "," "," ","  ","1565",468,468,{"$f":"IF(AV471,AW471,\" \")","v":"13"},"ἐκείναις","*ἐκεινο","to those (dative, plural, feminine)","ek-KAY-nice","Pronoun",""," "," ","","  ","1565",468,468,"13","Pronoun","ἐκείναις"," "," ","*ἐκεινο","ek-KAY-nice","to those (dative, plural, feminine)","ἐκείναις","Chapter 13: Pronoun","  ","1565",false,5468,479," "," "," ",468,""," ","  "," ",false,5468,472," "," "," ",468,""," "," "," ",false,5468,558,468,""," "," "," "]
[null,null,null,null,null,null,null,null,null,null,null,null,null,null,null,null,null,null,null,null,null,null,null,null,null,null,null,null,null,null,475,"38","ἐκπίπτω",null,"I fall, I run aground","ekk-PIP-toe","Verb  "," "," "," ἐξέπεσα",null,"ekpiptw exepesa","1601",1601,"ἐκπίπτω",true,true,true,"38",0,"I fall, I run aground","ekk-PIP-toe","Verb  "," "," "," ἐξέπεσα",0,"1601",475,475,"38","ἐκπίπτω",0,"I fall, I run aground","ekk-PIP-toe","Verb  ",""," "," ἐξέπεσα","",0,"1601",475,475,"38","Verb  ","ἐκπίπτω"," "," ἐξέπεσα",0,"ekk-PIP-toe","I fall, I run aground","ἐκπίπτω","Chapter 38: Verb  ",0,"1601",false,5475,486," "," "," ",475,""," ","  "," ",false,5475,479," "," "," ",475,""," "," "," ",false,5475,565,475,""," "," "," "]
[null,null,null,null,null,null,null,null,null,null,null,null,null,null,null,null,null,null,null,null,null,null,null,null,null,null,null,null,null,null,483,38,"ἔλαιον"," ","olive oil","ELL-ah-ee-on","Noun  ","τό"," "," ","  ","elaion","1637",1637,"ἔλαιον",true,true,true,38," ","olive oil","ELL-ah-ee-on","Noun  ","τό"," "," ","  ","1637",483,483,38,"τό ἔλαιον"," ","olive oil","ELL-ah-ee-on","Noun  ","τό "," "," ","τό ","  ","1637",483,483,38,"Noun  ","τό ἔλαιον"," "," "," ","ELL-ah-ee-on","olive oil","τό ἔλαιον","Index of Textbook: Noun  ","  ","1637",false,5483,494," "," "," ",483,""," ","  "," ",false,5483,487," "," "," ",483,""," "," "," ",false,5483,573,483,""," "," "," "]
[null,null,null,null,null,null,null,null,null,null,null,null,null,null,null,null,null,null,null,null,null,null,null,null,null,null,null,null,null,null,488,38,"ἔλεος"," ","mercy, compassion","ELL-eh-oss","Noun  ","τό"," "," ","  ","eleos","1656",1656,"ἔλεος",true,true,true,38," ","mercy, compassion","ELL-eh-oss","Noun  ","τό"," "," ","  ","1656",488,488,38,"τό ἔλεος"," ","mercy, compassion","ELL-eh-oss","Noun  ","τό "," "," ","τό ","  ","1656",488,488,38,"Noun  ","τό ἔλεος"," "," "," ","ELL-eh-oss","mercy, compassion","τό ἔλεος","Index of Textbook: Noun  ","  ","1656",true,488,3,"τό ἔλεος","mercy, compassion"," [Chap. 38]",488,""," ","  "," ",false,5488,492," "," "," ",488,""," "," "," ",false,5488,578,488,""," "," "," "]
[null,null,null,null,null,null,null,null,null,null,null,null,null,null,null,null,null,null,null,null,null,null,null,null,null,null,null,null,null,null,496,"38","ἐμβλέπω"," ","I look at, I gaze upon","emm-BLEH-poe","Verb  "," ","ἐνέβλεπον"," ","ἐνέβλεψα","emblepw eneblepon","1689",1689,"ἐμβλέπω",true,true,true,"38"," ","I look at, I gaze upon","emm-BLEH-poe","Verb  "," ","ἐνέβλεπον"," ","ἐνέβλεψα","1689",496,496,"38","ἐμβλέπω"," ","I look at, I gaze upon","emm-BLEH-poe","Verb  ","","ἐνέβλεπον"," ","","ἐνέβλεψα","1689",496,496,"38","Verb  ","ἐμβλέπω","ἐνέβλεπον"," "," ","emm-BLEH-poe","I look at, I gaze upon","ἐμβλέπω","Chapter 38: Verb  ","ἐνέβλεψα","1689",false,5496,506," "," "," ",496,""," ","  "," ",false,5496,500," "," "," ",496,""," "," "," ",false,5496,586,496,""," "," "," "]
[null,null,null,null,null,null,null,null,null,null,null,null,null,null,null,null,null,null,null,null,null,null,null,null,null,null,null,null,null,null,501,"11","ἐμοῦ","ἐγώ","my/of me (emphatic genitive singular)","em-OOH","Pronoun"," "," "," ","  ","emou","1700",1700,"ἐμοῦ",true,true,true,"11","ἐγώ","my/of me (emphatic genitive singular)","em-OOH","Pronoun"," "," "," ","  ","1700",501,501,"11","ἐμοῦ","ἐγώ","my/of me (emphatic genitive singular)","em-OOH","Pronoun",""," "," ","","  ","1700",501,501,"11","Pronoun","ἐμοῦ"," "," ","ἐγώ","em-OOH","my/of me (emphatic genitive singular)","ἐμοῦ","Chapter 11: Pronoun","  ","1700",false,5501,511," "," "," ",501,""," ","  "," ",false,5501,505," "," "," ",501,""," "," "," ",false,5501,590,501,""," "," "," "]
[null,null,null,null,null,null,null,null,null,null,null,null,null,null,null,null,null,null,null,null,null,null,null,null,null,null,null,null,null,null,508,"38","ἐνδείκνυμι"," ","I show, I demonstrate","enn-DAKE-new-mee","Verb  "," "," "," ","ἐνεδειξάμην","endeiknumi enedeixamhn","1731",1731,"ἐνδείκνυμι",true,true,true,"38"," ","I show, I demonstrate","enn-DAKE-new-mee","Verb  "," "," "," ","ἐνεδειξάμην","1731",508,508,"38","ἐνδείκνυμι"," ","I show, I demonstrate","enn-DAKE-new-mee","Verb  ",""," "," ","","ἐνεδειξάμην","1731",508,508,"38","Verb  ","ἐνδείκνυμι"," "," "," ","enn-DAKE-new-mee","I show, I demonstrate","ἐνδείκνυμι","Chapter 38: Verb  ","ἐνεδειξάμην","1731",false,5508,518," "," "," ",508,""," ","  "," ",false,5508,512," "," "," ",508,""," "," "," ",false,5508,597,508,""," "," "," "]
[null,null,null,null,null,null,null,null,null,null,null,null,null,null,null,null,null,null,null,null,null,null,null,null,null,null,null,null,null,null,516,38,"ἐνιαυτός"," ","year","enn-ee-ow-TOSS","Noun  ","ὁ"," ","  ","  ","eniautos","1763",1763,"ἐνιαυτός",true,true,true,38," ","year","enn-ee-ow-TOSS","Noun  ","ὁ"," ","  ","  ","1763",516,516,38,"ὁ ἐνιαυτός"," ","year","enn-ee-ow-TOSS","Noun  ","ὁ "," ","  ","ὁ ","  ","1763",516,516,38,"Noun  ","ὁ ἐνιαυτός"," ","  "," ","enn-ee-ow-TOSS","year","ὁ ἐνιαυτός","Index of Textbook: Noun  ","  ","1763",false,5516,526," "," "," ",516,""," ","  "," ",false,5516,520," "," "," ",516,""," "," "," ",false,5516,604,516,""," "," "," "]
[null,null,null,null,null,null,null,null,null,null,null,null,null,null,null,null,null,null,null,null,null,null,null,null,null,null,null,null,null,null,521,"09","ἐντολή","*ἐντολη","commandment","enn-ta-LAY","Noun  ","ἡ"," "," ","  ","entolh","1785",1785,"ἐντολή",true,true,true,"09","*ἐντολη","commandment","enn-ta-LAY","Noun  ","ἡ"," "," ","  ","1785",521,521,"09","ἡ ἐντολή","*ἐντολη","commandment","enn-ta-LAY","Noun  ","ἡ "," "," ","ἡ ","  ","1785",521,521,"09","Noun  ","ἡ ἐντολή"," "," ","*ἐντολη","enn-ta-LAY","commandment","ἡ ἐντολή","Chapter 09: Noun  ","  ","1785",false,5521,531," "," "," ",521,""," ","  "," ",false,5521,525," "," "," ",521,""," "," "," ",false,5521,609,521,""," "," "," "]
[null,null,null,null,null,null,null,null,null,null,null,null,null,null,null,null,null,null,null,null,null,null,null,null,null,null,null,null,null,null,529,38,"ἐξίστημι"," ","I am amazed, or I am amazing","ex-EEST-ay-mee","Verb  "," ","ἐξίστάμην","-","ἐξέστησα","existhmi existamhn exesthsa","1839",1839,"ἐξίστημι",true,true,true,38," ","I am amazed, or I am amazing","ex-EEST-ay-mee","Verb  "," ","ἐξίστάμην","-","ἐξέστησα","1839",529,529,38,"ἐξίστημι"," ","I am amazed, or I am amazing","ex-EEST-ay-mee","Verb  ","","ἐξίστάμην","-","","ἐξέστησα","1839",529,529,38,"Verb  ","ἐξίστημι","ἐξίστάμην","-"," ","ex-EEST-ay-mee","I am amazed, or I am amazing","ἐξίστημι","Index of Textbook: Verb  ","ἐξέστησα","1839",false,5529,539," "," "," ",529,""," ","  "," ",false,5529,533," "," "," ",529,""," "," "," ",false,5529,616,529,""," "," "," "]
[null,null,null,null,null,null,null,null,null,null,null,null,null,null,null,null,null,null,null,null,null,null,null,null,null,null,null,null,null,null,537,"14","ἐπαγγελία","*ἐπαγγελια","promise","ep-ahng-ell-EE-ah","Noun  ","ἡ"," "," ","  ","epaggelia","1860",1860,"ἐπαγγελία",true,true,true,"14","*ἐπαγγελια","promise","ep-ahng-ell-EE-ah","Noun  ","ἡ"," "," ","  ","1860",537,537,"14","ἡ ἐπαγγελία","*ἐπαγγελια","promise","ep-ahng-ell-EE-ah","Noun  ","ἡ "," "," ","ἡ ","  ","1860",537,537,"14","Noun  ","ἡ ἐπαγγελία"," "," ","*ἐπαγγελια","ep-ahng-ell-EE-ah","promise","ἡ ἐπαγγελία","Chapter 14: Noun  ","  ","1860",false,5537,547," "," "," ",537,""," ","  "," ",false,5537,541," "," "," ",537,""," "," "," ",false,5537,624,537,""," "," "," "]
[null,null,null,null,null,null,null,null,null,null,null,null,null,null,null,null,null,null,null,null,null,null,null,null,null,null,null,null,null,null,541,"38","ἐπαισχύνομαι"," ","I am ashamed","epp-eye-SKOON-omm-eye","Verb  "," "," "," "," ","epaiscunomai","1870",1870,"ἐπαισχύνομαι",true,true,true,"38"," ","I am ashamed","epp-eye-SKOON-omm-eye","Verb  "," "," "," "," ","1870",541,541,"38","ἐπαισχύνομαι"," ","I am ashamed","epp-eye-SKOON-omm-eye","Verb  ",""," "," ",""," ","1870",541,541,"38","Verb  ","ἐπαισχύνομαι"," "," "," ","epp-eye-SKOON-omm-eye","I am ashamed","ἐπαισχύνομαι","Chapter 38: Verb  "," ","1870",false,5541,551," "," "," ",541,""," ","  "," ",false,5541,545," "," "," ",541,""," "," "," ",false,5541,628,541,""," "," "," "]
[null,null,null,null,null,null,null,null,null,null,null,null,null,null,null,null,null,null,null,null,null,null,null,null,null,null,null,null,null,null,549,"21","ἐπερωτάω","*ἐπι + *ἐρωτα","I ask for, I ask about","epp-err-owe-TAH-owe","Verb  "," ","ἐπηρώτων","ἐπερωτήσω","ἐπηρώτησα","eperwtaw ephrwtwn eperwthsw ephrwthsa","1905",1905,"ἐπερωτάω",true,true,true,"21","*ἐπι + *ἐρωτα","I ask for, I ask about","epp-err-owe-TAH-owe","Verb  "," ","ἐπηρώτων","ἐπερωτήσω","ἐπηρώτησα","1905",549,549,"21","ἐπερωτάω","*ἐπι + *ἐρωτα","I ask for, I ask about","epp-err-owe-TAH-owe","Verb  ","","ἐπηρώτων","ἐπερωτήσω","","ἐπηρώτησα","1905",549,549,"21","Verb  ","ἐπερωτάω","ἐπηρώτων","ἐπερωτήσω","*ἐπι + *ἐρωτα","epp-err-owe-TAH-owe","I ask for, I ask about","ἐπερωτάω","Chapter 21: Verb  ","ἐπηρώτησα","1905",false,5549,559," "," "," ",549,""," ","  "," ",false,5549,553," "," "," ",549,""," "," "," ",false,5549,636,549,""," "," "," "]
[null,null,null,null,null,null,null,null,null,null,null,null,null,null,null,null,null,null,null,null,null,null,null,null,null,null,null,null,null,null,554,"38","ἐπιγινώσκω"," ","I know, I recognize, I come to know","eh-pig-in-OWE-skoe","Verb  "," ","ἐπεγίνωσκον","ἐπιγινώσομαι","ἐπέγνων","epiginwskw epeginwskov epiginwsomai epegnwn","1921",1921,"ἐπιγινώσκω",true,true,true,"38"," ","I know, I recognize, I come to know","eh-pig-in-OWE-skoe","Verb  "," ","ἐπεγίνωσκον","ἐπιγινώσομαι","ἐπέγνων","1921",554,554,"38","ἐπιγινώσκω"," ","I know, I recognize, I come to know","eh-pig-in-OWE-skoe","Verb  ","","ἐπεγίνωσκον","ἐπιγινώσομαι","","ἐπέγνων","1921",554,554,"38","Verb  ","ἐπιγινώσκω","ἐπεγίνωσκον","ἐπιγινώσομαι"," ","eh-pig-in-OWE-skoe","I know, I recognize, I come to know","ἐπιγινώσκω","Chapter 38: Verb  ","ἐπέγνων","1921",false,5554,564," "," "," ",554,""," ","  "," ",false,5554,558," "," "," ",554,""," "," "," ",false,5554,641,554,""," "," "," "]
[null,null,null,null,null,null,null,null,null,null,null,null,null,null,null,null,null,null,null,null,null,null,null,null,null,null,null,null,null,null,562,"38","ἐπιπίπτω"," ","I fall upon","eh-PIP-toe","Verb  "," "," "," ","ἐπέπεσον","epipiptw epepeson","1968",1968,"ἐπιπίπτω",true,true,true,"38"," ","I fall upon","eh-PIP-toe","Verb  "," "," "," ","ἐπέπεσον","1968",562,562,"38","ἐπιπίπτω"," ","I fall upon","eh-PIP-toe","Verb  ",""," "," ","","ἐπέπεσον","1968",562,562,"38","Verb  ","ἐπιπίπτω"," "," "," ","eh-PIP-toe","I fall upon","ἐπιπίπτω","Chapter 38: Verb  ","ἐπέπεσον","1968",false,5562,572," "," "," ",562,""," ","  "," ",false,5562,566," "," "," ",562,""," "," "," ",false,5562,649,562,""," "," "," "]
[null,null,null,null,null,null,null,null,null,null,null,null,null,null,null,null,null,null,null,null,null,null,null,null,null,null,null,null,null,null,569,38,"ἐπιτίθημι"," ","I lay upon; I impose","epp-it-TITH-ay-mee","Verb  "," ","ἐπετίθουν","ἐπιθήσω","ἐπέθηκα","epitiqhmi epetiqoun epiqhsw epeqhka","2007",2007,"ἐπιτίθημι",true,true,true,38," ","I lay upon; I impose","epp-it-TITH-ay-mee","Verb  "," ","ἐπετίθουν","ἐπιθήσω","ἐπέθηκα","2007",569,569,38,"ἐπιτίθημι"," ","I lay upon; I impose","epp-it-TITH-ay-mee","Verb  ","","ἐπετίθουν","ἐπιθήσω","","ἐπέθηκα","2007",569,569,38,"Verb  ","ἐπιτίθημι","ἐπετίθουν","ἐπιθήσω"," ","epp-it-TITH-ay-mee","I lay upon; I impose","ἐπιτίθημι","Index of Textbook: Verb  ","ἐπέθηκα","2007",false,5569,578," "," "," ",569,""," ","  "," ",false,5569,573," "," "," ",569,""," "," "," ",false,5569,656,569,""," "," "," "]
[null,null,null,null,null,null,null,null,null,null,null,null,null,null,null,null,null,null,null,null,null,null,null,null,null,null,null,null,null,null,574,38,"ἐργάζομαι"," ","I work, I do","er-GAHZ-om-eye","Verb  "," ","ἠργαζόμην","-","ἠργασάμην","ergazomai hrgazomhn hrgasamhn","2038",2038,"ἐργάζομαι",true,true,true,38," ","I work, I do","er-GAHZ-om-eye","Verb  "," ","ἠργαζόμην","-","ἠργασάμην","2038",574,574,38,"ἐργάζομαι"," ","I work, I do","er-GAHZ-om-eye","Verb  ","","ἠργαζόμην","-","","ἠργασάμην","2038",574,574,38,"Verb  ","ἐργάζομαι","ἠργαζόμην","-"," ","er-GAHZ-om-eye","I work, I do","ἐργάζομαι","Index of Textbook: Verb  ","ἠργασάμην","2038",false,5574,583," "," "," ",574,""," ","  "," ",false,5574,578," "," "," ",574,""," "," "," ",false,5574,661,574,""," "," "," "]
[null,null,null,null,null,null,null,null,null,null,null,null,null,null,null,null,null,null,null,null,null,null,null,null,null,null,null,null,null,null,582,"29","ἐσθίω","*ἐσθι, *φαγ","I eat","ess-THEE-owe","Verb  "," ","ἤσθιον","φάγομαι","ἔφαγον","esqiw hsqion fagomai efagon","2068",2068,"ἐσθίω",true,true,true,"29","*ἐσθι, *φαγ","I eat","ess-THEE-owe","Verb  "," ","ἤσθιον","φάγομαι","ἔφαγον","2068",582,582,"29","ἐσθίω","*ἐσθι, *φαγ","I eat","ess-THEE-owe","Verb  ","","ἤσθιον","φάγομαι","","ἔφαγον","2068",582,582,"29","Verb  ","ἐσθίω","ἤσθιον","φάγομαι","*ἐσθι, *φαγ","ess-THEE-owe","I eat","ἐσθίω","Chapter 29: Verb  ","ἔφαγον","2068",false,5582,591," "," "," ",582,""," ","  "," ",false,5582,586," "," "," ",582,""," "," "," ",false,5582,669,582,""," "," "," "]
[null,null,null,null,null,null,null,null,null,null,null,null,null,null,null,null,null,null,null,null,null,null,null,null,null,null,null,null,null,null,591,"08","ἐστίν","*ἐς","he/she/it is","ess-TIN","Verb  "," ","ἦν","ἔσται","see εἰμί","estin hn estai eimi","2076, 1510",2076,"ἐστίν",true,true,true,"08","*ἐς","he/she/it is","ess-TIN","Verb  "," ","ἦν","ἔσται","see εἰμί","2076, 1510",591,591,"08","ἐστίν","*ἐς","he/she/it is","ess-TIN","Verb  ","","ἦν","ἔσται","","see εἰμί","2076, 1510",591,591,"08","Verb  ","ἐστίν","ἦν","ἔσται","*ἐς","ess-TIN","he/she/it is","ἐστίν","Chapter 08: Verb  ","see εἰμί","2076, 1510",false,5591,600," "," "," ",591,""," ","  "," ",false,5591,595," "," "," ",591,""," "," "," ",false,5591,677,591,""," "," "," "]
[null,null,null,null,null,null,null,null,null,null,null,null,null,null,null,null,null,null,null,null,null,null,null,null,null,null,null,null,null,null,594,"27","ἕτερος","*ἑτερο","different, other, another","HET-err-oss","Adjective"," "," "," ","  ","eteros","2087",2087,"ἕτερος",true,true,true,"27","*ἑτερο","different, other, another","HET-err-oss","Adjective"," "," "," ","  ","2087",594,594,"27","ἕτερος","*ἑτερο","different, other, another","HET-err-oss","Adjective",""," "," ","","  ","2087",594,594,"27","Adjective","ἕτερος"," "," ","*ἑτερο","HET-err-oss","different, other, another","ἕτερος","Chapter 27: Adjective","  ","2087",false,5594,603," "," "," ",594,""," ","  "," ",false,5594,598," "," "," ",594,""," "," "," ",false,5594,680,594,""," "," "," "]
[null,null,null,null,null,null,null,null,null,null,null,null,null,null,null,null,null,null,null,null,null,null,null,null,null,null,null,null,null,null,602,38,"εὐθέως"," ","immediately","you-THEH-ose","Adverb"," "," "," ","  ","euqews","2112",2112,"εὐθέως",true,true,true,38," ","immediately","you-THEH-ose","Adverb"," "," "," ","  ","2112",602,602,38,"εὐθέως"," ","immediately","you-THEH-ose","Adverb",""," "," ","","  ","2112",602,602,38,"Adverb","εὐθέως"," "," "," ","you-THEH-ose","immediately","εὐθέως","Index of Textbook: Adverb","  ","2112",false,5602,611," "," "," ",602,""," ","  "," ",false,5602,606," "," "," ",602,""," "," "," ",false,5602,687,602,""," "," "," "]
[null,null,null,null,null,null,null,null,null,null,null,null,null,null,null,null,null,null,null,null,null,null,null,null,null,null,null,null,null,null,607,38,"εὐλογία"," ","blessing","you-log-EE-ah","Noun  ","ἡ"," "," ","  ","eulogia","2129",2129,"εὐλογία",true,true,true,38," ","blessing","you-log-EE-ah","Noun  ","ἡ"," "," ","  ","2129",607,607,38,"ἡ εὐλογία"," ","blessing","you-log-EE-ah","Noun  ","ἡ "," "," ","ἡ ","  ","2129",607,607,38,"Noun  ","ἡ εὐλογία"," "," "," ","you-log-EE-ah","blessing","ἡ εὐλογία","Index of Textbook: Noun  ","  ","2129",false,5607,616," "," "," ",607,""," ","  "," ",false,5607,611," "," "," ",607,""," "," "," ",false,5607,692,607,""," "," "," "]
[null,null,null,null,null,null,null,null,null,null,null,null,null,null,null,null,null,null,null,null,null,null,null,null,null,null,null,null,null,null,615,38,"ἐχθρός"," ","enemy","ekh-THROSS","Noun  ","ὁ"," "," ","  ","ecqros","2190",2190,"ἐχθρός",true,true,true,38," ","enemy","ekh-THROSS","Noun  ","ὁ"," "," ","  ","2190",615,615,38,"ὁ ἐχθρός"," ","enemy","ekh-THROSS","Noun  ","ὁ "," "," ","ὁ ","  ","2190",615,615,38,"Noun  ","ὁ ἐχθρός"," "," "," ","ekh-THROSS","enemy","ὁ ἐχθρός","Index of Textbook: Noun  ","  ","2190",false,5615,624," "," "," ",615,""," ","  "," ",false,5615,619," "," "," ",615,""," "," "," ",false,5615,700,615,""," "," "," "]
[null,null,null,null,null,null,null,null,null,null,null,null,null,null,null,null,null,null,null,null,null,null,null,null,null,null,null,null,null,null,624,"38","Ζεβεδαῖος"," ","Zebedee","Zeb-ed-EYE-oss","Proper Noun","ὁ"," "," "," ","zebedaios","2199",2199,"Ζεβεδαῖος",true,true,true,"38"," ","Zebedee","Zeb-ed-EYE-oss","Proper Noun","ὁ"," "," "," ","2199",624,624,"38","ὁ Ζεβεδαῖος"," ","Zebedee","Zeb-ed-EYE-oss","Proper Noun","ὁ "," "," ","ὁ "," ","2199",624,624,"38","Proper Noun","ὁ Ζεβεδαῖος"," "," "," ","Zeb-ed-EYE-oss","Zebedee","ὁ Ζεβεδαῖος","Chapter 38: Proper Noun"," ","2199",false,5624,633," "," "," ",624,""," ","  "," ",false,5624,628," "," "," ",624,""," "," "," ",false,5624,707,624,""," "," "," "]
[null,null,null,null,null,null,null,null,null,null,null,null,null,null,null,null,null,null,null,null,null,null,null,null,null,null,null,null,null,null,627,"17","ζητέω","*ζητε","I seek, I desire","zay-TEH-owe","Verb  "," ","ἐζήτουν","ζητήσω","ἐζήτησα","zhtew ezhtoun zhthsw ezhthsa","2212",2212,"ζητέω",true,true,true,"17","*ζητε","I seek, I desire","zay-TEH-owe","Verb  "," ","ἐζήτουν","ζητήσω","ἐζήτησα","2212",627,627,"17","ζητέω","*ζητε","I seek, I desire","zay-TEH-owe","Verb  ","","ἐζήτουν","ζητήσω","","ἐζήτησα","2212",627,627,"17","Verb  ","ζητέω","ἐζήτουν","ζητήσω","*ζητε","zay-TEH-owe","I seek, I desire","ζητέω","Chapter 17: Verb  ","ἐζήτησα","2212",false,5627,636," "," "," ",627,""," ","  "," ",false,5627,631," "," "," ",627,""," "," "," ",false,5627,710,627,""," "," "," "]
[null,null,null,null,null,null,null,null,null,null,null,null,null,null,null,null,null,null,null,null,null,null,null,null,null,null,null,null,null,null,635,"10","ἤδη"," ","now, already (particle)","AY day","Adverb"," "," "," ","  ","hdh","2235",2235,"ἤδη",true,true,true,"10"," ","now, already (particle)","AY day","Adverb"," "," "," ","  ","2235",635,635,"10","ἤδη"," ","now, already (particle)","AY day","Adverb",""," "," ","","  ","2235",635,635,"10","Adverb","ἤδη"," "," "," ","AY day","now, already (particle)","ἤδη","Chapter 10: Adverb","  ","2235",false,5635,644," "," "," ",635,""," ","  "," ",false,5635,639," "," "," ",635,""," "," "," ",true,635,41,635,"","ἤδη","now, already (particle)"," "]
[null,null,null,null,null,null,null,null,null,null,null,null,null,null,null,null,null,null,null,null,null,null,null,null,null,null,null,null,null,null,640,"11","ἡμᾶς","ἐγώ","us (accusative, plural)","hay-MAHS","Pronoun"," "," "," ","  ","hmas","2248",2248,"ἡμᾶς",true,true,true,"11","ἐγώ","us (accusative, plural)","hay-MAHS","Pronoun"," "," "," ","  ","2248",640,640,"11","ἡμᾶς","ἐγώ","us (accusative, plural)","hay-MAHS","Pronoun",""," "," ","","  ","2248",640,640,"11","Pronoun","ἡμᾶς"," "," ","ἐγώ","hay-MAHS","us (accusative, plural)","ἡμᾶς","Chapter 11: Pronoun","  ","2248",false,5640,649," "," "," ",640,""," ","  "," ",false,5640,644," "," "," ",640,""," "," "," ",false,5640,719,640,""," "," "," "]
[null,null,null,null,null,null,null,null,null,null,null,null,null,null,null,null,null,null,null,null,null,null,null,null,null,null,null,null,null,null,649,"08","θάνατος","*θανατο","death","THAHN-ah-toss","Noun  ","ὁ"," "," ","  ","qanatos","2288",2288,"θάνατος",true,true,true,"08","*θανατο","death","THAHN-ah-toss","Noun  ","ὁ"," "," ","  ","2288",649,649,"08","ὁ θάνατος","*θανατο","death","THAHN-ah-toss","Noun  ","ὁ "," "," ","ὁ ","  ","2288",649,649,"08","Noun  ","ὁ θάνατος"," "," ","*θανατο","THAHN-ah-toss","death","ὁ θάνατος","Chapter 08: Noun  ","  ","2288",false,5649,658," "," "," ",649,""," ","  "," ",false,5649,653," "," "," ",649,""," "," "," ",false,5649,728,649,""," "," "," "]
[null,null,null,null,null,null,null,null,null,null,null,null,null,null,null,null,null,null,null,null,null,null,null,null,null,null,null,null,null,null,655,"21","θέλω","*ἐθέλε","I wish, I desire, I enjoy","THELL-owe","Verb  "," ","ἤθελον","-","ἠθέλησα","qelw hqelon hqelhsa","2309",2309,"θέλω",true,true,true,"21","*ἐθέλε","I wish, I desire, I enjoy","THELL-owe","Verb  "," ","ἤθελον","-","ἠθέλησα","2309",655,655,"21","θέλω","*ἐθέλε","I wish, I desire, I enjoy","THELL-owe","Verb  ","","ἤθελον","-","","ἠθέλησα","2309",655,655,"21","Verb  ","θέλω","ἤθελον","-","*ἐθέλε","THELL-owe","I wish, I desire, I enjoy","θέλω","Chapter 21: Verb  ","ἠθέλησα","2309",false,5655,664," "," "," ",655,""," ","  "," ",false,5655,659," "," "," ",655,""," "," "," ",false,5655,734,655,""," "," "," "]
[null,null,null,null,null,null,null,null,null,null,null,null,null,null,null,null,null,null,null,null,null,null,null,null,null,null,null,null,null,null,660,38,"θερισμός"," ","harvest","thare-iss-moss","Noun  ","ὁ"," "," ","  ","qerismos","2326",2326,"θερισμός",true,true,true,38," ","harvest","thare-iss-moss","Noun  ","ὁ"," "," ","  ","2326",660,660,38,"ὁ θερισμός"," ","harvest","thare-iss-moss","Noun  ","ὁ "," "," ","ὁ ","  ","2326",660,660,38,"Noun  ","ὁ θερισμός"," "," "," ","thare-iss-moss","harvest","ὁ θερισμός","Index of Textbook: Noun  ","  ","2326",false,5660,669," "," "," ",660,""," ","  "," ",false,5660,664," "," "," ",660,""," "," "," ",false,5660,739,660,""," "," "," "]
[null,null,null,null,null,null,null,null,null,null,null,null,null,null,null,null,null,null,null,null,null,null,null,null,null,null,null,null,null,null,668,"14","θρόνος","*θρονο","throne","THRON-oss","Noun  ","ὁ"," "," ","  ","qronos","2362",2362,"θρόνος",true,true,true,"14","*θρονο","throne","THRON-oss","Noun  ","ὁ"," "," ","  ","2362",668,668,"14","ὁ θρόνος","*θρονο","throne","THRON-oss","Noun  ","ὁ "," "," ","ὁ ","  ","2362",668,668,"14","Noun  ","ὁ θρόνος"," "," ","*θρονο","THRON-oss","throne","ὁ θρόνος","Chapter 14: Noun  ","  ","2362",false,5668,677," "," "," ",668,""," ","  "," ",false,5668,672," "," "," ",668,""," "," "," ",false,5668,747,668,""," "," "," "]
[null,null,null,null,null,null,null,null,null,null,null,null,null,null,null,null,null,null,null,null,null,null,null,null,null,null,null,null,null,null,678,38,"ἰάομαι"," ","I heal","ee-AH-owe-my","Verb  "," ","ἰώμην","ἰάσομαι","ἰασάμην","iaomai iwmhn iasomai iasamhn","2390",2390,"ἰάομαι",true,true,true,38," ","I heal","ee-AH-owe-my","Verb  "," ","ἰώμην","ἰάσομαι","ἰασάμην","2390",678,678,38,"ἰάομαι"," ","I heal","ee-AH-owe-my","Verb  ","","ἰώμην","ἰάσομαι","","ἰασάμην","2390",678,678,38,"Verb  ","ἰάομαι","ἰώμην","ἰάσομαι"," ","ee-AH-owe-my","I heal","ἰάομαι","Index of Textbook: Verb  ","ἰασάμην","2390",false,5678,687," "," "," ",678,""," ","  "," ",false,5678,682," "," "," ",678,""," "," "," ",false,5678,756,678,""," "," "," "]
[null,null,null,null,null,null,null,null,null,null,null,null,null,null,null,null,null,null,null,null,null,null,null,null,null,null,null,null,null,null,680,"36","ἴδιος","*ιδιο","one's own (masculine)","EE-dee-oss","Adjective"," "," "," ","  ","idios","2398",2398,"ἴδιος",true,true,true,"36","*ιδιο","one's own (masculine)","EE-dee-oss","Adjective"," "," "," ","  ","2398",680,680,"36","ἴδιος","*ιδιο","one's own (masculine)","EE-dee-oss","Adjective",""," "," ","","  ","2398",680,680,"36","Adjective","ἴδιος"," "," ","*ιδιο","EE-dee-oss","one's own (masculine)","ἴδιος","Chapter 36: Adjective","  ","2398",false,5680,689," "," "," ",680,""," ","  "," ",false,5680,684," "," "," ",680,""," "," "," ",false,5680,757,680,""," "," "," "]
[null,null,null,null,null,null,null,null,null,null,null,null,null,null,null,null,null,null,null,null,null,null,null,null,null,null,null,null,null,null,688,"07","Ἰησοῦς","*ιησου","Jesus, Joshua","ee-ay-SOOS","Proper Noun","ὁ"," "," ","  ","ihsous","2424",2424,"Ἰησοῦς",true,true,true,"07","*ιησου","Jesus, Joshua","ee-ay-SOOS","Proper Noun","ὁ"," "," ","  ","2424",688,688,"07","ὁ Ἰησοῦς","*ιησου","Jesus, Joshua","ee-ay-SOOS","Proper Noun","ὁ "," "," ","ὁ ","  ","2424",688,688,"07","Proper Noun","ὁ Ἰησοῦς"," "," ","*ιησου","ee-ay-SOOS","Jesus, Joshua","ὁ Ἰησοῦς","Chapter 07: Proper Noun","  ","2424",false,5688,697," "," "," ",688,""," ","  "," ",false,5688,692," "," "," ",688,""," "," "," ",false,5688,765,688,""," "," "," "]
[null,null,null,null,null,null,null,null,null,null,null,null,null,null,null,null,null,null,null,null,null,null,null,null,null,null,null,null,null,null,700,38,"ἵππος"," ","horse","HIP-oss","Noun  ","ὁ"," "," ","  ","ippos","2462",2462,"ἵππος",true,true,true,38," ","horse","HIP-oss","Noun  ","ὁ"," "," ","  ","2462",700,700,38,"ὁ ἵππος"," ","horse","HIP-oss","Noun  ","ὁ "," "," ","ὁ ","  ","2462",700,700,38,"Noun  ","ὁ ἵππος"," "," "," ","HIP-oss","horse","ὁ ἵππος","Index of Textbook: Noun  ","  ","2462",false,5700,709," "," "," ",700,""," ","  "," ",false,5700,704," "," "," ",700,""," "," "," ",false,5700,776,700,""," "," "," "]
[null,null,null,null,null,null,null,null,null,null,null,null,null,null,null,null,null,null,null,null,null,null,null,null,null,null,null,null,null,null,703,"36","ἴστημι","*στα","I stand, I cause to stand","ISS-tay-mee","Verb  "," ","ἴστην","στήσω","ἔστησα, ἔστην","isthmi isthn sthsw esthsa esthn","2476",2476,"ἴστημι",true,true,true,"36","*στα","I stand, I cause to stand","ISS-tay-mee","Verb  "," ","ἴστην","στήσω","ἔστησα, ἔστην","2476",703,703,"36","ἴστημι","*στα","I stand, I cause to stand","ISS-tay-mee","Verb  ","","ἴστην","στήσω","","ἔστησα, ἔστην","2476",703,703,"36","Verb  ","ἴστημι","ἴστην","στήσω","*στα","ISS-tay-mee","I stand, I cause to stand","ἴστημι","Chapter 36: Verb  ","ἔστησα, ἔστην","2476",false,5703,712," "," "," ",703,""," ","  "," ",false,5703,707," "," "," ",703,""," "," "," ",false,5703,779,703,""," "," "," "]
[null,null,null,null,null,null,null,null,null,null,null,null,null,null,null,null,null,null,null,null,null,null,null,null,null,null,null,null,null,null,708,"08","Ἰωάννης","*ιωαννη","John","ee-owe-AHN-ase","Noun  ","ὁ"," "," ","  ","iwannhs","2491",2491,"Ἰωάννης",true,true,true,"08","*ιωαννη","John","ee-owe-AHN-ase","Noun  ","ὁ"," "," ","  ","2491",708,708,"08","ὁ Ἰωάννης","*ιωαννη","John","ee-owe-AHN-ase","Noun  ","ὁ "," "," ","ὁ ","  ","2491",708,708,"08","Noun  ","ὁ Ἰωάννης"," "," ","*ιωαννη","ee-owe-AHN-ase","John","ὁ Ἰωάννης","Chapter 08: Noun  ","  ","2491",false,5708,717," "," "," ",708,""," ","  "," ",false,5708,712," "," "," ",708,""," "," "," ",false,5708,784,708,""," "," "," "]
[null,null,null,null,null,null,null,null,null,null,null,null,null,null,null,null,null,null,null,null,null,null,null,null,null,null,null,null,null,null,720,"37","καὶ μήν"," ","moreover, and indeed, truly (particle)","KYE MAYN","Conjunction"," "," "," "," ","kai mhn","2532+3375",2532.3000000000002,"καὶ μήν",true,true,true,"37"," ","moreover, and indeed, truly (particle)","KYE MAYN","Conjunction"," "," "," "," ","2532+3375",720,720,"37","καὶ μήν"," ","moreover, and indeed, truly (particle)","KYE MAYN","Conjunction",""," "," ",""," ","2532+3375",720,720,"37","Conjunction","καὶ μήν"," "," "," ","KYE MAYN","moreover, and indeed, truly (particle)","καὶ μήν","Extra: Conjunction"," ","2532+3375",false,5720,729," "," "," ",720,""," ","  "," ",false,5720,724," "," "," ",720,""," "," "," ",false,5720,795,720,""," "," "," "]
[null,null,null,null,null,null,null,null,null,null,null,null,null,null,null,null,null,null,null,null,null,null,null,null,null,null,null,null,null,null,721,"38","καινός"," ","new","kye-NOSS","Adjective"," "," "," ","  ","kainos","2537",2537,"καινός",true,true,true,"38"," ","new","kye-NOSS","Adjective"," "," "," ","  ","2537",721,721,"38","καινός"," ","new","kye-NOSS","Adjective",""," "," ","","  ","2537",721,721,"38","Adjective","καινός"," "," "," ","kye-NOSS","new","καινός","Chapter 38: Adjective","  ","2537",false,5721,730," "," "," ",721,""," ","  "," ",false,5721,725," "," "," ",721,""," "," "," ",false,5721,796,721,""," "," "," "]
[null,null,null,null,null,null,null,null,null,null,null,null,null,null,null,null,null,null,null,null,null,null,null,null,null,null,null,null,null,null,733,"38","κἀλαμος"," ","reed","KAH-lah-moss","Noun  ","ὁ"," "," "," ","kalamos","2563",2563,"κἀλαμος",true,true,true,"38"," ","reed","KAH-lah-moss","Noun  ","ὁ"," "," "," ","2563",733,733,"38","ὁ κἀλαμος"," ","reed","KAH-lah-moss","Noun  ","ὁ "," "," ","ὁ "," ","2563",733,733,"38","Noun  ","ὁ κἀλαμος"," "," "," ","KAH-lah-moss","reed","ὁ κἀλαμος","Chapter 38: Noun  "," ","2563",false,5733,742," "," "," ",733,""," ","  "," ",false,5733,737," "," "," ",733,""," "," "," ",false,5733,808,733,""," "," "," "]
[null,null,null,null,null,null,null,null,null,null,null,null,null,null,null,null,null,null,null,null,null,null,null,null,null,null,null,null,"`",null,736,38,"καλῶς"," ","well, commendably","kahl-OSE","Adverb"," "," "," ","  ","kalws","2573",2573,"καλῶς",true,true,true,38," ","well, commendably","kahl-OSE","Adverb"," "," "," ","  ","2573",736,736,38,"καλῶς"," ","well, commendably","kahl-OSE","Adverb",""," "," ","","  ","2573",736,736,38,"Adverb","καλῶς"," "," "," ","kahl-OSE","well, commendably","καλῶς","Index of Textbook: Adverb","  ","2573",false,5736,745," "," "," ",736,""," ","  "," ",false,5736,740," "," "," ",736,""," "," "," ",false,5736,811,736,""," "," "," "]
[null,null,null,null,null,null,null,null,null,null,null,null,null,null,null,null,null,null,null,null,null,null,null,null,null,null,null,null,null,null,741,"19","καρπός","*καρπο","fruit, crop, result","kar-POSS","Noun  ","ὁ"," "," ","  ","karpos","2590",2590,"καρπός",true,true,true,"19","*καρπο","fruit, crop, result","kar-POSS","Noun  ","ὁ"," "," ","  ","2590",741,741,"19","ὁ καρπός","*καρπο","fruit, crop, result","kar-POSS","Noun  ","ὁ "," "," ","ὁ ","  ","2590",741,741,"19","Noun  ","ὁ καρπός"," "," ","*καρπο","kar-POSS","fruit, crop, result","ὁ καρπός","Chapter 19: Noun  ","  ","2590",false,5741,750," "," "," ",741,""," ","  "," ",false,5741,745," "," "," ",741,""," "," "," ",false,5741,815,741,""," "," "," "]
[null,null,null,null,null,null,null,null,null,null,null,null,null,null,null,null,null,null,null,null,null,null,null,null,null,null,null,null,null,null,753,38,"καταλύω"," ","I destroy, I put an end to","kah-tah-LOO-owe","Verb  "," ","-","καταλύσω","κατέλυσα","kataluw katalusw katelusa","2647",2647,"καταλύω",true,true,true,38," ","I destroy, I put an end to","kah-tah-LOO-owe","Verb  "," ","-","καταλύσω","κατέλυσα","2647",753,753,38,"καταλύω"," ","I destroy, I put an end to","kah-tah-LOO-owe","Verb  ","","-","καταλύσω","","κατέλυσα","2647",753,753,38,"Verb  ","καταλύω","-","καταλύσω"," ","kah-tah-LOO-owe","I destroy, I put an end to","καταλύω","Index of Textbook: Verb  ","κατέλυσα","2647",false,5753,762," "," "," ",753,""," ","  "," ",false,5753,757," "," "," ",753,""," "," "," ",false,5753,827,753,""," "," "," "]
[null,null,null,null,null,null,null,null,null,null,null,null,null,null,null,null,null,null,null,null,null,null,null,null,null,null,null,null,null,null,761,"38","κατεσθίω"," ","I consume, I devour","kah-tess-THEE-owe","Verb  "," "," ","καταφάγομαι","κατέφαγον","katesqiw katafagomai katefagon","2719",2719,"κατεσθίω",true,true,true,"38"," ","I consume, I devour","kah-tess-THEE-owe","Verb  "," "," ","καταφάγομαι","κατέφαγον","2719",761,761,"38","κατεσθίω"," ","I consume, I devour","kah-tess-THEE-owe","Verb  ",""," ","καταφάγομαι","","κατέφαγον","2719",761,761,"38","Verb  ","κατεσθίω"," ","καταφάγομαι"," ","kah-tess-THEE-owe","I consume, I devour","κατεσθίω","Chapter 38: Verb  ","κατέφαγον","2719",false,5761,769," "," "," ",761,""," ","  "," ",false,5761,765," "," "," ",761,""," "," "," ",false,5761,835,761,""," "," "," "]
[null,null,null,null,null,null,null,null,null,null,null,null,null,null,null,null,null,null,null,null,null,null,null,null,null,null,null,null,null,null,765,38,"καυχάομαι"," ","I boast","kowx-AH-om-eye","Verb  "," ","-","καυχήσομαι","ἐκαυχησάμην","kaucaomai kauchsomai ekauchsamhn","2744",2744,"καυχάομαι",{"$f":"IF(ISERR(FIND(AF768,$Y$22,1)),FALSE,TRUE)","v":true},{"$f":"IF(ISERR(FIND(AK768,$Y$23,1)),FALSE,TRUE)","v":true},{"$f":"AND(AT768,AU768)","v":true},{"$f":"IF(AC$3,AF768,\" \")","v":38},{"$f":"IF(AC$4,AH768,\" \")","v":" "},{"$f":"IF(TRUE,AI768,\" \")","v":"I boast"},{"$f":"IF(AC$6,AJ768,\" \")","v":"kowx-AH-om-eye"},{"$f":"IF(AC$7,AK768,\" \")","v":"Verb  "},{"$f":"IF(AC$8,AL768,\" \")","v":" "},{"$f":"IF(AC$9,AM768,\" \")","v":"-"},{"$f":"IF(AC$10,AN768,\" \")","v":"καυχήσομαι"},"ἐκαυχησάμην","2744",765,765,{"$f":"IF(AV768,AW768,\" \")","v":38},"καυχάομαι",{"$f":"IF($AV768,AX768,\" \")","v":" "},{"$f":"IF($AV768,AY768,\" \")","v":"I boast"},{"$f":"IF($AV768,AZ768,\" \")","v":"kowx-AH-om-eye"},{"$f":"IF($AV768,BA768,\" \")","v":"Verb  "},{"$f":"IF($AV768,IF(BB768=\" \",\"\",BB768&\" \"),\"\")","v":""},{"$f":"IF($AV768,BC768,\" \")","v":"-"},{"$f":"IF($AV768,BD768,\" \")","v":"καυχήσομαι"},"","ἐκαυχησάμην","2744",765,765,38,"Verb  ","καυχάομαι","-","καυχήσομαι"," ","kowx-AH-om-eye","I boast","καυχάομαι","Index of Textbook: Verb  ","ἐκαυχησάμην","2744",{"$f":"IF(ISERR(SEARCH(CL$2,AY768,1)),FALSE, TRUE)","v":false},5765,773," ",{"$f":"IF($CI768,AY768,\" \")","v":" "}," ",765,""," ","  "," ",{"$f":"IF(ISERR(FIND(CW$2,AP768,1)),FALSE, TRUE)","v":false},5765,769," "," "," ",765,""," "," "," ",false,5765,839,765,""," ",{"$f":"IF($DE768,AY768,\" \")","v":" "}," "]
[null,null,null,null,null,null,null,null,null,null,null,null,null,null,null,null,null,null,null,null,null,null,null,null,null,null,null,null,null,null,773,"14","κεφαλή","*κεφαλη","head","keff-ah-LAY","Noun  ","ἡ"," "," ","  ","kefalh","2776",2776,"κεφαλή",true,true,true,"14","*κεφαλη","head","keff-ah-LAY","Noun  ","ἡ"," "," ","  ","2776",773,773,"14","ἡ κεφαλή","*κεφαλη","head","keff-ah-LAY","Noun  ","ἡ "," "," ","ἡ ","  ","2776",773,773,"14","Noun  ","ἡ κεφαλή"," "," ","*κεφαλη","keff-ah-LAY","head","ἡ κεφαλή","Chapter 14: Noun  ","  ","2776",false,5773,781," "," "," ",773,""," ","  "," ",false,5773,777," "," "," ",773,""," "," "," ",false,5773,847,773,""," "," "," "]
[null,null,null,null,null,null,null,null,null,null,null,null,null,null,null,null,null,null,null,null,null,null,null,null,null,null,null,null,null,null,781,38,"κληρονομέω"," ","I acquire, I inherit","klare-on-om-EH-owe","Verb  "," ","-","κληρονομήσω","ἐκληρονόμησα","klhronomew klhronomhsw eklhronomhsa","2816",2816,"κληρονομέω",true,true,true,38," ","I acquire, I inherit","klare-on-om-EH-owe","Verb  "," ","-","κληρονομήσω","ἐκληρονόμησα","2816",781,781,38,"κληρονομέω"," ","I acquire, I inherit","klare-on-om-EH-owe","Verb  ","","-","κληρονομήσω","","ἐκληρονόμησα","2816",781,781,38,"Verb  ","κληρονομέω","-","κληρονομήσω"," ","klare-on-om-EH-owe","I acquire, I inherit","κληρονομέω","Index of Textbook: Verb  ","ἐκληρονόμησα","2816",false,5781,789," "," "," ",781,""," ","  "," ",false,5781,785," "," "," ",781,""," "," "," ",false,5781,855,781,""," "," "," "]
[null,null,null,null,null,null,null,null,null,null,null,null,null,null,null,null,null,null,null,null,null,null,null,null,null,null,null,null,null,null,786,38,"κλητός"," ","called","klay-TOSS","Adjective"," "," "," ","  ","klhtos","2822",2822,"κλητός",true,true,true,38," ","called","klay-TOSS","Adjective"," "," "," ","  ","2822",786,786,38,"κλητός"," ","called","klay-TOSS","Adjective",""," "," ","","  ","2822",786,786,38,"Adjective","κλητός"," "," "," ","klay-TOSS","called","κλητός","Index of Textbook: Adjective","  ","2822",false,5786,794," "," "," ",786,""," ","  "," ",false,5786,790," "," "," ",786,""," "," "," ",false,5786,860,786,""," "," "," "]
[null,null,null,null,null,null,null,null,null,null,null,null,null,null,null,null,null,null,null,null,null,null,null,null,null,null,null,null,null,null,790,38,"κοινός"," ","common, (ceremonially) unclean","koy-NOSS","Adjective","  "," "," ","  ","koinos","2839",2839,"κοινός",true,true,true,38," ","common, (ceremonially) unclean","koy-NOSS","Adjective","  "," "," ","  ","2839",790,790,38,"   κοινός"," ","common, (ceremonially) unclean","koy-NOSS","Adjective","   "," "," ","   ","  ","2839",790,790,38,"Adjective","   κοινός"," "," "," ","koy-NOSS","common, (ceremonially) unclean","   κοινός","Index of Textbook: Adjective","  ","2839",false,5790,798," "," "," ",790,""," ","  "," ",false,5790,794," "," "," ",790,""," "," "," ",false,5790,864,790,""," "," "," "]
[null,null,null,null,null,null,null,null,null,null,null,null,null,null,null,null,null,null,null,null,null,null,null,null,null,null,null,null,null,null,801,"28","κράζω","*κραγ","I cry out, I call out","KRAH-zoe","Verb  "," ","ἔκραζον","κράξω","ἔκραξα","krazw ekrazon kraxw ekraxa","2896",2896,"κράζω",true,true,true,"28","*κραγ","I cry out, I call out","KRAH-zoe","Verb  "," ","ἔκραζον","κράξω","ἔκραξα","2896",801,801,"28","κράζω","*κραγ","I cry out, I call out","KRAH-zoe","Verb  ","","ἔκραζον","κράξω","","ἔκραξα","2896",801,801,"28","Verb  ","κράζω","ἔκραζον","κράξω","*κραγ","KRAH-zoe","I cry out, I call out","κράζω","Chapter 28: Verb  ","ἔκραξα","2896",false,5801,809," "," "," ",801,""," ","  "," ",false,5801,805," "," "," ",801,""," "," "," ",false,5801,875,801,""," "," "," "]
[null,null,null,null,null,null,null,null,null,null,null,null,null,null,null,null,null,null,null,null,null,null,null,null,null,null,null,null,null,null,806,38,"κρίμα"," ","judgment","KREE-mah","Noun  ","τό"," "," ","  ","krima","2917",2917,"κρίμα",true,true,true,38," ","judgment","KREE-mah","Noun  ","τό"," "," ","  ","2917",806,806,38,"τό κρίμα"," ","judgment","KREE-mah","Noun  ","τό "," "," ","τό ","  ","2917",806,806,38,"Noun  ","τό κρίμα"," "," "," ","KREE-mah","judgment","τό κρίμα","Index of Textbook: Noun  ","  ","2917",false,5806,814," "," "," ",806,""," ","  "," ",false,5806,810," "," "," ",806,""," "," "," ",false,5806,880,806,""," "," "," "]
[null,null,null,null,null,null,null,null,null,null,null,null,null,null,null,null,null,null,null,null,null,null,null,null,null,null,null,null,null,null,814,38,"κτίζω"," ","I create","KTEEZ-owe","Verb  "," ","-","-","ἔκτισα","ktizw ektisa","2936",2936,"κτίζω",true,true,true,38," ","I create","KTEEZ-owe","Verb  "," ","-","-","ἔκτισα","2936",814,814,38,"κτίζω"," ","I create","KTEEZ-owe","Verb  ","","-","-","","ἔκτισα","2936",814,814,38,"Verb  ","κτίζω","-","-"," ","KTEEZ-owe","I create","κτίζω","Index of Textbook: Verb  ","ἔκτισα","2936",false,5814,822," "," "," ",814,""," ","  "," ",false,5814,818," "," "," ",814,""," "," "," ",false,5814,888,814,""," "," "," "]
[null,null,null,null,null,null,null,null,null,null,null,null,null,null,null,null,null,null,null,null,null,null,null,null,null,null,null,null,null,null,819,38,"κωφός"," ","mute, deaf","koe-foss","Adjective"," "," "," ","  ","kwfos","2974",2974,"κωφός",true,true,true,38," ","mute, deaf","koe-foss","Adjective"," "," "," ","  ","2974",819,819,38,"κωφός"," ","mute, deaf","koe-foss","Adjective",""," "," ","","  ","2974",819,819,38,"Adjective","κωφός"," "," "," ","koe-foss","mute, deaf","κωφός","Index of Textbook: Adjective","  ","2974",false,5819,827," "," "," ",819,""," ","  "," ",false,5819,823," "," "," ",819,""," "," "," ",false,5819,893,819,""," "," "," "]
[null,null,null,null,null,null,null,null,null,null,null,null,null,null,null,null,null,null,null,null,null,null,null,null,null,null,null,null,null,null,826,"07","εἶπεν","form of λέγω","(he, she, it) said","AY-penn","Verb  "," ","-","-","see λέγω","eipen legw","3004",3004.5,"εἶπεν",true,true,true,"07","form of λέγω","(he, she, it) said","AY-penn","Verb  "," ","-","-","see λέγω","3004",826,826,"07","εἶπεν","form of λέγω","(he, she, it) said","AY-penn","Verb  ","","-","-","","see λέγω","3004",826,826,"07","Verb  ","εἶπεν","-","-","form of λέγω","AY-penn","(he, she, it) said","εἶπεν","Chapter 07: Verb  ","see λέγω","3004",false,5826,834," "," "," ",826,""," ","  "," ",false,5826,830," "," "," ",826,""," "," "," ",false,5826,900,826,""," "," "," "]
[null,null,null,null,null,null,null,null,null,null,null,null,null,null,null,null,null,null,null,null,null,null,null,null,null,null,null,null,null,null,834,"04","λόγος","*λογο","word, statement, message","LOG-oss","Noun  ","ὁ"," "," ","  ","logos","3056",3056,{"$f":"IF(AG837=\"\",\"\",AG837)","v":"λόγος"},true,true,true,"04","*λογο","word, statement, message","LOG-oss","Noun  ","ὁ"," "," ",{"$f":"IF(AC$9,AO837,\" \")","v":"  "},{"$f":"IF(AC$12,AQ837,\" \")","v":"3056"},834,834,"04","ὁ λόγος","*λογο","word, statement, message","LOG-oss","Noun  ","ὁ "," "," ",{"$f":"IF($AV837,IF(AL837=\" \",\"\",AL837&\" \"),\"\")","v":"ὁ "},{"$f":"IF($AV837,BE837,\" \")","v":"  "},"3056",834,834,"04","Noun  ","ὁ λόγος"," "," ","*λογο","LOG-oss","word, statement, message","ὁ λόγος",{"$f":"IF(BV837=\"\",\"\",IF(BW837=\"37\",\"Extra\", IF(BW837=38, \"Index of Textbook\",\"Chapter \" &BW837))&\": \"&BX837)","v":"Chapter 04: Noun  "},"  ","3056",false,5834,842," "," ",{"$f":"IF($CI837,IF(AW837=\"37\",\" [Extra]\",IF(AW837=\"38\",\" [Index]\",  \" [Chap. \"&TEXT(VALUE(AW837),\"#\")&\"]\")),\" \")","v":" "},834,""," ","  "," ",false,5834,838," "," ",{"$f":"IF($CT837,IF(BB837=\" \",\"\",BB837&\" \")&AG837&CW837&\": \"&AY837&  IF(AF837=\"37\",\"  (Extra\",IF(AF837=\"38\",\"  (Index\",\"  (Chapter \"&TEXT(AF837,\"#\"))) &\", \"&CX837& IF(LEN(AM837)>1,\" [\"&AM837&\"]\",\"\") &IF(LEN(AN837)>1,\" [\"&AN837&\"]\",\"\")         &\")\",\" \")","v":" "},834,""," "," "," ",false,5834,908,834,""," "," "," "]
[null,null,null,null,null,null,null,null,null,null,null,null,null,null,null,null,null,null,null,null,null,null,null,null,null,null,null,null,null,null,839,38,"λύπη"," ","grief, sorrow","LOO-pay","Noun  ","ἡ"," "," ","  ","luph","3077",3077,"λύπη",true,true,true,38," ","grief, sorrow","LOO-pay","Noun  ","ἡ"," "," ","  ","3077",839,839,38,"ἡ λύπη"," ","grief, sorrow","LOO-pay","Noun  ","ἡ "," "," ","ἡ ","  ","3077",839,839,38,"Noun  ","ἡ λύπη"," "," "," ","LOO-pay","grief, sorrow","ἡ λύπη","Index of Textbook: Noun  ","  ","3077",false,5839,847," "," "," ",839,""," ","  "," ",false,5839,843," "," "," ",839,""," "," "," ",false,5839,913,839,""," "," "," "]
[null,null,null,null,null,null,null,null,null,null,null,null,null,null,null,null,null,null,null,null,null,null,null,null,null,null,null,null,null,null,844,"38","Μαγδαληνή",null,"Magdalene","mahg-dah-lane-AY","Proper Noun","ἡ"," "," "," ","magdalhnh","3094",3094,"Μαγδαληνή",true,true,true,"38",0,"Magdalene","mahg-dah-lane-AY","Proper Noun","ἡ"," "," "," ","3094",844,844,"38","ἡ Μαγδαληνή",0,"Magdalene","mahg-dah-lane-AY","Proper Noun","ἡ "," "," ","ἡ "," ","3094",844,844,"38","Proper Noun","ἡ Μαγδαληνή"," "," ",0,"mahg-dah-lane-AY","Magdalene","ἡ Μαγδαληνή","Chapter 38: Proper Noun"," ","3094",false,5844,852," "," "," ",844,""," ","  "," ",false,5844,848," "," "," ",844,""," "," "," ",false,5844,917,844,""," "," "," "]
[null,null,null,null,null,null,null,null,null,null,null,null,null,null,null,null,null,null,null,null,null,null,null,null,null,null,null,null,null,null,854,38,"μανθάνω"," ","I learn","mann-THAHN-owe","Verb  "," ","-","-","ἔμανθον","manqanw emanqon","3129",3129,"μανθάνω",true,true,true,38," ","I learn","mann-THAHN-owe","Verb  "," ","-","-","ἔμανθον","3129",854,854,38,"μανθάνω"," ","I learn","mann-THAHN-owe","Verb  ","","-","-","","ἔμανθον","3129",854,854,38,"Verb  ","μανθάνω","-","-"," ","mann-THAHN-owe","I learn","μανθάνω","Index of Textbook: Verb  ","ἔμανθον","3129",false,5854,862," "," "," ",854,""," ","  "," ",false,5854,858," "," "," ",854,""," "," "," ",false,5854,927,854,""," "," "," "]
[null,null,null,null,null,null,null,null,null,null,null,null,null,null,null,null,null,null,null,null,null,null,null,null,null,null,null,null,null,null,859,38,"μαρτυρία"," ","testimony","marr-toor-EE-ah","Noun  ","ἡ"," "," ","  ","marturia","3141",3141,"μαρτυρία",true,true,true,38," ","testimony","marr-toor-EE-ah","Noun  ","ἡ"," "," ","  ","3141",859,859,38,"ἡ μαρτυρία"," ","testimony","marr-toor-EE-ah","Noun  ","ἡ "," "," ","ἡ ","  ","3141",859,859,38,"Noun  ","ἡ μαρτυρία"," "," "," ","marr-toor-EE-ah","testimony","ἡ μαρτυρία","Index of Textbook: Noun  ","  ","3141",false,5859,867," "," "," ",859,""," ","  "," ",false,5859,863," "," "," ",859,""," "," "," ",false,5859,932,859,""," "," "," "]
[null,null,null,null,null,null,null,null,null,null,null,null,null,null,null,null,null,null,null,null,null,null,null,null,null,null,null,null,null,null,867,"37","μελετάω"," ","I practice, I cultivate","mell-let-AH-owe","Verb  "," ","-","-","ἐμελέτησα","meletaw emelethsa","3191",3191,"μελετάω",true,true,true,"37"," ","I practice, I cultivate","mell-let-AH-owe","Verb  "," ","-","-","ἐμελέτησα","3191",867,867,"37","μελετάω"," ","I practice, I cultivate","mell-let-AH-owe","Verb  ","","-","-","","ἐμελέτησα","3191",867,867,"37","Verb  ","μελετάω","-","-"," ","mell-let-AH-owe","I practice, I cultivate","μελετάω","Extra: Verb  ","ἐμελέτησα","3191",false,5867,875," "," "," ",867,""," ","  "," ",false,5867,871," "," "," ",867,""," "," "," ",false,5867,940,867,""," "," "," "]
[null,null,null,null,null,null,null,null,null,null,null,null,null,null,null,null,null,null,null,null,null,null,null,null,null,null,null,null,null,null,872,"12","μέν ... δέ"," ","on the one hand... but on the other (particles)","MEN ... DEH","Idiom"," "," "," ","  ","men de","3303+1161",3303.4,"μέν ... δέ",true,true,true,"12"," ","on the one hand... but on the other (particles)","MEN ... DEH","Idiom"," "," "," ","  ","3303+1161",872,872,"12","μέν ... δέ"," ","on the one hand... but on the other (particles)","MEN ... DEH","Idiom",""," "," ","","  ","3303+1161",872,872,"12","Idiom","μέν ... δέ"," "," "," ","MEN ... DEH","on the one hand... but on the other (particles)","μέν ... δέ","Chapter 12: Idiom","  ","3303+1161",false,5872,880," "," "," ",872,""," ","  "," ",false,5872,876," "," "," ",872,""," "," "," ",false,5872,944,872,""," "," "," "]
[null,null,null,null,null,null,null,null,null,null,null,null,null,null,null,null,null,null,null,null,null,null,null,null,null,null,null,null,null,null,877,38,"μέρος"," ","part","MERR-oss","Noun  ","τό"," "," ","  ","meros","3313",3313,"μέρος",true,true,true,38," ","part","MERR-oss","Noun  ","τό"," "," ","  ","3313",877,877,38,"τό μέρος"," ","part","MERR-oss","Noun  ","τό "," "," ","τό ","  ","3313",877,877,38,"Noun  ","τό μέρος"," "," "," ","MERR-oss","part","τό μέρος","Index of Textbook: Noun  ","  ","3313",false,5877,885," "," "," ",877,""," ","  "," ",false,5877,881," "," "," ",877,""," "," "," ",false,5877,949,877,""," "," "," "]
[null,null,null,null,null,null,null,null,null,null,null,null,null,null,null,null,null,null,null,null,null,null,null,null,null,null,null,null,null,null,887,38,"μέχρις"," ","until, as far as [genitive]","MEK-hriss","Preposition"," "," "," ","  ","mecris","3360",3360.5,"μέχρις",true,true,true,38," ","until, as far as [genitive]","MEK-hriss","Preposition"," "," "," ","  ","3360",887,887,38,"μέχρις"," ","until, as far as [genitive]","MEK-hriss","Preposition",""," "," ","","  ","3360",887,887,38,"Preposition","μέχρις"," "," "," ","MEK-hriss","until, as far as [genitive]","μέχρις","Index of Textbook: Preposition","  ","3360",false,5887,895," "," "," ",887,""," ","  "," ",false,5887,891," "," "," ",887,""," "," "," ",false,5887,959,887,""," "," "," "]
[null,null,null,null,null,null,null,null,null,null,null,null,null,null,null,null,null,null,null,null,null,null,null,null,null,null,null,null,null,null,892,"12","μηδέν","μη(δε)+ *ἑν/μια","no one, nothing (neuter)","may-DEN","Pronoun"," "," "," ","  ","mhden","3367",3367.5,"μηδέν",true,true,true,"12","μη(δε)+ *ἑν/μια","no one, nothing (neuter)","may-DEN","Pronoun"," "," "," ","  ","3367",892,892,"12","μηδέν","μη(δε)+ *ἑν/μια","no one, nothing (neuter)","may-DEN","Pronoun",""," "," ","","  ","3367",892,892,"12","Pronoun","μηδέν"," "," ","μη(δε)+ *ἑν/μια","may-DEN","no one, nothing (neuter)","μηδέν","Chapter 12: Pronoun","  ","3367",false,5892,900," "," "," ",892,""," ","  "," ",false,5892,896," "," "," ",892,""," "," "," ",false,5892,963,892,""," "," "," "]
[null,null,null,null,null,null,null,null,null,null,null,null,null,null,null,null,null,null,null,null,null,null,null,null,null,null,null,null,null,null,900,38,"μικρός"," ","small, little","mick-ROSS","Adjective"," "," "," ","  ","mikros","3397",3397,"μικρός",true,true,true,38," ","small, little","mick-ROSS","Adjective"," "," "," ","  ","3397",900,900,38,"μικρός"," ","small, little","mick-ROSS","Adjective",""," "," ","","  ","3397",900,900,38,"Adjective","μικρός"," "," "," ","mick-ROSS","small, little","μικρός","Index of Textbook: Adjective","  ","3397",false,5900,908," "," "," ",900,""," ","  "," ",false,5900,904," "," "," ",900,""," "," "," ",false,5900,971,900,""," "," "," "]
[null,null,null,null,null,null,null,null,null,null,null,null,null,null,null,null,null,null,null,null,null,null,null,null,null,null,null,null,null,null,906,"38","μοιχεύω"," ","I commit adultery","moy-KYU-owe","Verb  "," "," ","μοιχεύσω","ἐμοίχευσα","moiceuw moiceusw emoiceusa","3431",3431,"μοιχεύω",true,true,true,"38"," ","I commit adultery","moy-KYU-owe","Verb  "," "," ","μοιχεύσω","ἐμοίχευσα","3431",906,906,"38","μοιχεύω"," ","I commit adultery","moy-KYU-owe","Verb  ",""," ","μοιχεύσω","","ἐμοίχευσα","3431",906,906,"38","Verb  ","μοιχεύω"," ","μοιχεύσω"," ","moy-KYU-owe","I commit adultery","μοιχεύω","Chapter 38: Verb  ","ἐμοίχευσα","3431",false,5906,914," "," "," ",906,""," ","  "," ",false,5906,910," "," "," ",906,""," "," "," ",false,5906,977,906,""," "," "," "]
[null,null,null,null,null,null,null,null,null,null,null,null,null,null,null,null,null,null,null,null,null,null,null,null,null,null,null,null,null,null,912,38,"μωρός"," ","foolish","moe-ROSS","Adjective"," "," "," ","  ","mwros","3474",3474,"μωρός",true,true,true,38," ","foolish","moe-ROSS","Adjective"," "," "," ","  ","3474",912,912,38,"μωρός"," ","foolish","moe-ROSS","Adjective",""," "," ","","  ","3474",912,912,38,"Adjective","μωρός"," "," "," ","moe-ROSS","foolish","μωρός","Index of Textbook: Adjective","  ","3474",false,5912,920," "," "," ",912,""," ","  "," ",false,5912,916," "," "," ",912,""," "," "," ",false,5912,981,912,""," "," "," "]
[null,null,null,null,null,null,null,null,null,null,null,null,null,null,null,null,null,null,null,null,null,null,null,null,null,null,null,null,null,null,920,38,"νέος"," ","new, young","NEH-oss","Adjective"," "," "," ","  ","neos","3501",3501,"νέος",true,true,true,38," ","new, young","NEH-oss","Adjective"," "," "," ","  ","3501",920,920,38,"νέος"," ","new, young","NEH-oss","Adjective",""," "," ","","  ","3501",920,920,38,"Adjective","νέος"," "," "," ","NEH-oss","new, young","νέος","Index of Textbook: Adjective","  ","3501",false,5920,928," "," "," ",920,""," ","  "," ",false,5920,924," "," "," ",920,""," "," "," ",false,5920,988,920,""," "," "," "]
[null,null,null,null,null,null,null,null,null,null,null,null,null,null,null,null,null,null,null,null,null,null,null,null,null,null,null,null,null,null,925,38,"νικάω"," ","I conquer, I overcome","nikk-AH-owe","Verb  "," ","-","νικήσω","ἐνίκησα","nikaw nikhsw enikhsa","3528",3528,"νικάω",true,true,true,38," ","I conquer, I overcome","nikk-AH-owe","Verb  "," ","-","νικήσω","ἐνίκησα","3528",925,925,38,"νικάω"," ","I conquer, I overcome","nikk-AH-owe","Verb  ","","-","νικήσω","","ἐνίκησα","3528",925,925,38,"Verb  ","νικάω","-","νικήσω"," ","nikk-AH-owe","I conquer, I overcome","νικάω","Index of Textbook: Verb  ","ἐνίκησα","3528",false,5925,933," "," "," ",925,""," ","  "," ",false,5925,929," "," "," ",925,""," "," "," ",false,5925,993,925,""," "," "," "]
[null,null,null,null,null,null,null,null,null,null,null,null,null,null,null,null,null,null,null,null,null,null,null,null,null,null,null,null,null,null,931,38,"νοῦς, νοός"," ","mind, understanding","NOOSE","Noun  ","ὁ"," "," ","  ","nous, noos","3563",3563,"νοῦς, νοός",true,true,true,38," ","mind, understanding","NOOSE","Noun  ","ὁ"," "," ","  ","3563",931,931,38,"ὁ νοῦς, νοός"," ","mind, understanding","NOOSE","Noun  ","ὁ "," "," ","ὁ ","  ","3563",931,931,38,"Noun  ","ὁ νοῦς, νοός"," "," "," ","NOOSE","mind, understanding","ὁ νοῦς, νοός","Index of Textbook: Noun  ","  ","3563",false,5931,939," "," "," ",931,""," ","  "," ",false,5931,935," "," "," ",931,""," "," "," ",false,5931,999,931,""," "," "," "]
[null,null,null,null,null,null,null,null,null,null,null,null,null,null,null,null,null,null,null,null,null,null,null,null,null,null,null,null,null,null,940,"06","ὁ","ὁ","the (nominative, singular, masculine)","HA","Article"," "," "," ","  ","o","3588",3588.01,"ὁ",true,true,true,"06","ὁ","the (nominative, singular, masculine)","HA","Article"," "," "," ","  ","3588",940,940,"06","ὁ","ὁ","the (nominative, singular, masculine)","HA","Article",""," "," ","","  ","3588",940,940,"06","Article","ὁ"," "," ","ὁ","HA","the (nominative, singular, masculine)","ὁ","Chapter 06: Article","  ","3588",false,5940,948," "," "," ",940,""," ","  "," ",false,5940,944," "," "," ",940,""," "," "," ",true,940,56,940,"","ὁ","the (nominative, singular, masculine)"," "]
[null,null,null,null,null,null,null,null,null,null,null,null,null,null,null,null,null,null,null,null,null,null,null,null,null,null,null,null,null,null,945,"07","τῷ","ὁ","the/to the (dative, singular, masculine or neuter)","TOE","Article"," "," "," ","  ","tw","3588",3588.05,"τῷ",true,true,true,"07","ὁ","the/to the (dative, singular, masculine or neuter)","TOE","Article"," "," "," ","  ","3588",945,945,"07","τῷ","ὁ","the/to the (dative, singular, masculine or neuter)","TOE","Article",""," "," ","","  ","3588",945,945,"07","Article","τῷ"," "," ","ὁ","TOE","the/to the (dative, singular, masculine or neuter)","τῷ","Chapter 07: Article","  ","3588",false,5945,953," "," "," ",945,""," ","  "," ",false,5945,949," "," "," ",945,""," "," "," ",true,945,61,945,"","τῷ","the/to the (dative, singular, masculine or neuter)"," "]
[null,null,null,null,null,null,null,null,null,null,null,null,null,null,null,null,null,null,null,null,null,null,null,null,null,null,null,null,null,null,953,"07","τοῖς","ὁ","the/ to the (dative, plural, masculine or neuter)","TOO","Article"," "," "," ","  ","tois","3588",3588.14,"τοῖς",true,true,true,"07","ὁ","the/ to the (dative, plural, masculine or neuter)","TOO","Article"," "," "," ","  ","3588",953,953,"07","τοῖς","ὁ","the/ to the (dative, plural, masculine or neuter)","TOO","Article",""," "," ","","  ","3588",953,953,"07","Article","τοῖς"," "," ","ὁ","TOO","the/ to the (dative, plural, masculine or neuter)","τοῖς","Chapter 07: Article","  ","3588",false,5953,961," "," "," ",953,""," ","  "," ",false,5953,957," "," "," ",953,""," "," "," ",false,5953,1006,953,""," "," "," "]
[null,null,null,null,null,null,null,null,null,null,null,null,null,null,null,null,null,null,null,null,null,null,null,null,null,null,null,null,null,null,960,38,"ὅθεν"," ","from where, for which reason","HA-thenn","Adverb"," "," "," ","  ","oqen","3606",3606,"ὅθεν",true,true,true,38," ","from where, for which reason","HA-thenn","Adverb"," "," "," ","  ","3606",960,960,38,"ὅθεν"," ","from where, for which reason","HA-thenn","Adverb",""," "," ","","  ","3606",960,960,38,"Adverb","ὅθεν"," "," "," ","HA-thenn","from where, for which reason","ὅθεν","Index of Textbook: Adverb","  ","3606",false,5960,968," "," "," ",960,""," ","  "," ",false,5960,964," "," "," ",960,""," "," "," ",false,5960,1012,960,""," "," "," "]
[null,null,null,null,null,null,null,null,null,null,null,null,null,null,null,null,null,null,null,null,null,null,null,null,null,null,null,null,null,null,965,38,"οἰκοδομή"," ","building, edification","oy-kod-om-AY","Noun  ","ἡ"," "," ","  ","oikodomh","3619",3619,"οἰκοδομή",true,true,true,38," ","building, edification","oy-kod-om-AY","Noun  ","ἡ"," "," ","  ","3619",965,965,38,"ἡ οἰκοδομή"," ","building, edification","oy-kod-om-AY","Noun  ","ἡ "," "," ","ἡ ","  ","3619",965,965,38,"Noun  ","ἡ οἰκοδομή"," "," "," ","oy-kod-om-AY","building, edification","ἡ οἰκοδομή","Index of Textbook: Noun  ","  ","3619",false,5965,973," "," "," ",965,""," ","  "," ",true,965,2,"","Noun","ἡ οἰκοδομή: building, edification  (Chapter 38, Noun)",965,""," "," "," ",false,5965,1017,965,""," "," "," "]
[null,null,null,null,null,null,null,null,null,null,null,null,null,null,null,null,null,null,null,null,null,null,null,null,null,null,null,null,null,null,973,"19","ὅλος","*ὁλο","entirely, wholly","HOLL-oss","Adverb"," "," "," ","  ","olos","3650",3650.5,"ὅλος",true,true,true,"19","*ὁλο","entirely, wholly","HOLL-oss","Adverb"," "," "," ","  ","3650",973,973,"19","ὅλος","*ὁλο","entirely, wholly","HOLL-oss","Adverb",""," "," ","","  ","3650",973,973,"19","Adverb","ὅλος"," "," ","*ὁλο","HOLL-oss","entirely, wholly","ὅλος","Chapter 19: Adverb","  ","3650",false,5973,980," "," "," ",973,""," ","  "," ",false,5973,975," "," "," ",973,""," "," "," ",false,5973,1025,973,""," "," "," "]
[null,null,null,null,null,null,null,null,null,null,null,null,null,null,null,null,null,null,null,null,null,null,null,null,null,null,null,null,null,null,978,38,"ὁμοιόω"," ","I compare, I make like","homm-oy-AH-owe","Verb  "," ","-","ὁμοιώσω","ὡμοίωσα","omoiow omoiwsw wmoiwsa","3666",3666,"ὁμοιόω",true,true,true,38," ","I compare, I make like","homm-oy-AH-owe","Verb  "," ","-","ὁμοιώσω","ὡμοίωσα","3666",978,978,38,"ὁμοιόω"," ","I compare, I make like","homm-oy-AH-owe","Verb  ","","-","ὁμοιώσω","","ὡμοίωσα","3666",978,978,38,"Verb  ","ὁμοιόω","-","ὁμοιώσω"," ","homm-oy-AH-owe","I compare, I make like","ὁμοιόω","Index of Textbook: Verb  ","ὡμοίωσα","3666",true,978,8,"ὁμοιόω","I compare, I make like"," [Chap. 38]",978,""," ","  "," ",false,5978,980," "," "," ",978,""," "," "," ",false,5978,1030,978,""," "," "," "]
[null,null,null,null,null,null,null,null,null,null,null,null,null,null,null,null,null,null,null,null,null,null,null,null,null,null,null,null,null,null,986,38,"ὀπίζω"," ","behind, after [genitive]","opp-IZ-owe","Preposition"," "," "," ","  ","opizw","3694",3694,"ὀπίζω",true,true,true,38," ","behind, after [genitive]","opp-IZ-owe","Preposition"," "," "," ","  ","3694",986,986,38,"ὀπίζω"," ","behind, after [genitive]","opp-IZ-owe","Preposition",""," "," ","","  ","3694",986,986,38,"Preposition","ὀπίζω"," "," "," ","opp-IZ-owe","behind, after [genitive]","ὀπίζω","Index of Textbook: Preposition","  ","3694",false,5986,991," "," "," ",986,""," ","  "," ",false,5986,988," "," "," ",986,""," "," "," ",false,5986,1038,986,""," "," "," "]
[null,null,null,null,null,null,null,null,null,null,null,null,null,null,null,null,null,null,null,null,null,null,null,null,null,null,null,null,null,null,993,"38","ὀργή"," ","wrath, anger","orr-GAY","Noun  ","ἡ"," "," ","  ","orgh","3709",3709,"ὀργή",true,true,true,"38"," ","wrath, anger","orr-GAY","Noun  ","ἡ"," "," ","  ","3709",993,993,"38","ἡ ὀργή"," ","wrath, anger","orr-GAY","Noun  ","ἡ "," "," ","ἡ ","  ","3709",993,993,"38","Noun  ","ἡ ὀργή"," "," "," ","orr-GAY","wrath, anger","ἡ ὀργή","Chapter 38: Noun  ","  ","3709",false,5993,998," "," "," ",993,""," ","  "," ",false,5993,995," "," "," ",993,""," "," "," ",false,5993,1045,993,""," "," "," "]
[null,null,null,null,null,null,null,null,null,null,null,null,null,null,null,null,null,null,null,null,null,null,null,null,null,null,null,null,null,null,998,"14","ὅς","*ὁς","who/which/that (nominative, singular, masculine)","HOSS","Pronoun"," "," "," ","  ","os","3739",3739.01,"ὅς",true,true,true,"14","*ὁς","who/which/that (nominative, singular, masculine)","HOSS","Pronoun"," "," "," ","  ","3739",998,998,"14","ὅς","*ὁς","who/which/that (nominative, singular, masculine)","HOSS","Pronoun",""," "," ","","  ","3739",998,998,"14","Pronoun","ὅς"," "," ","*ὁς","HOSS","who/which/that (nominative, singular, masculine)","ὅς","Chapter 14: Pronoun","  ","3739",false,5998,1003," "," "," ",998,""," ","  "," ",false,5998,1000," "," "," ",998,""," "," "," ",true,998,70,998,"","ὅς","who/which/that (nominative, singular, masculine)"," "]
[null,null,null,null,null,null,null,null,null,null,null,null,null,null,null,null,null,null,null,null,null,null,null,null,null,null,null,null,null,null,1006,"14","ἥν","ὅς","whom/which/that (accusative, singular, feminine)","HAYN","Pronoun"," "," "," ","  ","hn","3739",3739.09,"ἥν",true,true,true,"14","ὅς","whom/which/that (accusative, singular, feminine)","HAYN","Pronoun"," "," "," ","  ","3739",1006,1006,"14","ἥν","ὅς","whom/which/that (accusative, singular, feminine)","HAYN","Pronoun",""," "," ","","  ","3739",1006,1006,"14","Pronoun","ἥν"," "," ","ὅς","HAYN","whom/which/that (accusative, singular, feminine)","ἥν","Chapter 14: Pronoun","  ","3739",false,6006,1011," "," "," ",1006,""," ","  "," ",false,6006,1008," "," "," ",1006,""," "," "," ",true,1006,78,1006,"","ἥν","whom/which/that (accusative, singular, feminine)"," "]
[null,null,null,null,null,null,null,null,null,null,null,null,null,null,null,null,null,null,null,null,null,null,null,null,null,null,null,null,null,null,1018,"37","ὀστέον, ὀστοῦν"," ","bone","oss-TEH-on, oss-TOON","Noun  ","τό"," "," ","  ","osteon, ostoun","3747",3747,"ὀστέον, ὀστοῦν",true,true,true,"37"," ","bone","oss-TEH-on, oss-TOON","Noun  ","τό"," "," ","  ","3747",1018,1018,"37","τό ὀστέον, ὀστοῦν"," ","bone","oss-TEH-on, oss-TOON","Noun  ","τό "," "," ","τό ","  ","3747",1018,1018,"37","Noun  ","τό ὀστέον, ὀστοῦν"," "," "," ","oss-TEH-on, oss-TOON","bone","τό ὀστέον, ὀστοῦν","Extra: Noun  ","  ","3747",false,6018,1023," "," "," ",1018,""," ","  "," ",false,6018,1020," "," "," ",1018,""," "," "," ",false,6018,1053,1018,""," "," "," "]
[null,null,null,null,null,null,null,null,null,null,null,null,null,null,null,null,null,null,null,null,null,null,null,null,null,null,null,null,null,null,1024,"06","ὅτι"," ","that, since, because, or begin a quotation","HA-tee","Conjunction"," "," "," ","  ","oti","3754",3754,"ὅτι",true,true,true,"06"," ","that, since, because, or begin a quotation","HA-tee","Conjunction"," "," "," ","  ","3754",1024,1024,"06","ὅτι"," ","that, since, because, or begin a quotation","HA-tee","Conjunction",""," "," ","","  ","3754",1024,1024,"06","Conjunction","ὅτι"," "," "," ","HA-tee","that, since, because, or begin a quotation","ὅτι","Chapter 06: Conjunction","  ","3754",false,6024,1029," "," "," ",1024,""," ","  "," ",false,6024,1026," "," "," ",1024,""," "," "," ",true,1024,89,1024,"","ὅτι","that, since, because, or begin a quotation"," "]
[null,null,null,null,null,null,null,null,null,null,null,null,null,null,null,null,null,null,null,null,null,null,null,null,null,null,null,null,null,null,1026,"07","οὐ μή"," ","no! (emphatic)","OOH MAY","Idiom"," "," "," ","  ","ou mh","3756+3361",3756.3,{"$f":"IF(AG1029=\"\",\"\",AG1029)","v":"οὐ μή"},true,true,true,"07"," ","no! (emphatic)","OOH MAY","Idiom"," "," "," ",{"$f":"IF(AC$9,AO1029,\" \")","v":"  "},{"$f":"IF(AC$12,AQ1029,\" \")","v":"3756+3361"},1026,1026,"07","οὐ μή"," ","no! (emphatic)","OOH MAY","Idiom",""," "," ",{"$f":"IF($AV1029,IF(AL1029=\" \",\"\",AL1029&\" \"),\"\")","v":""},{"$f":"IF($AV1029,BE1029,\" \")","v":"  "},"3756+3361",1026,1026,"07","Idiom","οὐ μή"," "," "," ","OOH MAY","no! (emphatic)","οὐ μή",{"$f":"IF(BV1029=\"\",\"\",IF(BW1029=\"37\",\"Extra\", IF(BW1029=38, \"Index of Textbook\",\"Chapter \" &BW1029))&\": \"&BX1029)","v":"Chapter 07: Idiom"},"  ","3756+3361",false,6026,1031," "," ",{"$f":"IF($CI1029,IF(AW1029=\"37\",\" [Extra]\",IF(AW1029=\"38\",\" [Index]\",  \" [Chap. \"&TEXT(VALUE(AW1029),\"#\")&\"]\")),\" \")","v":" "},1026,""," ","  "," ",false,6026,1028," "," ",{"$f":"IF($CT1029,IF(BB1029=\" \",\"\",BB1029&\" \")&AG1029&CW1029&\": \"&AY1029&  IF(AF1029=\"37\",\"  (Extra\",IF(AF1029=\"38\",\"  (Index\",\"  (Chapter \"&TEXT(AF1029,\"#\"))) &\", \"&CX1029& IF(LEN(AM1029)>1,\" [\"&AM1029&\"]\",\"\") &IF(LEN(AN1029)>1,\" [\"&AN1029&\"]\",\"\")         &\")\",\" \")","v":" "},1026,""," "," "," ",false,6026,1058,1026,""," "," "," "]
[null,null,null,null,null,null,null,null,null,null,null,null,null,null,null,null,null,null,null,null,null,null,null,null,null,null,null,null,null,null,1038,"37","οὐράνιος","*οὐρανο","heavenly","ooh-RAHN-ee-oss","Adjective"," "," "," ","  ","ouranios","3770",3770,"οὐράνιος",true,true,true,"37","*οὐρανο","heavenly","ooh-RAHN-ee-oss","Adjective"," "," "," ","  ","3770",1038,1038,"37","οὐράνιος","*οὐρανο","heavenly","ooh-RAHN-ee-oss","Adjective",""," "," ","","  ","3770",1038,1038,"37","Adjective","οὐράνιος"," "," ","*οὐρανο","ooh-RAHN-ee-oss","heavenly","οὐράνιος","Extra: Adjective","  ","3770",false,6038,1043," "," "," ",1038,""," ","  "," ",false,6038,1040," "," "," ",1038,""," "," "," ",false,6038,1068,1038,""," "," "," "]
[null,null,null,null,null,null,null,null,null,null,null,null,null,null,null,null,null,null,null,null,null,null,null,null,null,null,null,null,null,null,1039,"07","οὐρανός","*οὐρανο","sky, heaven","ooh-rah-NOSS","Noun  ","ὁ"," "," ","  ","ouranos","3772",3772,"οὐρανός",true,true,true,"07","*οὐρανο","sky, heaven","ooh-rah-NOSS","Noun  ","ὁ"," "," ","  ","3772",1039,1039,"07","ὁ οὐρανός","*οὐρανο","sky, heaven","ooh-rah-NOSS","Noun  ","ὁ "," "," ","ὁ ","  ","3772",1039,1039,"07","Noun  ","ὁ οὐρανός"," "," ","*οὐρανο","ooh-rah-NOSS","sky, heaven","ὁ οὐρανός","Chapter 07: Noun  ","  ","3772",false,6039,1044," "," "," ",1039,""," ","  "," ",false,6039,1041," "," "," ",1039,""," "," "," ",false,6039,1069,1039,""," "," "," "]
[null,null,null,null,null,null,null,null,null,null,null,null,null,null,null,null,null,null,null,null,null,null,null,null,null,null,null,null,null,null,1047,"13","ταύτην","*τουτο","this (accusative, singular, feminine)","TAU-tayn","Pronoun"," "," "," ","  ","tauthn","3778",3778.0320000000002,"ταύτην",true,true,true,"13","*τουτο","this (accusative, singular, feminine)","TAU-tayn","Pronoun"," "," "," ","  ","3778",1047,1047,"13","ταύτην","*τουτο","this (accusative, singular, feminine)","TAU-tayn","Pronoun",""," "," ","","  ","3778",1047,1047,"13","Pronoun","ταύτην"," "," ","*τουτο","TAU-tayn","this (accusative, singular, feminine)","ταύτην","Chapter 13: Pronoun","  ","3778",false,6047,1052," "," "," ",1047,""," ","  "," ",false,6047,1049," "," "," ",1047,""," "," "," ",false,6047,1077,1047,""," "," "," "]
[null,null,null,null,null,null,null,null,null,null,null,null,null,null,null,null,null,null,null,null,null,null,null,null,null,null,null,null,null,null,1058,38,"πάθημα"," ","suffering","PAH-thay-mah","Noun  ","τό"," "," ","  ","paqhma","3804",3804,"πάθημα",true,true,true,38," ","suffering","PAH-thay-mah","Noun  ","τό"," "," ","  ","3804",1058,1058,38,"τό πάθημα"," ","suffering","PAH-thay-mah","Noun  ","τό "," "," ","τό ","  ","3804",1058,1058,38,"Noun  ","τό πάθημα"," "," "," ","PAH-thay-mah","suffering","τό πάθημα","Index of Textbook: Noun  ","  ","3804",false,6058,1063," "," "," ",1058,""," ","  "," ",false,6058,1060," "," "," ",1058,""," "," "," ",false,6058,1088,1058,""," "," "," "]
[null,null,null,null,null,null,null,null,null,null,null,null,null,null,null,null,null,null,null,null,null,null,null,null,null,null,null,null,null,null,1059,38,"παιδεύω"," ","I train, I discipline","pie-DYEW-owe","Verb  "," ","ἐπαίδευον","-","ἐπαίδευσα","paideuw epaideuon epaideusa","3811",3811,"παιδεύω",true,true,true,38," ","I train, I discipline","pie-DYEW-owe","Verb  "," ","ἐπαίδευον","-","ἐπαίδευσα","3811",1059,1059,38,"παιδεύω"," ","I train, I discipline","pie-DYEW-owe","Verb  ","","ἐπαίδευον","-","","ἐπαίδευσα","3811",1059,1059,38,"Verb  ","παιδεύω","ἐπαίδευον","-"," ","pie-DYEW-owe","I train, I discipline","παιδεύω","Index of Textbook: Verb  ","ἐπαίδευσα","3811",false,6059,1064," "," "," ",1059,""," ","  "," ",false,6059,1061," "," "," ",1059,""," "," "," ",false,6059,1089,1059,""," "," "," "]
[null,null,null,null,null,null,null,null,null,null,null,null,null,null,null,null,null,null,null,null,null,null,null,null,null,null,null,null,null,null,1071,"08","παρά (παρʼ) [genitive]"," ","from [genitive]","parr-AH","Preposition"," "," "," ","  ","para","3844",3844,"παρά (παρʼ) [genitive]",true,true,true,"08"," ","from [genitive]","parr-AH","Preposition"," "," "," ","  ","3844",1071,1071,"08","παρά (παρʼ) [genitive]"," ","from [genitive]","parr-AH","Preposition",""," "," ","","  ","3844",1071,1071,"08","Preposition","παρά (παρʼ) [genitive]"," "," "," ","parr-AH","from [genitive]","παρά (παρʼ) [genitive]","Chapter 08: Preposition","  ","3844",false,6071,1076," "," "," ",1071,""," ","  "," ",false,6071,1073," "," "," ",1071,""," "," "," ",false,6071,1101,1071,""," "," "," "]
[null,null,null,null,null,null,null,null,null,null,null,null,null,null,null,null,null,null,null,null,null,null,null,null,null,null,null,null,null,null,1078,38,"παράδοσις"," ","tradition","parr-AH-doss-iss","Noun  ","ἡ"," "," ","  ","paradosis","3862",3862,"παράδοσις",true,true,true,38," ","tradition","parr-AH-doss-iss","Noun  ","ἡ"," "," ","  ","3862",1078,1078,38,"ἡ παράδοσις"," ","tradition","parr-AH-doss-iss","Noun  ","ἡ "," "," ","ἡ ","  ","3862",1078,1078,38,"Noun  ","ἡ παράδοσις"," "," "," ","parr-AH-doss-iss","tradition","ἡ παράδοσις","Index of Textbook: Noun  ","  ","3862",false,6078,1083," "," "," ",1078,""," ","  "," ",false,6078,1080," "," "," ",1078,""," "," "," ",false,6078,1108,1078,""," "," "," "]
[null,null,null,null,null,null,null,null,null,null,null,null,null,null,null,null,null,null,null,null,null,null,null,null,null,null,null,null,null,null,1079,38,"παραιτέομαι"," ","I reject, I refuse, I decline","parr-eye-THE-omm-eye","Verb  "," ","παρῃτούμην","-","παρῃτησάμην","paraiteomai parhtoumhn oarhthsamhn","3868",3868,"παραιτέομαι",true,true,true,38," ","I reject, I refuse, I decline","parr-eye-THE-omm-eye","Verb  "," ","παρῃτούμην","-","παρῃτησάμην","3868",1079,1079,38,"παραιτέομαι"," ","I reject, I refuse, I decline","parr-eye-THE-omm-eye","Verb  ","","παρῃτούμην","-","","παρῃτησάμην","3868",1079,1079,38,"Verb  ","παραιτέομαι","παρῃτούμην","-"," ","parr-eye-THE-omm-eye","I reject, I refuse, I decline","παραιτέομαι","Index of Textbook: Verb  ","παρῃτησάμην","3868",false,6079,1084," "," "," ",1079,""," ","  "," ",false,6079,1081," "," "," ",1079,""," "," "," ",false,6079,1109,1079,""," "," "," "]
[null,null,null,null,null,null,null,null,null,null,null,null,null,null,null,null,null,null,null,null,null,null,null,null,null,null,null,null,null,null,1091,38,"παρεμβολή"," ","barracks, camp","parr-em-boll-AY","Noun  ","ἡ"," "," ","  ","parembolh","3925",3925,"παρεμβολή",true,true,true,38," ","barracks, camp","parr-em-boll-AY","Noun  ","ἡ"," "," ","  ","3925",1091,1091,38,"ἡ παρεμβολή"," ","barracks, camp","parr-em-boll-AY","Noun  ","ἡ "," "," ","ἡ ","  ","3925",1091,1091,38,"Noun  ","ἡ παρεμβολή"," "," "," ","parr-em-boll-AY","barracks, camp","ἡ παρεμβολή","Index of Textbook: Noun  ","  ","3925",false,6091,1096," "," "," ",1091,""," ","  "," ",false,6091,1093," "," "," ",1091,""," "," "," ",false,6091,1121,1091,""," "," "," "]
[null,null,null,null,null,null,null,null,null,null,null,null,null,null,null,null,null,null,null,null,null,null,null,null,null,null,null,null,null,null,1099,"10","πᾶν","*παντ","each, every, all (neuter)","PAHN","Adjective"," "," "," ","  ","pan","3956.4",3956,"πᾶν",true,true,true,"10","*παντ","each, every, all (neuter)","PAHN","Adjective"," "," "," ","  ","3956.4",1099,1099,"10","πᾶν","*παντ","each, every, all (neuter)","PAHN","Adjective",""," "," ","","  ","3956.4",1099,1099,"10","Adjective","πᾶν"," "," ","*παντ","PAHN","each, every, all (neuter)","πᾶν","Chapter 10: Adjective","  ","3956.4",false,6099,1104," "," "," ",1099,""," ","  "," ",false,6099,1101," "," "," ",1099,""," "," "," ",true,1099,92,1099,"","πᾶν","each, every, all (neuter)"," "]
[null,null,null,null,null,null,null,null,null,null,null,null,null,null,null,null,null,null,null,null,null,null,null,null,null,null,null,null,null,null,1104,38,"πατάσσω"," ","I strike","pah-TAHS-owe","Verb  "," ","-","πατάξω","ἐπάταξα","patassw pataxw epataxa","3960",3960,"πατάσσω",true,true,true,38," ","I strike","pah-TAHS-owe","Verb  "," ","-","πατάξω","ἐπάταξα","3960",1104,1104,38,"πατάσσω"," ","I strike","pah-TAHS-owe","Verb  ","","-","πατάξω","","ἐπάταξα","3960",1104,1104,38,"Verb  ","πατάσσω","-","πατάξω"," ","pah-TAHS-owe","I strike","πατάσσω","Index of Textbook: Verb  ","ἐπάταξα","3960",false,6104,1109," "," "," ",1104,""," ","  "," ",false,6104,1106," "," "," ",1104,""," "," "," ",false,6104,1132,1104,""," "," "," "]
[null,null,null,null,null,null,null,null,null,null,null,null,null,null,null,null,null,null,null,null,null,null,null,null,null,null,null,null,null,null,1111,38,"πειρασμός"," ","temptation, test","pay-rahs-MOSS","Noun  ","ὁ"," "," ","  ","peirasmos","3986",3986,"πειρασμός",true,true,true,38," ","temptation, test","pay-rahs-MOSS","Noun  ","ὁ"," "," ","  ","3986",1111,1111,38,"ὁ πειρασμός"," ","temptation, test","pay-rahs-MOSS","Noun  ","ὁ "," "," ","ὁ ","  ","3986",1111,1111,38,"Noun  ","ὁ πειρασμός"," "," "," ","pay-rahs-MOSS","temptation, test","ὁ πειρασμός","Index of Textbook: Noun  ","  ","3986",false,6111,1116," "," "," ",1111,""," ","  "," ",false,6111,1113," "," "," ",1111,""," "," "," ",false,6111,1139,1111,""," "," "," "]
[null,null,null,null,null,null,null,null,null,null,null,null,null,null,null,null,null,null,null,null,null,null,null,null,null,null,null,null,null,null,1119,"37","περιμένω"," ","I wait, I remain","perr-ee-MEN-owe","Verb  "," ","περιέμενον","περιμενέω","περιέμεινα","perimenw periemenon perimenew periemeina","4037",4037,"περιμένω",true,true,true,"37"," ","I wait, I remain","perr-ee-MEN-owe","Verb  "," ","περιέμενον","περιμενέω","περιέμεινα","4037",1119,1119,"37","περιμένω"," ","I wait, I remain","perr-ee-MEN-owe","Verb  ","","περιέμενον","περιμενέω","","περιέμεινα","4037",1119,1119,"37","Verb  ","περιμένω","περιέμενον","περιμενέω"," ","perr-ee-MEN-owe","I wait, I remain","περιμένω","Extra: Verb  ","περιέμεινα","4037",false,6119,1124," "," "," ",1119,""," ","  "," ",false,6119,1121," "," "," ",1119,""," "," "," ",false,6119,1147,1119,""," "," "," "]
[null,null,null,null,null,null,null,null,null,null,null,null,null,null,null,null,null,null,null,null,null,null,null,null,null,null,null,null,null,null,1124,38,"περιστερά"," ","dove","perr-iss-ter-AH","Noun  ","ἡ"," "," ","  ","peristera","4058",4058,"περιστερά",true,true,true,38," ","dove","perr-iss-ter-AH","Noun  ","ἡ"," "," ","  ","4058",1124,1124,38,"ἡ περιστερά"," ","dove","perr-iss-ter-AH","Noun  ","ἡ "," "," ","ἡ ","  ","4058",1124,1124,38,"Noun  ","ἡ περιστερά"," "," "," ","perr-iss-ter-AH","dove","ἡ περιστερά","Index of Textbook: Noun  ","  ","4058",false,6124,1129," "," "," ",1124,""," ","  "," ",false,6124,1126," "," "," ",1124,""," "," "," ",false,6124,1152,1124,""," "," "," "]
[null,null,null,null,null,null,null,null,null,null,null,null,null,null,null,null,null,null,null,null,null,null,null,null,null,null,null,null,null,null,1132,"04","Πιλᾶτος","*Πιλατο","Pilate","pee-LAHT-oss","Proper Noun","ὁ"," "," ","  ","pilatos","4091",4091,"Πιλᾶτος",true,true,true,"04","*Πιλατο","Pilate","pee-LAHT-oss","Proper Noun","ὁ"," "," ","  ","4091",1132,1132,"04","ὁ Πιλᾶτος","*Πιλατο","Pilate","pee-LAHT-oss","Proper Noun","ὁ "," "," ","ὁ ","  ","4091",1132,1132,"04","Proper Noun","ὁ Πιλᾶτος"," "," ","*Πιλατο","pee-LAHT-oss","Pilate","ὁ Πιλᾶτος","Chapter 04: Proper Noun","  ","4091",false,6132,1137," "," "," ",1132,""," ","  "," ",false,6132,1134," "," "," ",1132,""," "," "," ",false,6132,1160,1132,""," "," "," "]
[null,null,null,null,null,null,null,null,null,null,null,null,null,null,null,null,null,null,null,null,null,null,null,null,null,null,null,null,null,null,1134,"34","πίπτω","*πετ","I fall","PIP-toe","Verb  "," ","ἔπιπτον","πεσοῦμαι","ἔπεσον, ἔπεσα","piptw epipton pesoumai epeson epesa","4098",4098,"πίπτω",true,true,true,"34","*πετ","I fall","PIP-toe","Verb  "," ","ἔπιπτον","πεσοῦμαι","ἔπεσον, ἔπεσα","4098",1134,1134,"34","πίπτω","*πετ","I fall","PIP-toe","Verb  ","","ἔπιπτον","πεσοῦμαι","","ἔπεσον, ἔπεσα","4098",1134,1134,"34","Verb  ","πίπτω","ἔπιπτον","πεσοῦμαι","*πετ","PIP-toe","I fall","πίπτω","Chapter 34: Verb  ","ἔπεσον, ἔπεσα","4098",false,6134,1139," "," "," ",1134,""," ","  "," ",false,6134,1136," "," "," ",1134,""," "," "," ",false,6134,1162,1134,""," "," "," "]
[null,null,null,null,null,null,null,null,null,null,null,null,null,null,null,null,null,null,null,null,null,null,null,null,null,null,null,null,null,null,1144,"17","πλείων","*πλειο","larger, more (masculine or feminine)","PLAY-own","Adjective"," "," "," ","  ","pleiwn","4119",4119,"πλείων",true,true,true,"17","*πλειο","larger, more (masculine or feminine)","PLAY-own","Adjective"," "," "," ","  ","4119",1144,1144,"17","πλείων","*πλειο","larger, more (masculine or feminine)","PLAY-own","Adjective",""," "," ","","  ","4119",1144,1144,"17","Adjective","πλείων"," "," ","*πλειο","PLAY-own","larger, more (masculine or feminine)","πλείων","Chapter 17: Adjective","  ","4119",false,6144,1149," "," "," ",1144,""," ","  "," ",false,6144,1146," "," "," ",1144,""," "," "," ",false,6144,1172,1144,""," "," "," "]
[null,null,null,null,null,null,null,null,null,null,null,null,null,null,null,null,null,null,null,null,null,null,null,null,null,null,null,null,null,null,1152,"17","πληρόω","*πληρο","I fill, I fulfill, I complete","play-RA-owe","Verb  "," ","ἐπλήρουν","πληρώσω","ἐπλήρωσα","plhrow eplhroun plhrwsw eplhrwsa","4137",4137,"πληρόω",true,true,true,"17","*πληρο","I fill, I fulfill, I complete","play-RA-owe","Verb  "," ","ἐπλήρουν","πληρώσω","ἐπλήρωσα","4137",1152,1152,"17","πληρόω","*πληρο","I fill, I fulfill, I complete","play-RA-owe","Verb  ","","ἐπλήρουν","πληρώσω","","ἐπλήρωσα","4137",1152,1152,"17","Verb  ","πληρόω","ἐπλήρουν","πληρώσω","*πληρο","play-RA-owe","I fill, I fulfill, I complete","πληρόω","Chapter 17: Verb  ","ἐπλήρωσα","4137",true,1152,9,"πληρόω","I fill, I fulfill, I complete"," [Chap. 17]",1152,""," ","  "," ",false,6152,1154," "," "," ",1152,""," "," "," ",false,6152,1180,1152,""," "," "," "]
[null,null,null,null,null,null,null,null,null,null,null,null,null,null,null,null,null,null,null,null,null,null,null,null,null,null,null,null,null,null,1157,38,"πλούσιος"," ","rich","PLOO-see-oss","Adjective"," "," "," ","  ","plousios","4145",4145,"πλούσιος",true,true,true,38," ","rich","PLOO-see-oss","Adjective"," "," "," ","  ","4145",1157,1157,38,"πλούσιος"," ","rich","PLOO-see-oss","Adjective",""," "," ","","  ","4145",1157,1157,38,"Adjective","πλούσιος"," "," "," ","PLOO-see-oss","rich","πλούσιος","Index of Textbook: Adjective","  ","4145",false,6157,1161," "," "," ",1157,""," ","  "," ",false,6157,1159," "," "," ",1157,""," "," "," ",false,6157,1185,1157,""," "," "," "]
[null,null,null,null,null,null,null,null,null,null,null,null,null,null,null,null,null,null,null,null,null,null,null,null,null,null,null,null,null,null,1165,"38","ποιμαίνω"," ","I shepherd","poy-MY-noe","Verb  "," ","ποιμαινόμην","ποιμανῶ","ἐποίμανα","poimainw poimainomhn poimanw epoimana","4165",4165,"ποιμαίνω",true,true,true,"38"," ","I shepherd","poy-MY-noe","Verb  "," ","ποιμαινόμην","ποιμανῶ","ἐποίμανα","4165",1165,1165,"38","ποιμαίνω"," ","I shepherd","poy-MY-noe","Verb  ","","ποιμαινόμην","ποιμανῶ","","ἐποίμανα","4165",1165,1165,"38","Verb  ","ποιμαίνω","ποιμαινόμην","ποιμανῶ"," ","poy-MY-noe","I shepherd","ποιμαίνω","Chapter 38: Verb  ","ἐποίμανα","4165",false,6165,1169," "," "," ",1165,""," ","  "," ",false,6165,1167," "," "," ",1165,""," "," "," ",false,6165,1193,1165,""," "," "," "]
[null,null,null,null,null,null,null,null,null,null,null,null,null,null,null,null,null,null,null,null,null,null,null,null,null,null,null,null,null,null,1172,"09","πονηρός","*πονηρο","evil, bad","ponn-ay-ROSS","Adjective"," "," "," ","  ","ponhros","4190",4190,"πονηρός",true,true,true,"09","*πονηρο","evil, bad","ponn-ay-ROSS","Adjective"," "," "," ","  ","4190",1172,1172,"09","πονηρός","*πονηρο","evil, bad","ponn-ay-ROSS","Adjective",""," "," ","","  ","4190",1172,1172,"09","Adjective","πονηρός"," "," ","*πονηρο","ponn-ay-ROSS","evil, bad","πονηρός","Chapter 09: Adjective","  ","4190",false,6172,1176," "," "," ",1172,""," ","  "," ",false,6172,1174," "," "," ",1172,""," "," "," ",false,6172,1200,1172,""," "," "," "]
[null,null,null,null,null,null,null,null,null,null,null,null,null,null,null,null,null,null,null,null,null,null,null,null,null,null,null,null,null,null,1177,38,"πόσος"," ","how great? how much? how many","POSS-oss","Adjective"," "," "," ","  ","posos","4214",4214,"πόσος",true,true,true,38," ","how great? how much? how many","POSS-oss","Adjective"," "," "," ","  ","4214",1177,1177,38,"πόσος"," ","how great? how much? how many","POSS-oss","Adjective",""," "," ","","  ","4214",1177,1177,38,"Adjective","πόσος"," "," "," ","POSS-oss","how great? how much? how many","πόσος","Index of Textbook: Adjective","  ","4214",false,6177,1181," "," "," ",1177,""," ","  "," ",false,6177,1179," "," "," ",1177,""," "," "," ",false,6177,1205,1177,""," "," "," "]
[null,null,null,null,null,null,null,null,null,null,null,null,null,null,null,null,null,null,null,null,null,null,null,null,null,null,null,null,null,null,1185,38,"πρᾶγμα"," ","deed, thing, matter","PRAHG-mah","Noun  ","τό"," "," ","  ","pragma","4229",4229,"πρᾶγμα",true,true,true,38," ","deed, thing, matter","PRAHG-mah","Noun  ","τό"," "," ","  ","4229",1185,1185,38,"τό πρᾶγμα"," ","deed, thing, matter","PRAHG-mah","Noun  ","τό "," "," ","τό ","  ","4229",1185,1185,38,"Noun  ","τό πρᾶγμα"," "," "," ","PRAHG-mah","deed, thing, matter","τό πρᾶγμα","Index of Textbook: Noun  ","  ","4229",false,6185,1189," "," "," ",1185,""," ","  "," ",false,6185,1187," "," "," ",1185,""," "," "," ",false,6185,1212,1185,""," "," "," "]
[null,null,null,null,null,null,null,null,null,null,null,null,null,null,null,null,null,null,null,null,null,null,null,null,null,null,null,null,null,null,1188,"30","πρεσβύτερος [adjective]","*πρεσβυτερο","older","press-BOO-ter-oss","Adjective"," "," "," ","  ","presbuterpos","4245.5",4245,"πρεσβύτερος [adjective]",true,true,true,"30","*πρεσβυτερο","older","press-BOO-ter-oss","Adjective"," "," "," ","  ","4245.5",1188,1188,"30","πρεσβύτερος [adjective]","*πρεσβυτερο","older","press-BOO-ter-oss","Adjective",""," "," ","","  ","4245.5",1188,1188,"30","Adjective","πρεσβύτερος [adjective]"," "," ","*πρεσβυτερο","press-BOO-ter-oss","older","πρεσβύτερος [adjective]","Chapter 30: Adjective","  ","4245.5",false,6188,1192," "," "," ",1188,""," ","  "," ",false,6188,1190," "," "," ",1188,""," "," "," ",false,6188,1215,1188,""," "," "," "]
[null,null,null,null,null,null,null,null,null,null,null,null,null,null,null,null,null,null,null,null,null,null,null,null,null,null,null,null,null,null,1197,38,"προσδέχομαι"," ","I receive, I wait for","pross-DECK-om-eye","Verb  "," ","προσεδεχόμην","-","προσεδεξάμην","prosdecomai prosedecomhn prosedexamhn","4327",4327,"προσδέχομαι",true,true,true,38," ","I receive, I wait for","pross-DECK-om-eye","Verb  "," ","προσεδεχόμην","-","προσεδεξάμην","4327",1197,1197,38,"προσδέχομαι"," ","I receive, I wait for","pross-DECK-om-eye","Verb  ","","προσεδεχόμην","-","","προσεδεξάμην","4327",1197,1197,38,"Verb  ","προσδέχομαι","προσεδεχόμην","-"," ","pross-DECK-om-eye","I receive, I wait for","προσδέχομαι","Index of Textbook: Verb  ","προσεδεξάμην","4327",false,6197,1201," "," "," ",1197,""," ","  "," ",false,6197,1199," "," "," ",1197,""," "," "," ",false,6197,1223,1197,""," "," "," "]
[null,null,null,null,null,null,null,null,null,null,null,null,null,null,null,null,null,null,null,null,null,null,null,null,null,null,null,null,null,null,1205,"19","προσκυνέω","*προσκυνε","I worship","pross-koon-EH-owe","Verb  "," ","προσεκύνουν","προσκυνήσω","προσεκύνησα","proskunew prosekunoun proskunhsw prosekunhsa","4352",4352,"προσκυνέω",true,true,true,"19","*προσκυνε","I worship","pross-koon-EH-owe","Verb  "," ","προσεκύνουν","προσκυνήσω","προσεκύνησα","4352",1205,1205,"19","προσκυνέω","*προσκυνε","I worship","pross-koon-EH-owe","Verb  ","","προσεκύνουν","προσκυνήσω","","προσεκύνησα","4352",1205,1205,"19","Verb  ","προσκυνέω","προσεκύνουν","προσκυνήσω","*προσκυνε","pross-koon-EH-owe","I worship","προσκυνέω","Chapter 19: Verb  ","προσεκύνησα","4352",false,6205,1209," "," "," ",1205,""," ","  "," ",false,6205,1207," "," "," ",1205,""," "," "," ",false,6205,1231,1205,""," "," "," "]
[null,null,null,null,null,null,null,null,null,null,null,null,null,null,null,null,null,null,null,null,null,null,null,null,null,null,null,null,null,null,1210,38,"πρότερος"," ","former, earlier","PRO-terr-oss","Adjective"," "," "," ","  ","proteros","4387",4387,"πρότερος",true,true,true,38," ","former, earlier","PRO-terr-oss","Adjective"," "," "," ","  ","4387",1210,1210,38,"πρότερος"," ","former, earlier","PRO-terr-oss","Adjective",""," "," ","","  ","4387",1210,1210,38,"Adjective","πρότερος"," "," "," ","PRO-terr-oss","former, earlier","πρότερος","Index of Textbook: Adjective","  ","4387",false,6210,1214," "," "," ",1210,""," ","  "," ",false,6210,1212," "," "," ",1210,""," "," "," ",false,6210,1236,1210,""," "," "," "]
[null,null,null,null,null,null,null,null,null,null,null,null,null,null,null,null,null,null,null,null,null,null,null,null,null,null,null,null,null,null,1218,38,"πτωχός"," ","poor (person)","ptoe-KOSS","Noun  ","ὁ"," "," ","  ","ptwcos","4434",4434,{"$f":"IF(AG1221=\"\",\"\",AG1221)","v":"πτωχός"},true,true,true,38," ","poor (person)","ptoe-KOSS","Noun  ","ὁ"," "," ",{"$f":"IF(AC$9,AO1221,\" \")","v":"  "},{"$f":"IF(AC$12,AQ1221,\" \")","v":"4434"},1218,1218,38,"ὁ πτωχός"," ","poor (person)","ptoe-KOSS","Noun  ","ὁ "," "," ",{"$f":"IF($AV1221,IF(AL1221=\" \",\"\",AL1221&\" \"),\"\")","v":"ὁ "},{"$f":"IF($AV1221,BE1221,\" \")","v":"  "},"4434",1218,1218,38,"Noun  ","ὁ πτωχός"," "," "," ","ptoe-KOSS","poor (person)","ὁ πτωχός",{"$f":"IF(BV1221=\"\",\"\",IF(BW1221=\"37\",\"Extra\", IF(BW1221=38, \"Index of Textbook\",\"Chapter \" &BW1221))&\": \"&BX1221)","v":"Index of Textbook: Noun  "},"  ","4434",false,6218,1222," "," ",{"$f":"IF($CI1221,IF(AW1221=\"37\",\" [Extra]\",IF(AW1221=\"38\",\" [Index]\",  \" [Chap. \"&TEXT(VALUE(AW1221),\"#\")&\"]\")),\" \")","v":" "},1218,""," ","  "," ",false,6218,1220," "," ",{"$f":"IF($CT1221,IF(BB1221=\" \",\"\",BB1221&\" \")&AG1221&CW1221&\": \"&AY1221&  IF(AF1221=\"37\",\"  (Extra\",IF(AF1221=\"38\",\"  (Index\",\"  (Chapter \"&TEXT(AF1221,\"#\"))) &\", \"&CX1221& IF(LEN(AM1221)>1,\" [\"&AM1221&\"]\",\"\") &IF(LEN(AN1221)>1,\" [\"&AN1221&\"]\",\"\")         &\")\",\" \")","v":" "},1218,""," "," "," ",false,6218,1244,1218,""," "," "," "]
[null,null,null,null,null,null,null,null,null,null,null,null,null,null,null,null,null,null,null,null,null,null,null,null,null,null,null,null,null,null,1227,38,"ῥαββί"," ","rabbi, teacher, master","hrab-EE","Noun  ","ὁ"," "," ","  ","rabbi","4461",4461,"ῥαββί",true,true,true,38," ","rabbi, teacher, master","hrab-EE","Noun  ","ὁ"," "," ","  ","4461",1227,1227,38,"ὁ ῥαββί"," ","rabbi, teacher, master","hrab-EE","Noun  ","ὁ "," "," ","ὁ ","  ","4461",1227,1227,38,"Noun  ","ὁ ῥαββί"," "," "," ","hrab-EE","rabbi, teacher, master","ὁ ῥαββί","Index of Textbook: Noun  ","  ","4461",false,6227,1231," "," "," ",1227,""," ","  "," ",false,6227,1229," "," "," ",1227,""," "," "," ",false,6227,1250,1227,""," "," "," "]
[null,null,null,null,null,null,null,null,null,null,null,null,null,null,null,null,null,null,null,null,null,null,null,null,null,null,null,null,null,null,1230,38,"ῥίζα"," ","root","HREE-zah","Noun  ","ἡ"," "," ","  ","riza","4491",4491,"ῥίζα",true,true,true,38," ","root","HREE-zah","Noun  ","ἡ"," "," ","  ","4491",1230,1230,38,"ἡ ῥίζα"," ","root","HREE-zah","Noun  ","ἡ "," "," ","ἡ ","  ","4491",1230,1230,38,"Noun  ","ἡ ῥίζα"," "," "," ","HREE-zah","root","ἡ ῥίζα","Index of Textbook: Noun  ","  ","4491",false,6230,1234," "," "," ",1230,""," ","  "," ",false,6230,1232," "," "," ",1230,""," "," "," ",false,6230,1253,1230,""," "," "," "]
[null,null,null,null,null,null,null,null,null,null,null,null,null,null,null,null,null,null,null,null,null,null,null,null,null,null,null,null,null,null,1238,38,"Σαμάρεια"," ","Samaria","sahm-ARR-ay-ah","Proper Noun","ἡ"," "," ","  ","samareia","4540",4540,"Σαμάρεια",true,true,true,38," ","Samaria","sahm-ARR-ay-ah","Proper Noun","ἡ"," "," ","  ","4540",1238,1238,38,"ἡ Σαμάρεια"," ","Samaria","sahm-ARR-ay-ah","Proper Noun","ἡ "," "," ","ἡ ","  ","4540",1238,1238,38,"Proper Noun","ἡ Σαμάρεια"," "," "," ","sahm-ARR-ay-ah","Samaria","ἡ Σαμάρεια","Index of Textbook: Proper Noun","  ","4540",false,6238,1242," "," "," ",1238,""," ","  "," ",false,6238,1240," "," "," ",1238,""," "," "," ",false,6238,1261,1238,""," "," "," "]
[null,null,null,null,null,null,null,null,null,null,null,null,null,null,null,null,null,null,null,null,null,null,null,null,null,null,null,null,null,null,1243,"11","σε","ἐγώ","you (accusative singular)","seh","Pronoun"," "," "," ","  ","se","4571.4",4571,"σε",true,true,true,"11","ἐγώ","you (accusative singular)","seh","Pronoun"," "," "," ","  ","4571.4",1243,1243,"11","σε","ἐγώ","you (accusative singular)","seh","Pronoun",""," "," ","","  ","4571.4",1243,1243,"11","Pronoun","σε"," "," ","ἐγώ","seh","you (accusative singular)","σε","Chapter 11: Pronoun","  ","4571.4",false,6243,1247," "," "," ",1243,""," ","  "," ",false,6243,1245," "," "," ",1243,""," "," "," ",true,1243,100,1243,"","σε","you (accusative singular)"," "]
[null,null,null,null,null,null,null,null,null,null,null,null,null,null,null,null,null,null,null,null,null,null,null,null,null,null,null,null,null,null,1252,38,"σιγάω"," ","I keep silent, I become silent","sig-AH-owe","Verb  "," ","-","-","ἐσίγησα","sigaw esighsa","4601",4601,"σιγάω",true,true,true,38," ","I keep silent, I become silent","sig-AH-owe","Verb  "," ","-","-","ἐσίγησα","4601",1252,1252,38,"σιγάω"," ","I keep silent, I become silent","sig-AH-owe","Verb  ","","-","-","","ἐσίγησα","4601",1252,1252,38,"Verb  ","σιγάω","-","-"," ","sig-AH-owe","I keep silent, I become silent","σιγάω","Index of Textbook: Verb  ","ἐσίγησα","4601",false,6252,1256," "," "," ",1252,""," ","  "," ",false,6252,1254," "," "," ",1252,""," "," "," ",false,6252,1270,1252,""," "," "," "]
[null,null,null,null,null,null,null,null,null,null,null,null,null,null,null,null,null,null,null,null,null,null,null,null,null,null,null,null,null,null,1258,38,"σκάνδαλον"," ","temptation, temptation to sin, offense","SKAHN-dall-onn","Noun  ","τό"," "," ","  ","skandalon","4625",4625,"σκάνδαλον",true,true,true,38," ","temptation, temptation to sin, offense","SKAHN-dall-onn","Noun  ","τό"," "," ","  ","4625",1258,1258,38,"τό σκάνδαλον"," ","temptation, temptation to sin, offense","SKAHN-dall-onn","Noun  ","τό "," "," ","τό ","  ","4625",1258,1258,38,"Noun  ","τό σκάνδαλον"," "," "," ","SKAHN-dall-onn","temptation, temptation to sin, offense","τό σκάνδαλον","Index of Textbook: Noun  ","  ","4625",false,6258,1262," "," "," ",1258,""," ","  "," ",false,6258,1260," "," "," ",1258,""," "," "," ",false,6258,1276,1258,""," "," "," "]
[null,null,null,null,null,null,null,null,null,null,null,null,null,null,null,null,null,null,null,null,null,null,null,null,null,null,null,null,null,null,1263,"11","σοί","ἐγώ","to you (emphatic dative singular)","SOY","Pronoun"," "," "," ","  ","soi","4671",4671,"σοί",true,true,true,"11","ἐγώ","to you (emphatic dative singular)","SOY","Pronoun"," "," "," ","  ","4671",1263,1263,"11","σοί","ἐγώ","to you (emphatic dative singular)","SOY","Pronoun",""," "," ","","  ","4671",1263,1263,"11","Pronoun","σοί"," "," ","ἐγώ","SOY","to you (emphatic dative singular)","σοί","Chapter 11: Pronoun","  ","4671",false,6263,1267," "," "," ",1263,""," ","  "," ",false,6263,1265," "," "," ",1263,""," "," "," ",true,1263,104,1263,"","σοί","to you (emphatic dative singular)"," "]
[null,null,null,null,null,null,null,null,null,null,null,null,null,null,null,null,null,null,null,null,null,null,null,null,null,null,null,null,null,null,1271,"28","σπείρω","*σπερ","I sow","SPAY-roe","Verb  "," ","-","ἔσπειρα","ἔσπειρα","speirw espeira espeira","4687",4687,"σπείρω",true,true,true,"28","*σπερ","I sow","SPAY-roe","Verb  "," ","-","ἔσπειρα","ἔσπειρα","4687",1271,1271,"28","σπείρω","*σπερ","I sow","SPAY-roe","Verb  ","","-","ἔσπειρα","","ἔσπειρα","4687",1271,1271,"28","Verb  ","σπείρω","-","ἔσπειρα","*σπερ","SPAY-roe","I sow","σπείρω","Chapter 28: Verb  ","ἔσπειρα","4687",false,6271,1275," "," "," ",1271,""," ","  "," ",false,6271,1273," "," "," ",1271,""," "," "," ",false,6271,1285,1271,""," "," "," "]
[null,null,null,null,null,null,null,null,null,null,null,null,null,null,null,null,null,null,null,null,null,null,null,null,null,null,null,null,null,null,1281,38,"στηρίζω"," ","I establish, I strengthen","stay-REE-zoe","Verb  "," ","-","στηρίξω","ἐστήρισα","sthrizw stheizw esthrisa","4741",4741,"στηρίζω",true,true,true,38," ","I establish, I strengthen","stay-REE-zoe","Verb  "," ","-","στηρίξω","ἐστήρισα","4741",{"$f":"IF(AV1284,AE1284,AE1284+5000)","v":1281},{"$f":"RANK(BG1284,BG$4:BG$2003,1)","v":1281},38,{"$f":"IF($AV1284,BO1284&AG1284,\" \")","v":"στηρίζω"}," ","I establish, I strengthen","stay-REE-zoe","Verb  ","","-","στηρίξω","","ἐστήρισα","4741",1281,{"$f":"IF(BU1284<=BJ$2,MATCH(BU1284,BH$4:BH$2003,0),\"\")","v":1281},{"$f":"VLOOKUP($BU1284,BH$4:BQ$2003,2,0)","v":38},{"$f":"VLOOKUP($BU1284,BH$4:BQ$2003,7,0)","v":"Verb  "},{"$f":"VLOOKUP($BU1284,BH$4:BQ$2003,3,0)","v":"στηρίζω"},{"$f":"VLOOKUP($BU1284,BH$4:BQ$2003,9,0)","v":"-"},{"$f":"VLOOKUP($BU1284,BH$4:BQ$2003,10,0)","v":"στηρίξω"},{"$f":"VLOOKUP($BU1284,BH$4:BQ$2003,4,0)","v":" "},{"$f":"VLOOKUP($BU1284,BH$4:BQ$2003,6,0)","v":"stay-REE-zoe"},{"$f":"VLOOKUP($BU1284,BH$4:BQ$2003,5,0)","v":"I establish, I strengthen"},{"$f":"IF(AC$8,BY1284,VLOOKUP($BU1284,BH$4:BR$2003,11,0)&BY1284)","v":"στηρίζω"},"Index of Textbook: Verb  ",{"$f":"VLOOKUP($BU1284,BH$4:BS$2003,12,0)","v":"ἐστήρισα"},{"$f":"VLOOKUP($BU1284,BH$4:BT$2003,13,0)","v":"4741"},false,{"$f":"IF(CI1284,AE1284,AE1284+5000)","v":6281},{"$f":"RANK(CJ1284,CJ$4:CJ$2003,1)","v":1284},{"$f":"IF($CI1284,IF(BB1284=\" \",\"\",BB1284&\" \")&AG1284,\" \")","v":" "}," "," ",1281,{"$f":"IF(CO1284<=CP$2,MATCH(CO1284,CK$4:CK$2003,0),\"\")","v":""},{"$f":"VLOOKUP($CO1284,CK$4:CM$2003,2,0)","v":" "},{"$f":"VLOOKUP($CO1284,CK$4:CN$2003,3,0)&VLOOKUP($CO1284,CK$4:CN$2003,4,0)","v":"  "}," ",false,{"$f":"IF(CT1284,AE1284,AE1284+5000)","v":6281},{"$f":"RANK(CU1284,CU$4:CU$2003,1)","v":1283},{"$f":"IF($CT1284,IF(AH1284=\" \",\"\",\" [\"&AH1284&\"]\"),\" \")","v":" "},{"$f":"IF($CT1284,IF(AK1284=\"Noun  \",\"Noun\",IF(AK1284=\"Verb  \",\"Verb\",AK1284)),\" \")","v":" "}," ",1281,{"$f":"IF(CZ1284<=DA$2,MATCH(CZ1284,CV$4:CV$2003,0),\"\")","v":""},{"$f":"VLOOKUP($CZ1284,CV$4:CY$2003,4,0)","v":" "}," "," ",{"$f":"IF(AND(LEN(AG1284)<=DF$2,AG1284<>\" \"),TRUE,FALSE)","v":false},{"$f":"IF(DE1284,AE1284,AE1284+5000)","v":6281},{"$f":"RANK(DF1284,DF$4:DF$2003,1)","v":1295},1281,{"$f":"IF(DH1284<=DA$2,MATCH(DH1284,DG$4:DG$2003,0),\"\")","v":""},{"$f":"IF($DE1284,IF(BB1284=\" \",\"\",BB1284&\" \")&AG1284,\" \")","v":" "}," ",{"$f":"IF($DH1284<=$DI$2,VLOOKUP($DH1284,DG$4:DK$2003,4,0)&\" [\" &VLOOKUP($DH1284,DG$4:DK$2003,5,0) &\"]\",\" \")","v":" "}]
[null,null,null,null,null,null,null,null,null,null,null,null,null,null,null,null,null,null,null,null,null,null,null,null,null,null,null,null,null,null,1283,38,"στρατηγός"," ","commander, magistrate","strat-ay-GOSS","Noun  ","ὁ"," "," ","  ","strathgos","4755",4755,"στρατηγός",true,true,true,38," ","commander, magistrate","strat-ay-GOSS","Noun  ","ὁ"," "," ","  ","4755",1283,1283,38,"ὁ στρατηγός"," ","commander, magistrate","strat-ay-GOSS","Noun  ","ὁ "," "," ","ὁ ","  ","4755",1283,1283,38,"Noun  ","ὁ στρατηγός"," "," "," ","strat-ay-GOSS","commander, magistrate","ὁ στρατηγός","Index of Textbook: Noun  ","  ","4755",false,6283,1286," "," "," ",1283,""," ","  "," ",false,6283,1285," "," "," ",1283,""," "," "," ",false,6283,1297,1283,""," "," "," "]
[null,null,null,null,null,null,null,null,null,null,null,null,null,null,null,null,null,null,null,null,null,null,null,null,null,null,null,null,null,null,1291,38,"συζητέω"," ","I dispute, I discuss","sooze-ate-EH-owe","Verb  "," ","συνεζήτουν","-","-","suzhtew","4802",4802,"συζητέω",true,true,true,38," ","I dispute, I discuss","sooze-ate-EH-owe","Verb  "," ","συνεζήτουν","-","-","4802",1291,1291,38,"συζητέω"," ","I dispute, I discuss","sooze-ate-EH-owe","Verb  ","","συνεζήτουν","-","","-","4802",1291,1291,38,"Verb  ","συζητέω","συνεζήτουν","-"," ","sooze-ate-EH-owe","I dispute, I discuss","συζητέω","Index of Textbook: Verb  ","-","4802",false,6291,1294," "," "," ",1291,""," ","  "," ",false,6291,1293," "," "," ",1291,""," "," "," ",false,6291,1303,1291,""," "," "," "]
[null,null,null,null,null,null,null,null,null,null,null,null,null,null,null,null,null,null,null,null,null,null,null,null,null,null,null,null,null,null,1296,"10","σύν [dative]"," ","with [dative]","SOON","Preposition"," "," "," ","  ","sun","4862",4862,"σύν [dative]",true,true,true,"10"," ","with [dative]","SOON","Preposition"," "," "," ","  ","4862",1296,1296,"10","σύν [dative]"," ","with [dative]","SOON","Preposition",""," "," ","","  ","4862",1296,1296,"10","Preposition","σύν [dative]"," "," "," ","SOON","with [dative]","σύν [dative]","Chapter 10: Preposition","  ","4862",false,6296,1299," "," "," ",1296,""," ","  "," ",false,6296,1298," "," "," ",1296,""," "," "," ",false,6296,1308,1296,""," "," "," "]
[null,null,null,null,null,null,null,null,null,null,null,null,null,null,null,null,null,null,null,null,null,null,null,null,null,null,null,null,null,null,1306,38,"συνίημι"," ","I understand","soon-EE-ay-mee","Verb  "," ","-","συνήσω","συνῆκα","sunihmi sunhsw sunhka","4920",4920,"συνίημι",true,true,true,38," ","I understand","soon-EE-ay-mee","Verb  "," ","-","συνήσω","συνῆκα","4920",1306,1306,38,"συνίημι"," ","I understand","soon-EE-ay-mee","Verb  ","","-","συνήσω","","συνῆκα","4920",1306,1306,38,"Verb  ","συνίημι","-","συνήσω"," ","soon-EE-ay-mee","I understand","συνίημι","Index of Textbook: Verb  ","συνῆκα","4920",false,6306,1308," "," "," ",1306,""," ","  "," ",false,6306,1308," "," "," ",1306,""," "," "," ",false,6306,1318,1306,""," "," "," "]
[null,null,null,null,null,null,null,null,null,null,null,null,null,null,null,null,null,null,null,null,null,null,null,null,null,null,null,null,null,null,1311,"38","σφραγίς"," ","seal, signet","sfrahg-ISS","Noun  ","ἡ","  ","  ","  ","sfragis","4973",4973,"σφραγίς",true,true,true,"38"," ","seal, signet","sfrahg-ISS","Noun  ","ἡ","  ","  ","  ","4973",1311,1311,"38","ἡ σφραγίς"," ","seal, signet","sfrahg-ISS","Noun  ","ἡ ","  ","  ","ἡ ","  ","4973",1311,1311,"38","Noun  ","ἡ σφραγίς","  ","  "," ","sfrahg-ISS","seal, signet","ἡ σφραγίς","Chapter 38: Noun  ","  ","4973",false,6311,1313," "," "," ",1311,""," ","  "," ",false,6311,1313," "," "," ",1311,""," "," "," ",false,6311,1323,1311,""," "," "," "]
[null,null,null,null,null,null,null,null,null,null,null,null,null,null,null,null,null,null,null,null,null,null,null,null,null,null,null,null,null,null,1316,"35","σωτήρ","*σωτηρ","savior, deliverer","soe-TARE","Noun  ","ὁ"," "," ","  ","swthr","4990",4990,"σωτήρ",true,true,true,"35","*σωτηρ","savior, deliverer","soe-TARE","Noun  ","ὁ"," "," ","  ","4990",1316,1316,"35","ὁ σωτήρ","*σωτηρ","savior, deliverer","soe-TARE","Noun  ","ὁ "," "," ","ὁ ","  ","4990",1316,1316,"35","Noun  ","ὁ σωτήρ"," "," ","*σωτηρ","soe-TARE","savior, deliverer","ὁ σωτήρ","Chapter 35: Noun  ","  ","4990",false,6316,1318," "," "," ",1316,""," ","  "," ",false,6316,1318," "," "," ",1316,""," "," "," ",false,6316,1328,1316,""," "," "," "]
[null,null,null,null,null,null,null,null,null,null,null,null,null,null,null,null,null,null,null,null,null,null,null,null,null,null,null,null,null,null,1324,38,"ταχέως"," ","quickly, in a short time","tah-KEH-oce","Adverb"," "," "," ","  ","tacews","5030",5030,"ταχέως",true,true,true,38," ","quickly, in a short time","tah-KEH-oce","Adverb"," "," "," ","  ","5030",1324,1324,38,"ταχέως"," ","quickly, in a short time","tah-KEH-oce","Adverb",""," "," ","","  ","5030",1324,1324,38,"Adverb","ταχέως"," "," "," ","tah-KEH-oce","quickly, in a short time","ταχέως","Index of Textbook: Adverb","  ","5030",false,6324,1326," "," "," ",1324,""," ","  "," ",false,6324,1326," "," "," ",1324,""," "," "," ",false,6324,1336,1324,""," "," "," "]
[null,null,null,null,null,null,null,null,null,null,null,null,null,null,null,null,null,null,null,null,null,null,null,null,null,null,null,null,null,null,1336,"38","τελώνης"," ","tax collector","tell-OWE-nace","Noun  ","ὁ"," "," ","  ","telwnhs","5057",5057,"τελώνης",true,true,true,"38"," ","tax collector","tell-OWE-nace","Noun  ","ὁ"," "," ","  ","5057",1336,1336,"38","ὁ τελώνης"," ","tax collector","tell-OWE-nace","Noun  ","ὁ "," "," ","ὁ ","  ","5057",1336,1336,"38","Noun  ","ὁ τελώνης"," "," "," ","tell-OWE-nace","tax collector","ὁ τελώνης","Chapter 38: Noun  ","  ","5057",false,6336,1336," "," "," ",1336,""," ","  "," ",false,6336,1338," "," "," ",1336,""," "," "," ",false,6336,1347,1336,""," "," "," "]
[null,null,null,null,null,null,null,null,null,null,null,null,null,null,null,null,null,null,null,null,null,null,null,null,null,null,null,null,null,null,1339,38,"τέσσαρες"," ","four","TESS-ah-ress","Adjective"," "," "," ","  ","tessares","5064",5064,"τέσσαρες",true,true,true,38," ","four","TESS-ah-ress","Adjective"," "," "," ","  ","5064",1339,1339,38,"τέσσαρες"," ","four","TESS-ah-ress","Adjective",""," "," ","","  ","5064",1339,1339,38,"Adjective","τέσσαρες"," "," "," ","TESS-ah-ress","four","τέσσαρες","Index of Textbook: Adjective","  ","5064",false,6339,1339," "," "," ",1339,""," ","  "," ",false,6339,1341," "," "," ",1339,""," "," "," ",false,6339,1350,1339,""," "," "," "]
[null,null,null,null,null,null,null,null,null,null,null,null,null,null,null,null,null,null,null,null,null,null,null,null,null,null,null,null,null,null,1344,"38","τιμάω"," ","I honor","tim-AH-owe","Verb  "," ","ἐτίμων","τιμήσω","ἐτίμησα","timaw etimwn timhsw etimhsa","5091",5091,"τιμάω",true,true,true,"38"," ","I honor","tim-AH-owe","Verb  "," ","ἐτίμων","τιμήσω","ἐτίμησα","5091",1344,1344,"38","τιμάω"," ","I honor","tim-AH-owe","Verb  ","","ἐτίμων","τιμήσω","","ἐτίμησα","5091",1344,1344,"38","Verb  ","τιμάω","ἐτίμων","τιμήσω"," ","tim-AH-owe","I honor","τιμάω","Chapter 38: Verb  ","ἐτίμησα","5091",false,6344,1344," "," "," ",1344,""," ","  "," ",false,6344,1346," "," "," ",1344,""," "," "," ",false,6344,1355,1344,""," "," "," "]
[null,null,null,null,null,null,null,null,null,null,null,null,null,null,null,null,null,null,null,null,null,null,null,null,null,null,null,null,null,null,1356,"10","τινάς","*τιν","someone/something (accusative, plural, masculine or feminine)","tin-AHSS","Pronoun"," "," "," "," ","tinas","5100",5100.1400000000003,"τινάς",true,true,true,"10","*τιν","someone/something (accusative, plural, masculine or feminine)","tin-AHSS","Pronoun"," "," "," "," ","5100",1356,1356,"10","τινάς","*τιν","someone/something (accusative, plural, masculine or feminine)","tin-AHSS","Pronoun",""," "," ",""," ","5100",1356,1356,"10","Pronoun","τινάς"," "," ","*τιν","tin-AHSS","someone/something (accusative, plural, masculine or feminine)","τινάς","Chapter 10: Pronoun"," ","5100",false,6356,1356," "," "," ",1356,""," ","  "," ",false,6356,1358," "," "," ",1356,""," "," "," ",false,6356,1365,1356,""," "," "," "]
[null,null,null,null,null,null,null,null,null,null,null,null,null,null,null,null,null,null,null,null,null,null,null,null,null,null,null,null,null,null,1357,"10","τίς","*τιν","who? what? which? (nominative, singular, masculine or feminine)","TEESE","Pronoun"," "," "," ","  ","tis","5101",5101.01,"τίς",true,true,true,"10","*τιν","who? what? which? (nominative, singular, masculine or feminine)","TEESE","Pronoun"," "," "," ","  ","5101",1357,1357,"10","τίς","*τιν","who? what? which? (nominative, singular, masculine or feminine)","TEESE","Pronoun",""," "," ","","  ","5101",1357,1357,"10","Pronoun","τίς"," "," ","*τιν","TEESE","who? what? which? (nominative, singular, masculine or feminine)","τίς","Chapter 10: Pronoun","  ","5101",false,6357,1357," "," "," ",1357,""," ","  "," ",false,6357,1359," "," "," ",1357,""," "," "," ",true,1357,113,1357,"","τίς","who? what? which? (nominative, singular, masculine or feminine)"," "]
[null,null,null,null,null,null,null,null,null,null,null,null,null,null,null,null,null,null,null,null,null,null,null,null,null,null,null,null,null,null,1368,"37","τοίνυν"," ","therefore, then, so (particle)","TOY-noon","Adverb"," "," "," "," ","toinun","5106",5106,"τοίνυν",true,true,true,"37"," ","therefore, then, so (particle)","TOY-noon","Adverb"," "," "," "," ","5106",1368,1368,"37","τοίνυν"," ","therefore, then, so (particle)","TOY-noon","Adverb",""," "," ",""," ","5106",1368,1368,"37","Adverb","τοίνυν"," "," "," ","TOY-noon","therefore, then, so (particle)","τοίνυν","Extra: Adverb"," ","5106",false,6368,1368," "," "," ",1368,""," ","  "," ",false,6368,1370," "," "," ",1368,""," "," "," ",false,6368,1374,1368,""," "," "," "]
[null,null,null,null,null,null,null,null,null,null,null,null,null,null,null,null,null,null,null,null,null,null,null,null,null,null,null,null,null,null,1376,"13","τούτοις","*τουτο","to these (dative, plural, masculine or neuter)","TWO-toise","Pronoun"," "," "," ","  ","toutois","5125",5125,"τούτοις",true,true,true,"13","*τουτο","to these (dative, plural, masculine or neuter)","TWO-toise","Pronoun"," "," "," ","  ","5125",1376,1376,"13","τούτοις","*τουτο","to these (dative, plural, masculine or neuter)","TWO-toise","Pronoun",""," "," ","","  ","5125",1376,1376,"13","Pronoun","τούτοις"," "," ","*τουτο","TWO-toise","to these (dative, plural, masculine or neuter)","τούτοις","Chapter 13: Pronoun","  ","5125",false,6376,1376," "," "," ",1376,""," ","  "," ",false,6376,1378," "," "," ",1376,""," "," "," ",false,6376,1382,1376,""," "," "," "]
[null,null,null,null,null,null,null,null,null,null,null,null,null,null,null,null,null,null,null,null,null,null,null,null,null,null,null,null,null,null,1377,"13","τοῦτον","*τουτο","this (accusative, singular, masculine)","TWO-tawn","Pronoun"," "," "," ","  ","touton","5126",5126,"τοῦτον",true,true,true,"13","*τουτο","this (accusative, singular, masculine)","TWO-tawn","Pronoun"," "," "," ","  ","5126",1377,1377,"13","τοῦτον","*τουτο","this (accusative, singular, masculine)","TWO-tawn","Pronoun",""," "," ","","  ","5126",1377,1377,"13","Pronoun","τοῦτον"," "," ","*τουτο","TWO-tawn","this (accusative, singular, masculine)","τοῦτον","Chapter 13: Pronoun","  ","5126",false,6377,1377," "," "," ",1377,""," ","  "," ",false,6377,1379," "," "," ",1377,""," "," "," ",false,6377,1383,1377,""," "," "," "]
[null,null,null,null,null,null,null,null,null,null,null,null,null,null,null,null,null,null,null,null,null,null,null,null,null,null,null,null,null,null,1389,"09","τρίτος","*τριτο","third","TREE-toss","Adjective"," "," "," ","  ","tritos","5154",5154,"τρίτος",true,true,true,"09","*τριτο","third","TREE-toss","Adjective"," "," "," ","  ","5154",1389,1389,"09","τρίτος","*τριτο","third","TREE-toss","Adjective",""," "," ","","  ","5154",1389,1389,"09","Adjective","τρίτος"," "," ","*τριτο","TREE-toss","third","τρίτος","Chapter 09: Adjective","  ","5154",false,6389,1389," "," "," ",1389,""," ","  "," ",false,6389,1391," "," "," ",1389,""," "," "," ",false,6389,1395,1389,""," "," "," "]
[null,null,null,null,null,null,null,null,null,null,null,null,null,null,null,null,null,null,null,null,null,null,null,null,null,null,null,null,null,null,1393,38,"τύπος"," ","pattern, type","TOOP-oss","Noun  ","ὁ"," "," ","  ","tupos","5179",5179,"τύπος",true,true,true,38," ","pattern, type","TOOP-oss","Noun  ","ὁ"," "," ","  ","5179",1393,1393,38,"ὁ τύπος"," ","pattern, type","TOOP-oss","Noun  ","ὁ "," "," ","ὁ ","  ","5179",1393,1393,38,"Noun  ","ὁ τύπος"," "," "," ","TOOP-oss","pattern, type","ὁ τύπος","Index of Textbook: Noun  ","  ","5179",false,6393,1393," "," "," ",1393,""," ","  "," ",false,6393,1395," "," "," ",1393,""," "," "," ",false,6393,1399,1393,""," "," "," "]
[null,null,null,null,null,null,null,null,null,null,null,null,null,null,null,null,null,null,null,null,null,null,null,null,null,null,null,null,null,null,1397,38,"ὑγιαίνω"," ","I am healthy, I am sound","hoo-gee-EYE-no","Verb  "," ","ὑγίαινον","ὑγιανῶ","ὑγίηνα","ugiainw ugiainon ugianw ugihna","5198",5198,"ὑγιαίνω",true,true,true,38," ","I am healthy, I am sound","hoo-gee-EYE-no","Verb  "," ","ὑγίαινον","ὑγιανῶ","ὑγίηνα","5198",1397,1397,38,"ὑγιαίνω"," ","I am healthy, I am sound","hoo-gee-EYE-no","Verb  ","","ὑγίαινον","ὑγιανῶ","","ὑγίηνα","5198",1397,1397,38,"Verb  ","ὑγιαίνω","ὑγίαινον","ὑγιανῶ"," ","hoo-gee-EYE-no","I am healthy, I am sound","ὑγιαίνω","Index of Textbook: Verb  ","ὑγίηνα","5198",false,6397,1397," "," "," ",1397,""," ","  "," ",false,6397,1399," "," "," ",1397,""," "," "," ",false,6397,1403,1397,""," "," "," "]
[null,null,null,null,null,null,null,null,null,null,null,null,null,null,null,null,null,null,null,null,null,null,null,null,null,null,null,null,null,null,1409,38,"ὑπαντάω"," ","I meet, I go to meet","hoo-pahn-TAH-owe","Verb  "," ","-","-","ὑπήντησα","upantaw uphnthsa","5221",5221,"ὑπαντάω",true,true,true,38," ","I meet, I go to meet","hoo-pahn-TAH-owe","Verb  "," ","-","-","ὑπήντησα","5221",{"$f":"IF(AV1412,AE1412,AE1412+5000)","v":1409},{"$f":"RANK(BG1412,BG$4:BG$2003,1)","v":1409},38,{"$f":"IF($AV1412,BO1412&AG1412,\" \")","v":"ὑπαντάω"}," ","I meet, I go to meet","hoo-pahn-TAH-owe","Verb  ","","-","-","","ὑπήντησα","5221",1409,{"$f":"IF(BU1412<=BJ$2,MATCH(BU1412,BH$4:BH$2003,0),\"\")","v":1409},{"$f":"VLOOKUP($BU1412,BH$4:BQ$2003,2,0)","v":38},{"$f":"VLOOKUP($BU1412,BH$4:BQ$2003,7,0)","v":"Verb  "},{"$f":"VLOOKUP($BU1412,BH$4:BQ$2003,3,0)","v":"ὑπαντάω"},{"$f":"VLOOKUP($BU1412,BH$4:BQ$2003,9,0)","v":"-"},{"$f":"VLOOKUP($BU1412,BH$4:BQ$2003,10,0)","v":"-"},{"$f":"VLOOKUP($BU1412,BH$4:BQ$2003,4,0)","v":" "},{"$f":"VLOOKUP($BU1412,BH$4:BQ$2003,6,0)","v":"hoo-pahn-TAH-owe"},{"$f":"VLOOKUP($BU1412,BH$4:BQ$2003,5,0)","v":"I meet, I go to meet"},{"$f":"IF(AC$8,BY1412,VLOOKUP($BU1412,BH$4:BR$2003,11,0)&BY1412)","v":"ὑπαντάω"},"Index of Textbook: Verb  ",{"$f":"VLOOKUP($BU1412,BH$4:BS$2003,12,0)","v":"ὑπήντησα"},{"$f":"VLOOKUP($BU1412,BH$4:BT$2003,13,0)","v":"5221"},false,{"$f":"IF(CI1412,AE1412,AE1412+5000)","v":6409},{"$f":"RANK(CJ1412,CJ$4:CJ$2003,1)","v":1409},{"$f":"IF($CI1412,IF(BB1412=\" \",\"\",BB1412&\" \")&AG1412,\" \")","v":" "}," "," ",1409,{"$f":"IF(CO1412<=CP$2,MATCH(CO1412,CK$4:CK$2003,0),\"\")","v":""},{"$f":"VLOOKUP($CO1412,CK$4:CM$2003,2,0)","v":" "},{"$f":"VLOOKUP($CO1412,CK$4:CN$2003,3,0)&VLOOKUP($CO1412,CK$4:CN$2003,4,0)","v":"  "}," ",false,{"$f":"IF(CT1412,AE1412,AE1412+5000)","v":6409},{"$f":"RANK(CU1412,CU$4:CU$2003,1)","v":1411},{"$f":"IF($CT1412,IF(AH1412=\" \",\"\",\" [\"&AH1412&\"]\"),\" \")","v":" "},{"$f":"IF($CT1412,IF(AK1412=\"Noun  \",\"Noun\",IF(AK1412=\"Verb  \",\"Verb\",AK1412)),\" \")","v":" "}," ",1409,{"$f":"IF(CZ1412<=DA$2,MATCH(CZ1412,CV$4:CV$2003,0),\"\")","v":""},{"$f":"VLOOKUP($CZ1412,CV$4:CY$2003,4,0)","v":" "}," "," ",{"$f":"IF(AND(LEN(AG1412)<=DF$2,AG1412<>\" \"),TRUE,FALSE)","v":false},{"$f":"IF(DE1412,AE1412,AE1412+5000)","v":6409},{"$f":"RANK(DF1412,DF$4:DF$2003,1)","v":1415},1409,{"$f":"IF(DH1412<=DA$2,MATCH(DH1412,DG$4:DG$2003,0),\"\")","v":""},{"$f":"IF($DE1412,IF(BB1412=\" \",\"\",BB1412&\" \")&AG1412,\" \")","v":" "}," ",{"$f":"IF($DH1412<=$DI$2,VLOOKUP($DH1412,DG$4:DK$2003,4,0)&\" [\" &VLOOKUP($DH1412,DG$4:DK$2003,5,0) &\"]\",\" \")","v":" "}]
[null,null,null,null,null,null,null,null,null,null,null,null,null,null,null,null,null,null,null,null,null,null,null,null,null,null,null,null,null,null,1417,38,"ὑποκάτω"," ","under, below [genitive]","hoo-pok-AH-toe","Preposition"," "," "," ","  ","upokatw","5270",5270,"ὑποκάτω",true,true,true,38," ","under, below [genitive]","hoo-pok-AH-toe","Preposition"," "," "," ","  ","5270",1417,1417,38,"ὑποκάτω"," ","under, below [genitive]","hoo-pok-AH-toe","Preposition",""," "," ","","  ","5270",1417,1417,38,"Preposition","ὑποκάτω"," "," "," ","hoo-pok-AH-toe","under, below [genitive]","ὑποκάτω","Index of Textbook: Preposition","  ","5270",false,6417,1417," "," "," ",1417,""," ","  "," ",false,6417,1419," "," "," ",1417,""," "," "," ",false,6417,1423,1417,""," "," "," "]
[null,null,null,null,null,null,null,null,null,null,null,null,null,null,null,null,null,null,null,null,null,null,null,null,null,null,null,null,null,null,1422,38,"ὑποστρέφω"," ","I return, I turn back","hoop-ost-REH-owe","Verb  "," ","ὑπέστρεφον","ὑποστρέψω","ὑπέστρεψα","upostrefw upestrefon upostreyw upestreya","5290",5290,"ὑποστρέφω",true,true,true,38," ","I return, I turn back","hoop-ost-REH-owe","Verb  "," ","ὑπέστρεφον","ὑποστρέψω","ὑπέστρεψα","5290",1422,1422,38,"ὑποστρέφω"," ","I return, I turn back","hoop-ost-REH-owe","Verb  ","","ὑπέστρεφον","ὑποστρέψω","","ὑπέστρεψα","5290",1422,1422,38,"Verb  ","ὑποστρέφω","ὑπέστρεφον","ὑποστρέψω"," ","hoop-ost-REH-owe","I return, I turn back","ὑποστρέφω","Index of Textbook: Verb  ","ὑπέστρεψα","5290",false,6422,1422," "," "," ",1422,""," ","  "," ",false,6422,1424," "," "," ",1422,""," "," "," ",false,6422,1428,1422,""," "," "," "]
[null,null,null,null,null,null,null,null,null,null,null,null,null,null,null,null,null,null,null,null,null,null,null,null,null,null,null,null,null,null,1429,38,"φαίνω"," ","I shine, I appear","FYE-noe","Verb  "," ","-","φανήσομαι","ἔφανα","fainw fanhsomai efana","5316",5316,"φαίνω",true,true,true,38," ","I shine, I appear","FYE-noe","Verb  "," ","-","φανήσομαι","ἔφανα","5316",1429,1429,38,"φαίνω"," ","I shine, I appear","FYE-noe","Verb  ","","-","φανήσομαι","","ἔφανα",{"$f":"IF($AV1432,BF1432,\" \")","v":"5316"},1429,1429,38,"Verb  ","φαίνω","-","φανήσομαι"," ","FYE-noe","I shine, I appear","φαίνω","Index of Textbook: Verb  ","ἔφανα","5316",false,6429,1429," "," "," ",1429,""," ","  "," ",false,6429,1431," "," "," ",1429,""," "," "," ",false,6429,1435,1429,""," "," "," "]
[null,null,null,null,null,null,null,null,null,null,null,null,null,null,null,null,null,null,null,null,null,null,null,null,null,null,null,null,null,null,1437,"36","φημί","*φε","I say, I affirm","fay-MEE","Verb  "," ","ἔφη","-","ἔφη","fhmi efh","5346",5346,"φημί",true,true,true,"36","*φε","I say, I affirm","fay-MEE","Verb  "," ","ἔφη","-","ἔφη","5346",1437,1437,"36","φημί","*φε","I say, I affirm","fay-MEE","Verb  ","","ἔφη","-","","ἔφη","5346",1437,1437,"36","Verb  ","φημί","ἔφη","-","*φε","fay-MEE","I say, I affirm","φημί","Chapter 36: Verb  ","ἔφη","5346",false,6437,1437," "," "," ",1437,""," ","  "," ",false,6437,1438," "," "," ",1437,""," "," "," ",false,6437,1442,1437,""," "," "," "]
[null,null,null,null,null,null,null,null,null,null,null,null,null,null,null,null,null,null,null,null,null,null,null,null,null,null,null,null,null,null,1442,38,"Φίλιππος"," ","Philip","FEE-lip-oss","Proper Noun","ὁ"," "," ","  ","filippos","5376",5376,"Φίλιππος",true,true,true,38," ","Philip","FEE-lip-oss","Proper Noun","ὁ"," "," ","  ","5376",1442,1442,38,"ὁ Φίλιππος"," ","Philip","FEE-lip-oss","Proper Noun","ὁ "," "," ","ὁ ","  ","5376",1442,1442,38,"Proper Noun","ὁ Φίλιππος"," "," "," ","FEE-lip-oss","Philip","ὁ Φίλιππος","Index of Textbook: Proper Noun","  ","5376",false,6442,1442," "," "," ",1442,""," ","  "," ",false,6442,1443," "," "," ",1442,""," "," "," ",false,6442,1447,1442,""," "," "," "]
[null,null,null,null,null,null,null,null,null,null,null,null,null,null,null,null,null,null,null,null,null,null,null,null,null,null,null,null,null,null,1447,38,"φονεύω"," ","I kill, I murder","fon-YOU-owe","Verb  "," ","-","φονεύσω","ἐφόνευσα","foneuw foneusw efoneusa","5407",5407,"φονεύω",true,true,true,38," ","I kill, I murder","fon-YOU-owe","Verb  "," ","-","φονεύσω","ἐφόνευσα","5407",1447,1447,38,"φονεύω"," ","I kill, I murder","fon-YOU-owe","Verb  ","","-","φονεύσω","","ἐφόνευσα","5407",1447,1447,38,"Verb  ","φονεύω","-","φονεύσω"," ","fon-YOU-owe","I kill, I murder","φονεύω","Index of Textbook: Verb  ","ἐφόνευσα","5407",false,6447,1447," "," "," ",1447,""," ","  "," ",false,6447,1448," "," "," ",1447,""," "," "," ",false,6447,1452,1447,""," "," "," "]
[null,null,null,null,null,null,null,null,null,null,null,null,null,null,null,null,null,null,null,null,null,null,null,null,null,null,null,null,null,null,1457,"04","φωνή","*φωνη","sound, noise, voice","foe-NAY","Noun  ","ἡ"," "," ","  ","fwnh","5456",5456,"φωνή",true,true,true,"04","*φωνη","sound, noise, voice","foe-NAY","Noun  ","ἡ"," "," ","  ","5456",1457,1457,"04","ἡ φωνή","*φωνη","sound, noise, voice","foe-NAY","Noun  ","ἡ "," "," ","ἡ ","  ","5456",1457,1457,"04","Noun  ","ἡ φωνή"," "," ","*φωνη","foe-NAY","sound, noise, voice","ἡ φωνή","Chapter 04: Noun  ","  ","5456",false,6457,1457," "," "," ",1457,""," ","  "," ",false,6457,1458," "," "," ",1457,""," "," "," ",false,6457,1462,1457,""," "," "," "]
[null,null,null,null,null,null,null,null,null,null,null,null,null,null,null,null,null,null,null,null,null,null,null,null,null,null,null,null,null,null,1462,38,"χαρίζομαι"," ","I give freely, I forgive","kar-IZ-om-eye","Verb  "," ","-","χαρίσομαι","ἐχαρισάμην","carizomai carusomai ecarisamhn","5483",5483,"χαρίζομαι",true,true,true,38," ","I give freely, I forgive","kar-IZ-om-eye","Verb  "," ","-","χαρίσομαι","ἐχαρισάμην","5483",1462,1462,38,"χαρίζομαι"," ","I give freely, I forgive","kar-IZ-om-eye","Verb  ","","-","χαρίσομαι","","ἐχαρισάμην","5483",1462,1462,38,"Verb  ","χαρίζομαι","-","χαρίσομαι"," ","kar-IZ-om-eye","I give freely, I forgive","χαρίζομαι","Index of Textbook: Verb  ","ἐχαρισάμην","5483",false,6462,1462," "," "," ",1462,""," ","  "," ",false,6462,1463," "," "," ",1462,""," "," "," ",false,6462,1466,1462,""," "," "," "]
[null,null,null,null,null,null,null,null,null,null,null,null,null,null,null,null,null,null,null,null,null,null,null,null,null,null,null,null,null,null,1470,38,"χιλίαρχος"," ","military tribune, commander","kill-EE-ark-oss","Noun  ","ὁ"," "," ","  ","ciliarcos","5506",5506,"χιλίαρχος",true,true,true,38," ","military tribune, commander","kill-EE-ark-oss","Noun  ","ὁ"," "," ","  ","5506",1470,1470,38,"ὁ χιλίαρχος"," ","military tribune, commander","kill-EE-ark-oss","Noun  ","ὁ "," "," ","ὁ ","  ","5506",1470,1470,38,"Noun  ","ὁ χιλίαρχος"," "," "," ","kill-EE-ark-oss","military tribune, commander","ὁ χιλίαρχος","Index of Textbook: Noun  ","  ","5506",false,6470,1470," "," "," ",1470,""," ","  "," ",false,6470,1471," "," "," ",1470,""," "," "," ",false,6470,1474,1470,""," "," "," "]
[null,null,null,null,null,null,null,null,null,null,null,null,null,null,null,null,null,null,null,null,null,null,null,null,null,null,null,null,null,null,1475,38,"χόρτος"," ","grass, hay",null,"Noun  ","ὁ"," "," ","  ","cortos","5528",5528,"χόρτος",true,true,true,38," ","grass, hay",0,"Noun  ","ὁ"," "," ","  ","5528",1475,1475,38,"ὁ χόρτος"," ","grass, hay",0,"Noun  ","ὁ "," "," ","ὁ ","  ","5528",1475,1475,38,"Noun  ","ὁ χόρτος"," "," "," ",0,"grass, hay","ὁ χόρτος","Index of Textbook: Noun  ","  ","5528",false,6475,1475," "," "," ",1475,""," ","  "," ",false,6475,1476," "," "," ",1475,""," "," "," ",false,6475,1479,1475,""," "," "," "]
[null,null,null,null,null,null,null,null,null,null,null,null,null,null,null,null,null,null,null,null,null,null,null,null,null,null,null,null,null,null,1480,"21","χρόνος","*χρονο","time","KRON-oss","Noun  ","ὁ"," "," ","  ","cronos","5550",5550,"χρόνος",true,true,true,"21","*χρονο","time","KRON-oss","Noun  ","ὁ"," "," ","  ","5550",1480,1480,"21","ὁ χρόνος","*χρονο","time","KRON-oss","Noun  ","ὁ "," "," ","ὁ ","  ","5550",1480,1480,"21","Noun  ","ὁ χρόνος"," "," ","*χρονο","KRON-oss","time","ὁ χρόνος","Chapter 21: Noun  ","  ","5550",false,6480,1480," "," "," ",1480,""," ","  "," ",false,6480,1481," "," "," ",1480,""," "," "," ",false,6480,1484,1480,""," "," "," "]
[null,null,null,null,null,null,null,null,null,null,null,null,null,null,null,null,null,null,null,null,null,null,null,null,null,null,null,null,null,null,1490,"38","ψευδής"," ","lying, false, untrue","psoo-DACE","Adjective"," "," "," "," ","yeudhs","5571",5571,"ψευδής",true,true,true,"38"," ","lying, false, untrue","psoo-DACE","Adjective"," "," "," "," ","5571",1490,1490,"38","ψευδής"," ","lying, false, untrue","psoo-DACE","Adjective",""," "," ",""," ","5571",1490,1490,"38","Adjective","ψευδής"," "," "," ","psoo-DACE","lying, false, untrue","ψευδής","Chapter 38: Adjective"," ","5571",false,6490,1490," "," "," ",1490,""," ","  "," ",false,6490,1491," "," "," ",1490,""," "," "," ",false,6490,1494,1490,""," "," "," "]
[null,null,null,null,null,null,null,null,null,null,null,null,null,null,null,null,null,null,null,null,null,null,null,null,null,null,null,null,null,null,1495,"14","ψυχή","*ψυχη","soul, life, self","psoo-KAY","Noun  ","ἡ"," "," ","  ","yuch","5590",5590,"ψυχή",true,true,true,"14","*ψυχη","soul, life, self","psoo-KAY","Noun  ","ἡ"," "," ","  ","5590",1495,1495,"14","ἡ ψυχή","*ψυχη","soul, life, self","psoo-KAY","Noun  ","ἡ "," "," ","ἡ ","  ","5590",1495,1495,"14","Noun  ","ἡ ψυχή"," "," ","*ψυχη","psoo-KAY","soul, life, self","ἡ ψυχή","Chapter 14: Noun  ","  ","5590",false,6495,1495," "," "," ",1495,""," ","  "," ",false,6495,1495," "," "," ",1495,""," "," "," ",false,6495,1499,1495,""," "," "," "]
[null,null,null,null,null,null,null,null,null,null,null,null,null,null,null,null,null,null,null,null,null,null,null,null,null,null,null,null,null,null,1503,"07","ὥστε"," ","therefore, so that","HŌS-teh","Conjunction"," "," "," ","  ","wste","5620",5620,"ὥστε",true,true,true,"07"," ","therefore, so that","HŌS-teh","Conjunction"," "," "," ","  ","5620",1503,1503,"07","ὥστε"," ","therefore, so that","HŌS-teh","Conjunction",""," "," ","","  ","5620",1503,1503,"07","Conjunction","ὥστε"," "," "," ","HŌS-teh","therefore, so that","ὥστε","Chapter 07: Conjunction","  ","5620",false,6503,1503," "," "," ",1503,""," ","  "," ",false,6503,1503," "," "," ",1503,""," "," "," ",false,6503,1503,1503,""," "," "," "]
[null,null,null,null,null,null,null,null,null,null,null,null,null,null,null,null,null,null,null,null,null,null,null,null,null,null,null,null,null,null,1509,"x"," "," "," "," "," "," "," "," ","  ",null,null,null," ",false,true,false,"x"," "," "," "," "," "," "," ","  ",0,6509,1509," "," "," "," "," "," ",""," "," ",""," "," ",1509,""," "," "," "," "," "," "," "," "," ",""," "," ",false,6509,1509," "," "," ",1509,""," ","  "," ",false,6509,1509," "," "," ",1509,""," "," "," ",false,6509,1509,1509,""," "," "," "]
[null,null,null,null,null,null,null,null,null,null,null,null,null,null,null,null,null,null,null,null,null,null,null,null,null,null,null,null,null,null,1515,"x"," "," "," "," "," "," "," "," ","  ",null,null,null," ",false,true,false,"x"," "," "," "," "," "," "," ","  ",0,6515,1515," "," "," "," "," "," ",""," "," ",""," "," ",1515,""," "," "," "," "," "," "," "," "," ",""," "," ",false,6515,1515," "," "," ",1515,""," ","  "," ",false,6515,1515," "," "," ",1515,""," "," "," ",false,6515,1515,1515,""," "," "," "]
[null,null,null,null,null,null,null,null,null,null,null,null,null,null,null,null,null,null,null,null,null,null,null,null,null,null,null,null,null,null,1523,"x"," "," "," "," "," "," "," "," ","  ",null,null,null," ",false,true,false,"x"," "," "," "," "," "," "," ","  ",0,6523,1523," "," "," "," "," "," ",""," "," ",""," "," ",1523,""," "," "," "," "," "," "," "," "," ",""," "," ",false,6523,1523," "," "," ",1523,""," ","  "," ",false,6523,1523," "," "," ",1523,""," "," "," ",false,6523,1523,1523,""," "," "," "]
[null,null,null,null,null,null,null,null,null,null,null,null,null,null,null,null,null,null,null,null,null,null,null,null,null,null,null,null,null,null,1528,"x"," "," "," "," "," "," "," "," ","  ",null,null,null," ",false,true,false,"x"," "," "," "," "," "," "," ","  ",0,6528,1528," "," "," "," "," "," ",""," "," ",""," "," ",1528,""," "," "," "," "," "," "," "," "," ",""," "," ",false,6528,1528," "," "," ",1528,""," ","  "," ",false,6528,1528," "," "," ",1528,""," "," "," ",false,6528,1528,1528,""," "," "," "]
[null,null,null,null,null,null,null,null,null,null,null,null,null,null,null,null,null,null,null,null,null,null,null,null,null,null,null,null,null,null,1534,"x"," "," "," "," "," "," "," "," ","  ",null,null,null," ",false,true,false,"x"," "," "," "," "," "," "," ","  ",0,6534,1534," "," "," "," "," "," ",""," "," ",""," "," ",1534,""," "," "," "," "," "," "," "," "," ",""," "," ",false,6534,1534," "," "," ",1534,""," ","  "," ",false,6534,1534," "," "," ",1534,""," "," "," ",false,6534,1534,1534,""," "," "," "]
[null,null,null,null,null,null,null,null,null,null,null,null,null,null,null,null,null,null,null,null,null,null,null,null,null,null,null,null,null,null,1543,"x"," "," "," "," "," "," "," "," ","  ",null,null,null," ",false,true,false,"x"," "," "," "," "," "," "," ","  ",0,6543,1543," "," "," "," "," "," ",""," "," ",""," "," ",1543,""," "," "," "," "," "," "," "," "," ",""," "," ",false,6543,1543," "," "," ",1543,""," ","  "," ",false,6543,1543," "," "," ",1543,""," "," "," ",false,6543,1543,1543,""," "," "," "]
[null,null,null,null,null,null,null,null,null,null,null,null,null,null,null,null,null,null,null,null,null,null,null,null,null,null,null,null,null,null,1548,"x"," "," "," "," "," "," "," "," ","  ",null,null,null," ",false,true,false,"x"," "," "," "," "," "," "," ","  ",0,6548,1548," "," "," "," "," "," ",""," "," ",""," "," ",1548,""," "," "," "," "," "," "," "," "," ",""," "," ",false,6548,1548," "," "," ",1548,""," ","  "," ",false,6548,1548," "," "," ",1548,""," "," "," ",false,6548,1548,1548,""," "," "," "]
[null,null,null,null,null,null,null,null,null,null,null,null,null,null,null,null,null,null,null,null,null,null,null,null,null,null,null,null,null,null,1556,"x"," "," "," "," "," "," "," "," ","  ",null,null,null," ",false,true,false,"x"," "," "," "," "," "," "," ","  ",0,6556,1556," "," "," "," "," "," ",""," "," ",""," "," ",1556,""," "," "," "," "," "," "," "," "," ",""," "," ",false,6556,1556," "," "," ",1556,""," ","  "," ",false,6556,1556," "," "," ",1556,""," "," "," ",false,6556,1556,1556,""," "," "," "]
[null,null,null,null,null,null,null,null,null,null,null,null,null,null,null,null,null,null,null,null,null,null,null,null,null,null,null,null,null,null,1563,"x"," "," "," "," "," "," "," "," ","  ",null,null,null," ",false,true,false,"x"," "," "," "," "," "," "," ","  ",0,6563,1563," "," "," "," "," "," ",""," "," ",""," "," ",1563,""," "," "," "," "," "," "," "," "," ",""," "," ",false,6563,1563," "," "," ",1563,""," ","  "," ",false,6563,1563," "," "," ",1563,""," "," "," ",false,6563,1563,1563,""," "," "," "]
[null,null,null,null,null,null,null,null,null,null,null,null,null,null,null,null,null,null,null,null,null,null,null,null,null,null,null,null,null,null,1568,"x"," "," "," "," "," "," "," "," ","  ",null,null,null," ",false,true,false,"x"," "," "," "," "," "," "," ","  ",0,6568,1568," "," "," "," "," "," ",""," "," ",""," "," ",1568,""," "," "," "," "," "," "," "," "," ",""," "," ",false,6568,1568," "," "," ",1568,""," ","  "," ",false,6568,1568," "," "," ",1568,""," "," "," ",false,6568,1568,1568,""," "," "," "]
[null,null,null,null,null,null,null,null,null,null,null,null,null,null,null,null,null,null,null,null,null,null,null,null,null,null,null,null,null,null,1576,"x"," "," "," "," "," "," "," "," ","  ",null,null,null," ",false,true,false,"x"," "," "," "," "," "," "," ","  ",0,6576,1576," "," "," "," "," "," ",""," "," ",""," "," ",1576,""," "," "," "," "," "," "," "," "," ",""," "," ",false,6576,1576," "," "," ",1576,""," ","  "," ",false,6576,1576," "," "," ",1576,""," "," "," ",false,6576,1576,1576,""," "," "," "]
[null,null,null,null,null,null,null,null,null,null,null,null,null,null,null,null,null,null,null,null,null,null,null,null,null,null,null,null,null,null,1581,"x"," "," "," "," "," "," "," "," ","  ",null,null,null," ",false,true,false,"x"," "," "," "," "," "," "," ","  ",0,6581,1581," "," "," "," "," "," ",""," "," ",""," "," ",1581,""," "," "," "," "," "," "," "," "," ",""," "," ",false,6581,1581," "," "," ",1581,""," ","  "," ",false,6581,1581," "," "," ",1581,""," "," "," ",false,6581,1581,1581,""," "," "," "]
[null,null,null,null,null,null,null,null,null,null,null,null,null,null,null,null,null,null,null,null,null,null,null,null,null,null,null,null,null,null,1589,"x"," "," "," "," "," "," "," "," ","  ",null,null,null," ",false,true,false,"x"," "," "," "," "," "," "," ","  ",0,6589,1589," "," "," "," "," "," ",""," "," ",""," "," ",1589,""," "," "," "," "," "," "," "," "," ",""," "," ",false,6589,1589," "," "," ",1589,""," ","  "," ",false,6589,1589," "," "," ",1589,""," "," "," ",false,6589,1589,1589,""," "," "," "]
[null,null,null,null,null,null,null,null,null,null,null,null,null,null,null,null,null,null,null,null,null,null,null,null,null,null,null,null,null,null,1596,"x"," "," "," "," "," "," "," "," ","  ",null,null,null," ",false,true,false,"x"," "," "," "," "," "," "," ","  ",0,6596,1596," "," "," "," "," "," ",""," "," ",""," "," ",1596,""," "," "," "," "," "," "," "," "," ",""," "," ",false,6596,1596," "," "," ",1596,""," ","  "," ",false,6596,1596," "," "," ",1596,""," "," "," ",false,6596,1596,1596,""," "," "," "]
[null,null,null,null,null,null,null,null,null,null,null,null,null,null,null,null,null,null,null,null,null,null,null,null,null,null,null,null,null,null,1601,"x"," "," "," "," "," "," "," "," ","  ",null,null,null," ",false,true,false,"x"," "," "," "," "," "," "," ","  ",0,6601,{"$f":"RANK(BG1604,BG$4:BG$2003,1)","v":1601}," "," "," "," "," "," ",""," "," ",""," "," ",1601,{"$f":"IF(BU1604<=BJ$2,MATCH(BU1604,BH$4:BH$2003,0),\"\")","v":""},{"$f":"VLOOKUP($BU1604,BH$4:BQ$2003,2,0)","v":" "},{"$f":"VLOOKUP($BU1604,BH$4:BQ$2003,7,0)","v":" "},{"$f":"VLOOKUP($BU1604,BH$4:BQ$2003,3,0)","v":" "},{"$f":"VLOOKUP($BU1604,BH$4:BQ$2003,9,0)","v":" "},{"$f":"VLOOKUP($BU1604,BH$4:BQ$2003,10,0)","v":" "},{"$f":"VLOOKUP($BU1604,BH$4:BQ$2003,4,0)","v":" "},{"$f":"VLOOKUP($BU1604,BH$4:BQ$2003,6,0)","v":" "},{"$f":"VLOOKUP($BU1604,BH$4:BQ$2003,5,0)","v":" "},{"$f":"IF(AC$8,BY1604,VLOOKUP($BU1604,BH$4:BR$2003,11,0)&BY1604)","v":" "},"",{"$f":"VLOOKUP($BU1604,BH$4:BS$2003,12,0)","v":" "},{"$f":"VLOOKUP($BU1604,BH$4:BT$2003,13,0)","v":" "},false,6601,{"$f":"RANK(CJ1604,CJ$4:CJ$2003,1)","v":1601}," "," "," ",1601,{"$f":"IF(CO1604<=CP$2,MATCH(CO1604,CK$4:CK$2003,0),\"\")","v":""},{"$f":"VLOOKUP($CO1604,CK$4:CM$2003,2,0)","v":" "},{"$f":"VLOOKUP($CO1604,CK$4:CN$2003,3,0)&VLOOKUP($CO1604,CK$4:CN$2003,4,0)","v":"  "}," ",false,6601,{"$f":"RANK(CU1604,CU$4:CU$2003,1)","v":1601}," "," "," ",1601,{"$f":"IF(CZ1604<=DA$2,MATCH(CZ1604,CV$4:CV$2003,0),\"\")","v":""},{"$f":"VLOOKUP($CZ1604,CV$4:CY$2003,4,0)","v":" "}," "," ",false,6601,{"$f":"RANK(DF1604,DF$4:DF$2003,1)","v":1601},1601,{"$f":"IF(DH1604<=DA$2,MATCH(DH1604,DG$4:DG$2003,0),\"\")","v":""}," "," ",{"$f":"IF($DH1604<=$DI$2,VLOOKUP($DH1604,DG$4:DK$2003,4,0)&\" [\" &VLOOKUP($DH1604,DG$4:DK$2003,5,0) &\"]\",\" \")","v":" "}]
[null,null,null,null,null,null,null,null,null,null,null,null,null,null,null,null,null,null,null,null,null,null,null,null,null,null,null,null,null,null,1609,"x"," "," "," "," "," "," "," "," ","  ",null,null,null," ",false,true,false,"x"," "," "," "," "," "," "," ","  ",0,6609,1609," "," "," "," "," "," ",""," "," ",""," "," ",1609,""," "," "," "," "," "," "," "," "," ",""," "," ",false,6609,1609," "," "," ",1609,""," ","  "," ",false,6609,1609," "," "," ",1609,""," "," "," ",false,6609,1609,1609,""," "," "," "]
[null,null,null,null,null,null,null,null,null,null,null,null,null,null,null,null,null,null,null,null,null,null,null,null,null,null,null,null,null,null,1614,"x"," "," "," "," "," "," "," "," ","  ",null,null,null," ",false,true,false,"x"," "," "," "," "," "," "," ","  ",0,6614,1614," "," "," "," "," "," ",""," "," ",""," "," ",1614,""," "," "," "," "," "," "," "," "," ",""," "," ",false,6614,1614," "," "," ",1614,""," ","  "," ",false,6614,1614," "," "," ",1614,""," "," "," ",false,6614,1614,1614,""," "," "," "]
[null,null,null,null,null,null,null,null,null,null,null,null,null,null,null,null,null,null,null,null,null,null,null,null,null,null,null,null,null,null,1621,"x"," "," "," "," "," "," "," "," ","  ",null,null,null," ",false,true,false,"x"," "," "," "," "," "," "," ","  ",0,6621,1621," "," "," "," "," "," ",""," "," ",""," ",{"$f":"IF($AV1624,BF1624,\" \")","v":" "},1621,""," "," "," "," "," "," "," "," "," ",""," "," ",false,6621,1621," "," "," ",1621,""," ","  "," ",false,6621,1621," "," "," ",1621,""," "," "," ",false,6621,1621,1621,""," "," "," "]
[null,null,null,null,null,null,null,null,null,null,null,null,null,null,null,null,null,null,null,null,null,null,null,null,null,null,null,null,null,null,1629,"x"," "," "," "," "," "," "," "," ","  ",null,null,null,{"$f":"IF(AG1632=\"\",\"\",AG1632)","v":" "},{"$f":"IF(ISERR(FIND(AF1632,$Y$22,1)),FALSE,TRUE)","v":false},{"$f":"IF(ISERR(FIND(AK1632,$Y$23,1)),FALSE,TRUE)","v":true},{"$f":"AND(AT1632,AU1632)","v":false},{"$f":"IF(AC$3,AF1632,\" \")","v":"x"},{"$f":"IF(AC$4,AH1632,\" \")","v":" "},{"$f":"IF(TRUE,AI1632,\" \")","v":" "},{"$f":"IF(AC$6,AJ1632,\" \")","v":" "},{"$f":"IF(AC$7,AK1632,\" \")","v":" "},{"$f":"IF(AC$8,AL1632,\" \")","v":" "},{"$f":"IF(AC$9,AM1632,\" \")","v":" "},{"$f":"IF(AC$10,AN1632,\" \")","v":" "},{"$f":"IF(AC$9,AO1632,\" \")","v":"  "},0,{"$f":"IF(AV1632,AE1632,AE1632+5000)","v":6629},1629,{"$f":"IF(AV1632,AW1632,\" \")","v":" "},{"$f":"IF($AV1632,BO1632&AG1632,\" \")","v":" "},{"$f":"IF($AV1632,AX1632,\" \")","v":" "},{"$f":"IF($AV1632,AY1632,\" \")","v":" "},{"$f":"IF($AV1632,AZ1632,\" \")","v":" "},{"$f":"IF($AV1632,BA1632,\" \")","v":" "},{"$f":"IF($AV1632,IF(BB1632=\" \",\"\",BB1632&\" \"),\"\")","v":""},{"$f":"IF($AV1632,BC1632,\" \")","v":" "},{"$f":"IF($AV1632,BD1632,\" \")","v":" "},{"$f":"IF($AV1632,IF(AL1632=\" \",\"\",AL1632&\" \"),\"\")","v":""},{"$f":"IF($AV1632,BE1632,\" \")","v":" "}," ",1629,""," "," "," "," "," "," "," "," "," ",""," "," ",{"$f":"IF(ISERR(SEARCH(CL$2,AY1632,1)),FALSE, TRUE)","v":false},{"$f":"IF(CI1632,AE1632,AE1632+5000)","v":6629},1629,{"$f":"IF($CI1632,IF(BB1632=\" \",\"\",BB1632&\" \")&AG1632,\" \")","v":" "},{"$f":"IF($CI1632,AY1632,\" \")","v":" "}," ",1629,""," ","  "," ",{"$f":"IF(ISERR(FIND(CW$2,AP1632,1)),FALSE, TRUE)","v":false},{"$f":"IF(CT1632,AE1632,AE1632+5000)","v":6629},1629,{"$f":"IF($CT1632,IF(AH1632=\" \",\"\",\" [\"&AH1632&\"]\"),\" \")","v":" "},{"$f":"IF($CT1632,IF(AK1632=\"Noun  \",\"Noun\",IF(AK1632=\"Verb  \",\"Verb\",AK1632)),\" \")","v":" "}," ",1629,""," "," "," ",{"$f":"IF(AND(LEN(AG1632)<=DF$2,AG1632<>\" \"),TRUE,FALSE)","v":false},{"$f":"IF(DE1632,AE1632,AE1632+5000)","v":6629},1629,1629,"",{"$f":"IF($DE1632,IF(BB1632=\" \",\"\",BB1632&\" \")&AG1632,\" \")","v":" "},{"$f":"IF($DE1632,AY1632,\" \")","v":" "}," "]
[null,null,null,null,null,null,null,null,null,null,null,null,null,null,null,null,null,null,null,null,null,null,null,null,null,null,null,null,null,null,1634,"x"," "," "," "," "," "," "," "," ","  ",null,null,null," ",false,true,false,"x"," "," "," "," "," "," "," ","  ",0,6634,1634," "," "," "," "," "," ",""," "," ",""," "," ",1634,""," "," "," "," "," "," "," "," "," ",""," "," ",false,6634,1634," "," "," ",1634,""," ","  "," ",false,6634,1634," "," "," ",1634,""," "," "," ",false,6634,1634,1634,""," "," "," "]
[null,null,null,null,null,null,null,null,null,null,null,null,null,null,null,null,null,null,null,null,null,null,null,null,null,null,null,null,null,null,1642,"x"," "," "," "," "," "," "," "," ","  ",null,null,null," ",false,true,false,"x"," "," "," "," "," "," "," ","  ",0,6642,1642," "," "," "," "," "," ",""," "," ",""," "," ",1642,""," "," "," "," "," "," "," "," "," ",""," "," ",false,6642,1642," "," "," ",1642,""," ","  "," ",false,6642,1642," "," "," ",1642,""," "," "," ",false,6642,1642,1642,""," "," "," "]
[null,null,null,null,null,null,null,null,null,null,null,null,null,null,null,null,null,null,null,null,null,null,null,null,null,null,null,null,null,null,1650,"x"," "," "," "," "," "," "," "," ","  ",null,null,null," ",false,true,false,"x"," "," "," "," "," "," "," ","  ",0,6650,1650," "," "," "," "," "," ",""," "," ",""," "," ",1650,""," "," "," "," "," "," "," "," "," ",""," "," ",false,6650,1650," "," "," ",1650,""," ","  "," ",false,6650,1650," "," "," ",1650,""," "," "," ",false,6650,1650,1650,""," "," "," "]
[null,null,null,null,null,null,null,null,null,null,null,null,null,null,null,null,null,null,null,null,null,null,null,null,null,null,null,null,null,null,1654,"x"," "," "," "," "," "," "," "," ","  ",null,null,null," ",false,true,false,"x"," "," "," "," "," "," "," ","  ",0,6654,1654," "," "," "," "," "," ",""," "," ",""," "," ",1654,""," "," "," "," "," "," "," "," "," ",""," "," ",false,6654,1654," "," "," ",1654,""," ","  "," ",false,6654,1654," "," "," ",1654,""," "," "," ",false,6654,1654,1654,""," "," "," "]
[null,null,null,null,null,null,null,null,null,null,null,null,null,null,null,null,null,null,null,null,null,null,null,null,null,null,null,null,null,null,1662,"x"," "," "," "," "," "," "," "," ","  ",null,null,null," ",false,true,false,"x"," "," "," "," "," "," "," ","  ",0,6662,1662," "," "," "," "," "," ",""," "," ",""," "," ",1662,""," "," "," "," "," "," "," "," "," ",""," "," ",false,6662,1662," "," "," ",1662,""," ","  "," ",false,6662,1662," "," "," ",1662,""," "," "," ",false,6662,1662,1662,""," "," "," "]
[null,null,null,null,null,null,null,null,null,null,null,null,null,null,null,null,null,null,null,null,null,null,null,null,null,null,null,null,null,null,1674,"x"," "," "," "," "," "," "," "," ","  ",null,null,null," ",false,true,false,"x"," "," "," "," "," "," "," ","  ",0,6674,1674," "," "," "," "," "," ",""," "," ",""," "," ",1674,""," "," "," "," "," "," "," "," "," ",""," "," ",false,6674,1674," "," "," ",1674,""," ","  "," ",false,6674,1674," "," "," ",1674,""," "," "," ",false,6674,1674,1674,""," "," "," "]
[null,null,null,null,null,null,null,null,null,null,null,null,null,null,null,null,null,null,null,null,null,null,null,null,null,null,null,null,null,null,1675,"x"," "," "," "," "," "," "," "," ","  ",null,null,null," ",false,true,false,"x"," "," "," "," "," "," "," ","  ",0,6675,1675," "," "," "," "," "," ",""," "," ",""," "," ",1675,""," "," "," "," "," "," "," "," "," ",""," "," ",false,6675,1675," "," "," ",1675,""," ","  "," ",false,6675,1675," "," "," ",1675,""," "," "," ",false,6675,1675,1675,""," "," "," "]
[null,null,null,null,null,null,null,null,null,null,null,null,null,null,null,null,null,null,null,null,null,null,null,null,null,null,null,null,null,null,1682,"x"," "," "," "," "," "," "," "," ","  ",null,null,null," ",false,true,false,"x"," "," "," "," "," "," "," ","  ",0,6682,1682," "," "," "," "," "," ",""," "," ",""," "," ",1682,""," "," "," "," "," "," "," "," "," ",""," "," ",false,6682,1682," "," "," ",1682,""," ","  "," ",false,6682,1682," "," "," ",1682,""," "," "," ",false,6682,1682,1682,""," "," "," "]
[null,null,null,null,null,null,null,null,null,null,null,null,null,null,null,null,null,null,null,null,null,null,null,null,null,null,null,null,null,null,1694,"x"," "," "," "," "," "," "," "," ","  ",null,null,null," ",false,true,false,"x"," "," "," "," "," "," "," ","  ",0,6694,1694," "," "," "," "," "," ",""," "," ",""," "," ",1694,""," "," "," "," "," "," "," "," "," ",""," "," ",false,6694,1694," "," "," ",1694,""," ","  "," ",false,6694,1694," "," "," ",1694,""," "," "," ",false,6694,1694,1694,""," "," "," "]
[null,null,null,null,null,null,null,null,null,null,null,null,null,null,null,null,null,null,null,null,null,null,null,null,null,null,null,null,null,null,1695,"x"," "," "," "," "," "," "," "," ","  ",null,null,null," ",false,true,false,"x"," "," "," "," "," "," "," ","  ",0,6695,1695," "," "," "," "," "," ",""," "," ",""," "," ",1695,""," "," "," "," "," "," "," "," "," ",""," "," ",false,6695,1695," "," "," ",1695,""," ","  "," ",false,6695,1695," "," "," ",1695,""," "," "," ",false,6695,1695,1695,""," "," "," "]
[null,null,null,null,null,null,null,null,null,null,null,null,null,null,null,null,null,null,null,null,null,null,null,null,null,null,null,null,null,null,1707,"x"," "," "," "," "," "," "," "," ","  ",null,null,null," ",false,true,false,"x"," "," "," "," "," "," "," ","  ",0,6707,1707," "," "," "," "," "," ",""," "," ",""," "," ",1707,""," "," "," "," "," "," "," "," "," ",""," "," ",false,6707,1707," "," "," ",1707,""," ","  "," ",false,6707,1707," "," "," ",1707,""," "," "," ",false,6707,1707,1707,""," "," "," "]
[null,null,null,null,null,null,null,null,null,null,null,null,null,null,null,null,null,null,null,null,null,null,null,null,null,null,null,null,null,null,1714,"x"," "," "," "," "," "," "," "," ","  ",null,null,null," ",false,true,false,"x"," "," "," "," "," "," "," ","  ",0,6714,1714," "," "," "," "," "," ",""," "," ",""," "," ",1714,""," "," "," "," "," "," "," "," "," ",""," "," ",false,6714,1714," "," "," ",1714,""," ","  "," ",false,6714,1714," "," "," ",1714,""," "," "," ",false,6714,1714,1714,""," "," "," "]
[null,null,null,null,null,null,null,null,null,null,null,null,null,null,null,null,null,null,null,null,null,null,null,null,null,null,null,null,null,null,1715,"x"," "," "," "," "," "," "," "," ","  ",null,null,null," ",false,true,false,"x"," "," "," "," "," "," "," ","  ",0,6715,1715," "," "," "," "," "," ",""," "," ",""," "," ",1715,""," "," "," "," "," "," "," "," "," ",""," "," ",false,6715,1715," "," "," ",1715,""," ","  "," ",false,6715,1715," "," "," ",1715,""," "," "," ",false,6715,1715,1715,""," "," "," "]
[null,null,null,null,null,null,null,null,null,null,null,null,null,null,null,null,null,null,null,null,null,null,null,null,null,null,null,null,null,null,1727,"x"," "," "," "," "," "," "," "," ","  ",null,null,null," ",false,true,false,"x"," "," "," "," "," "," "," ","  ",0,6727,1727," "," "," "," "," "," ",""," "," ",""," "," ",1727,""," "," "," "," "," "," "," "," "," ",""," "," ",false,6727,1727," "," "," ",1727,""," ","  "," ",false,6727,1727," "," "," ",1727,""," "," "," ",false,6727,1727,1727,""," "," "," "]
[null,null,null,null,null,null,null,null,null,null,null,null,null,null,null,null,null,null,null,null,null,null,null,null,null,null,null,null,null,null,1735,"x"," "," "," "," "," "," "," "," ","  ",null,null,null," ",false,true,false,"x"," "," "," "," "," "," "," ","  ",0,6735,1735," "," "," "," "," "," ",""," "," ",""," "," ",1735,""," "," "," "," "," "," "," "," "," ",""," "," ",false,6735,1735," "," "," ",1735,""," ","  "," ",false,6735,1735," "," "," ",1735,""," "," "," ",false,6735,1735,1735,""," "," "," "]
[null,null,null,null,null,null,null,null,null,null,null,null,null,null,null,null,null,null,null,null,null,null,null,null,null,null,null,null,null,null,1737,"x"," "," "," "," "," "," "," "," ","  ",null,null,null," ",false,true,false,"x"," "," "," "," "," "," "," ","  ",0,6737,1737," "," "," "," "," "," ",""," "," ",""," "," ",1737,""," "," "," "," "," "," "," "," "," ",""," "," ",false,6737,1737," "," "," ",1737,""," ","  "," ",false,6737,1737," "," "," ",1737,""," "," "," ",false,6737,1737,1737,""," "," "," "]
[null,null,null,null,null,null,null,null,null,null,null,null,null,null,null,null,null,null,null,null,null,null,null,null,null,null,null,null,null,null,1747,"x"," "," "," "," "," "," "," "," ","  ",null,null,null," ",false,true,false,"x"," "," "," "," "," "," "," ","  ",0,6747,1747," "," "," "," "," "," ",""," "," ",""," "," ",1747,""," "," "," "," "," "," "," "," "," ",""," "," ",false,6747,1747," "," "," ",1747,""," ","  "," ",false,6747,1747," "," "," ",1747,""," "," "," ",false,6747,1747,1747,""," "," "," "]
[null,null,null,null,null,null,null,null,null,null,null,null,null,null,null,null,null,null,null,null,null,null,null,null,null,null,null,null,null,null,1755,"x"," "," "," "," "," "," "," "," ","  ",null,null,null," ",false,true,false,"x"," "," "," "," "," "," "," ","  ",0,6755,1755," "," "," "," "," "," ",""," "," ",""," "," ",1755,""," "," "," "," "," "," "," "," "," ",""," "," ",false,6755,1755," "," "," ",1755,""," ","  "," ",false,6755,1755," "," "," ",1755,""," "," "," ",false,6755,1755,1755,""," "," "," "]
[null,null,null,null,null,null,null,null,null,null,null,null,null,null,null,null,null,null,null,null,null,null,null,null,null,null,null,null,null,null,1760,"x"," "," "," "," "," "," "," "," ","  ",null,null,null," ",false,true,false,"x"," "," "," "," "," "," "," ","  ",0,6760,1760," "," "," "," "," "," ",""," "," ",""," "," ",1760,""," "," "," "," "," "," "," "," "," ",""," "," ",false,6760,1760," "," "," ",1760,""," ","  "," ",false,6760,1760," "," "," ",1760,""," "," "," ",false,6760,1760,1760,""," "," "," "]
[null,null,null,null,null,null,null,null,null,null,null,null,null,null,null,null,null,null,null,null,null,null,null,null,null,null,null,null,null,null,1768,"x"," "," "," "," "," "," "," "," ","  ",null,null,null," ",false,true,false,"x"," "," "," "," "," "," "," ","  ",0,6768,1768," "," "," "," "," "," ",""," "," ",""," "," ",1768,""," "," "," "," "," "," "," "," "," ",""," "," ",false,6768,1768," "," "," ",1768,""," ","  "," ",false,6768,1768," "," "," ",1768,""," "," "," ",false,6768,1768,1768,""," "," "," "]
[null,null,null,null,null,null,null,null,null,null,null,null,null,null,null,null,null,null,null,null,null,null,null,null,null,null,null,null,null,null,1775,"x"," "," "," "," "," "," "," "," ","  ",null,null,null," ",false,true,false,"x"," "," "," "," "," "," "," ","  ",0,6775,1775," "," "," "," "," "," ",""," "," ",""," "," ",1775,""," "," "," "," "," "," "," "," "," ",""," "," ",false,6775,1775," "," "," ",1775,""," ","  "," ",false,6775,1775," "," "," ",1775,""," "," "," ",false,6775,1775,1775,""," "," "," "]
[null,null,null,null,null,null,null,null,null,null,null,null,null,null,null,null,null,null,null,null,null,null,null,null,null,null,null,null,null,null,1780,"x"," "," "," "," "," "," "," "," ","  ",null,null,null," ",false,true,false,"x"," "," "," "," "," "," "," ","  ",0,6780,1780," "," "," "," "," "," ",""," "," ",""," "," ",1780,""," "," "," "," "," "," "," "," "," ",""," "," ",false,6780,1780," "," "," ",1780,""," ","  "," ",false,6780,1780," "," "," ",1780,""," "," "," ",false,6780,1780,1780,""," "," "," "]
[null,null,null,null,null,null,null,null,null,null,null,null,null,null,null,null,null,null,null,null,null,null,null,null,null,null,null,null,null,null,1788,"x"," "," "," "," "," "," "," "," ","  ",null,null,null," ",false,true,false,"x"," "," "," "," "," "," "," ","  ",0,6788,1788," "," "," "," "," "," ",""," "," ",""," "," ",1788,""," "," "," "," "," "," "," "," "," ",""," "," ",false,6788,1788," "," "," ",1788,""," ","  "," ",false,6788,1788," "," "," ",1788,""," "," "," ",false,6788,1788,1788,""," "," "," "]
[null,null,null,null,null,null,null,null,null,null,null,null,null,null,null,null,null,null,null,null,null,null,null,null,null,null,null,null,null,null,1791,"x"," "," "," "," "," "," "," "," ","  ",null,null,null," ",false,true,false,"x"," "," "," "," "," "," "," ","  ",0,6791,1791," "," "," "," "," "," ",""," "," ",""," "," ",1791,""," "," "," "," "," "," "," "," "," ",""," "," ",false,6791,1791," "," "," ",1791,""," ","  "," ",false,6791,1791," "," "," ",1791,""," "," "," ",false,6791,1791,1791,""," "," "," "]
[null,null,null,null,null,null,null,null,null,null,null,null,null,null,null,null,null,null,null,null,null,null,null,null,null,null,null,null,null,null,1800,"x"," "," "," "," "," "," "," "," ","  ",null,null,null," ",false,true,false,"x"," "," "," "," "," "," "," ","  ",0,6800,1800," "," "," "," "," "," ",""," "," ",""," "," ",1800,""," "," "," "," "," "," "," "," "," ",""," "," ",false,6800,1800," "," "," ",1800,""," ","  "," ",false,6800,1800," "," "," ",1800,""," "," "," ",false,6800,1800,1800,""," "," "," "]
[null,null,null,null,null,null,null,null,null,null,null,null,null,null,null,null,null,null,null,null,null,null,null,null,null,null,null,null,null,null,1808,"x"," "," "," "," "," "," "," "," ","  ",null,null,null," ",false,true,false,"x"," "," "," "," "," "," "," ","  ",0,6808,1808," "," "," "," "," "," ",""," "," ",""," "," ",1808,""," "," "," "," "," "," "," "," "," ",""," "," ",false,6808,1808," "," "," ",1808,""," ","  "," ",false,6808,1808," "," "," ",1808,""," "," "," ",false,6808,1808,1808,""," "," "," "]
[null,null,null,null,null,null,null,null,null,null,null,null,null,null,null,null,null,null,null,null,null,null,null,null,null,null,null,null,null,null,1813,"x"," "," "," "," "," "," "," "," ","  ",null,null,null," ",false,true,false,"x"," "," "," "," "," "," "," ","  ",0,6813,1813," "," "," "," "," "," ",""," "," ",""," ",{"$f":"IF($AV1816,BF1816,\" \")","v":" "},1813,""," "," "," "," "," "," "," "," "," ",""," "," ",false,6813,1813," "," "," ",1813,""," ","  "," ",false,6813,1813," "," "," ",1813,""," "," "," ",false,6813,1813,1813,""," "," "," "]
[null,null,null,null,null,null,null,null,null,null,null,null,null,null,null,null,null,null,null,null,null,null,null,null,null,null,null,null,null,null,1821,"x"," "," "," "," "," "," "," "," ","  ",null,null,null,{"$f":"IF(AG1824=\"\",\"\",AG1824)","v":" "},{"$f":"IF(ISERR(FIND(AF1824,$Y$22,1)),FALSE,TRUE)","v":false},{"$f":"IF(ISERR(FIND(AK1824,$Y$23,1)),FALSE,TRUE)","v":true},{"$f":"AND(AT1824,AU1824)","v":false},{"$f":"IF(AC$3,AF1824,\" \")","v":"x"},{"$f":"IF(AC$4,AH1824,\" \")","v":" "},{"$f":"IF(TRUE,AI1824,\" \")","v":" "},{"$f":"IF(AC$6,AJ1824,\" \")","v":" "},{"$f":"IF(AC$7,AK1824,\" \")","v":" "},{"$f":"IF(AC$8,AL1824,\" \")","v":" "},{"$f":"IF(AC$9,AM1824,\" \")","v":" "},{"$f":"IF(AC$10,AN1824,\" \")","v":" "},{"$f":"IF(AC$9,AO1824,\" \")","v":"  "},0,{"$f":"IF(AV1824,AE1824,AE1824+5000)","v":6821},1821,{"$f":"IF(AV1824,AW1824,\" \")","v":" "},{"$f":"IF($AV1824,BO1824&AG1824,\" \")","v":" "},{"$f":"IF($AV1824,AX1824,\" \")","v":" "},{"$f":"IF($AV1824,AY1824,\" \")","v":" "},{"$f":"IF($AV1824,AZ1824,\" \")","v":" "},{"$f":"IF($AV1824,BA1824,\" \")","v":" "},{"$f":"IF($AV1824,IF(BB1824=\" \",\"\",BB1824&\" \"),\"\")","v":""},{"$f":"IF($AV1824,BC1824,\" \")","v":" "},{"$f":"IF($AV1824,BD1824,\" \")","v":" "},{"$f":"IF($AV1824,IF(AL1824=\" \",\"\",AL1824&\" \"),\"\")","v":""},{"$f":"IF($AV1824,BE1824,\" \")","v":" "}," ",1821,""," "," "," "," "," "," "," "," "," ",""," "," ",{"$f":"IF(ISERR(SEARCH(CL$2,AY1824,1)),FALSE, TRUE)","v":false},{"$f":"IF(CI1824,AE1824,AE1824+5000)","v":6821},1821,{"$f":"IF($CI1824,IF(BB1824=\" \",\"\",BB1824&\" \")&AG1824,\" \")","v":" "},{"$f":"IF($CI1824,AY1824,\" \")","v":" "}," ",1821,""," ","  "," ",{"$f":"IF(ISERR(FIND(CW$2,AP1824,1)),FALSE, TRUE)","v":false},{"$f":"IF(CT1824,AE1824,AE1824+5000)","v":6821},1821,{"$f":"IF($CT1824,IF(AH1824=\" \",\"\",\" [\"&AH1824&\"]\"),\" \")","v":" "},{"$f":"IF($CT1824,IF(AK1824=\"Noun  \",\"Noun\",IF(AK1824=\"Verb  \",\"Verb\",AK1824)),\" \")","v":" "}," ",1821,""," "," "," ",{"$f":"IF(AND(LEN(AG1824)<=DF$2,AG1824<>\" \"),TRUE,FALSE)","v":false},{"$f":"IF(DE1824,AE1824,AE1824+5000)","v":6821},1821,1821,"",{"$f":"IF($DE1824,IF(BB1824=\" \",\"\",BB1824&\" \")&AG1824,\" \")","v":" "},{"$f":"IF($DE1824,AY1824,\" \")","v":" "}," "]
[null,null,null,null,null,null,null,null,null,null,null,null,null,null,null,null,null,null,null,null,null,null,null,null,null,null,null,null,null,null,1826,"x"," "," "," "," "," "," "," "," ","  ",null,null,null," ",false,true,false,"x"," "," "," "," "," "," "," ","  ",0,6826,1826," "," "," "," "," "," ",""," "," ",""," "," ",1826,""," "," "," "," "," "," "," "," "," ",""," "," ",false,6826,1826," "," "," ",1826,""," ","  "," ",false,6826,1826," "," "," ",1826,""," "," "," ",false,6826,1826,1826,""," "," "," "]
[null,null,null,null,null,null,null,null,null,null,null,null,null,null,null,null,null,null,null,null,null,null,null,null,null,null,null,null,null,null,1833,"x"," "," "," "," "," "," "," "," ","  ",null,null,null," ",false,true,false,"x"," "," "," "," "," "," "," ","  ",0,6833,1833," "," "," "," "," "," ",""," "," ",""," "," ",1833,""," "," "," "," "," "," "," "," "," ",""," "," ",false,6833,1833," "," "," ",1833,""," ","  "," ",false,6833,1833," "," "," ",1833,""," "," "," ",false,6833,1833,1833,""," "," "," "]
[null,null,null,null,null,null,null,null,null,null,null,null,null,null,null,null,null,null,null,null,null,null,null,null,null,null,null,null,null,null,1841,"x"," "," "," "," "," "," "," "," ","  ",null,null,null," ",false,true,false,"x"," "," "," "," "," "," "," ","  ",0,6841,1841," "," "," "," "," "," ",""," "," ",""," "," ",1841,""," "," "," "," "," "," "," "," "," ",""," "," ",false,6841,1841," "," "," ",1841,""," ","  "," ",false,6841,1841," "," "," ",1841,""," "," "," ",false,6841,1841,1841,""," "," "," "]
[null,null,null,null,null,null,null,null,null,null,null,null,null,null,null,null,null,null,null,null,null,null,null,null,null,null,null,null,null,null,1846,"x"," "," "," "," "," "," "," "," ","  ",null,null,null," ",false,true,false,"x"," "," "," "," "," "," "," ","  ",0,6846,1846," "," "," "," "," "," ",""," "," ",""," "," ",1846,""," "," "," "," "," "," "," "," "," ",""," "," ",false,6846,1846," "," "," ",1846,""," ","  "," ",false,6846,1846," "," "," ",1846,""," "," "," ",false,6846,1846,1846,""," "," "," "]
[null,null,null,null,null,null,null,null,null,null,null,null,null,null,null,null,null,null,null,null,null,null,null,null,null,null,null,null,null,null,1855,"x"," "," "," "," "," "," "," "," ","  ",null,null,null," ",false,true,false,"x"," "," "," "," "," "," "," ","  ",0,6855,1855," "," "," "," "," "," ",""," "," ",""," "," ",1855,""," "," "," "," "," "," "," "," "," ",""," "," ",false,6855,1855," "," "," ",1855,""," ","  "," ",false,6855,1855," "," "," ",1855,""," "," "," ",false,6855,1855,1855,""," "," "," "]
[null,null,null,null,null,null,null,null,null,null,null,null,null,null,null,null,null,null,null,null,null,null,null,null,null,null,null,null,null,null,1861,"x"," "," "," "," "," "," "," "," ","  ",null,null,null," ",false,true,false,"x"," "," "," "," "," "," "," ","  ",0,6861,1861," "," "," "," "," "," ",""," "," ",""," "," ",1861,""," "," "," "," "," "," "," "," "," ",""," "," ",false,6861,1861," "," "," ",1861,""," ","  "," ",false,6861,1861," "," "," ",1861,""," "," "," ",false,6861,1861,1861,""," "," "," "]
[null,null,null,null,null,null,null,null,null,null,null,null,null,null,null,null,null,null,null,null,null,null,null,null,null,null,null,null,null,null,1866,"x"," "," "," "," "," "," "," "," ","  ",null,null,null," ",false,true,false,"x"," "," "," "," "," "," "," ","  ",0,6866,1866," "," "," "," "," "," ",""," "," ",""," "," ",1866,""," "," "," "," "," "," "," "," "," ",""," "," ",false,6866,1866," "," "," ",1866,""," ","  "," ",false,6866,1866," "," "," ",1866,""," "," "," ",false,6866,1866,1866,""," "," "," "]
[null,null,null,null,null,null,null,null,null,null,null,null,null,null,null,null,null,null,null,null,null,null,null,null,null,null,null,null,null,null,1874,"x"," "," "," "," "," "," "," "," ","  ",null,null,null," ",false,true,false,"x"," "," "," "," "," "," "," ","  ",0,6874,1874," "," "," "," "," "," ",""," "," ",""," "," ",1874,""," "," "," "," "," "," "," "," "," ",""," "," ",false,6874,1874," "," "," ",1874,""," ","  "," ",false,6874,1874," "," "," ",1874,""," "," "," ",false,6874,1874,1874,""," "," "," "]
[null,null,null,null,null,null,null,null,null,null,null,null,null,null,null,null,null,null,null,null,null,null,null,null,null,null,null,null,null,null,1878,"x"," "," "," "," "," "," "," "," ","  ",null,null,null," ",false,true,false,"x"," "," "," "," "," "," "," ","  ",0,6878,1878," "," "," "," "," "," ",""," "," ",""," "," ",1878,""," "," "," "," "," "," "," "," "," ",""," "," ",false,6878,1878," "," "," ",1878,""," ","  "," ",false,6878,1878," "," "," ",1878,""," "," "," ",false,6878,1878,1878,""," "," "," "]
[null,null,null,null,null,null,null,null,null,null,null,null,null,null,null,null,null,null,null,null,null,null,null,null,null,null,null,null,null,null,1886,"x"," "," "," "," "," "," "," "," ","  ",null,null,null," ",false,true,false,"x"," "," "," "," "," "," "," ","  ",0,6886,1886," "," "," "," "," "," ",""," "," ",""," "," ",1886,""," "," "," "," "," "," "," "," "," ",""," "," ",false,6886,1886," "," "," ",1886,""," ","  "," ",false,6886,1886," "," "," ",1886,""," "," "," ",false,6886,1886,1886,""," "," "," "]
[null,null,null,null,null,null,null,null,null,null,null,null,null,null,null,null,null,null,null,null,null,null,null,null,null,null,null,null,null,null,1894,"x"," "," "," "," "," "," "," "," ","  ",null,null,null," ",false,true,false,"x"," "," "," "," "," "," "," ","  ",0,6894,1894," "," "," "," "," "," ",""," "," ",""," "," ",1894,""," "," "," "," "," "," "," "," "," ",""," "," ",false,6894,1894," "," "," ",1894,""," ","  "," ",false,6894,1894," "," "," ",1894,""," "," "," ",false,6894,1894,1894,""," "," "," "]
[null,null,null,null,null,null,null,null,null,null,null,null,null,null,null,null,null,null,null,null,null,null,null,null,null,null,null,null,null,null,1899,"x"," "," "," "," "," "," "," "," ","  ",null,null,null," ",false,true,false,"x"," "," "," "," "," "," "," ","  ",0,6899,1899," "," "," "," "," "," ",""," "," ",""," "," ",1899,""," "," "," "," "," "," "," "," "," ",""," "," ",false,6899,1899," "," "," ",1899,""," ","  "," ",false,6899,1899," "," "," ",1899,""," "," "," ",false,6899,1899,1899,""," "," "," "]
[null,null,null,null,null,null,null,null,null,null,null,null,null,null,null,null,null,null,null,null,null,null,null,null,null,null,null,null,null,null,1909,"x"," "," "," "," "," "," "," "," ","  ",null,null,null," ",false,true,false,"x"," "," "," "," "," "," "," ","  ",0,6909,1909," "," "," "," "," "," ",""," "," ",""," "," ",1909,""," "," "," "," "," "," "," "," "," ",""," "," ",false,6909,1909," "," "," ",1909,""," ","  "," ",false,6909,1909," "," "," ",1909,""," "," "," ",false,6909,1909,1909,""," "," "," "]
[null,null,null,null,null,null,null,null,null,null,null,null,null,null,null,null,null,null,null,null,null,null,null,null,null,null,null,null,null,null,1914,"x"," "," "," "," "," "," "," "," ","  ",null,null,null," ",false,true,false,"x"," "," "," "," "," "," "," ","  ",0,6914,1914," "," "," "," "," "," ",""," "," ",""," "," ",1914,""," "," "," "," "," "," "," "," "," ",""," "," ",false,6914,1914," "," "," ",1914,""," ","  "," ",false,6914,1914," "," "," ",1914,""," "," "," ",false,6914,1914,1914,""," "," "," "]
[null,null,null,null,null,null,null,null,null,null,null,null,null,null,null,null,null,null,null,null,null,null,null,null,null,null,null,null,null,null,1919,"x"," "," "," "," "," "," "," "," ","  ",null,null,null," ",false,true,false,"x"," "," "," "," "," "," "," ","  ",0,6919,1919," "," "," "," "," "," ",""," "," ",""," "," ",1919,""," "," "," "," "," "," "," "," "," ",""," "," ",false,6919,1919," "," "," ",1919,""," ","  "," ",false,6919,1919," "," "," ",1919,""," "," "," ",false,6919,1919,1919,""," "," "," "]
[null,null,null,null,null,null,null,null,null,null,null,null,null,null,null,null,null,null,null,null,null,null,null,null,null,null,null,null,null,null,1927,"x"," "," "," "," "," "," "," "," ","  ",null,null,null," ",false,true,false,"x"," "," "," "," "," "," "," ","  ",0,6927,1927," "," "," "," "," "," ",""," "," ",""," "," ",1927,""," "," "," "," "," "," "," "," "," ",""," "," ",false,6927,1927," "," "," ",1927,""," ","  "," ",false,6927,1927," "," "," ",1927,""," "," "," ",false,6927,1927,1927,""," "," "," "]
[null,null,null,null,null,null,null,null,null,null,null,null,null,null,null,null,null,null,null,null,null,null,null,null,null,null,null,null,null,null,1932,"x"," "," "," "," "," "," "," "," ","  ",null,null,null," ",false,true,false,"x"," "," "," "," "," "," "," ","  ",0,6932,1932," "," "," "," "," "," ",""," "," ",""," "," ",1932,""," "," "," "," "," "," "," "," "," ",""," "," ",false,6932,1932," "," "," ",1932,""," ","  "," ",false,6932,1932," "," "," ",1932,""," "," "," ",false,6932,1932,1932,""," "," "," "]
[null,null,null,null,null,null,null,null,null,null,null,null,null,null,null,null,null,null,null,null,null,null,null,null,null,null,null,null,null,null,1939,"x"," "," "," "," "," "," "," "," ","  ",null,null,null," ",false,true,false,"x"," "," "," "," "," "," "," ","  ",0,6939,1939," "," "," "," "," "," ",""," "," ",""," "," ",1939,""," "," "," "," "," "," "," "," "," ",""," "," ",false,6939,1939," "," "," ",1939,""," ","  "," ",false,6939,1939," "," "," ",1939,""," "," "," ",false,6939,1939,1939,""," "," "," "]
[null,null,null,null,null,null,null,null,null,null,null,null,null,null,null,null,null,null,null,null,null,null,null,null,null,null,null,null,null,null,1940,"x"," "," "," "," "," "," "," "," ","  ",null,null,null," ",false,true,false,"x"," "," "," "," "," "," "," ","  ",0,6940,1940," "," "," "," "," "," ",""," "," ",""," "," ",1940,""," "," "," "," "," "," "," "," "," ",""," "," ",false,6940,1940," "," "," ",1940,""," ","  "," ",false,6940,1940," "," "," ",1940,""," "," "," ",false,6940,1940,1940,""," "," "," "]
[null,null,null,null,null,null,null,null,null,null,null,null,null,null,null,null,null,null,null,null,null,null,null,null,null,null,null,null,null,null,1941,"x"," "," "," "," "," "," "," "," ","  ",null,null,null," ",false,true,false,"x"," "," "," "," "," "," "," ","  ",0,6941,1941," "," "," "," "," "," ",""," "," ",""," ",{"$f":"IF($AV1944,BF1944,\" \")","v":" "},1941,""," "," "," "," "," "," "," "," "," ",""," "," ",false,6941,1941," "," "," ",1941,""," ","  "," ",false,6941,1941," "," "," ",1941,""," "," "," ",false,6941,1941,1941,""," "," "," "]
[null,null,null,null,null,null,null,null,null,null,null,null,null,null,null,null,null,null,null,null,null,null,null,null,null,null,null,null,null,null,1942,"x"," "," "," "," "," "," "," "," ","  ",null,null,null," ",false,true,false,"x"," "," "," "," "," "," "," ","  ",0,6942,1942," "," "," "," "," "," ",""," "," ",""," "," ",1942,""," "," "," "," "," "," "," "," "," ",""," "," ",false,6942,1942," "," "," ",1942,""," ","  "," ",false,6942,1942," "," "," ",1942,""," "," "," ",false,6942,1942,1942,""," "," "," "]
[null,null,null,null,null,null,null,null,null,null,null,null,null,null,null,null,null,null,null,null,null,null,null,null,null,null,null,null,null,null,1943,"x"," "," "," "," "," "," "," "," ","  ",null,null,null," ",false,true,false,"x"," "," "," "," "," "," "," ","  ",0,6943,1943," "," "," "," "," "," ",""," "," ",""," "," ",1943,""," "," "," "," "," "," "," "," "," ",""," "," ",false,6943,1943," "," "," ",1943,""," ","  "," ",false,6943,1943," "," "," ",1943,""," "," "," ",false,6943,1943,1943,""," "," "," "]
[null,null,null,null,null,null,null,null,null,null,null,null,null,null,null,null,null,null,null,null,null,null,null,null,null,null,null,null,null,null,1944,"x"," "," "," "," "," "," "," "," ","  ",null,null,null," ",false,true,false,"x"," "," "," "," "," "," "," ","  ",0,6944,1944," "," "," "," "," "," ",""," "," ",""," "," ",1944,""," "," "," "," "," "," "," "," "," ",""," "," ",false,6944,1944," "," "," ",1944,""," ","  "," ",false,6944,1944," "," "," ",1944,""," "," "," ",false,6944,1944,1944,""," "," "," "]
[null,null,null,null,null,null,null,null,null,null,null,null,null,null,null,null,null,null,null,null,null,null,null,null,null,null,null,null,null,null,1945,"x"," "," "," "," "," "," "," "," ","  ",null,null,null," ",false,true,false,"x"," "," "," "," "," "," "," ","  ",0,6945,1945," "," "," "," "," "," ",""," "," ",""," "," ",1945,""," "," "," "," "," "," "," "," "," ",""," "," ",false,6945,1945," "," "," ",1945,""," ","  "," ",false,6945,1945," "," "," ",1945,""," "," "," ",false,6945,1945,1945,""," "," "," "]
[null,null,null,null,null,null,null,null,null,null,null,null,null,null,null,null,null,null,null,null,null,null,null,null,null,null,null,null,null,null,1946,"x"," "," "," "," "," "," "," "," ","  ",null,null,null," ",false,true,false,"x"," "," "," "," "," "," "," ","  ",0,6946,1946," "," "," "," "," "," ",""," "," ",""," "," ",1946,""," "," "," "," "," "," "," "," "," ",""," "," ",false,6946,1946," "," "," ",1946,""," ","  "," ",false,6946,1946," "," "," ",1946,""," "," "," ",false,6946,1946,1946,""," "," "," "]
[null,null,null,null,null,null,null,null,null,null,null,null,null,null,null,null,null,null,null,null,null,null,null,null,null,null,null,null,null,null,1947,"x"," "," "," "," "," "," "," "," ","  ",null,null,null," ",false,true,false,"x"," "," "," "," "," "," "," ","  ",0,6947,1947," "," "," "," "," "," ",""," "," ",""," "," ",1947,""," "," "," "," "," "," "," "," "," ",""," "," ",false,6947,1947," "," "," ",1947,""," ","  "," ",false,6947,1947," "," "," ",1947,""," "," "," ",false,6947,1947,1947,""," "," "," "]
[null,null,null,null,null,null,null,null,null,null,null,null,null,null,null,null,null,null,null,null,null,null,null,null,null,null,null,null,null,null,1948,"x"," "," "," "," "," "," "," "," ","  ",null,null,null," ",false,true,false,"x"," "," "," "," "," "," "," ","  ",0,6948,1948," "," "," "," "," "," ",""," "," ",""," "," ",1948,""," "," "," "," "," "," "," "," "," ",""," "," ",false,6948,1948," "," "," ",1948,""," ","  "," ",false,6948,1948," "," "," ",1948,""," "," "," ",false,6948,1948,1948,""," "," "," "]
[null,null,null,null,null,null,null,null,null,null,null,null,null,null,null,null,null,null,null,null,null,null,null,null,null,null,null,null,null,null,1949,"x"," "," "," "," "," "," "," "," ","  ",null,null,null,{"$f":"IF(AG1952=\"\",\"\",AG1952)","v":" "},{"$f":"IF(ISERR(FIND(AF1952,$Y$22,1)),FALSE,TRUE)","v":false},{"$f":"IF(ISERR(FIND(AK1952,$Y$23,1)),FALSE,TRUE)","v":true},{"$f":"AND(AT1952,AU1952)","v":false},{"$f":"IF(AC$3,AF1952,\" \")","v":"x"},{"$f":"IF(AC$4,AH1952,\" \")","v":" "},{"$f":"IF(TRUE,AI1952,\" \")","v":" "},{"$f":"IF(AC$6,AJ1952,\" \")","v":" "},{"$f":"IF(AC$7,AK1952,\" \")","v":" "},{"$f":"IF(AC$8,AL1952,\" \")","v":" "},{"$f":"IF(AC$9,AM1952,\" \")","v":" "},{"$f":"IF(AC$10,AN1952,\" \")","v":" "},{"$f":"IF(AC$9,AO1952,\" \")","v":"  "},0,{"$f":"IF(AV1952,AE1952,AE1952+5000)","v":6949},1949,{"$f":"IF(AV1952,AW1952,\" \")","v":" "},{"$f":"IF($AV1952,BO1952&AG1952,\" \")","v":" "},{"$f":"IF($AV1952,AX1952,\" \")","v":" "},{"$f":"IF($AV1952,AY1952,\" \")","v":" "},{"$f":"IF($AV1952,AZ1952,\" \")","v":" "},{"$f":"IF($AV1952,BA1952,\" \")","v":" "},{"$f":"IF($AV1952,IF(BB1952=\" \",\"\",BB1952&\" \"),\"\")","v":""},{"$f":"IF($AV1952,BC1952,\" \")","v":" "},{"$f":"IF($AV1952,BD1952,\" \")","v":" "},{"$f":"IF($AV1952,IF(AL1952=\" \",\"\",AL1952&\" \"),\"\")","v":""},{"$f":"IF($AV1952,BE1952,\" \")","v":" "}," ",1949,""," "," "," "," "," "," "," "," "," ",""," "," ",{"$f":"IF(ISERR(SEARCH(CL$2,AY1952,1)),FALSE, TRUE)","v":false},{"$f":"IF(CI1952,AE1952,AE1952+5000)","v":6949},1949,{"$f":"IF($CI1952,IF(BB1952=\" \",\"\",BB1952&\" \")&AG1952,\" \")","v":" "},{"$f":"IF($CI1952,AY1952,\" \")","v":" "}," ",1949,""," ","  "," ",{"$f":"IF(ISERR(FIND(CW$2,AP1952,1)),FALSE, TRUE)","v":false},{"$f":"IF(CT1952,AE1952,AE1952+5000)","v":6949},1949,{"$f":"IF($CT1952,IF(AH1952=\" \",\"\",\" [\"&AH1952&\"]\"),\" \")","v":" "},{"$f":"IF($CT1952,IF(AK1952=\"Noun  \",\"Noun\",IF(AK1952=\"Verb  \",\"Verb\",AK1952)),\" \")","v":" "}," ",1949,""," "," "," ",{"$f":"IF(AND(LEN(AG1952)<=DF$2,AG1952<>\" \"),TRUE,FALSE)","v":false},{"$f":"IF(DE1952,AE1952,AE1952+5000)","v":6949},1949,1949,"",{"$f":"IF($DE1952,IF(BB1952=\" \",\"\",BB1952&\" \")&AG1952,\" \")","v":" "},{"$f":"IF($DE1952,AY1952,\" \")","v":" "}," "]
[null,null,null,null,null,null,null,null,null,null,null,null,null,null,null,null,null,null,null,null,null,null,null,null,null,null,null,null,null,null,1950,"x"," "," "," "," "," "," "," "," ","  ",null,null,null," ",false,true,false,"x"," "," "," "," "," "," "," ","  ",0,6950,1950," "," "," "," "," "," ",""," "," ",""," "," ",1950,""," "," "," "," "," "," "," "," "," ",""," "," ",false,6950,1950," "," "," ",1950,""," ","  "," ",false,6950,1950," "," "," ",1950,""," "," "," ",false,6950,1950,1950,""," "," "," "]
[null,null,null,null,null,null,null,null,null,null,null,null,null,null,null,null,null,null,null,null,null,null,null,null,null,null,null,null,null,null,1951,"x"," "," "," "," "," "," "," "," ","  ",null,null,null," ",false,true,false,"x"," "," "," "," "," "," "," ","  ",0,6951,1951," "," "," "," "," "," ",""," "," ",""," "," ",1951,""," "," "," "," "," "," "," "," "," ",""," "," ",false,6951,1951," "," "," ",1951,""," ","  "," ",false,6951,1951," "," "," ",1951,""," "," "," ",false,6951,1951,1951,""," "," "," "]
[null,null,null,null,null,null,null,null,null,null,null,null,null,null,null,null,null,null,null,null,null,null,null,null,null,null,null,null,null,null,1952,"x"," "," "," "," "," "," "," "," ","  ",null,null,null," ",false,true,false,"x"," "," "," "," "," "," "," ","  ",0,6952,1952," "," "," "," "," "," ",""," "," ",""," "," ",1952,""," "," "," "," "," "," "," "," "," ",""," "," ",false,6952,1952," "," "," ",1952,""," ","  "," ",false,6952,1952," "," "," ",1952,""," "," "," ",false,6952,1952,1952,""," "," "," "]
[null,null,null,null,null,null,null,null,null,null,null,null,null,null,null,null,null,null,null,null,null,null,null,null,null,null,null,null,null,null,1953,"x"," "," "," "," "," "," "," "," ","  ",null,null,null," ",false,true,false,"x"," "," "," "," "," "," "," ","  ",0,6953,1953," "," "," "," "," "," ",""," "," ",""," "," ",1953,""," "," "," "," "," "," "," "," "," ",""," "," ",false,6953,1953," "," "," ",1953,""," ","  "," ",false,6953,1953," "," "," ",1953,""," "," "," ",false,6953,1953,1953,""," "," "," "]
[null,null,null,null,null,null,null,null,null,null,null,null,null,null,null,null,null,null,null,null,null,null,null,null,null,null,null,null,null,null,1954,"x"," "," "," "," "," "," "," "," ","  ",null,null,null," ",false,true,false,"x"," "," "," "," "," "," "," ","  ",0,6954,1954," "," "," "," "," "," ",""," "," ",""," "," ",1954,""," "," "," "," "," "," "," "," "," ",""," "," ",false,6954,1954," "," "," ",1954,""," ","  "," ",false,6954,1954," "," "," ",1954,""," "," "," ",false,6954,1954,1954,""," "," "," "]
[null,null,null,null,null,null,null,null,null,null,null,null,null,null,null,null,null,null,null,null,null,null,null,null,null,null,null,null,null,null,1955,"x"," "," "," "," "," "," "," "," ","  ",null,null,null," ",false,true,false,"x"," "," "," "," "," "," "," ","  ",0,6955,1955," "," "," "," "," "," ",""," "," ",""," "," ",1955,""," "," "," "," "," "," "," "," "," ",""," "," ",false,6955,1955," "," "," ",1955,""," ","  "," ",false,6955,1955," "," "," ",1955,""," "," "," ",false,6955,1955,1955,""," "," "," "]
[null,null,null,null,null,null,null,null,null,null,null,null,null,null,null,null,null,null,null,null,null,null,null,null,null,null,null,null,null,null,1956,"x"," "," "," "," "," "," "," "," ","  ",null,null,null," ",false,true,false,"x"," "," "," "," "," "," "," ","  ",0,6956,1956," "," "," "," "," "," ",""," "," ",""," "," ",1956,""," "," "," "," "," "," "," "," "," ",""," "," ",false,6956,1956," "," "," ",1956,""," ","  "," ",false,6956,1956," "," "," ",1956,""," "," "," ",false,6956,1956,1956,""," "," "," "]
[null,null,null,null,null,null,null,null,null,null,null,null,null,null,null,null,null,null,null,null,null,null,null,null,null,null,null,null,null,null,1957,"x"," "," "," "," "," "," "," "," ","  ",null,null,null," ",false,true,false,"x"," "," "," "," "," "," "," ","  ",0,6957,1957," "," "," "," "," "," ",""," "," ",""," "," ",1957,""," "," "," "," "," "," "," "," "," ",""," "," ",false,6957,1957," "," "," ",1957,""," ","  "," ",false,6957,1957," "," "," ",1957,""," "," "," ",false,6957,1957,1957,""," "," "," "]
[null,null,null,null,null,null,null,null,null,null,null,null,null,null,null,null,null,null,null,null,null,null,null,null,null,null,null,null,null,null,1958,"x"," "," "," "," "," "," "," "," ","  ",null,null,null," ",false,true,false,"x"," "," "," "," "," "," "," ","  ",0,6958,1958," "," "," "," "," "," ",""," "," ",""," "," ",1958,""," "," "," "," "," "," "," "," "," ",""," "," ",false,6958,1958," "," "," ",1958,""," ","  "," ",false,6958,1958," "," "," ",1958,""," "," "," ",false,6958,1958,1958,""," "," "," "]
[null,null,null,null,null,null,null,null,null,null,null,null,null,null,null,null,null,null,null,null,null,null,null,null,null,null,null,null,null,null,1959,"x"," "," "," "," "," "," "," "," ","  ",null,null,null," ",false,true,false,"x"," "," "," "," "," "," "," ","  ",0,6959,1959," "," "," "," "," "," ",""," "," ",""," "," ",1959,""," "," "," "," "," "," "," "," "," ",""," "," ",false,6959,1959," "," "," ",1959,""," ","  "," ",false,6959,1959," "," "," ",1959,""," "," "," ",false,6959,1959,1959,""," "," "," "]
[null,null,null,null,null,null,null,null,null,null,null,null,null,null,null,null,null,null,null,null,null,null,null,null,null,null,null,null,null,null,1960,"x"," "," "," "," "," "," "," "," ","  ",null,null,null," ",false,true,false,"x"," "," "," "," "," "," "," ","  ",0,6960,1960," "," "," "," "," "," ",""," "," ",""," "," ",1960,""," "," "," "," "," "," "," "," "," ",""," "," ",false,6960,1960," "," "," ",1960,""," ","  "," ",false,6960,1960," "," "," ",1960,""," "," "," ",false,6960,1960,1960,""," "," "," "]
[null,null,null,null,null,null,null,null,null,null,null,null,null,null,null,null,null,null,null,null,null,null,null,null,null,null,null,null,null,null,1961,"x"," "," "," "," "," "," "," "," ","  ",null,null,null," ",false,true,false,"x"," "," "," "," "," "," "," ","  ",0,6961,1961," "," "," "," "," "," ",""," "," ",""," "," ",1961,""," "," "," "," "," "," "," "," "," ",""," "," ",false,6961,1961," "," "," ",1961,""," ","  "," ",false,6961,1961," "," "," ",1961,""," "," "," ",false,6961,1961,1961,""," "," "," "]
[null,null,null,null,null,null,null,null,null,null,null,null,null,null,null,null,null,null,null,null,null,null,null,null,null,null,null,null,null,null,1962,"x"," "," "," "," "," "," "," "," ","  ",null,null,null," ",false,true,false,"x"," "," "," "," "," "," "," ","  ",0,6962,1962," "," "," "," "," "," ",""," "," ",""," "," ",1962,""," "," "," "," "," "," "," "," "," ",""," "," ",false,6962,1962," "," "," ",1962,""," ","  "," ",false,6962,1962," "," "," ",1962,""," "," "," ",false,6962,1962,1962,""," "," "," "]
[null,null,null,null,null,null,null,null,null,null,null,null,null,null,null,null,null,null,null,null,null,null,null,null,null,null,null,null,null,null,1963,"x"," "," "," "," "," "," "," "," ","  ",null,null,null," ",false,true,false,"x"," "," "," "," "," "," "," ","  ",0,6963,1963," "," "," "," "," "," ",""," "," ",""," "," ",1963,""," "," "," "," "," "," "," "," "," ",""," "," ",false,6963,1963," "," "," ",1963,""," ","  "," ",false,6963,1963," "," "," ",1963,""," "," "," ",false,6963,1963,1963,""," "," "," "]
[null,null,null,null,null,null,null,null,null,null,null,null,null,null,null,null,null,null,null,null,null,null,null,null,null,null,null,null,null,null,1964,"x"," "," "," "," "," "," "," "," ","  ",null,null,null," ",false,true,false,"x"," "," "," "," "," "," "," ","  ",0,6964,1964," "," "," "," "," "," ",""," "," ",""," "," ",1964,""," "," "," "," "," "," "," "," "," ",""," "," ",false,6964,1964," "," "," ",1964,""," ","  "," ",false,6964,1964," "," "," ",1964,""," "," "," ",false,6964,1964,1964,""," "," "," "]
[null,null,null,null,null,null,null,null,null,null,null,null,null,null,null,null,null,null,null,null,null,null,null,null,null,null,null,null,null,null,1965,"x"," "," "," "," "," "," "," "," ","  ",null,null,null," ",false,true,false,"x"," "," "," "," "," "," "," ","  ",0,6965,1965," "," "," "," "," "," ",""," "," ",""," "," ",1965,""," "," "," "," "," "," "," "," "," ",""," "," ",false,6965,1965," "," "," ",1965,""," ","  "," ",false,6965,1965," "," "," ",1965,""," "," "," ",false,6965,1965,1965,""," "," "," "]
[null,null,null,null,null,null,null,null,null,null,null,null,null,null,null,null,null,null,null,null,null,null,null,null,null,null,null,null,null,null,1966,"x"," "," "," "," "," "," "," "," ","  ",null,null,null," ",false,true,false,"x"," "," "," "," "," "," "," ","  ",0,6966,1966," "," "," "," "," "," ",""," "," ",""," "," ",1966,""," "," "," "," "," "," "," "," "," ",""," "," ",false,6966,1966," "," "," ",1966,""," ","  "," ",false,6966,1966," "," "," ",1966,""," "," "," ",false,6966,1966,1966,""," "," "," "]
[null,null,null,null,null,null,null,null,null,null,null,null,null,null,null,null,null,null,null,null,null,null,null,null,null,null,null,null,null,null,1967,"x"," "," "," "," "," "," "," "," ","  ",null,null,null," ",false,true,false,"x"," "," "," "," "," "," "," ","  ",0,6967,1967," "," "," "," "," "," ",""," "," ",""," "," ",1967,""," "," "," "," "," "," "," "," "," ",""," "," ",false,6967,1967," "," "," ",1967,""," ","  "," ",false,6967,1967," "," "," ",1967,""," "," "," ",false,6967,1967,1967,""," "," "," "]
[null,null,null,null,null,null,null,null,null,null,null,null,null,null,null,null,null,null,null,null,null,null,null,null,null,null,null,null,null,null,1968,"x"," "," "," "," "," "," "," "," ","  ",null,null,null," ",false,true,false,"x"," "," "," "," "," "," "," ","  ",0,6968,1968," "," "," "," "," "," ",""," "," ",""," "," ",1968,""," "," "," "," "," "," "," "," "," ",""," "," ",false,6968,1968," "," "," ",1968,""," ","  "," ",false,6968,1968," "," "," ",1968,""," "," "," ",false,6968,1968,1968,""," "," "," "]
[null,null,null,null,null,null,null,null,null,null,null,null,null,null,null,null,null,null,null,null,null,null,null,null,null,null,null,null,null,null,1969,"x"," "," "," "," "," "," "," "," ","  ",null,null,null," ",false,true,false,"x"," "," "," "," "," "," "," ","  ",0,6969,1969," "," "," "," "," "," ",""," "," ",""," "," ",1969,""," "," "," "," "," "," "," "," "," ",""," "," ",false,6969,1969," "," "," ",1969,""," ","  "," ",false,6969,1969," "," "," ",1969,""," "," "," ",false,6969,1969,1969,""," "," "," "]
[null,null,null,null,null,null,null,null,null,null,null,null,null,null,null,null,null,null,null,null,null,null,null,null,null,null,null,null,null,null,1970,"x"," "," "," "," "," "," "," "," ","  ",null,null,null," ",false,true,false,"x"," "," "," "," "," "," "," ","  ",0,6970,1970," "," "," "," "," "," ",""," "," ",""," "," ",1970,""," "," "," "," "," "," "," "," "," ",""," "," ",false,6970,1970," "," "," ",1970,""," ","  "," ",false,6970,1970," "," "," ",1970,""," "," "," ",false,6970,1970,1970,""," "," "," "]
[null,null,null,null,null,null,null,null,null,null,null,null,null,null,null,null,null,null,null,null,null,null,null,null,null,null,null,null,null,null,1971,"x"," "," "," "," "," "," "," "," ","  ",null,null,null," ",false,true,false,"x"," "," "," "," "," "," "," ","  ",0,6971,1971," "," "," "," "," "," ",""," "," ",""," "," ",1971,""," "," "," "," "," "," "," "," "," ",""," "," ",false,6971,1971," "," "," ",1971,""," ","  "," ",false,6971,1971," "," "," ",1971,""," "," "," ",false,6971,1971,1971,""," "," "," "]
[null,null,null,null,null,null,null,null,null,null,null,null,null,null,null,null,null,null,null,null,null,null,null,null,null,null,null,null,null,null,1972,"x"," "," "," "," "," "," "," "," ","  ",null,null,null," ",false,true,false,"x"," "," "," "," "," "," "," ","  ",0,6972,1972," "," "," "," "," "," ",""," "," ",""," "," ",1972,""," "," "," "," "," "," "," "," "," ",""," "," ",false,6972,1972," "," "," ",1972,""," ","  "," ",false,6972,1972," "," "," ",1972,""," "," "," ",false,6972,1972,1972,""," "," "," "]
[null,null,null,null,null,null,null,null,null,null,null,null,null,null,null,null,null,null,null,null,null,null,null,null,null,null,null,null,null,null,1973,"x"," "," "," "," "," "," "," "," ","  ",null,null,null," ",false,true,false,"x"," "," "," "," "," "," "," ","  ",0,6973,1973," "," "," "," "," "," ",""," "," ",""," "," ",1973,""," "," "," "," "," "," "," "," "," ",""," "," ",false,6973,1973," "," "," ",1973,""," ","  "," ",false,6973,1973," "," "," ",1973,""," "," "," ",false,6973,1973,1973,""," "," "," "]
[null,null,null,null,null,null,null,null,null,null,null,null,null,null,null,null,null,null,null,null,null,null,null,null,null,null,null,null,null,null,1974,"x"," "," "," "," "," "," "," "," ","  ",null,null,null," ",false,true,false,"x"," "," "," "," "," "," "," ","  ",0,6974,1974," "," "," "," "," "," ",""," "," ",""," "," ",1974,""," "," "," "," "," "," "," "," "," ",""," "," ",false,6974,1974," "," "," ",1974,""," ","  "," ",false,6974,1974," "," "," ",1974,""," "," "," ",false,6974,1974,1974,""," "," "," "]
[null,null,null,null,null,null,null,null,null,null,null,null,null,null,null,null,null,null,null,null,null,null,null,null,null,null,null,null,null,null,1975,"x"," "," "," "," "," "," "," "," ","  ",null,null,null," ",false,true,false,"x"," "," "," "," "," "," "," ","  ",0,6975,1975," "," "," "," "," "," ",""," "," ",""," "," ",1975,""," "," "," "," "," "," "," "," "," ",""," "," ",false,6975,1975," "," "," ",1975,""," ","  "," ",false,6975,1975," "," "," ",1975,""," "," "," ",false,6975,1975,1975,""," "," "," "]
[null,null,null,null,null,null,null,null,null,null,null,null,null,null,null,null,null,null,null,null,null,null,null,null,null,null,null,null,null,null,1976,"x"," "," "," "," "," "," "," "," ","  ",null,null,null," ",false,true,false,"x"," "," "," "," "," "," "," ","  ",0,6976,1976," "," "," "," "," "," ",""," "," ",""," "," ",1976,""," "," "," "," "," "," "," "," "," ",""," "," ",false,6976,1976," "," "," ",1976,""," ","  "," ",false,6976,1976," "," "," ",1976,""," "," "," ",false,6976,1976,1976,""," "," "," "]
[null,null,null,null,null,null,null,null,null,null,null,null,null,null,null,null,null,null,null,null,null,null,null,null,null,null,null,null,null,null,1977,"x"," "," "," "," "," "," "," "," ","  ",null,null,null," ",false,true,false,"x"," "," "," "," "," "," "," ","  ",0,6977,1977," "," "," "," "," "," ",""," "," ",""," "," ",1977,""," "," "," "," "," "," "," "," "," ",""," "," ",false,6977,1977," "," "," ",1977,""," ","  "," ",false,6977,1977," "," "," ",1977,""," "," "," ",false,6977,1977,1977,""," "," "," "]
[null,null,null,null,null,null,null,null,null,null,null,null,null,null,null,null,null,null,null,null,null,null,null,null,null,null,null,null,null,null,1978,"x"," "," "," "," "," "," "," "," ","  ",null,null,null," ",false,true,false,"x"," "," "," "," "," "," "," ","  ",0,6978,1978," "," "," "," "," "," ",""," "," ",""," "," ",1978,""," "," "," "," "," "," "," "," "," ",""," "," ",false,6978,1978," "," "," ",1978,""," ","  "," ",false,6978,1978," "," "," ",1978,""," "," "," ",false,6978,1978,1978,""," "," "," "]
[null,null,null,null,null,null,null,null,null,null,null,null,null,null,null,null,null,null,null,null,null,null,null,null,null,null,null,null,null,null,1979,"x"," "," "," "," "," "," "," "," ","  ",null,null,null," ",false,true,false,"x"," "," "," "," "," "," "," ","  ",0,6979,1979," "," "," "," "," "," ",""," "," ",""," "," ",1979,""," "," "," "," "," "," "," "," "," ",""," "," ",false,6979,1979," "," "," ",1979,""," ","  "," ",false,6979,1979," "," "," ",1979,""," "," "," ",false,6979,1979,1979,""," "," "," "]
[null,null,null,null,null,null,null,null,null,null,null,null,null,null,null,null,null,null,null,null,null,null,null,null,null,null,null,null,null,null,1980,"x"," "," "," "," "," "," "," "," ","  ",null,null,null," ",false,true,false,"x"," "," "," "," "," "," "," ","  ",0,6980,1980," "," "," "," "," "," ",""," "," ",""," "," ",1980,""," "," "," "," "," "," "," "," "," ",""," "," ",false,6980,1980," "," "," ",1980,""," ","  "," ",false,6980,1980," "," "," ",1980,""," "," "," ",false,6980,1980,1980,""," "," "," "]
[null,null,null,null,null,null,null,null,null,null,null,null,null,null,null,null,null,null,null,null,null,null,null,null,null,null,null,null,null,null,1981,"x"," "," "," "," "," "," "," "," ","  ",null,null,null," ",false,true,false,"x"," "," "," "," "," "," "," ","  ",0,6981,1981," "," "," "," "," "," ",""," "," ",""," "," ",1981,""," "," "," "," "," "," "," "," "," ",""," "," ",false,6981,1981," "," "," ",1981,""," ","  "," ",false,6981,1981," "," "," ",1981,""," "," "," ",false,6981,1981,1981,""," "," "," "]
[null,null,null,null,null,null,null,null,null,null,null,null,null,null,null,null,null,null,null,null,null,null,null,null,null,null,null,null,null,null,1982,"x"," "," "," "," "," "," "," "," ","  ",null,null,null," ",false,true,false,"x"," "," "," "," "," "," "," ","  ",0,6982,1982," "," "," "," "," "," ",""," "," ",""," "," ",1982,""," "," "," "," "," "," "," "," "," ",""," "," ",false,6982,1982," "," "," ",1982,""," ","  "," ",false,6982,1982," "," "," ",1982,""," "," "," ",false,6982,1982,1982,""," "," "," "]
[null,null,null,null,null,null,null,null,null,null,null,null,null,null,null,null,null,null,null,null,null,null,null,null,null,null,null,null,null,null,1983,"x"," "," "," "," "," "," "," "," ","  ",null,null,null," ",false,true,false,"x"," "," "," "," "," "," "," ","  ",0,6983,1983," "," "," "," "," "," ",""," "," ",""," "," ",1983,""," "," "," "," "," "," "," "," "," ",""," "," ",false,6983,1983," "," "," ",1983,""," ","  "," ",false,6983,1983," "," "," ",1983,""," "," "," ",false,6983,1983,1983,""," "," "," "]
[null,null,null,null,null,null,null,null,null,null,null,null,null,null,null,null,null,null,null,null,null,null,null,null,null,null,null,null,null,null,1984,"x"," "," "," "," "," "," "," "," ","  ",null,null,null," ",false,true,false,"x"," "," "," "," "," "," "," ","  ",0,6984,1984," "," "," "," "," "," ",""," "," ",""," "," ",1984,""," "," "," "," "," "," "," "," "," ",""," "," ",false,6984,1984," "," "," ",1984,""," ","  "," ",false,6984,1984," "," "," ",1984,""," "," "," ",false,6984,1984,1984,""," "," "," "]
[null,null,null,null,null,null,null,null,null,null,null,null,null,null,null,null,null,null,null,null,null,null,null,null,null,null,null,null,null,null,1985,"x"," "," "," "," "," "," "," "," ","  ",null,null,null," ",false,true,false,"x"," "," "," "," "," "," "," ","  ",0,6985,{"$f":"RANK(BG1988,BG$4:BG$2003,1)","v":1985}," "," "," "," "," "," ",""," "," ",""," "," ",1985,{"$f":"IF(BU1988<=BJ$2,MATCH(BU1988,BH$4:BH$2003,0),\"\")","v":""},{"$f":"VLOOKUP($BU1988,BH$4:BQ$2003,2,0)","v":" "},{"$f":"VLOOKUP($BU1988,BH$4:BQ$2003,7,0)","v":" "},{"$f":"VLOOKUP($BU1988,BH$4:BQ$2003,3,0)","v":" "},{"$f":"VLOOKUP($BU1988,BH$4:BQ$2003,9,0)","v":" "},{"$f":"VLOOKUP($BU1988,BH$4:BQ$2003,10,0)","v":" "},{"$f":"VLOOKUP($BU1988,BH$4:BQ$2003,4,0)","v":" "},{"$f":"VLOOKUP($BU1988,BH$4:BQ$2003,6,0)","v":" "},{"$f":"VLOOKUP($BU1988,BH$4:BQ$2003,5,0)","v":" "},{"$f":"IF(AC$8,BY1988,VLOOKUP($BU1988,BH$4:BR$2003,11,0)&BY1988)","v":" "},"",{"$f":"VLOOKUP($BU1988,BH$4:BS$2003,12,0)","v":" "},{"$f":"VLOOKUP($BU1988,BH$4:BT$2003,13,0)","v":" "},false,6985,{"$f":"RANK(CJ1988,CJ$4:CJ$2003,1)","v":1985}," "," "," ",1985,{"$f":"IF(CO1988<=CP$2,MATCH(CO1988,CK$4:CK$2003,0),\"\")","v":""},{"$f":"VLOOKUP($CO1988,CK$4:CM$2003,2,0)","v":" "},{"$f":"VLOOKUP($CO1988,CK$4:CN$2003,3,0)&VLOOKUP($CO1988,CK$4:CN$2003,4,0)","v":"  "}," ",false,6985,{"$f":"RANK(CU1988,CU$4:CU$2003,1)","v":1985}," "," "," ",1985,{"$f":"IF(CZ1988<=DA$2,MATCH(CZ1988,CV$4:CV$2003,0),\"\")","v":""},{"$f":"VLOOKUP($CZ1988,CV$4:CY$2003,4,0)","v":" "}," "," ",false,6985,{"$f":"RANK(DF1988,DF$4:DF$2003,1)","v":1985},1985,{"$f":"IF(DH1988<=DA$2,MATCH(DH1988,DG$4:DG$2003,0),\"\")","v":""}," "," ",{"$f":"IF($DH1988<=$DI$2,VLOOKUP($DH1988,DG$4:DK$2003,4,0)&\" [\" &VLOOKUP($DH1988,DG$4:DK$2003,5,0) &\"]\",\" \")","v":" "}]
[null,null,null,null,null,null,null,null,null,null,null,null,null,null,null,null,null,null,null,null,null,null,null,null,null,null,null,null,null,null,1986,"x"," "," "," "," "," "," "," "," ","  ",null,null,null," ",false,true,false,"x"," "," "," "," "," "," "," ","  ",{"$f":"IF(AC$12,AQ1989,\" \")","v":0},6986,1986," "," "," "," "," "," ",""," "," ",""," "," ",1986,""," "," "," "," "," "," "," "," "," ",{"$f":"IF(BV1989=\"\",\"\",IF(BW1989=\"37\",\"Extra\", IF(BW1989=38, \"Index of Textbook\",\"Chapter \" &BW1989))&\": \"&BX1989)","v":""}," "," ",false,6986,1986," "," ",{"$f":"IF($CI1989,IF(AW1989=\"37\",\" [Extra]\",IF(AW1989=\"38\",\" [Index]\",  \" [Chap. \"&TEXT(VALUE(AW1989),\"#\")&\"]\")),\" \")","v":" "},1986,""," ","  "," ",false,6986,1986," "," ",{"$f":"IF($CT1989,IF(BB1989=\" \",\"\",BB1989&\" \")&AG1989&CW1989&\": \"&AY1989&  IF(AF1989=\"37\",\"  (Extra\",IF(AF1989=\"38\",\"  (Index\",\"  (Chapter \"&TEXT(AF1989,\"#\"))) &\", \"&CX1989& IF(LEN(AM1989)>1,\" [\"&AM1989&\"]\",\"\") &IF(LEN(AN1989)>1,\" [\"&AN1989&\"]\",\"\")         &\")\",\" \")","v":" "},1986,""," "," "," ",false,6986,1986,1986,""," "," "," "]
[null,null,null,null,null,null,null,null,null,null,null,null,null,null,null,null,null,null,null,null,null,null,null,null,null,null,null,null,null,null,1987,"x"," "," "," "," "," "," "," "," ","  ",null,null,null," ",false,true,false,"x"," "," "," "," "," "," "," ","  ",0,6987,1987," "," "," "," "," "," ",""," "," ",""," "," ",1987,""," "," "," "," "," "," "," "," "," ",""," "," ",false,6987,1987," "," "," ",1987,""," ","  "," ",false,6987,1987," "," "," ",1987,""," "," "," ",false,6987,1987,1987,""," "," "," "]
[null,null,null,null,null,null,null,null,null,null,null,null,null,null,null,null,null,null,null,null,null,null,null,null,null,null,null,null,null,null,1988,"x"," "," "," "," "," "," "," "," ","  ",null,null,null," ",false,true,false,"x"," "," "," "," "," "," "," ","  ",0,6988,1988," "," "," "," "," "," ",""," "," ",""," "," ",1988,""," "," "," "," "," "," "," "," "," ",""," "," ",false,6988,1988," "," "," ",1988,""," ","  "," ",false,6988,1988," "," "," ",1988,""," "," "," ",false,6988,1988,1988,""," "," "," "]
[null,null,null,null,null,null,null,null,null,null,null,null,null,null,null,null,null,null,null,null,null,null,null,null,null,null,null,null,null,null,1989,"x"," "," "," "," "," "," "," "," ","  ",null,null,null," ",false,true,false,"x"," "," "," "," "," "," "," ","  ",0,6989,1989," "," "," "," "," "," ",""," "," ",""," "," ",1989,""," "," "," "," "," "," "," "," "," ",""," "," ",false,6989,1989," "," "," ",1989,""," ","  "," ",false,6989,1989," "," "," ",1989,""," "," "," ",false,6989,1989,1989,""," "," "," "]
[null,null,null,null,null,null,null,null,null,null,null,null,null,null,null,null,null,null,null,null,null,null,null,null,null,null,null,null,null,null,1990,"x"," "," "," "," "," "," "," "," ","  ",null,null,null," ",false,true,false,"x"," "," "," "," "," "," "," ","  ",0,6990,1990," "," "," "," "," "," ",""," "," ",""," "," ",1990,""," "," "," "," "," "," "," "," "," ",""," "," ",false,6990,1990," "," "," ",1990,""," ","  "," ",false,6990,1990," "," "," ",1990,""," "," "," ",false,6990,1990,1990,""," "," "," "]
[null,null,null,null,null,null,null,null,null,null,null,null,null,null,null,null,null,null,null,null,null,null,null,null,null,null,null,null,null,null,1991,"x"," "," "," "," "," "," "," "," ","  ",null,null,null," ",false,true,false,"x"," "," "," "," "," "," "," ","  ",0,6991,1991," "," "," "," "," "," ",""," "," ",""," "," ",1991,""," "," "," "," "," "," "," "," "," ",""," "," ",false,6991,1991," "," "," ",1991,""," ","  "," ",false,6991,1991," "," "," ",1991,""," "," "," ",false,6991,1991,1991,""," "," "," "]
[null,null,null,null,null,null,null,null,null,null,null,null,null,null,null,null,null,null,null,null,null,null,null,null,null,null,null,null,null,null,1992,"x"," "," "," "," "," "," "," "," ","  ",null,null,null," ",false,true,false,"x"," "," "," "," "," "," "," ","  ",0,6992,1992," "," "," "," "," "," ",""," "," ",""," "," ",1992,""," "," "," "," "," "," "," "," "," ",""," "," ",false,6992,1992," "," "," ",1992,""," ","  "," ",false,6992,1992," "," "," ",1992,""," "," "," ",false,6992,1992,1992,""," "," "," "]
[null,null,null,null,null,null,null,null,null,null,null,null,null,null,null,null,null,null,null,null,null,null,null,null,null,null,null,null,null,null,1993,"x"," "," "," "," "," "," "," "," ","  ",null,null,null," ",false,true,false,"x"," "," "," "," "," "," "," ","  ",0,6993,1993," "," "," "," "," "," ",""," "," ",""," "," ",1993,""," "," "," "," "," "," "," "," "," ",""," "," ",false,6993,1993," "," "," ",1993,""," ","  "," ",false,6993,1993," "," "," ",1993,""," "," "," ",false,6993,1993,1993,""," "," "," "]
[null,null,null,null,null,null,null,null,null,null,null,null,null,null,null,null,null,null,null,null,null,null,null,null,null,null,null,null,null,null,1994,"x"," "," "," "," "," "," "," "," ","  ",null,null,null," ",false,true,false,"x"," "," "," "," "," "," "," ","  ",0,6994,1994," "," "," "," "," "," ",""," "," ",""," "," ",1994,""," "," "," "," "," "," "," "," "," ",""," "," ",false,6994,1994," "," "," ",1994,""," ","  "," ",false,6994,1994," "," "," ",1994,""," "," "," ",false,6994,1994,1994,""," "," "," "]
[null,null,null,null,null,null,null,null,null,null,null,null,null,null,null,null,null,null,null,null,null,null,null,null,null,null,null,null,null,null,1995,"x"," "," "," "," "," "," "," "," ","  ",null,null,null," ",false,true,false,"x"," "," "," "," "," "," "," ","  ",0,6995,1995," "," "," "," "," "," ",""," "," ",""," "," ",1995,""," "," "," "," "," "," "," "," "," ",""," "," ",false,6995,1995," "," "," ",1995,""," ","  "," ",false,6995,1995," "," "," ",1995,""," "," "," ",false,6995,1995,1995,""," "," "," "]
[null,null,null,null,null,null,null,null,null,null,null,null,null,null,null,null,null,null,null,null,null,null,null,null,null,null,null,null,null,null,1996,"x"," "," "," "," "," "," "," "," ","  ",null,null,null," ",false,true,false,"x"," "," "," "," "," "," "," ","  ",0,6996,1996," "," "," "," "," "," ",""," "," ",""," "," ",1996,""," "," "," "," "," "," "," "," "," ",""," "," ",false,6996,1996," "," "," ",1996,""," ","  "," ",false,6996,1996," "," "," ",1996,""," "," "," ",false,6996,1996,1996,""," "," "," "]
[null,null,null,null,null,null,null,null,null,null,null,null,null,null,null,null,null,null,null,null,null,null,null,null,null,null,null,null,null,null,1997,"x"," "," "," "," "," "," "," "," ","  ",null,null,null," ",false,true,false,"x"," "," "," "," "," "," "," ","  ",0,6997,1997," "," "," "," "," "," ",""," "," ",""," "," ",1997,""," "," "," "," "," "," "," "," "," ",""," "," ",false,6997,1997," "," "," ",1997,""," ","  "," ",false,6997,1997," "," "," ",1997,""," "," "," ",false,6997,1997,1997,""," "," "," "]
[null,null,null,null,null,null,null,null,null,null,null,null,null,null,null,null,null,null,null,null,null,null,null,null,null,null,null,null,null,null,1998,"x"," "," "," "," "," "," "," "," ","  ",null,null,null," ",false,true,false,"x"," "," "," "," "," "," "," ","  ",0,6998,1998," "," "," "," "," "," ",""," "," ",""," "," ",1998,""," "," "," "," "," "," "," "," "," ",""," "," ",false,6998,1998," "," "," ",1998,""," ","  "," ",false,6998,1998," "," "," ",1998,""," "," "," ",false,6998,1998,1998,""," "," "," "]
[null,null,null,null,null,null,null,null,null,null,null,null,null,null,null,null,null,null,null,null,null,null,null,null,null,null,null,null,null,null,1999,"x"," "," "," "," "," "," "," "," ","  ",null,null,null," ",false,true,false,"x"," "," "," "," "," "," "," ","  ",0,6999,1999," "," "," "," "," "," ",""," "," ",""," "," ",1999,""," "," "," "," "," "," "," "," "," ",""," "," ",false,6999,1999," "," "," ",1999,""," ","  "," ",false,6999,1999," "," "," ",1999,""," "," "," ",false,6999,1999,1999,""," "," "," "]
[null,null,null,null,null,null,null,null,null,null,null,null,null,null,null,null,null,null,null,null,null,null,null,null,null,null,null,null,null,null,2000,"x"," "," "," "," "," "," "," "," ","  ",null,null,null," ",false,true,false,"x"," "," "," "," "," "," "," ","  ",0,7000,2000," "," "," "," "," "," ",""," "," ",""," "," ",2000,""," "," "," "," "," "," "," "," "," ",""," "," ",false,7000,2000," "," "," ",2000,""," ","  "," ",false,7000,2000," "," "," ",2000,""," "," "," ",false,7000,2000,2000,""," "," "," "]

{"sheet":"Selected List","index":1,"n_rows":2002,"n_cols":3,"rows_kept":2002,"cut":false,"hidden":false,"merged":[[0,0,0,2]]}
[{"$f":"\"The selected list has \" &FlashCards!P3&\".\"","v":"The selected list has 1504 words available."}]
["Greek Word",null,"English Definition"]
[{"$f":"FlashCards!BY4","v":"-ς, -ος  "}," ",{"$f":"FlashCards!CD4","v":"(nominative, singular, masculine)"}]
[{"$f":"FlashCards!BY5","v":"-, -η, -α"}," ",{"$f":"FlashCards!CD5","v":"(nominative, singular, feminine)"}]
[{"$f":"FlashCards!BY6","v":"-ν, -ον"}," ",{"$f":"FlashCards!CD6","v":"(nominative, singular, neuter; accusative, singular, masculine or neuter)"}]
[{"$f":"FlashCards!BY7","v":"-υ, -ου"}," ",{"$f":"FlashCards!CD7","v":"(genitive, singular, masculine or neuter)"}]
[{"$f":"FlashCards!BY8","v":"-ς, -ης, -ας"}," ",{"$f":"FlashCards!CD8","v":"(genitive, singular,  feminine)"}]
[{"$f":"FlashCards!BY9","v":"-ι, -ῳ"}," ",{"$f":"FlashCards!CD9","v":"(dative, singular, masculine; dative, singular, neuter)"}]
[{"$f":"FlashCards!BY10","v":"-ι, -ῃ, -ᾳ"}," ",{"$f":"FlashCards!CD10","v":"(dative, singular, feminine)"}]
[{"$f":"FlashCards!BY11","v":"-ν, -ην, -αν"}," ",{"$f":"FlashCards!CD11","v":"(accusative, singular, feminine)"}]
[{"$f":"FlashCards!BY12","v":"-ι, -οι"}," ",{"$f":"FlashCards!CD12","v":"(nominative, plural, masculine)"}]
[{"$f":"FlashCards!BY13","v":"-ες"}," ",{"$f":"FlashCards!CD13","v":"(nominative, plural, masculine or feminine, 3ʳᵈ declension)"}]
[{"$f":"FlashCards!BY14","v":"-ι, -αι"}," ",{"$f":"FlashCards!CD14","v":"(nominative, plural, feminine)"}]
[{"$f":"FlashCards!BY15","v":"-α     "}," ",{"$f":"FlashCards!CD15","v":"(nominative or accusative, plural, neuter)"}]
[{"$f":"FlashCards!BY16","v":"-ων     "}," ",{"$f":"FlashCards!CD16","v":"(genitive, plural, masculine, feminine, neuter)"}]
[{"$f":"FlashCards!BY17","v":"-ις, -οις"}," ",{"$f":"FlashCards!CD17","v":"(dative, plural, masculine or neuter)"}]
[{"$f":"FlashCards!BY18","v":"-ις, -αις"}," ",{"$f":"FlashCards!CD18","v":"(dative, plural, feminine)"}]
[{"$f":"FlashCards!BY19","v":"-σι(ν)"}," ",{"$f":"FlashCards!CD19","v":"(dative, plural, masculine/ feminine/neuter, 3ʳᵈ declension)"}]
[{"$f":"FlashCards!BY20","v":"-υς, -ους"}," ",{"$f":"FlashCards!CD20","v":"(accusative, plural, masculine)"}]
[{"$f":"FlashCards!BY21","v":"-ς, -ας"}," ",{"$f":"FlashCards!CD21","v":"(accusative, plural, feminine)"}]
[{"$f":"FlashCards!BY22","v":"-εύς "}," ",{"$f":"FlashCards!CD22","v":"suffix for a person related to the stem (genitive, singular, masculine)"}]
[{"$f":"FlashCards!BY23","v":"-ικός"}," ",{"$f":"FlashCards!CD23","v":"converts a noun into an adjective (\"king\" becomes \"royal\")"}]
[{"$f":"FlashCards!BY24","v":"[active stem] +ω"}," ",{"$f":"FlashCards!CD24","v":"I am verbing (it) [present active indicative]"}]
[{"$f":"FlashCards!BY25","v":"[active stem] +ες, +εις"}," ",{"$f":"FlashCards!CD25","v":"you are verbing (it) [present active indicative]"}]
[{"$f":"FlashCards!BY26","v":"[active stem] +ει"}," ",{"$f":"FlashCards!CD26","v":"he/she/it is verbing (it) [present active indicative]"}]
[{"$f":"FlashCards!BY27","v":"[active stem] +ομεν"}," ",{"$f":"FlashCards!CD27","v":"we are verbing (it) [present active indicative]"}]
[{"$f":"FlashCards!BY28","v":"[active stem] +ετε"}," ",{"$f":"FlashCards!CD28","v":"ya'll are verbing (it) [present active indicative]"}]
[{"$f":"FlashCards!BY29","v":"[active stem] +ονσι, +οσιν"}," ",{"$f":"FlashCards!CD29","v":"they are verbing (it) [present active indicative]"}]
[{"$f":"FlashCards!BY30","v":"[middle stem] +ομαι, "}," ",{"$f":"FlashCards!CD30","v":"I verb, I am verbing [present middle indicative]"}]
[{"$f":"FlashCards!BY31","v":"[middle stem] +εσαι, +ῃ"}," ",{"$f":"FlashCards!CD31","v":"you verb, you are verbing [present middle indicative]"}]
[{"$f":"FlashCards!BY32","v":"[middle stem] +εται"}," ",{"$f":"FlashCards!CD32","v":"he/she/it verbs, he is verbing [present middle indicative]"}]
[{"$f":"FlashCards!BY33","v":"[middle stem] +ομεθα"}," ",{"$f":"FlashCards!CD33","v":"we verb, we are verbing [present middle indicative]"}]
[{"$f":"FlashCards!BY34","v":"[middle stem] +εσθε "}," ",{"$f":"FlashCards!CD34","v":"ya'll verb, ya'll are verbing [present middle indicative]"}]
[{"$f":"FlashCards!BY35","v":"[middle stem] +ονται"}," ",{"$f":"FlashCards!CD35","v":"they verb, they are verbing [present middle indicative]"}]
[{"$f":"FlashCards!BY36","v":"[active stem] +ομαι"}," ",{"$f":"FlashCards!CD36","v":"I am being verbed (by it) [present passive indicative]"}]
[{"$f":"FlashCards!BY37","v":"[active stem] +εσαι, +ῃ"}," ",{"$f":"FlashCards!CD37","v":"you are being verbed (by it) [present passive indicative]"}]
[{"$f":"FlashCards!BY38","v":"[active stem] +εται"}," ",{"$f":"FlashCards!CD38","v":"he/she/it is being verbed (by it) [present passive indicative]"}]
[{"$f":"FlashCards!BY39","v":"[active stem] +ομεθα"}," ",{"$f":"FlashCards!CD39","v":"we are being verbed (by it) [present passive indicative]"}]
[{"$f":"FlashCards!BY40","v":"[active stem] +εσθε "}," ",{"$f":"FlashCards!CD40","v":"ya'll are being verbed (by it) [present passive indicative]"}]
[{"$f":"FlashCards!BY41","v":"[active stem] +ονται"}," ",{"$f":"FlashCards!CD41","v":"they are being verbed (by it) [present passive indicative]"}]
[{"$f":"FlashCards!BY42","v":"[active stem] +σω"}," ",{"$f":"FlashCards!CD42","v":"I will verb (it) [future active indicative]"}]
[{"$f":"FlashCards!BY43","v":"[active stem] +σες, +σεις"}," ",{"$f":"FlashCards!CD43","v":"you will verb (it) [future active indicative]"}]
[{"$f":"FlashCards!BY44","v":"[active stem] +σει"}," ",{"$f":"FlashCards!CD44","v":"he/she/it will verb (it) [future active indicative]"}]
[{"$f":"FlashCards!BY45","v":"[active stem] +σομεν"}," ",{"$f":"FlashCards!CD45","v":"we will verb (it) [future active indicative]"}]
[{"$f":"FlashCards!BY46","v":"[active stem] +σετε"}," ",{"$f":"FlashCards!CD46","v":"ya'll will verb (it) [future active indicative]"}]
[{"$f":"FlashCards!BY47","v":"[active stem] +σονσι, +σοσιν"}," ",{"$f":"FlashCards!CD47","v":"they will verb (it) [future active indicative]"}]
[{"$f":"FlashCards!BY48","v":"[middle stem] +σομαι, "}," ",{"$f":"FlashCards!CD48","v":"I will verb [future middle indicative]"}]
[{"$f":"FlashCards!BY49","v":"[middle stem] +σεσαι, +σῃ"}," ",{"$f":"FlashCards!CD49","v":"you will verb [future middle indicative]"}]
[{"$f":"FlashCards!BY50","v":"[middle stem] +σεται"}," ",{"$f":"FlashCards!CD50","v":"he/she/it will verb [future middle indicative]"}]
[{"$f":"FlashCards!BY51","v":"[middle stem] +σομεθα"}," ",{"$f":"FlashCards!CD51","v":"we will verb [future middle indicative]"}]
[{"$f":"FlashCards!BY52","v":"[middle stem] +σεσθε "}," ",{"$f":"FlashCards!CD52","v":"ya'll will verb [future middle indicative]"}]
[{"$f":"FlashCards!BY53","v":"[middle stem] +σονται"}," ",{"$f":"FlashCards!CD53","v":"they will verb [future middle indicative]"}]
[{"$f":"FlashCards!BY54","v":"ἐ + [active stem] +ον"}," ",{"$f":"FlashCards!CD54","v":"I was/they were verbing (it) [imperfect active indicative]"}]
[{"$f":"FlashCards!BY55","v":"ἐ + [active stem] +ες, +εις"}," ",{"$f":"FlashCards!CD55","v":"you were verbing (it) [imperfect active indicative]"}]
[{"$f":"FlashCards!BY56","v":"ἐ + [active stem] +ει"}," ",{"$f":"FlashCards!CD56","v":"he/she/it was verbing (it) [imperfect active indicative]"}]
[{"$f":"FlashCards!BY57","v":"ἐ + [active stem] +ομεν"}," ",{"$f":"FlashCards!CD57","v":"we were verbing (it) [imperfect active indicative]"}]
[{"$f":"FlashCards!BY58","v":"ἐ + [active stem] +ετε"}," ",{"$f":"FlashCards!CD58","v":"ya'll were verbing (it) [imperfect active indicative]"}]
[{"$f":"FlashCards!BY59","v":"ἐ + [active stem] +ον"}," ",{"$f":"FlashCards!CD59","v":"they were verbing (it) [imperfect active indicative]"}]
[{"$f":"FlashCards!BY60","v":"ἐ + [active stem] +ομην"}," ",{"$f":"FlashCards!CD60","v":"I was being verbed (by it) [imperfect passive indicative]"}]
[{"$f":"FlashCards!BY61","v":"ἐ + [active stem] +εσο"}," ",{"$f":"FlashCards!CD61","v":"you were being verbed (by it) [imperfect passive indicative]"}]
[{"$f":"FlashCards!BY62","v":"ἐ + [active stem] +ετο"}," ",{"$f":"FlashCards!CD62","v":"he/she/it was being verbed (by it) [imperfect passive indicative]"}]
[{"$f":"FlashCards!BY63","v":"ἐ + [active stem] +ομεθα"}," ",{"$f":"FlashCards!CD63","v":"we were being verbed (by it) [imperfect passive indicative]"}]
[{"$f":"FlashCards!BY64","v":"ἐ + [active stem] +εσθε"}," ",{"$f":"FlashCards!CD64","v":"ya'll were being verbed (by it) [imperfect passive indicative]"}]
[{"$f":"FlashCards!BY65","v":"ἐ + [active stem] +οντο"}," ",{"$f":"FlashCards!CD65","v":"they were being verbed (by it) [imperfect passive indicative]"}]
[{"$f":"FlashCards!BY66","v":"ἐ + [middle stem] +ομην "}," ",{"$f":"FlashCards!CD66","v":"I was verbing [imperfect middle indicative]"}]
[{"$f":"FlashCards!BY67","v":"ἐ + [middle stem] +εσο"}," ",{"$f":"FlashCards!CD67","v":"you were verbing [imperfect middle indicative]"}]
[{"$f":"FlashCards!BY68","v":"ἐ + [middle stem] +ετο"}," ",{"$f":"FlashCards!CD68","v":"he/she/it was verbing [imperfect middle indicative]"}]
[{"$f":"FlashCards!BY69","v":"ἐ + [middle stem] +ομεθα"}," ",{"$f":"FlashCards!CD69","v":"we were verbing [imperfect middle indicative]"}]
[{"$f":"FlashCards!BY70","v":"ἐ + [middle stem] +εσθε "}," ",{"$f":"FlashCards!CD70","v":"ya'll were verbing [imperfect middle indicative]"}]
[{"$f":"FlashCards!BY71","v":"ἐ + [middle stem] +οντο"}," ",{"$f":"FlashCards!CD71","v":"they were verbing [imperfect middle indicative]"}]
[{"$f":"FlashCards!BY72","v":"κατα-, κατε-"}," ",{"$f":"FlashCards!CD72","v":"verb prefix adding \"thoroughly\" to meaning"}]
[{"$f":"FlashCards!BY73","v":"ὁ Ἀβραάμ"}," ",{"$f":"FlashCards!CD73","v":"Abraham"}]
[{"$f":"FlashCards!BY74","v":"ἀγαθός"}," ",{"$f":"FlashCards!CD74","v":"good, useful"}]
[{"$f":"FlashCards!BY75","v":"ἀγαλλιάω"}," ",{"$f":"FlashCards!CD75","v":"I exult"}]
[{"$f":"FlashCards!BY76","v":"ἀγαπάω"}," ",{"$f":"FlashCards!CD76","v":"I love, I cherish"}]
[{"$f":"FlashCards!BY77","v":"ἡ ἀγάπη"}," ",{"$f":"FlashCards!CD77","v":"love"}]
[{"$f":"FlashCards!BY78","v":"ἀγαπητός"}," ",{"$f":"FlashCards!CD78","v":"beloved"}]
[{"$f":"FlashCards!BY79","v":"ἡ ἀγγελία"}," ",{"$f":"FlashCards!CD79","v":"message"}]
[{"$f":"FlashCards!BY80","v":"ὁ ἄγγελος"}," ",{"$f":"FlashCards!CD80","v":"angel, messenger"}]
[{"$f":"FlashCards!BY81","v":"ἁγιάζω"}," ",{"$f":"FlashCards!CD81","v":"I consecrate, I sanctify"}]
[{"$f":"FlashCards!BY82","v":"ὁ ἁγιασμός"}," ",{"$f":"FlashCards!CD82","v":"holiness, consecration"}]
[{"$f":"FlashCards!BY83","v":"ὁ ἅγιος (noun)"}," ",{"$f":"FlashCards!CD83","v":"saint, holy one"}]
[{"$f":"FlashCards!BY84","v":"ἅγιος (adj)"}," ",{"$f":"FlashCards!CD84","v":"holy"}]
[{"$f":"FlashCards!BY85","v":"ἀγνοέω"}," ",{"$f":"FlashCards!CD85","v":"I do not know"}]
[{"$f":"FlashCards!BY86","v":"ἡ ἀγορά"}," ",{"$f":"FlashCards!CD86","v":"marketplace"}]
[{"$f":"FlashCards!BY87","v":"ἀγοράζω"}," ",{"$f":"FlashCards!CD87","v":"I buy"}]
[{"$f":"FlashCards!BY88","v":"ὁ Ἀγρίππας"}," ",{"$f":"FlashCards!CD88","v":"Agrippa"}]
[{"$f":"FlashCards!BY89","v":"ὁ ἀγρός"}," ",{"$f":"FlashCards!CD89","v":"field, land"}]
[{"$f":"FlashCards!BY90","v":"ἄγω"}," ",{"$f":"FlashCards!CD90","v":"I lead, I bring, I arrest"}]
[{"$f":"FlashCards!BY91","v":"ἡ ἀδελφή"}," ",{"$f":"FlashCards!CD91","v":"sister"}]
[{"$f":"FlashCards!BY92","v":"ὁ ἀδελφός"}," ",{"$f":"FlashCards!CD92","v":"brother"}]
[{"$f":"FlashCards!BY93","v":"ὁ ᾁδης"}," ",{"$f":"FlashCards!CD93","v":"Hades or hades (\"the unseen place\"; not a proper noun as used in the New Testament)"}]
[{"$f":"FlashCards!BY94","v":"ἀδικέω"}," ",{"$f":"FlashCards!CD94","v":"I injure, I do wrong"}]
[{"$f":"FlashCards!BY95","v":"ἡ ἀδικία"}," ",{"$f":"FlashCards!CD95","v":"unrighteousness"}]
[{"$f":"FlashCards!BY96","v":"ἂδικος"}," ",{"$f":"FlashCards!CD96","v":"unjust"}]
[{"$f":"FlashCards!BY97","v":"ἀδύνατος"}," ",{"$f":"FlashCards!CD97","v":"impossible"}]
[{"$f":"FlashCards!BY98","v":"ἀθετέω"}," ",{"$f":"FlashCards!CD98","v":"I nullify, I reject"}]
[{"$f":"FlashCards!BY99","v":"ἡ Αἴγυπτος"}," ",{"$f":"FlashCards!CD99","v":"Egypt"}]
[{"$f":"FlashCards!BY100","v":"τό αἷμα"}," ",{"$f":"FlashCards!CD100","v":"blood"}]
[{"$f":"FlashCards!BY101","v":"αἴρω"}," ",{"$f":"FlashCards!CD101","v":"I raise, I take up, I take away"}]
[{"$f":"FlashCards!BY102","v":"αἰτέω"}," ",{"$f":"FlashCards!CD102","v":"I ask, I demand"}]
[{"$f":"FlashCards!BY103","v":"ἡ αἰτία"}," ",{"$f":"FlashCards!CD103","v":"cause, guilt, charge, accusation"}]
[{"$f":"FlashCards!BY104","v":"ὁ αἰών"}," ",{"$f":"FlashCards!CD104","v":"age, eternity"}]
[{"$f":"FlashCards!BY105","v":"εἰς τὸν αἰῶνα"}," ",{"$f":"FlashCards!CD105","v":"forever"}]
[{"$f":"FlashCards!BY106","v":"εἰς τοὺς αἰώνας"}," ",{"$f":"FlashCards!CD106","v":"forever"}]
[{"$f":"FlashCards!BY107","v":"αἰώνιος"}," ",{"$f":"FlashCards!CD107","v":"eternal"}]
[{"$f":"FlashCards!BY108","v":"ἡ ἀκαθαρσία"}," ",{"$f":"FlashCards!CD108","v":"immorality, uncleanness"}]
[{"$f":"FlashCards!BY109","v":"ἀκαθαρτος"}," ",{"$f":"FlashCards!CD109","v":"unclean, impure"}]
[{"$f":"FlashCards!BY110","v":"ἡ ἄκανθα"}," ",{"$f":"FlashCards!CD110","v":"thorn, thorny plant"}]
[{"$f":"FlashCards!BY111","v":"ἡ ἀκοή"}," ",{"$f":"FlashCards!CD111","v":"hearing, report"}]
[{"$f":"FlashCards!BY112","v":"ἀκολουθέω"}," ",{"$f":"FlashCards!CD112","v":"I follow, I accompany"}]
[{"$f":"FlashCards!BY113","v":"ἀκούω"}," ",{"$f":"FlashCards!CD113","v":"I hear, I learn, I obey, I understand"}]
[{"$f":"FlashCards!BY114","v":"ἡ ἀκροβυστία"}," ",{"$f":"FlashCards!CD114","v":"uncircumcision"}]
[{"$f":"FlashCards!BY115","v":"ἡ ἀλέκτωρ"}," ",{"$f":"FlashCards!CD115","v":"rooster"}]
[{"$f":"FlashCards!BY116","v":"ἡ ἀλήθεια"}," ",{"$f":"FlashCards!CD116","v":"truth"}]
[{"$f":"FlashCards!BY117","v":"ἀληθής"}," ",{"$f":"FlashCards!CD117","v":"true, truthful"}]
[{"$f":"FlashCards!BY118","v":"ἀληθινός"}," ",{"$f":"FlashCards!CD118","v":"true, genuine"}]
[{"$f":"FlashCards!BY119","v":"ἀληθῶς"}," ",{"$f":"FlashCards!CD119","v":"truly"}]
[{"$f":"FlashCards!BY120","v":"ἀλλά"}," ",{"$f":"FlashCards!CD120","v":"but, yet, rather (particle)"}]
[{"$f":"FlashCards!BY121","v":"ἡ ἀλλήλωη"}," ",{"$f":"FlashCards!CD121","v":"one another [genitive plural…]"}]
[{"$f":"FlashCards!BY122","v":"ἄλλος"}," ",{"$f":"FlashCards!CD122","v":"other, another"}]
[{"$f":"FlashCards!BY123","v":"ἀλλότριος"}," ",{"$f":"FlashCards!CD123","v":"strange, not one's own"}]
[{"$f":"FlashCards!BY124","v":"ἡ ἅλυσις"}," ",{"$f":"FlashCards!CD124","v":"chain"}]
[{"$f":"FlashCards!BY125","v":"ἅμα"}," ",{"$f":"FlashCards!CD125","v":"together with [dative]"}]
[{"$f":"FlashCards!BY126","v":"ἅμα"}," ",{"$f":"FlashCards!CD126","v":"at the same time"}]
[{"$f":"FlashCards!BY127","v":"ἁμαρτάνω"}," ",{"$f":"FlashCards!CD127","v":"I sin"}]
[{"$f":"FlashCards!BY128","v":"ἡ ἁμαρτία"}," ",{"$f":"FlashCards!CD128","v":"sin"}]
[{"$f":"FlashCards!BY129","v":"ὁ ἁμαρτωλός [noun]"}," ",{"$f":"FlashCards!CD129","v":"sinner"}]
[{"$f":"FlashCards!BY130","v":"ἁμαρτωλός [adjective]"}," ",{"$f":"FlashCards!CD130","v":"sinful"}]
[{"$f":"FlashCards!BY131","v":"ἀμῄν"}," ",{"$f":"FlashCards!CD131","v":"truly, amen, let it be so"}]
[{"$f":"FlashCards!BY132","v":"ὁ ἀμπελών"}," ",{"$f":"FlashCards!CD132","v":"vineyard"}]
[{"$f":"FlashCards!BY133","v":"ἀμφότεροι"}," ",{"$f":"FlashCards!CD133","v":"both"}]
[{"$f":"FlashCards!BY134","v":"ἄν"}," ",{"$f":"FlashCards!CD134","v":"modifies relative pronoun (\"who\" becomes \"whoever\") (particle)"}]
[{"$f":"FlashCards!BY135","v":"-ἄν"}," ",{"$f":"FlashCards!CD135","v":"ending that changes \"what\" to \"whatever\""}]
[{"$f":"FlashCards!BY136","v":"ἀνά"}," ",{"$f":"FlashCards!CD136","v":"among, between, each"}]
[{"$f":"FlashCards!BY137","v":"ἀναβαίνω"}," ",{"$f":"FlashCards!CD137","v":"I go up"}]
[{"$f":"FlashCards!BY138","v":"ἀναβλέπω"}," ",{"$f":"FlashCards!CD138","v":"I look up, I receive sight"}]
[{"$f":"FlashCards!BY139","v":"ἀναγγέλλω"}," ",{"$f":"FlashCards!CD139","v":"I proclaim, I announce, I report"}]
[{"$f":"FlashCards!BY140","v":"ἀναγινώσκω"}," ",{"$f":"FlashCards!CD140","v":"I read"}]
[{"$f":"FlashCards!BY141","v":"ἡ ἀνάγκη"}," ",{"$f":"FlashCards!CD141","v":"necessity, pressure, distress"}]
[{"$f":"FlashCards!BY142","v":"ἀνάγω"}," ",{"$f":"FlashCards!CD142","v":"I lead up; (middle) I put out to sea"}]
[{"$f":"FlashCards!BY143","v":"ἀναιρέω"}," ",{"$f":"FlashCards!CD143","v":"I destroy, I slay, I make an end"}]
[{"$f":"FlashCards!BY144","v":"ἀνάκειμαι"}," ",{"$f":"FlashCards!CD144","v":"I recline"}]
[{"$f":"FlashCards!BY145","v":"ἀνακρίνω"}," ",{"$f":"FlashCards!CD145","v":"I question, I examine"}]
[{"$f":"FlashCards!BY146","v":"ἀναλαμβάνω"}," ",{"$f":"FlashCards!CD146","v":"I take up"}]
[{"$f":"FlashCards!BY147","v":"ὁ Ἁνανίας"}," ",{"$f":"FlashCards!CD147","v":"Ananias"}]
[{"$f":"FlashCards!BY148","v":"ἀναπαύω"}," ",{"$f":"FlashCards!CD148","v":"I give rest, I refresh, I take a rest"}]
[{"$f":"FlashCards!BY149","v":"ἀναπίπτω"}," ",{"$f":"FlashCards!CD149","v":"I lie down, I recline"}]
[{"$f":"FlashCards!BY150","v":"ἡ ἀνάστασις"}," ",{"$f":"FlashCards!CD150","v":"resurrection"}]
[{"$f":"FlashCards!BY151","v":"ἡ ἀναστροφή"}," ",{"$f":"FlashCards!CD151","v":"way of life, conduct, behavior"}]
[{"$f":"FlashCards!BY152","v":"ἡ ἀνατολή"}," ",{"$f":"FlashCards!CD152","v":"east"}]
[{"$f":"FlashCards!BY153","v":"ἀναφέρω"}," ",{"$f":"FlashCards!CD153","v":"I offer up, I bring up"}]
[{"$f":"FlashCards!BY154","v":"ἀναχωρέω"}," ",{"$f":"FlashCards!CD154","v":"I withdraw"}]
[{"$f":"FlashCards!BY155","v":"ὁ Ἀνδρέας"}," ",{"$f":"FlashCards!CD155","v":"Andrew"}]
[{"$f":"FlashCards!BY156","v":"ὁ ἄνεμος"}," ",{"$f":"FlashCards!CD156","v":"wind"}]
[{"$f":"FlashCards!BY157","v":"ἀνέχομαι"}," ",{"$f":"FlashCards!CD157","v":"I endure"}]
[{"$f":"FlashCards!BY158","v":"ὁ ἀνήρ"}," ",{"$f":"FlashCards!CD158","v":"husband, male, man"}]
[{"$f":"FlashCards!BY159","v":"ὁ ἀνδρός"}," ",{"$f":"FlashCards!CD159","v":"husband, male, man"}]
[{"$f":"FlashCards!BY160","v":"ἀνθίστημι"}," ",{"$f":"FlashCards!CD160","v":"I oppose"}]
[{"$f":"FlashCards!BY161","v":"ὁ ἄνθρωπος"}," ",{"$f":"FlashCards!CD161","v":"man, person, mankind, human"}]
[{"$f":"FlashCards!BY162","v":"ἀνίστημι"}," ",{"$f":"FlashCards!CD162","v":"I rise, I get up, I raise (another)"}]
[{"$f":"FlashCards!BY163","v":"ἀνοίγω"}," ",{"$f":"FlashCards!CD163","v":"I open"}]
[{"$f":"FlashCards!BY164","v":"ἡ ἀνομία"}," ",{"$f":"FlashCards!CD164","v":"lawlessness"}]
[{"$f":"FlashCards!BY165","v":"ἀντί"}," ",{"$f":"FlashCards!CD165","v":"on behalf of, for, instead of [genitive]"}]
[{"$f":"FlashCards!BY166","v":"ἀντιβάλλω"}," ",{"$f":"FlashCards!CD166","v":"I debate, (we) exchange"}]
[{"$f":"FlashCards!BY167","v":"ἡ Ἀντιόχεια"}," ",{"$f":"FlashCards!CD167","v":"Antioch"}]
[{"$f":"FlashCards!BY168","v":"ἄνωθεν"}," ",{"$f":"FlashCards!CD168","v":"from above, again"}]
[{"$f":"FlashCards!BY169","v":"ἄξιος"}," ",{"$f":"FlashCards!CD169","v":"worthy"}]
[{"$f":"FlashCards!BY170","v":"ἀπαγγέλλω"}," ",{"$f":"FlashCards!CD170","v":"I report, I tell"}]
[{"$f":"FlashCards!BY171","v":"ἀπάγω"}," ",{"$f":"FlashCards!CD171","v":"I lead away"}]
[{"$f":"FlashCards!BY172","v":"ἄπαξ"}," ",{"$f":"FlashCards!CD172","v":"once, once for all"}]
[{"$f":"FlashCards!BY173","v":"ἀπαρνέομαι"}," ",{"$f":"FlashCards!CD173","v":"I deny"}]
[{"$f":"FlashCards!BY174","v":"ἄπας"}," ",{"$f":"FlashCards!CD174","v":"all"}]
[{"$f":"FlashCards!BY175","v":"ἀπειθέω"}," ",{"$f":"FlashCards!CD175","v":"I disobey"}]
[{"$f":"FlashCards!BY176","v":"ἀπέρχομαι"}," ",{"$f":"FlashCards!CD176","v":"I depart"}]
[{"$f":"FlashCards!BY177","v":"ἀπέχω"}," ",{"$f":"FlashCards!CD177","v":"I receive in full; I am distant; I abstain"}]
[{"$f":"FlashCards!BY178","v":"ἡ ἀπιστία"}," ",{"$f":"FlashCards!CD178","v":"unbelief"}]
[{"$f":"FlashCards!BY179","v":"ἄπιστος"}," ",{"$f":"FlashCards!CD179","v":"unbelieving"}]
[{"$f":"FlashCards!BY180","v":"ἀπό (ἀπʼ, ἀφʼ) [genitive]"}," ",{"$f":"FlashCards!CD180","v":"(away) from [genitive]"}]
[{"$f":"FlashCards!BY181","v":"ἀποδίδωμι"}," ",{"$f":"FlashCards!CD181","v":"I pay, I recompense; [middle]: I sell"}]
[{"$f":"FlashCards!BY182","v":"ἀποθνῄσκω"}," ",{"$f":"FlashCards!CD182","v":"I die, I am about to die, I am freed from"}]
[{"$f":"FlashCards!BY183","v":"ἀποκαθιστάνω/ἀποκαθίστημι"}," ",{"$f":"FlashCards!CD183","v":"I restore"}]
[{"$f":"FlashCards!BY184","v":"ἀποκαλύπτω"}," ",{"$f":"FlashCards!CD184","v":"I reveal"}]
[{"$f":"FlashCards!BY185","v":"ἡ ἀποκάλυψις"}," ",{"$f":"FlashCards!CD185","v":"revelation"}]
[{"$f":"FlashCards!BY186","v":"ἀποκρίνομαι"}," ",{"$f":"FlashCards!CD186","v":"I answer"}]
[{"$f":"FlashCards!BY187","v":"ἀπεκρίθη"}," ",{"$f":"FlashCards!CD187","v":"he/she/it answered"}]
[{"$f":"FlashCards!BY188","v":"ἀποκτείνω"}," ",{"$f":"FlashCards!CD188","v":"I kill"}]
[{"$f":"FlashCards!BY189","v":"ἀπολαμβάνω"}," ",{"$f":"FlashCards!CD189","v":"I receive"}]
[{"$f":"FlashCards!BY190","v":"ἀπόλλυμι [active]"}," ",{"$f":"FlashCards!CD190","v":"I destroy, I kill"}]
[{"$f":"FlashCards!BY191","v":"ἀπόλλυμι [middle]"}," ",{"$f":"FlashCards!CD191","v":"I perish, I die"}]
[{"$f":"FlashCards!BY192","v":"ὁ Ἀπολλῶς"}," ",{"$f":"FlashCards!CD192","v":"Apollos"}]
[{"$f":"FlashCards!BY193","v":"ἀπολογέομαι"}," ",{"$f":"FlashCards!CD193","v":"I defend myself (with speech)"}]
[{"$f":"FlashCards!BY194","v":"ἡ ἀπολογία"}," ",{"$f":"FlashCards!CD194","v":"defense, answer"}]
[{"$f":"FlashCards!BY195","v":"ἡ ἀπολύτρωσις"}," ",{"$f":"FlashCards!CD195","v":"redemption"}]
[{"$f":"FlashCards!BY196","v":"ἀπολύω"}," ",{"$f":"FlashCards!CD196","v":"I release, I set free"}]
[{"$f":"FlashCards!BY197","v":"ἀπορέω"}," ",{"$f":"FlashCards!CD197","v":"I am perplexed"}]
[{"$f":"FlashCards!BY198","v":"ἀποστέλλω"}," ",{"$f":"FlashCards!CD198","v":"I send (away)"}]
[{"$f":"FlashCards!BY199","v":"ὁ ἀπόστολος"}," ",{"$f":"FlashCards!CD199","v":"messenger, envoy, apostle"}]
[{"$f":"FlashCards!BY200","v":"ἅπτω"}," ",{"$f":"FlashCards!CD200","v":"I kindle; [middle]: I touch, I take hold of"}]
[{"$f":"FlashCards!BY201","v":"ἡ ἀπώλεια"}," ",{"$f":"FlashCards!CD201","v":"destruction"}]
[{"$f":"FlashCards!BY202","v":"ἄρα"}," ",{"$f":"FlashCards!CD202","v":"then, therefore (particle)"}]
[{"$f":"FlashCards!BY203","v":"ἄραγε"}," ",{"$f":"FlashCards!CD203","v":"expresses doubt or wonderment (particle)"}]
[{"$f":"FlashCards!BY204","v":"ἆρα"}," ",{"$f":"FlashCards!CD204","v":"really? (introduces question with incredulity) (particle)"}]
[{"$f":"FlashCards!BY205","v":"τό ἀργύριον"}," ",{"$f":"FlashCards!CD205","v":"silver, money"}]
[{"$f":"FlashCards!BY206","v":"ἀρέσκω"}," ",{"$f":"FlashCards!CD206","v":"I please"}]
[{"$f":"FlashCards!BY207","v":"ὁ ἀριθμός"}," ",{"$f":"FlashCards!CD207","v":"number"}]
[{"$f":"FlashCards!BY208","v":"ἀρνέομαι"}," ",{"$f":"FlashCards!CD208","v":"I deny"}]
[{"$f":"FlashCards!BY209","v":"τό ἀρνίον"}," ",{"$f":"FlashCards!CD209","v":"sheep, lamb"}]
[{"$f":"FlashCards!BY210","v":"ἁρπάζω"}," ",{"$f":"FlashCards!CD210","v":"I seize, I snatch"}]
[{"$f":"FlashCards!BY211","v":"ἄρτι"}," ",{"$f":"FlashCards!CD211","v":"now"}]
[{"$f":"FlashCards!BY212","v":"ὁ ἄρτος"}," ",{"$f":"FlashCards!CD212","v":"bread, food, loaf"}]
[{"$f":"FlashCards!BY213","v":"ἀρχαῖος"}," ",{"$f":"FlashCards!CD213","v":"ancient, old"}]
[{"$f":"FlashCards!BY214","v":"ἡ ἀρχή"}," ",{"$f":"FlashCards!CD214","v":"beginning, ruler"}]
[{"$f":"FlashCards!BY215","v":"ὁ ἀρχιερεύς"}," ",{"$f":"FlashCards!CD215","v":"chief priest, high priest"}]
[{"$f":"FlashCards!BY216","v":"ἄρχομαι"}," ",{"$f":"FlashCards!CD216","v":"I begin, (I rule)"}]
[{"$f":"FlashCards!BY217","v":"ὁ ἄρχων"}," ",{"$f":"FlashCards!CD217","v":"ruler, official"}]
[{"$f":"FlashCards!BY218","v":"ἡ ἀσέλγεια"}," ",{"$f":"FlashCards!CD218","v":"licentiousness, debauchery, sensuality"}]
[{"$f":"FlashCards!BY219","v":"ἡ ἀσθένεια"}," ",{"$f":"FlashCards!CD219","v":"weakness, sickness"}]
[{"$f":"FlashCards!BY220","v":"ἀσθενέω"}," ",{"$f":"FlashCards!CD220","v":"I am sick, I am weak"}]
[{"$f":"FlashCards!BY221","v":"ἀσθενής"}," ",{"$f":"FlashCards!CD221","v":"weak, sick"}]
[{"$f":"FlashCards!BY222","v":"ἡ Ἀσία"}," ",{"$f":"FlashCards!CD222","v":"Asia (the Roman province that is now more-or-less Turkey; not the continent)"}]
[{"$f":"FlashCards!BY223","v":"ὁ ἀσκός"}," ",{"$f":"FlashCards!CD223","v":"leather bottle, wineskin"}]
[{"$f":"FlashCards!BY224","v":"ἀσπάζομαι"}," ",{"$f":"FlashCards!CD224","v":"I greet, I salute"}]
[{"$f":"FlashCards!BY225","v":"ὁ ἀσπασμός"}," ",{"$f":"FlashCards!CD225","v":"greeting"}]
[{"$f":"FlashCards!BY226","v":"ὁ ἀστήρ"}," ",{"$f":"FlashCards!CD226","v":"star, celestial body,"}]
[{"$f":"FlashCards!BY227","v":"ἀστράπτω"}," ",{"$f":"FlashCards!CD227","v":"I dazzle"}]
[{"$f":"FlashCards!BY228","v":"ἀσύμφορος"}," ",{"$f":"FlashCards!CD228","v":"harmful, unprofitable, inconvenient, useless"}]
[{"$f":"FlashCards!BY229","v":"ἀτενίζω"}," ",{"$f":"FlashCards!CD229","v":"I stare at; I look (at) intently"}]
[{"$f":"FlashCards!BY230","v":"ἡ αύλή"}," ",{"$f":"FlashCards!CD230","v":"courtyard"}]
[{"$f":"FlashCards!BY231","v":"αὐξάνω"}," ",{"$f":"FlashCards!CD231","v":"I grow, I increase"}]
[{"$f":"FlashCards!BY232","v":"αὔριον"}," ",{"$f":"FlashCards!CD232","v":"tomorrow, next day"}]
[{"$f":"FlashCards!BY233","v":"αὐτός"}," ",{"$f":"FlashCards!CD233","v":"he (nominative, singular, masculine)"}]
[{"$f":"FlashCards!BY234","v":"αὐτή"}," ",{"$f":"FlashCards!CD234","v":"she (nominative, singular, feminine)"}]
[{"$f":"FlashCards!BY235","v":"αὐτό"}," ",{"$f":"FlashCards!CD235","v":"it (nominative or accusative, singular, neuter)"}]
[{"$f":"FlashCards!BY236","v":"αὐτοῦ"}," ",{"$f":"FlashCards!CD236","v":"his/of him/its/of it (genitive, singular, masculine or neuter)"}]
[{"$f":"FlashCards!BY237","v":"αὐτῆς"}," ",{"$f":"FlashCards!CD237","v":"her/hers/of her (genitive, singular, feminine)"}]
[{"$f":"FlashCards!BY238","v":"αὐτῷ"}," ",{"$f":"FlashCards!CD238","v":"to him/to it (dative, singular, masculine or neuter)"}]
[{"$f":"FlashCards!BY239","v":"αὐτῇ"}," ",{"$f":"FlashCards!CD239","v":"to her (dative, singular, feminine)"}]
[{"$f":"FlashCards!BY240","v":"αὐτόν"}," ",{"$f":"FlashCards!CD240","v":"him (accusative, singular, masculine)"}]
[{"$f":"FlashCards!BY241","v":"αὐτήν"}," ",{"$f":"FlashCards!CD241","v":"her (accusative, singular, feminine)"}]
[{"$f":"FlashCards!BY242","v":"αὐτοί"}," ",{"$f":"FlashCards!CD242","v":"they (nominative, plural, masculine)"}]
[{"$f":"FlashCards!BY243","v":"αὐταί"}," ",{"$f":"FlashCards!CD243","v":"they (nominative, plural, feminine)"}]
[{"$f":"FlashCards!BY244","v":"αὐτά"}," ",{"$f":"FlashCards!CD244","v":"they/them (nominative or accusative, plural, neuter)"}]
[{"$f":"FlashCards!BY245","v":"αὐτῶν"}," ",{"$f":"FlashCards!CD245","v":"their/theirs/of them (genitive, plural, masculine, feminine, neuter)"}]
[{"$f":"FlashCards!BY246","v":"αὐτοῖς"}," ",{"$f":"FlashCards!CD246","v":"to them (dative, plural, masculine or neuter)"}]
[{"$f":"FlashCards!BY247","v":"αὐταῖς"}," ",{"$f":"FlashCards!CD247","v":"to them (dative, plural, feminine)"}]
[{"$f":"FlashCards!BY248","v":"αὐτούς"}," ",{"$f":"FlashCards!CD248","v":"them (accusative, plural, masculine)"}]
[{"$f":"FlashCards!BY249","v":"αὐτάς"}," ",{"$f":"FlashCards!CD249","v":"them (accusative, plural, feminine)"}]
[{"$f":"FlashCards!BY250","v":"ἀφαιρέω"}," ",{"$f":"FlashCards!CD250","v":"I remove, I cut off"}]
[{"$f":"FlashCards!BY251","v":"ἡ ἄφεσις"}," ",{"$f":"FlashCards!CD251","v":"forgiveness, pardon"}]
[{"$f":"FlashCards!BY252","v":"ἀφίημι"}," ",{"$f":"FlashCards!CD252","v":"I let go, I leave, I permit, I forgive"}]
[{"$f":"FlashCards!BY253","v":"ἀφίστημι"}," ",{"$f":"FlashCards!CD253","v":"I leave, I withdraw"}]
[{"$f":"FlashCards!BY254","v":"ἀφορίζω"}," ",{"$f":"FlashCards!CD254","v":"I separate, I set apart"}]
[{"$f":"FlashCards!BY255","v":"ἄφρων"}," ",{"$f":"FlashCards!CD255","v":"ignorant, foolish"}]
[{"$f":"FlashCards!BY256","v":"ἡ Ἀχαῗα"}," ",{"$f":"FlashCards!CD256","v":"Achaia"}]
[{"$f":"FlashCards!BY257","v":"ἄχρι, ἄχρις"}," ",{"$f":"FlashCards!CD257","v":"until, as far as"}]
[{"$f":"FlashCards!BY258","v":"ἡ Βαβυλών"}," ",{"$f":"FlashCards!CD258","v":"Babylon"}]
[{"$f":"FlashCards!BY259","v":"βαθύς"}," ",{"$f":"FlashCards!CD259","v":"deep, early"}]
[{"$f":"FlashCards!BY260","v":"βάλλω"}," ",{"$f":"FlashCards!CD260","v":"I throw"}]
[{"$f":"FlashCards!BY261","v":"βαπτίζω"}," ",{"$f":"FlashCards!CD261","v":"I baptize, I dip, I immerse"}]
[{"$f":"FlashCards!BY262","v":"τό βάπτισμα"}," ",{"$f":"FlashCards!CD262","v":"baptism"}]
[{"$f":"FlashCards!BY263","v":"ὁ βαπτιστής"}," ",{"$f":"FlashCards!CD263","v":"baptizer, baptist"}]
[{"$f":"FlashCards!BY264","v":"ὁ Βαραββᾶς"}," ",{"$f":"FlashCards!CD264","v":"Barabbas"}]
[{"$f":"FlashCards!BY265","v":"ὁ Βαρναβᾶς"}," ",{"$f":"FlashCards!CD265","v":"Barnabus"}]
[{"$f":"FlashCards!BY266","v":"βασανίζω"}," ",{"$f":"FlashCards!CD266","v":"I torment"}]
[{"$f":"FlashCards!BY267","v":"ἡ βασιλεία"}," ",{"$f":"FlashCards!CD267","v":"kingdom"}]
[{"$f":"FlashCards!BY268","v":"ὁ βασιλεύς"}," ",{"$f":"FlashCards!CD268","v":"king"}]
[{"$f":"FlashCards!BY269","v":"βασιλεύω"}," ",{"$f":"FlashCards!CD269","v":"I reign, I rule"}]
[{"$f":"FlashCards!BY270","v":"βαστάζω"}," ",{"$f":"FlashCards!CD270","v":"I bear, I carry"}]
[{"$f":"FlashCards!BY271","v":"ἡ Βηθανία"}," ",{"$f":"FlashCards!CD271","v":"Bethany"}]
[{"$f":"FlashCards!BY272","v":"τό βῆμα"}," ",{"$f":"FlashCards!CD272","v":"tribunal, judgement seat"}]
[{"$f":"FlashCards!BY273","v":"τό βιβλίον"}," ",{"$f":"FlashCards!CD273","v":"scroll, book"}]
[{"$f":"FlashCards!BY274","v":"ἡ βίβλος"}," ",{"$f":"FlashCards!CD274","v":"book"}]
[{"$f":"FlashCards!BY275","v":"ὁ βίος"}," ",{"$f":"FlashCards!CD275","v":"life"}]
[{"$f":"FlashCards!BY276","v":"βλασφημέω"}," ",{"$f":"FlashCards!CD276","v":"I revile, I blaspheme"}]
[{"$f":"FlashCards!BY277","v":"ἡ βλασφημία"}," ",{"$f":"FlashCards!CD277","v":"slander, blasphemy"}]
[{"$f":"FlashCards!BY278","v":"βλέπω"}," ",{"$f":"FlashCards!CD278","v":"I see, I look at, I observe, I notice"}]
[{"$f":"FlashCards!BY279","v":"βοάω"}," ",{"$f":"FlashCards!CD279","v":"I cry out, I shout"}]
[{"$f":"FlashCards!BY280","v":"ἡ βουλή"}," ",{"$f":"FlashCards!CD280","v":"plan, purpose"}]
[{"$f":"FlashCards!BY281","v":"βούλομαι"}," ",{"$f":"FlashCards!CD281","v":"I intend, I plan"}]
[{"$f":"FlashCards!BY282","v":"ἡ βροντή"}," ",{"$f":"FlashCards!CD282","v":"thunder"}]
[{"$f":"FlashCards!BY283","v":"τό βρῶμα"}," ",{"$f":"FlashCards!CD283","v":"food"}]
[{"$f":"FlashCards!BY284","v":"ἡ βρῶσις"}," ",{"$f":"FlashCards!CD284","v":"eating, consuming [i.e., a gerund]"}]
[{"$f":"FlashCards!BY285","v":"ἡ Γαλιλαία"}," ",{"$f":"FlashCards!CD285","v":"Galilee"}]
[{"$f":"FlashCards!BY286","v":"Γαλιλαῖος"}," ",{"$f":"FlashCards!CD286","v":"Galilean"}]
[{"$f":"FlashCards!BY287","v":"γαμέω"}," ",{"$f":"FlashCards!CD287","v":"I marry"}]
[{"$f":"FlashCards!BY288","v":"ὁ γάμος"}," ",{"$f":"FlashCards!CD288","v":"wedding"}]
[{"$f":"FlashCards!BY289","v":"γάρ"}," ",{"$f":"FlashCards!CD289","v":"for, then (particle)"}]
[{"$f":"FlashCards!BY290","v":"γε"}," ",{"$f":"FlashCards!CD290","v":"indeed, at least, even (particle)"}]
[{"$f":"FlashCards!BY291","v":"ἡ γέεννα"}," ",{"$f":"FlashCards!CD291","v":"gehenna, hell (not always a proper noun)"}]
[{"$f":"FlashCards!BY292","v":"γέμω"}," ",{"$f":"FlashCards!CD292","v":"I am full"}]
[{"$f":"FlashCards!BY293","v":"ἡ γενεά"}," ",{"$f":"FlashCards!CD293","v":"generation"}]
[{"$f":"FlashCards!BY294","v":"γεννάω"}," ",{"$f":"FlashCards!CD294","v":"I beget, I give birth (to), I produce, I make"}]
[{"$f":"FlashCards!BY295","v":"τό γένος"}," ",{"$f":"FlashCards!CD295","v":"race, people, descendant, kind"}]
[{"$f":"FlashCards!BY296","v":"γεύομαι"}," ",{"$f":"FlashCards!CD296","v":"I taste"}]
[{"$f":"FlashCards!BY297","v":"ὁ γεωργός"}," ",{"$f":"FlashCards!CD297","v":"farmer"}]
[{"$f":"FlashCards!BY298","v":"ἡ γῆ, γῆς"}," ",{"$f":"FlashCards!CD298","v":"earth, land, region, humanity"}]
[{"$f":"FlashCards!BY299","v":"γίνομαι"}," ",{"$f":"FlashCards!CD299","v":"I become, I exist, I am, I am created"}]
[{"$f":"FlashCards!BY300","v":"γινώσκω"}," ",{"$f":"FlashCards!CD300","v":"I know, I realize, I learn, I understand"}]
[{"$f":"FlashCards!BY301","v":"ἡ γλῶσσα"}," ",{"$f":"FlashCards!CD301","v":"tongue, language"}]
[{"$f":"FlashCards!BY302","v":"γνωρίζω"}," ",{"$f":"FlashCards!CD302","v":"I make known"}]
[{"$f":"FlashCards!BY303","v":"ἡ γνῶσις"}," ",{"$f":"FlashCards!CD303","v":"knowledge"}]
[{"$f":"FlashCards!BY304","v":"ὁ γνωστός"}," ",{"$f":"FlashCards!CD304","v":"acquaintance"}]
[{"$f":"FlashCards!BY305","v":"γνωστός"}," ",{"$f":"FlashCards!CD305","v":"known"}]
[{"$f":"FlashCards!BY306","v":"ὁ γονεύς"}," ",{"$f":"FlashCards!CD306","v":"parent"}]
[{"$f":"FlashCards!BY307","v":"τό γόνυ"}," ",{"$f":"FlashCards!CD307","v":"knee"}]
[{"$f":"FlashCards!BY308","v":"τό γράμμα"}," ",{"$f":"FlashCards!CD308","v":"letter, document"}]
[{"$f":"FlashCards!BY309","v":"ὁ γραμματεύς"}," ",{"$f":"FlashCards!CD309","v":"scribe"}]
[{"$f":"FlashCards!BY310","v":"ἡ γραφή"}," ",{"$f":"FlashCards!CD310","v":"writing, scripture"}]
[{"$f":"FlashCards!BY311","v":"γράφω"}," ",{"$f":"FlashCards!CD311","v":"I write"}]
[{"$f":"FlashCards!BY312","v":"γρηγορέω"}," ",{"$f":"FlashCards!CD312","v":"I am alert, I am watchful"}]
[{"$f":"FlashCards!BY313","v":"γυμνός"}," ",{"$f":"FlashCards!CD313","v":"naked"}]
[{"$f":"FlashCards!BY314","v":"ἡ γυνή"}," ",{"$f":"FlashCards!CD314","v":"woman, wife"}]
[{"$f":"FlashCards!BY315","v":"ὁ Δαυίδ"}," ",{"$f":"FlashCards!CD315","v":"David"}]
[{"$f":"FlashCards!BY316","v":"δαιμονίζομαι"}," ",{"$f":"FlashCards!CD316","v":"I am demon possessed"}]
[{"$f":"FlashCards!BY317","v":"τό δαιμόνιον"}," ",{"$f":"FlashCards!CD317","v":"demon"}]
[{"$f":"FlashCards!BY318","v":"τό δάκρυον"}," ",{"$f":"FlashCards!CD318","v":"tear, plural: weeping"}]
[{"$f":"FlashCards!BY319","v":"ὁ Δαμασκός"}," ",{"$f":"FlashCards!CD319","v":"Damascus"}]
[{"$f":"FlashCards!BY320","v":"δέ or δ"}," ",{"$f":"FlashCards!CD320","v":"but, and (particle)"}]
[{"$f":"FlashCards!BY321","v":"ὁ δέ"}," ",{"$f":"FlashCards!CD321","v":"but he"}]
[{"$f":"FlashCards!BY322","v":"ἡ δέησις"}," ",{"$f":"FlashCards!CD322","v":"prayer, entreaty"}]
[{"$f":"FlashCards!BY323","v":"δεῖ"}," ",{"$f":"FlashCards!CD323","v":"it is necessary"}]
[{"$f":"FlashCards!BY324","v":"δείκνυμι"}," ",{"$f":"FlashCards!CD324","v":"I show, I explain"}]
[{"$f":"FlashCards!BY325","v":"τό δεῖπνον"}," ",{"$f":"FlashCards!CD325","v":"dinner, an important meal"}]
[{"$f":"FlashCards!BY326","v":"δέκα"}," ",{"$f":"FlashCards!CD326","v":"ten"}]
[{"$f":"FlashCards!BY327","v":"τό δένδρον"}," ",{"$f":"FlashCards!CD327","v":"tree"}]
[{"$f":"FlashCards!BY328","v":"δεξιός"}," ",{"$f":"FlashCards!CD328","v":"right, right hand, right side"}]
[{"$f":"FlashCards!BY329","v":"δέομαι"}," ",{"$f":"FlashCards!CD329","v":"I ask, I request"}]
[{"$f":"FlashCards!BY330","v":"δέρω"}," ",{"$f":"FlashCards!CD330","v":"I beat, I whip"}]
[{"$f":"FlashCards!BY331","v":"ὁ δέσμιος"}," ",{"$f":"FlashCards!CD331","v":"prisoner"}]
[{"$f":"FlashCards!BY332","v":"ὁ δεσμός"}," ",{"$f":"FlashCards!CD332","v":"bond, fetter"}]
[{"$f":"FlashCards!BY333","v":"ὁ δεσπότης"}," ",{"$f":"FlashCards!CD333","v":"master, lord"}]
[{"$f":"FlashCards!BY334","v":"δεῦτε"}," ",{"$f":"FlashCards!CD334","v":"(ya’ll) come (here) [should be followed by an imperative verb]"}]
[{"$f":"FlashCards!BY335","v":"δεύτερος"}," ",{"$f":"FlashCards!CD335","v":"second"}]
[{"$f":"FlashCards!BY336","v":"δέχομαι"}," ",{"$f":"FlashCards!CD336","v":"I take, I receive"}]
[{"$f":"FlashCards!BY337","v":"δέω"}," ",{"$f":"FlashCards!CD337","v":"I bind"}]
[{"$f":"FlashCards!BY338","v":"δή"}," ",{"$f":"FlashCards!CD338","v":"now, therefore, indeed (particle)"}]
[{"$f":"FlashCards!BY339","v":"τό δηνάριον "}," ",{"$f":"FlashCards!CD339","v":"denarius"}]
[{"$f":"FlashCards!BY340","v":"διά (διʼ) [accusative]"}," ",{"$f":"FlashCards!CD340","v":"on account of (rare) [accusative]"}]
[{"$f":"FlashCards!BY341","v":"διά (διʼ) [genitive]"}," ",{"$f":"FlashCards!CD341","v":"through [genitive]"}]
[{"$f":"FlashCards!BY342","v":"διὰ παντός"}," ",{"$f":"FlashCards!CD342","v":"always"}]
[{"$f":"FlashCards!BY343","v":"διὰ τί"}," ",{"$f":"FlashCards!CD343","v":"Why?"}]
[{"$f":"FlashCards!BY344","v":"διὰ τοῦτο"}," ",{"$f":"FlashCards!CD344","v":"for that reason"}]
[{"$f":"FlashCards!BY345","v":"ὁ διάβολος"}," ",{"$f":"FlashCards!CD345","v":"devil"}]
[{"$f":"FlashCards!BY346","v":"διάβολος"}," ",{"$f":"FlashCards!CD346","v":"slanderous"}]
[{"$f":"FlashCards!BY347","v":"ἡ διαθήκη"}," ",{"$f":"FlashCards!CD347","v":"covenant"}]
[{"$f":"FlashCards!BY348","v":"ἡ διαίρεσις"}," ",{"$f":"FlashCards!CD348","v":"division, variety"}]
[{"$f":"FlashCards!BY349","v":"διακονέω"}," ",{"$f":"FlashCards!CD349","v":"I serve"}]
[{"$f":"FlashCards!BY350","v":"ἡ διακονία"}," ",{"$f":"FlashCards!CD350","v":"service"}]
[{"$f":"FlashCards!BY351","v":"ὁ/ἡ δίακονος"}," ",{"$f":"FlashCards!CD351","v":"assistant, servant, deacon"}]
[{"$f":"FlashCards!BY352","v":"διακρίνω"}," ",{"$f":"FlashCards!CD352","v":"I judge, I differentiate; middle: I doubt, I waver"}]
[{"$f":"FlashCards!BY353","v":"διαλέγομαι"}," ",{"$f":"FlashCards!CD353","v":"I discuss, I argue"}]
[{"$f":"FlashCards!BY354","v":"διαλογίζομαι"}," ",{"$f":"FlashCards!CD354","v":"I consider, I argue"}]
[{"$f":"FlashCards!BY355","v":"ὁ διαλογισμός"}," ",{"$f":"FlashCards!CD355","v":"reasoning, dispute"}]
[{"$f":"FlashCards!BY356","v":"διαμαρτύρομαι"}," ",{"$f":"FlashCards!CD356","v":"I testify, I solemnly urge"}]
[{"$f":"FlashCards!BY357","v":"διαμερίζω"}," ",{"$f":"FlashCards!CD357","v":"I divide, I distribute"}]
[{"$f":"FlashCards!BY358","v":"ἡ διάνοια"}," ",{"$f":"FlashCards!CD358","v":"(the) mind, understanding, intellect"}]
[{"$f":"FlashCards!BY359","v":"διατάσσω"}," ",{"$f":"FlashCards!CD359","v":"I order, I command"}]
[{"$f":"FlashCards!BY360","v":"διαφέρω"}," ",{"$f":"FlashCards!CD360","v":"I differ; I am more worthy"}]
[{"$f":"FlashCards!BY361","v":"ἡ διαφορά"}," ",{"$f":"FlashCards!CD361","v":"difference"}]
[{"$f":"FlashCards!BY362","v":"διάφορος"}," ",{"$f":"FlashCards!CD362","v":"different, superior, excellent"}]
[{"$f":"FlashCards!BY363","v":"ἡ διδασκαλία"}," ",{"$f":"FlashCards!CD363","v":"teaching"}]
[{"$f":"FlashCards!BY364","v":"ὁ διδάσκαλος"}," ",{"$f":"FlashCards!CD364","v":"teacher"}]
[{"$f":"FlashCards!BY365","v":"διδάσκω"}," ",{"$f":"FlashCards!CD365","v":"I teach "}]
[{"$f":"FlashCards!BY366","v":"ἡ διδαχή"}," ",{"$f":"FlashCards!CD366","v":"teaching"}]
[{"$f":"FlashCards!BY367","v":"δίδωμι"}," ",{"$f":"FlashCards!CD367","v":"I give, I entrust"}]
[{"$f":"FlashCards!BY368","v":"διέρχομαι"}," ",{"$f":"FlashCards!CD368","v":"I go through"}]
[{"$f":"FlashCards!BY369","v":"δίκαιος"}," ",{"$f":"FlashCards!CD369","v":"right, just, righteous"}]
[{"$f":"FlashCards!BY370","v":"ἡ δικαιοσύνη"}," ",{"$f":"FlashCards!CD370","v":"righteousness"}]
[{"$f":"FlashCards!BY371","v":"δικαιόω"}," ",{"$f":"FlashCards!CD371","v":"I justify, I vindicate"}]
[{"$f":"FlashCards!BY372","v":"τό δικαίωμα"}," ",{"$f":"FlashCards!CD372","v":"requirement, righteous deed, regulation"}]
[{"$f":"FlashCards!BY373","v":"τό δίκτυον"}," ",{"$f":"FlashCards!CD373","v":"fishing net"}]
[{"$f":"FlashCards!BY374","v":"διό"}," ",{"$f":"FlashCards!CD374","v":"therefore, for this reason"}]
[{"$f":"FlashCards!BY375","v":"διότι"}," ",{"$f":"FlashCards!CD375","v":"for, because"}]
[{"$f":"FlashCards!BY376","v":"διψάω"}," ",{"$f":"FlashCards!CD376","v":"I thirst, I am thirsty"}]
[{"$f":"FlashCards!BY377","v":"ὁ διωγμός"}," ",{"$f":"FlashCards!CD377","v":"persecution"}]
[{"$f":"FlashCards!BY378","v":"διώκω"}," ",{"$f":"FlashCards!CD378","v":"I pursue, I persecute"}]
[{"$f":"FlashCards!BY379","v":"τό δόγμα"}," ",{"$f":"FlashCards!CD379","v":"ordinance, decision, command"}]
[{"$f":"FlashCards!BY380","v":"δοκέω"}," ",{"$f":"FlashCards!CD380","v":"I think, I seem"}]
[{"$f":"FlashCards!BY381","v":"δοκιμάζω"}," ",{"$f":"FlashCards!CD381","v":"I test, I approve"}]
[{"$f":"FlashCards!BY382","v":"ὁ δόλος"}," ",{"$f":"FlashCards!CD382","v":"deceit, treachery"}]
[{"$f":"FlashCards!BY383","v":"ἡ δόξα"}," ",{"$f":"FlashCards!CD383","v":"glory, majesty, fame"}]
[{"$f":"FlashCards!BY384","v":"δοξάζω"}," ",{"$f":"FlashCards!CD384","v":"I praise, I honor, I glorify"}]
[{"$f":"FlashCards!BY385","v":"δουλεύω"}," ",{"$f":"FlashCards!CD385","v":"I serve, I obey, I (am a) slave"}]
[{"$f":"FlashCards!BY386","v":"ὁ δοῦλος"}," ",{"$f":"FlashCards!CD386","v":"slave, servant"}]
[{"$f":"FlashCards!BY387","v":"ὁ δράκων"}," ",{"$f":"FlashCards!CD387","v":"dragon, serpent"}]
[{"$f":"FlashCards!BY388","v":"δύναμαι"}," ",{"$f":"FlashCards!CD388","v":"I am able, I can, I am powerful"}]
[{"$f":"FlashCards!BY389","v":"ἡ δύναμις"}," ",{"$f":"FlashCards!CD389","v":"power, miracle"}]
[{"$f":"FlashCards!BY390","v":"δυνατός"}," ",{"$f":"FlashCards!CD390","v":"able, capable, possible"}]
[{"$f":"FlashCards!BY391","v":"δύο"}," ",{"$f":"FlashCards!CD391","v":"two"}]
[{"$f":"FlashCards!BY392","v":"δώδεκα"}," ",{"$f":"FlashCards!CD392","v":"twelve"}]
[{"$f":"FlashCards!BY393","v":"ἡ δωρεά"}," ",{"$f":"FlashCards!CD393","v":"gift"}]
[{"$f":"FlashCards!BY394","v":"τό δῶρον"}," ",{"$f":"FlashCards!CD394","v":"gift"}]
[{"$f":"FlashCards!BY395","v":"ἐάν"}," ",{"$f":"FlashCards!CD395","v":"if, when"}]
[{"$f":"FlashCards!BY396","v":"ἑαυτοῦ"}," ",{"$f":"FlashCards!CD396","v":"of himself/itself (lexical form) (genitive, singular, masculine or neuter)"}]
[{"$f":"FlashCards!BY397","v":"ἑαυτῆς"}," ",{"$f":"FlashCards!CD397","v":"of herself (genitive, singular, feminine)"}]
[{"$f":"FlashCards!BY398","v":"ἑαυτῷ"}," ",{"$f":"FlashCards!CD398","v":"to himself (dative, singular, masculine or neuter)"}]
[{"$f":"FlashCards!BY399","v":"ἑαυτῇ"}," ",{"$f":"FlashCards!CD399","v":"to herself (dative, singular, feminine)"}]
[{"$f":"FlashCards!BY400","v":"ἑαυτήν"}," ",{"$f":"FlashCards!CD400","v":"herself (accusative, singular, feminine)"}]
[{"$f":"FlashCards!BY401","v":"ἑαυτόν"}," ",{"$f":"FlashCards!CD401","v":"himself (accusative, singular, masculine)"}]
[{"$f":"FlashCards!BY402","v":"ἑαυτό"}," ",{"$f":"FlashCards!CD402","v":"itself (accusative, singular, neuter)"}]
[{"$f":"FlashCards!BY403","v":"ἑαυτῶν"}," ",{"$f":"FlashCards!CD403","v":"of themselves (genitive, plural, masculine, feminine, or neuter)"}]
[{"$f":"FlashCards!BY404","v":"ἑαυτοῖς"}," ",{"$f":"FlashCards!CD404","v":"to themselves (dative, plural, masculine or neuter) (alternative versions: ἑαυτοῖσῐ, ἑαυτοῖσῐν)"}]
[{"$f":"FlashCards!BY405","v":"ἑαυταῖς"}," ",{"$f":"FlashCards!CD405","v":"to themselves (dative, plural, feminine)"}]
[{"$f":"FlashCards!BY406","v":"ἑαυτούς "}," ",{"$f":"FlashCards!CD406","v":"themselves (accusative, plural, masculine)"}]
[{"$f":"FlashCards!BY407","v":"ἑαυτᾱ́ς"}," ",{"$f":"FlashCards!CD407","v":"themselves (accusative, plural, feminine)"}]
[{"$f":"FlashCards!BY408","v":"ἑαυτᾰ́ "}," ",{"$f":"FlashCards!CD408","v":"themselves (accusative, plural, neuter)"}]
[{"$f":"FlashCards!BY409","v":"ἐάω"}," ",{"$f":"FlashCards!CD409","v":"I permit, I allow, I let go"}]
[{"$f":"FlashCards!BY410","v":"ἐγγίζω"}," ",{"$f":"FlashCards!CD410","v":"I come near, I approach"}]
[{"$f":"FlashCards!BY411","v":"ἐγγύς"}," ",{"$f":"FlashCards!CD411","v":"near"}]
[{"$f":"FlashCards!BY412","v":"ἐγείρω"}," ",{"$f":"FlashCards!CD412","v":"I raise up, I wake"}]
[{"$f":"FlashCards!BY413","v":"ἐγκαταλείπω"}," ",{"$f":"FlashCards!CD413","v":"I forsake, I abandon"}]
[{"$f":"FlashCards!BY414","v":"ἐγώ"}," ",{"$f":"FlashCards!CD414","v":"I (nominative, singular)"}]
[{"$f":"FlashCards!BY415","v":"μοι"}," ",{"$f":"FlashCards!CD415","v":"to me (dative singular)"}]
[{"$f":"FlashCards!BY416","v":"με"}," ",{"$f":"FlashCards!CD416","v":"me (accusative singular)"}]
[{"$f":"FlashCards!BY417","v":"ἐμέ"}," ",{"$f":"FlashCards!CD417","v":"me (emphatic accusative singular)"}]
[{"$f":"FlashCards!BY418","v":"ἡμεῖς"}," ",{"$f":"FlashCards!CD418","v":"we (nominative, plural)"}]
[{"$f":"FlashCards!BY419","v":"τό ἔδεσμα"}," ",{"$f":"FlashCards!CD419","v":"food"}]
[{"$f":"FlashCards!BY420","v":"τό ἔθνος"}," ",{"$f":"FlashCards!CD420","v":"nation, (the) gentiles, people group"}]
[{"$f":"FlashCards!BY421","v":"τό ἔθος"}," ",{"$f":"FlashCards!CD421","v":"custom, habit"}]
[{"$f":"FlashCards!BY422","v":"εἰ"}," ",{"$f":"FlashCards!CD422","v":"if (note absence of circumflex)"}]
[{"$f":"FlashCards!BY423","v":"εἰ μή"}," ",{"$f":"FlashCards!CD423","v":"except, if not"}]
[{"$f":"FlashCards!BY424","v":"εί μὴ"}," ",{"$f":"FlashCards!CD424","v":"only"}]
[{"$f":"FlashCards!BY425","v":"εἶ"}," ",{"$f":"FlashCards!CD425","v":"you (singular) are"}]
[{"$f":"FlashCards!BY426","v":"οἶδα"}," ",{"$f":"FlashCards!CD426","v":"I know, I understand"}]
[{"$f":"FlashCards!BY427","v":"τό εἴδωλον"}," ",{"$f":"FlashCards!CD427","v":"image, idol"}]
[{"$f":"FlashCards!BY428","v":"εἴκοσι"}," ",{"$f":"FlashCards!CD428","v":"twenty"}]
[{"$f":"FlashCards!BY429","v":"ἡ εἰκών"}," ",{"$f":"FlashCards!CD429","v":"image, likeness"}]
[{"$f":"FlashCards!BY430","v":"εἰμί"}," ",{"$f":"FlashCards!CD430","v":"I am, I exist, I live, I am present"}]
[{"$f":"FlashCards!BY431","v":"ἦν"}," ",{"$f":"FlashCards!CD431","v":"he/she/it was"}]
[{"$f":"FlashCards!BY432","v":"ἡ εἰρήνη"}," ",{"$f":"FlashCards!CD432","v":"peace"}]
[{"$f":"FlashCards!BY433","v":"εἰς [accusative]"}," ",{"$f":"FlashCards!CD433","v":"into, in [accusative]"}]
[{"$f":"FlashCards!BY434","v":"εἷς"}," ",{"$f":"FlashCards!CD434","v":"one (nominative, masculine)"}]
[{"$f":"FlashCards!BY435","v":"μία"}," ",{"$f":"FlashCards!CD435","v":"one (nominative, feminine)"}]
[{"$f":"FlashCards!BY436","v":"ἕν"}," ",{"$f":"FlashCards!CD436","v":"one (nominative or accusative, neuter)"}]
[{"$f":"FlashCards!BY437","v":"ἑνός"}," ",{"$f":"FlashCards!CD437","v":"of one (genitive, masculine or neuter)"}]
[{"$f":"FlashCards!BY438","v":"μιᾶς"}," ",{"$f":"FlashCards!CD438","v":"of one (genitive, feminine)"}]
[{"$f":"FlashCards!BY439","v":"ἑνί"}," ",{"$f":"FlashCards!CD439","v":"to one (dative, masculine)"}]
[{"$f":"FlashCards!BY440","v":"μιᾷ"}," ",{"$f":"FlashCards!CD440","v":"to one (dative, feminine)"}]
[{"$f":"FlashCards!BY441","v":"ἕνα"}," ",{"$f":"FlashCards!CD441","v":"one (accusative, masculine)"}]
[{"$f":"FlashCards!BY442","v":"μίαν"}," ",{"$f":"FlashCards!CD442","v":"one (accusative, feminine)"}]
[{"$f":"FlashCards!BY443","v":"εἰσάγω"}," ",{"$f":"FlashCards!CD443","v":"I lead in, I bring in"}]
[{"$f":"FlashCards!BY444","v":"εἰσέρχομαι"}," ",{"$f":"FlashCards!CD444","v":"I enter, I come in (to), I go in (to) "}]
[{"$f":"FlashCards!BY445","v":"εἰσίν"}," ",{"$f":"FlashCards!CD445","v":"they are"}]
[{"$f":"FlashCards!BY446","v":"εἰσπορεύομαι"}," ",{"$f":"FlashCards!CD446","v":"I enter, I go into"}]
[{"$f":"FlashCards!BY447","v":"εἶτα"}," ",{"$f":"FlashCards!CD447","v":"then, next"}]
[{"$f":"FlashCards!BY448","v":"εἴτε"}," ",{"$f":"FlashCards!CD448","v":"if, whether"}]
[{"$f":"FlashCards!BY449","v":"ἐκ (ἐξ) [genitive]"}," ",{"$f":"FlashCards!CD449","v":"from, out of [genitive]"}]
[{"$f":"FlashCards!BY450","v":"ἔκαστος"}," ",{"$f":"FlashCards!CD450","v":"each, every"}]
[{"$f":"FlashCards!BY451","v":"ἑκατόν"}," ",{"$f":"FlashCards!CD451","v":"one hundred"}]
[{"$f":"FlashCards!BY452","v":"ὁ ἑκατοντάρχης"}," ",{"$f":"FlashCards!CD452","v":"centurion"}]
[{"$f":"FlashCards!BY453","v":"ἐκβάλλω"}," ",{"$f":"FlashCards!CD453","v":"I cast out, I send out, I throw out"}]
[{"$f":"FlashCards!BY454","v":"ἐκεῖ"}," ",{"$f":"FlashCards!CD454","v":"there, in that place"}]
[{"$f":"FlashCards!BY455","v":"ἐκεῖθεν"}," ",{"$f":"FlashCards!CD455","v":"from there"}]
[{"$f":"FlashCards!BY456","v":"ἐκεῖνος"}," ",{"$f":"FlashCards!CD456","v":"that one/that man/that thing (lexical: nominative, singular, masculine)"}]
[{"$f":"FlashCards!BY457","v":"ἐκεῖνος"}," ",{"$f":"FlashCards!CD457","v":"that (nominative, singular, masculine)"}]
[{"$f":"FlashCards!BY458","v":"ἐκείνη"}," ",{"$f":"FlashCards!CD458","v":"that (nominative, singular, feminine)"}]
[{"$f":"FlashCards!BY459","v":"ἐκεῖνο"}," ",{"$f":"FlashCards!CD459","v":"that (nominative or accusative, singular, neuter)"}]
[{"$f":"FlashCards!BY460","v":"ἐκείνου"}," ",{"$f":"FlashCards!CD460","v":"of that (genitive, singular, masculine or neuter)"}]
[{"$f":"FlashCards!BY461","v":"ἐκείνης"}," ",{"$f":"FlashCards!CD461","v":"of that (genitive, singular, feminine)"}]
[{"$f":"FlashCards!BY462","v":"ἐκείνηῳ"}," ",{"$f":"FlashCards!CD462","v":"to that (dative, singular, masculine or neuter)"}]
[{"$f":"FlashCards!BY463","v":"ἐκείνῃ"}," ",{"$f":"FlashCards!CD463","v":"to that (dative, singular, feminine)"}]
[{"$f":"FlashCards!BY464","v":"ἐκεῖνον"}," ",{"$f":"FlashCards!CD464","v":"that (accusative, singular, masculine)"}]
[{"$f":"FlashCards!BY465","v":"ἐκείνην"}," ",{"$f":"FlashCards!CD465","v":"that (accusative, singular, feminine)"}]
[{"$f":"FlashCards!BY466","v":"ἐκεῖνοι"}," ",{"$f":"FlashCards!CD466","v":"those (nominative, plural, masculine)"}]
[{"$f":"FlashCards!BY467","v":"ἐκεῖναι"}," ",{"$f":"FlashCards!CD467","v":"those (nominative, plural, feminine)"}]
[{"$f":"FlashCards!BY468","v":"ἐκεῖνα"}," ",{"$f":"FlashCards!CD468","v":"those (nominative or accusative, plural, neuter)"}]
[{"$f":"FlashCards!BY469","v":"ἐκείνων"}," ",{"$f":"FlashCards!CD469","v":"of those (genitive, plural, masculine, feminine, neuter)"}]
[{"$f":"FlashCards!BY470","v":"ἐκείνοις"}," ",{"$f":"FlashCards!CD470","v":"to those (dative, plural, masculine or neuter)"}]
[{"$f":"FlashCards!BY471","v":"ἐκείναις"}," ",{"$f":"FlashCards!CD471","v":"to those (dative, plural, feminine)"}]
[{"$f":"FlashCards!BY472","v":"ἐκείνους"}," ",{"$f":"FlashCards!CD472","v":"those (accusative, plural, masculine)"}]
[{"$f":"FlashCards!BY473","v":"ἐκείνας"}," ",{"$f":"FlashCards!CD473","v":"those (accusative, plural, feminine)"}]
[{"$f":"FlashCards!BY474","v":"ἡ ἐκκλησία"}," ",{"$f":"FlashCards!CD474","v":"assembly, congregation, church"}]
[{"$f":"FlashCards!BY475","v":"ἐκκόπτω"}," ",{"$f":"FlashCards!CD475","v":"I cut off, I cut down"}]
[{"$f":"FlashCards!BY476","v":"ἐκλέγομαι"}," ",{"$f":"FlashCards!CD476","v":"I choose, I select"}]
[{"$f":"FlashCards!BY477","v":"ἐκλεκτός"}," ",{"$f":"FlashCards!CD477","v":"chosen, elected"}]
[{"$f":"FlashCards!BY478","v":"ἐκπίπτω"}," ",{"$f":"FlashCards!CD478","v":"I fall, I run aground"}]
[{"$f":"FlashCards!BY479","v":"ἐκπλήσσω"}," ",{"$f":"FlashCards!CD479","v":"I am amazed"}]
[{"$f":"FlashCards!BY480","v":"ἐκπορεύομαι"}," ",{"$f":"FlashCards!CD480","v":"I go out, I come out"}]
[{"$f":"FlashCards!BY481","v":"ἐκτείνω"}," ",{"$f":"FlashCards!CD481","v":"I stretch forth, I reach out"}]
[{"$f":"FlashCards!BY482","v":"ἕκτος"}," ",{"$f":"FlashCards!CD482","v":"sixth"}]
[{"$f":"FlashCards!BY483","v":"ἐκχύννω"}," ",{"$f":"FlashCards!CD483","v":"I pour out"}]
[{"$f":"FlashCards!BY484","v":"ἐκχέω"}," ",{"$f":"FlashCards!CD484","v":"I pour out"}]
[{"$f":"FlashCards!BY485","v":"ἡ ἐλαία"}," ",{"$f":"FlashCards!CD485","v":"olive tree"}]
[{"$f":"FlashCards!BY486","v":"τό ἔλαιον"}," ",{"$f":"FlashCards!CD486","v":"olive oil"}]
[{"$f":"FlashCards!BY487","v":"ἐλάχιστος"}," ",{"$f":"FlashCards!CD487","v":"least, smallest"}]
[{"$f":"FlashCards!BY488","v":"ἐλέγχω"}," ",{"$f":"FlashCards!CD488","v":"I convict, I reprove, I expose"}]
[{"$f":"FlashCards!BY489","v":"ἐλεέω"}," ",{"$f":"FlashCards!CD489","v":"I have mercy"}]
[{"$f":"FlashCards!BY490","v":"ἡ ἐλεημοσύνη"}," ",{"$f":"FlashCards!CD490","v":"pity, mercy, charity, alms"}]
[{"$f":"FlashCards!BY491","v":"τό ἔλεος"}," ",{"$f":"FlashCards!CD491","v":"mercy, compassion"}]
[{"$f":"FlashCards!BY492","v":"ἡ ἐλευθερία"}," ",{"$f":"FlashCards!CD492","v":"freedom, liberty"}]
[{"$f":"FlashCards!BY493","v":"ἐλεύθερος"}," ",{"$f":"FlashCards!CD493","v":"free"}]
[{"$f":"FlashCards!BY494","v":"ὁ Ἕλλην"}," ",{"$f":"FlashCards!CD494","v":"Greek"}]
[{"$f":"FlashCards!BY495","v":"ἐλπίζω"}," ",{"$f":"FlashCards!CD495","v":"I hope"}]
[{"$f":"FlashCards!BY496","v":"ἡ ἐλπίς"}," ",{"$f":"FlashCards!CD496","v":"hope, expectation"}]
[{"$f":"FlashCards!BY497","v":"ἐμαυτοῦ"}," ",{"$f":"FlashCards!CD497","v":"of myself"}]
[{"$f":"FlashCards!BY498","v":"ἐμβαίνω"}," ",{"$f":"FlashCards!CD498","v":"I embark, I board"}]
[{"$f":"FlashCards!BY499","v":"ἐμβλέπω"}," ",{"$f":"FlashCards!CD499","v":"I look at, I gaze upon"}]
[{"$f":"FlashCards!BY500","v":"ἐμοί"}," ",{"$f":"FlashCards!CD500","v":"to me (emphatic dative singular)"}]
[{"$f":"FlashCards!BY501","v":"ἐμός"}," ",{"$f":"FlashCards!CD501","v":"my, mine (masculine)"}]
[{"$f":"FlashCards!BY502","v":"ἐμή"}," ",{"$f":"FlashCards!CD502","v":"my, mine (feminine)"}]
[{"$f":"FlashCards!BY503","v":"ἐμόν"}," ",{"$f":"FlashCards!CD503","v":"my, mine (neuter)"}]
[{"$f":"FlashCards!BY504","v":"ἐμοῦ"}," ",{"$f":"FlashCards!CD504","v":"my/of me (emphatic genitive singular)"}]
[{"$f":"FlashCards!BY505","v":"ἐμοῦ"}," ",{"$f":"FlashCards!CD505","v":"my/of me (emphatic genitive singular)"}]
[{"$f":"FlashCards!BY506","v":"ἐμπαίζω"}," ",{"$f":"FlashCards!CD506","v":"I mock, I ridicule"}]
[{"$f":"FlashCards!BY507","v":"ἔμπροσθεν"}," ",{"$f":"FlashCards!CD507","v":"in front of, before [genitive]"}]
[{"$f":"FlashCards!BY508","v":"ἐμφανίζω"}," ",{"$f":"FlashCards!CD508","v":"I make known, I make visible, I bring charges"}]
[{"$f":"FlashCards!BY509","v":"ἐν [dative]"}," ",{"$f":"FlashCards!CD509","v":"in, inside, on, among [dative]"}]
[{"$f":"FlashCards!BY510","v":"ἐναντίον"}," ",{"$f":"FlashCards!CD510","v":"before, in the sight of"}]
[{"$f":"FlashCards!BY511","v":"ἐνδείκνυμι"}," ",{"$f":"FlashCards!CD511","v":"I show, I demonstrate"}]
[{"$f":"FlashCards!BY512","v":"ἕνδεκα"}," ",{"$f":"FlashCards!CD512","v":"eleven"}]
[{"$f":"FlashCards!BY513","v":"ἐνδύω"}," ",{"$f":"FlashCards!CD513","v":"I put on, I wear, I clothe"}]
[{"$f":"FlashCards!BY514","v":"ἕνεκεν [genitive]"}," ",{"$f":"FlashCards!CD514","v":"on account of [genitive]"}]
[{"$f":"FlashCards!BY515","v":"ἕνεκα/ἕνεκεν"}," ",{"$f":"FlashCards!CD515","v":"because of, on account of [genitive]"}]
[{"$f":"FlashCards!BY516","v":"ἐνεργέω"}," ",{"$f":"FlashCards!CD516","v":"I work, I effect"}]
[{"$f":"FlashCards!BY517","v":"τό ἐνέργημα"}," ",{"$f":"FlashCards!CD517","v":"activity, working"}]
[{"$f":"FlashCards!BY518","v":"ἑνί"}," ",{"$f":"FlashCards!CD518","v":"to one (dative, masculine or neuter)"}]
[{"$f":"FlashCards!BY519","v":"ὁ ἐνιαυτός"}," ",{"$f":"FlashCards!CD519","v":"year"}]
[{"$f":"FlashCards!BY520","v":"ἔνατος"}," ",{"$f":"FlashCards!CD520","v":"ninth"}]
[{"$f":"FlashCards!BY521","v":"ἔνοχος"}," ",{"$f":"FlashCards!CD521","v":"liable, guilty"}]
[{"$f":"FlashCards!BY522","v":"ἐντέλλω"}," ",{"$f":"FlashCards!CD522","v":"I command"}]
[{"$f":"FlashCards!BY523","v":"ἐντεῦθεν"}," ",{"$f":"FlashCards!CD523","v":"from here"}]
[{"$f":"FlashCards!BY524","v":"ἡ ἐντολή"}," ",{"$f":"FlashCards!CD524","v":"commandment"}]
[{"$f":"FlashCards!BY525","v":"ἐνώπιον [genitive]"}," ",{"$f":"FlashCards!CD525","v":"before, in the presence of [genitive]"}]
[{"$f":"FlashCards!BY526","v":"ἕξ"}," ",{"$f":"FlashCards!CD526","v":"six"}]
[{"$f":"FlashCards!BY527","v":"ἐξάγω"}," ",{"$f":"FlashCards!CD527","v":"I lead out"}]
[{"$f":"FlashCards!BY528","v":"ἐξαποςτέλλω"}," ",{"$f":"FlashCards!CD528","v":"I send out"}]
[{"$f":"FlashCards!BY529","v":"ἐξέρχομαι"}," ",{"$f":"FlashCards!CD529","v":"I go out"}]
[{"$f":"FlashCards!BY530","v":"ἔξεστιν"}," ",{"$f":"FlashCards!CD530","v":"it is lawful, it is right"}]
[{"$f":"FlashCards!BY531","v":"ἑξήκοντα"}," ",{"$f":"FlashCards!CD531","v":"sixty"}]
[{"$f":"FlashCards!BY532","v":"ἐξίστημι"}," ",{"$f":"FlashCards!CD532","v":"I am amazed, or I am amazing"}]
[{"$f":"FlashCards!BY533","v":"ἐξομολογέω"}," ",{"$f":"FlashCards!CD533","v":"I confess, I profess, I praise"}]
[{"$f":"FlashCards!BY534","v":"ἐξουθενέω"}," ",{"$f":"FlashCards!CD534","v":"I despise, I disdain"}]
[{"$f":"FlashCards!BY535","v":"ἡ ἐξουσία"}," ",{"$f":"FlashCards!CD535","v":"authority, power"}]
[{"$f":"FlashCards!BY536","v":"ἔξω [genitive preposition]"}," ",{"$f":"FlashCards!CD536","v":"outside [genitive]"}]
[{"$f":"FlashCards!BY537","v":"ἔξω (adverb)"}," ",{"$f":"FlashCards!CD537","v":"without, outside"}]
[{"$f":"FlashCards!BY538","v":"ἔξωθεν"}," ",{"$f":"FlashCards!CD538","v":"outside, from outside"}]
[{"$f":"FlashCards!BY539","v":"ἡ ἐορτή"}," ",{"$f":"FlashCards!CD539","v":"festival"}]
[{"$f":"FlashCards!BY540","v":"ἡ ἐπαγγελία"}," ",{"$f":"FlashCards!CD540","v":"promise"}]
[{"$f":"FlashCards!BY541","v":"ἐπαγγέλλομαι"}," ",{"$f":"FlashCards!CD541","v":"I promise"}]
[{"$f":"FlashCards!BY542","v":"ὁ ἔπαινος"}," ",{"$f":"FlashCards!CD542","v":"praise"}]
[{"$f":"FlashCards!BY543","v":"ἐπαίρω"}," ",{"$f":"FlashCards!CD543","v":"I lift up"}]
[{"$f":"FlashCards!BY544","v":"ἐπαισχύνομαι"}," ",{"$f":"FlashCards!CD544","v":"I am ashamed"}]
[{"$f":"FlashCards!BY545","v":"ἐπάνω"}," ",{"$f":"FlashCards!CD545","v":"over, on, upon [genitive]"}]
[{"$f":"FlashCards!BY546","v":"ἐπάνω"}," ",{"$f":"FlashCards!CD546","v":"above"}]
[{"$f":"FlashCards!BY547","v":"ἐπαύριον"}," ",{"$f":"FlashCards!CD547","v":"on the next day"}]
[{"$f":"FlashCards!BY548","v":"ἐπεί"}," ",{"$f":"FlashCards!CD548","v":"because, since"}]
[{"$f":"FlashCards!BY549","v":"ἐπειδή"}," ",{"$f":"FlashCards!CD549","v":"because, since"}]
[{"$f":"FlashCards!BY550","v":"ἔπειτα"}," ",{"$f":"FlashCards!CD550","v":"then"}]
[{"$f":"FlashCards!BY551","v":"ἐπέρχομαι"}," ",{"$f":"FlashCards!CD551","v":"I arrive, I come upon"}]
[{"$f":"FlashCards!BY552","v":"ἐπερωτάω"}," ",{"$f":"FlashCards!CD552","v":"I ask for, I ask about"}]
[{"$f":"FlashCards!BY553","v":"ἐπί [genitive]"}," ",{"$f":"FlashCards!CD553","v":"on, over, when [genitive]"}]
[{"$f":"FlashCards!BY554","v":"ἐπί [dative]"}," ",{"$f":"FlashCards!CD554","v":"on the basis of, at [dative]"}]
[{"$f":"FlashCards!BY555","v":"ἐπί [accusative]"}," ",{"$f":"FlashCards!CD555","v":"on, to against [accusative]"}]
[{"$f":"FlashCards!BY556","v":"ἐπιβάλλω"}," ",{"$f":"FlashCards!CD556","v":"I lay (hands) upon, I put on, I place on, I fall on"}]
[{"$f":"FlashCards!BY557","v":"ἐπιγινώσκω"}," ",{"$f":"FlashCards!CD557","v":"I know, I recognize, I come to know"}]
[{"$f":"FlashCards!BY558","v":"ἡ ἐπίγνωσις"}," ",{"$f":"FlashCards!CD558","v":"knowledge"}]
[{"$f":"FlashCards!BY559","v":"ἐπιζητέω"}," ",{"$f":"FlashCards!CD559","v":"I want, I seek, I wish for"}]
[{"$f":"FlashCards!BY560","v":"ἐπιθυμέω"}," ",{"$f":"FlashCards!CD560","v":"I desire, I long for"}]
[{"$f":"FlashCards!BY561","v":"ἡ ἐπιθυμία"}," ",{"$f":"FlashCards!CD561","v":"lust, desire"}]
[{"$f":"FlashCards!BY562","v":"ἐπικαλέω"}," ",{"$f":"FlashCards!CD562","v":"I name; [middle]: I call upon, I appeal to"}]
[{"$f":"FlashCards!BY563","v":"ἐπιλαμβάνομαι"}," ",{"$f":"FlashCards!CD563","v":"I take hold of"}]
[{"$f":"FlashCards!BY564","v":"ἐπιμένω"}," ",{"$f":"FlashCards!CD564","v":"I persist, I remain"}]
[{"$f":"FlashCards!BY565","v":"ἐπιπίπτω"}," ",{"$f":"FlashCards!CD565","v":"I fall upon"}]
[{"$f":"FlashCards!BY566","v":"ἐπισκέπτομαι"}," ",{"$f":"FlashCards!CD566","v":"I visit, I look after"}]
[{"$f":"FlashCards!BY567","v":"ἐπίσταμαι"}," ",{"$f":"FlashCards!CD567","v":"I understand"}]
[{"$f":"FlashCards!BY568","v":"ἡ ἐπιστολή"}," ",{"$f":"FlashCards!CD568","v":"letter, epistle"}]
[{"$f":"FlashCards!BY569","v":"ἐπιστρέφω"}," ",{"$f":"FlashCards!CD569","v":"I turn, I return"}]
[{"$f":"FlashCards!BY570","v":"ἐπιτάσσω"}," ",{"$f":"FlashCards!CD570","v":"I command, I order"}]
[{"$f":"FlashCards!BY571","v":"ἐπιτελέω"}," ",{"$f":"FlashCards!CD571","v":"I finish, I complete, I accomplish"}]
[{"$f":"FlashCards!BY572","v":"ἐπιτίθημι"}," ",{"$f":"FlashCards!CD572","v":"I lay upon; I impose"}]
[{"$f":"FlashCards!BY573","v":"ἐπιτιμάω"}," ",{"$f":"FlashCards!CD573","v":"I rebuke, I warn"}]
[{"$f":"FlashCards!BY574","v":"ἐπιτρέπω"}," ",{"$f":"FlashCards!CD574","v":"I permit, I allow"}]
[{"$f":"FlashCards!BY575","v":"ἐπουράνιος"}," ",{"$f":"FlashCards!CD575","v":"heavenly"}]
[{"$f":"FlashCards!BY576","v":"ἑπτά"}," ",{"$f":"FlashCards!CD576","v":"seven"}]
[{"$f":"FlashCards!BY577","v":"ἐργάζομαι"}," ",{"$f":"FlashCards!CD577","v":"I work, I do"}]
[{"$f":"FlashCards!BY578","v":"ὁ ἐργάτης"}," ",{"$f":"FlashCards!CD578","v":"worker"}]
[{"$f":"FlashCards!BY579","v":"τό ἔργον"}," ",{"$f":"FlashCards!CD579","v":"work, deed, action"}]
[{"$f":"FlashCards!BY580","v":"ὁ ἔρημος"}," ",{"$f":"FlashCards!CD580","v":"desert, wilderness"}]
[{"$f":"FlashCards!BY581","v":"ἔρημος"}," ",{"$f":"FlashCards!CD581","v":"deserted, desolate"}]
[{"$f":"FlashCards!BY582","v":"ἔρχομαι"}," ",{"$f":"FlashCards!CD582","v":"I come, (I go)"}]
[{"$f":"FlashCards!BY583","v":"ἐρωτάω"}," ",{"$f":"FlashCards!CD583","v":"I ask, I request"}]
[{"$f":"FlashCards!BY584","v":"ἡ ἐσθής"}," ",{"$f":"FlashCards!CD584","v":"clothing"}]
[{"$f":"FlashCards!BY585","v":"ἐσθίω"}," ",{"$f":"FlashCards!CD585","v":"I eat"}]
[{"$f":"FlashCards!BY586","v":"ἐσμέν"}," ",{"$f":"FlashCards!CD586","v":"we are"}]
[{"$f":"FlashCards!BY587","v":"ἔσομαι"}," ",{"$f":"FlashCards!CD587","v":"I will be"}]
[{"$f":"FlashCards!BY588","v":"ἔσῃ"}," ",{"$f":"FlashCards!CD588","v":"you will be "}]
[{"$f":"FlashCards!BY589","v":"ἔσται"}," ",{"$f":"FlashCards!CD589","v":"he/she/it will be"}]
[{"$f":"FlashCards!BY590","v":"ἐσόμεθα"}," ",{"$f":"FlashCards!CD590","v":"we will be"}]
[{"$f":"FlashCards!BY591","v":"ἔσεσθε"}," ",{"$f":"FlashCards!CD591","v":"ya’ll will be"}]
[{"$f":"FlashCards!BY592","v":"ἔσονται"}," ",{"$f":"FlashCards!CD592","v":"they will be"}]
[{"$f":"FlashCards!BY593","v":"ἐστέ"}," ",{"$f":"FlashCards!CD593","v":"ya'll are"}]
[{"$f":"FlashCards!BY594","v":"ἐστίν"}," ",{"$f":"FlashCards!CD594","v":"he/she/it is"}]
[{"$f":"FlashCards!BY595","v":"ἔσχατος"}," ",{"$f":"FlashCards!CD595","v":"last, final"}]
[{"$f":"FlashCards!BY596","v":"ἔσωθεν"}," ",{"$f":"FlashCards!CD596","v":"from within, within"}]
[{"$f":"FlashCards!BY597","v":"ἕτερος"}," ",{"$f":"FlashCards!CD597","v":"different, other, another"}]
[{"$f":"FlashCards!BY598","v":"ἔτι"}," ",{"$f":"FlashCards!CD598","v":"still, yet, even"}]
[{"$f":"FlashCards!BY599","v":"ἑτοιμάζω"}," ",{"$f":"FlashCards!CD599","v":"I prepare"}]
[{"$f":"FlashCards!BY600","v":"ἕτοιμος"}," ",{"$f":"FlashCards!CD600","v":"ready"}]
[{"$f":"FlashCards!BY601","v":"τό ἔτος"}," ",{"$f":"FlashCards!CD601","v":"year"}]
[{"$f":"FlashCards!BY602","v":"εὐαγγελίζω"}," ",{"$f":"FlashCards!CD602","v":"I preach, I bring good news"}]
[{"$f":"FlashCards!BY603","v":"τό εὐαγγέλιον"}," ",{"$f":"FlashCards!CD603","v":"good news, gospel"}]
[{"$f":"FlashCards!BY604","v":"εὐδοκέω"}," ",{"$f":"FlashCards!CD604","v":"I am very pleased"}]
[{"$f":"FlashCards!BY605","v":"εὐθέως"}," ",{"$f":"FlashCards!CD605","v":"immediately"}]
[{"$f":"FlashCards!BY606","v":"εὐθύς"}," ",{"$f":"FlashCards!CD606","v":"straight"}]
[{"$f":"FlashCards!BY607","v":"εὐθύς"}," ",{"$f":"FlashCards!CD607","v":"immediately"}]
[{"$f":"FlashCards!BY608","v":"εὐλογέω"}," ",{"$f":"FlashCards!CD608","v":"I bless, I speak well of"}]
[{"$f":"FlashCards!BY609","v":"εὐλογητός"}," ",{"$f":"FlashCards!CD609","v":"blessed, praised"}]
[{"$f":"FlashCards!BY610","v":"ἡ εὐλογία"}," ",{"$f":"FlashCards!CD610","v":"blessing"}]
[{"$f":"FlashCards!BY611","v":"εὑρίσκω"}," ",{"$f":"FlashCards!CD611","v":"I find, I discover"}]
[{"$f":"FlashCards!BY612","v":"ἡ εὐσέβεια"}," ",{"$f":"FlashCards!CD612","v":"piety, godliness, reverence, respect"}]
[{"$f":"FlashCards!BY613","v":"εὐφραίνω"}," ",{"$f":"FlashCards!CD613","v":"I rejoice"}]
[{"$f":"FlashCards!BY614","v":"εὐχαριστέω"}," ",{"$f":"FlashCards!CD614","v":"I give thanks"}]
[{"$f":"FlashCards!BY615","v":"ἡ εὐχαριστία"}," ",{"$f":"FlashCards!CD615","v":"thanksgiving"}]
[{"$f":"FlashCards!BY616","v":"ἡ Ἔφεσος"}," ",{"$f":"FlashCards!CD616","v":"Ephesus"}]
[{"$f":"FlashCards!BY617","v":"ἐφίστημι"}," ",{"$f":"FlashCards!CD617","v":"I stand at, I stand near"}]
[{"$f":"FlashCards!BY618","v":"ὁ ἐχθρός"}," ",{"$f":"FlashCards!CD618","v":"enemy"}]
[{"$f":"FlashCards!BY619","v":"ἐχθρός"}," ",{"$f":"FlashCards!CD619","v":"hostile"}]
[{"$f":"FlashCards!BY620","v":"ἔχω"}," ",{"$f":"FlashCards!CD620","v":"I have, I hold, I possess"}]
[{"$f":"FlashCards!BY621","v":"ὁ ἔχων"}," ",{"$f":"FlashCards!CD621","v":"one who has"}]
[{"$f":"FlashCards!BY622","v":"ἕως (preposition)"}," ",{"$f":"FlashCards!CD622","v":"as far as"}]
[{"$f":"FlashCards!BY623","v":"ἕως (conjunction)"}," ",{"$f":"FlashCards!CD623","v":"until"}]
[{"$f":"FlashCards!BY624","v":"ὁ Ζαχαρίας"}," ",{"$f":"FlashCards!CD624","v":"Zecharaiah"}]
[{"$f":"FlashCards!BY625","v":"ζάω"}," ",{"$f":"FlashCards!CD625","v":"I live"}]
[{"$f":"FlashCards!BY626","v":"τῶν ζώντων"}," ",{"$f":"FlashCards!CD626","v":"those who are living"}]
[{"$f":"FlashCards!BY627","v":"ὁ Ζεβεδαῖος"}," ",{"$f":"FlashCards!CD627","v":"Zebedee"}]
[{"$f":"FlashCards!BY628","v":"ὁ ζῆλος"}," ",{"$f":"FlashCards!CD628","v":"zeal, jealousy"}]
[{"$f":"FlashCards!BY629","v":"ζηλόω"}," ",{"$f":"FlashCards!CD629","v":"I strive, I desire, I envy"}]
[{"$f":"FlashCards!BY630","v":"ζητέω"}," ",{"$f":"FlashCards!CD630","v":"I seek, I desire"}]
[{"$f":"FlashCards!BY631","v":"ἡ ζύμη"}," ",{"$f":"FlashCards!CD631","v":"leaven"}]
[{"$f":"FlashCards!BY632","v":"ἡ ζωή"}," ",{"$f":"FlashCards!CD632","v":"life"}]
[{"$f":"FlashCards!BY633","v":"τό ζῷον"}," ",{"$f":"FlashCards!CD633","v":"living thing"}]
[{"$f":"FlashCards!BY634","v":"ζῳοποιέω"}," ",{"$f":"FlashCards!CD634","v":"I make alive"}]
[{"$f":"FlashCards!BY635","v":"ἤ"}," ",{"$f":"FlashCards!CD635","v":"or, than"}]
[{"$f":"FlashCards!BY636","v":"ὁ ἡγεμών"}," ",{"$f":"FlashCards!CD636","v":"governor"}]
[{"$f":"FlashCards!BY637","v":"ἡγέομαι"}," ",{"$f":"FlashCards!CD637","v":"I consider, I think, I lead"}]
[{"$f":"FlashCards!BY638","v":"ἤδη"}," ",{"$f":"FlashCards!CD638","v":"now, already (particle)"}]
[{"$f":"FlashCards!BY639","v":"ἥκω"}," ",{"$f":"FlashCards!CD639","v":"I have come"}]
[{"$f":"FlashCards!BY640","v":"ὁ Ἠλίας"}," ",{"$f":"FlashCards!CD640","v":"Elijah"}]
[{"$f":"FlashCards!BY641","v":"ἡ ἡλικία"}," ",{"$f":"FlashCards!CD641","v":"stature"}]
[{"$f":"FlashCards!BY642","v":"ὁ ἥλιος"}," ",{"$f":"FlashCards!CD642","v":"sun"}]
[{"$f":"FlashCards!BY643","v":"ἡμᾶς"}," ",{"$f":"FlashCards!CD643","v":"us (accusative, plural)"}]
[{"$f":"FlashCards!BY644","v":"ἡ ἡμέρα"}," ",{"$f":"FlashCards!CD644","v":"day"}]
[{"$f":"FlashCards!BY645","v":"ἡμέτερος"}," ",{"$f":"FlashCards!CD645","v":"our"}]
[{"$f":"FlashCards!BY646","v":"ἡμῖν"}," ",{"$f":"FlashCards!CD646","v":"to us (dative, plural)"}]
[{"$f":"FlashCards!BY647","v":"ἡμῶν"}," ",{"$f":"FlashCards!CD647","v":"our/of us (genitive, plural)"}]
[{"$f":"FlashCards!BY648","v":"ὁ Ἡρῴδης"}," ",{"$f":"FlashCards!CD648","v":"Herod"}]
[{"$f":"FlashCards!BY649","v":"ὁ Ἠσαΐας"}," ",{"$f":"FlashCards!CD649","v":"Isaiah"}]
[{"$f":"FlashCards!BY650","v":"ἤτοι"}," ",{"$f":"FlashCards!CD650","v":"either,or, namely (particle)"}]
[{"$f":"FlashCards!BY651","v":"ἡ θάλασσα"}," ",{"$f":"FlashCards!CD651","v":"sea, lake"}]
[{"$f":"FlashCards!BY652","v":"ὁ θάνατος"}," ",{"$f":"FlashCards!CD652","v":"death"}]
[{"$f":"FlashCards!BY653","v":"θανατόω"}," ",{"$f":"FlashCards!CD653","v":"I put to death"}]
[{"$f":"FlashCards!BY654","v":"θάπτω"}," ",{"$f":"FlashCards!CD654","v":"I bury"}]
[{"$f":"FlashCards!BY655","v":"θαυμάζω"}," ",{"$f":"FlashCards!CD655","v":"I marvel, I wonder at"}]
[{"$f":"FlashCards!BY656","v":"θεάομαι"}," ",{"$f":"FlashCards!CD656","v":"I behold, I view"}]
[{"$f":"FlashCards!BY657","v":"τό θέλημα"}," ",{"$f":"FlashCards!CD657","v":"will, desire"}]
[{"$f":"FlashCards!BY658","v":"θέλω"}," ",{"$f":"FlashCards!CD658","v":"I wish, I desire, I enjoy"}]
[{"$f":"FlashCards!BY659","v":"ὁ θεμέλιος"}," ",{"$f":"FlashCards!CD659","v":"foundation"}]
[{"$f":"FlashCards!BY660","v":"ὁ θεός"}," ",{"$f":"FlashCards!CD660","v":"God, god"}]
[{"$f":"FlashCards!BY661","v":"θεραπεύω"}," ",{"$f":"FlashCards!CD661","v":"I heal"}]
[{"$f":"FlashCards!BY662","v":"θερίζω"}," ",{"$f":"FlashCards!CD662","v":"I reap"}]
[{"$f":"FlashCards!BY663","v":"ὁ θερισμός"}," ",{"$f":"FlashCards!CD663","v":"harvest"}]
[{"$f":"FlashCards!BY664","v":"θεωρέω"}," ",{"$f":"FlashCards!CD664","v":"I look at, I perceive"}]
[{"$f":"FlashCards!BY665","v":"τό θηρίον"}," ",{"$f":"FlashCards!CD665","v":"animal, beast"}]
[{"$f":"FlashCards!BY666","v":"ὁ θησαυρός"}," ",{"$f":"FlashCards!CD666","v":"treasure, repository"}]
[{"$f":"FlashCards!BY667","v":"θλίβω"}," ",{"$f":"FlashCards!CD667","v":"I oppress, I afflict"}]
[{"$f":"FlashCards!BY668","v":"ἡ θλῖψις"}," ",{"$f":"FlashCards!CD668","v":"affliction, tribulation"}]
[{"$f":"FlashCards!BY669","v":"ἡ θρίξ"}," ",{"$f":"FlashCards!CD669","v":"a strand of hair"}]
[{"$f":"FlashCards!BY670","v":"ἡ τριχός"}," ",{"$f":"FlashCards!CD670","v":"hair"}]
[{"$f":"FlashCards!BY671","v":"ὁ θρόνος"}," ",{"$f":"FlashCards!CD671","v":"throne"}]
[{"$f":"FlashCards!BY672","v":"ἡ θυγάτηρ"}," ",{"$f":"FlashCards!CD672","v":"daughter"}]
[{"$f":"FlashCards!BY673","v":"ὁ θυμός"}," ",{"$f":"FlashCards!CD673","v":"wrath, anger"}]
[{"$f":"FlashCards!BY674","v":"ἡ θύρα"}," ",{"$f":"FlashCards!CD674","v":"door"}]
[{"$f":"FlashCards!BY675","v":"ἡ θυσία"}," ",{"$f":"FlashCards!CD675","v":"sacrifice, offering"}]
[{"$f":"FlashCards!BY676","v":"τό θυσιαστήριον"}," ",{"$f":"FlashCards!CD676","v":"altar"}]
[{"$f":"FlashCards!BY677","v":"θύω"}," ",{"$f":"FlashCards!CD677","v":"I sacrifice, I kill"}]
[{"$f":"FlashCards!BY678","v":"ἡ Θωμᾶς"}," ",{"$f":"FlashCards!CD678","v":"Thomas"}]
[{"$f":"FlashCards!BY679","v":"ὁ Ἰακώβ"}," ",{"$f":"FlashCards!CD679","v":"Jacob"}]
[{"$f":"FlashCards!BY680","v":"ὁ Ἰάκωβος"}," ",{"$f":"FlashCards!CD680","v":"James"}]
[{"$f":"FlashCards!BY681","v":"ἰάομαι"}," ",{"$f":"FlashCards!CD681","v":"I heal"}]
[{"$f":"FlashCards!BY682","v":"ἴδε"}," ",{"$f":"FlashCards!CD682","v":"See! Behold!"}]
[{"$f":"FlashCards!BY683","v":"ἴδιος"}," ",{"$f":"FlashCards!CD683","v":"one's own (masculine)"}]
[{"$f":"FlashCards!BY684","v":"ἴδια"}," ",{"$f":"FlashCards!CD684","v":"one's own (feminine)"}]
[{"$f":"FlashCards!BY685","v":"ἴδιον"}," ",{"$f":"FlashCards!CD685","v":"one's own (neuter)"}]
[{"$f":"FlashCards!BY686","v":"ἰδού"}," ",{"$f":"FlashCards!CD686","v":"See! Behold!"}]
[{"$f":"FlashCards!BY687","v":"ὁ ἱερεύς"}," ",{"$f":"FlashCards!CD687","v":"priest"}]
[{"$f":"FlashCards!BY688","v":"τό ἱερόν"}," ",{"$f":"FlashCards!CD688","v":"temple"}]
[{"$f":"FlashCards!BY689","v":"τά Ἱεροσόλυμα"}," ",{"$f":"FlashCards!CD689","v":"Jerusalem"}]
[{"$f":"FlashCards!BY690","v":"ἡ Ἰερουσαλήμ"}," ",{"$f":"FlashCards!CD690","v":"Jerusalem"}]
[{"$f":"FlashCards!BY691","v":"ὁ Ἰησοῦς"}," ",{"$f":"FlashCards!CD691","v":"Jesus, Joshua"}]
[{"$f":"FlashCards!BY692","v":"ἱκανός"}," ",{"$f":"FlashCards!CD692","v":"considerable, many, able"}]
[{"$f":"FlashCards!BY693","v":"ὁ ἱλασμός"}," ",{"$f":"FlashCards!CD693","v":"atoning sacrifice"}]
[{"$f":"FlashCards!BY694","v":"τό ἱλαστήριον"}," ",{"$f":"FlashCards!CD694","v":"propitiation, expiation, place of atonement"}]
[{"$f":"FlashCards!BY695","v":"τό ἱμάτιον"}," ",{"$f":"FlashCards!CD695","v":"garment, cloak"}]
[{"$f":"FlashCards!BY696","v":"ἵνα"}," ",{"$f":"FlashCards!CD696","v":"that, in order that, so that"}]
[{"$f":"FlashCards!BY697","v":"ἡ Ἰόππη"}," ",{"$f":"FlashCards!CD697","v":"Joppa"}]
[{"$f":"FlashCards!BY698","v":"ὁ Ἰορδάνης"}," ",{"$f":"FlashCards!CD698","v":"Jordan"}]
[{"$f":"FlashCards!BY699","v":"ἡ Ἰουδαία"}," ",{"$f":"FlashCards!CD699","v":"Judea"}]
[{"$f":"FlashCards!BY700","v":"ὁ Ἰουδαίος"}," ",{"$f":"FlashCards!CD700","v":"Jew"}]
[{"$f":"FlashCards!BY701","v":"Ἰουδαίος"}," ",{"$f":"FlashCards!CD701","v":"Jewish"}]
[{"$f":"FlashCards!BY702","v":"ὁ Ἰούδας"}," ",{"$f":"FlashCards!CD702","v":"Judas, Judah"}]
[{"$f":"FlashCards!BY703","v":"ὁ ἵππος"}," ",{"$f":"FlashCards!CD703","v":"horse"}]
[{"$f":"FlashCards!BY704","v":"ὁ Ἰσαάκ"}," ",{"$f":"FlashCards!CD704","v":"Isaac"}]
[{"$f":"FlashCards!BY705","v":"ὁ Ἰσραήλ"}," ",{"$f":"FlashCards!CD705","v":"Israel"}]
[{"$f":"FlashCards!BY706","v":"ἴστημι"}," ",{"$f":"FlashCards!CD706","v":"I stand, I cause to stand"}]
[{"$f":"FlashCards!BY707","v":"ἰσχυρός"}," ",{"$f":"FlashCards!CD707","v":"strong"}]
[{"$f":"FlashCards!BY708","v":"ἡ ἰσχύς"}," ",{"$f":"FlashCards!CD708","v":"strength, power"}]
[{"$f":"FlashCards!BY709","v":"ἰσχύω"}," ",{"$f":"FlashCards!CD709","v":"I have power, I am able"}]
[{"$f":"FlashCards!BY710","v":"ὁ ἰχθύς"}," ",{"$f":"FlashCards!CD710","v":"fish"}]
[{"$f":"FlashCards!BY711","v":"ὁ Ἰωάννης"}," ",{"$f":"FlashCards!CD711","v":"John"}]
[{"$f":"FlashCards!BY712","v":"ὁ Ἰωσήφ"}," ",{"$f":"FlashCards!CD712","v":"Joseph"}]
[{"$f":"FlashCards!BY713","v":"κἀγώ"}," ",{"$f":"FlashCards!CD713","v":"and I, but I"}]
[{"$f":"FlashCards!BY714","v":"καθάπερ"}," ",{"$f":"FlashCards!CD714","v":"just as"}]
[{"$f":"FlashCards!BY715","v":"καθαρίζω"}," ",{"$f":"FlashCards!CD715","v":"I cleanse, I purify"}]
[{"$f":"FlashCards!BY716","v":"καθαρός"}," ",{"$f":"FlashCards!CD716","v":"pure, clean"}]
[{"$f":"FlashCards!BY717","v":"καθεύδω"}," ",{"$f":"FlashCards!CD717","v":"I sleep"}]
[{"$f":"FlashCards!BY718","v":"κάθημαι"}," ",{"$f":"FlashCards!CD718","v":"I sit, I sit down, I live"}]
[{"$f":"FlashCards!BY719","v":"καθίζω"}," ",{"$f":"FlashCards!CD719","v":"I sit, I sit down, I seat"}]
[{"$f":"FlashCards!BY720","v":"καθίστημι"}," ",{"$f":"FlashCards!CD720","v":"I appoint, I authorize"}]
[{"$f":"FlashCards!BY721","v":"καθώς"}," ",{"$f":"FlashCards!CD721","v":"as, even as"}]
[{"$f":"FlashCards!BY722","v":"καί"}," ",{"$f":"FlashCards!CD722","v":"and, even, also, namely, and yet (particle)"}]
[{"$f":"FlashCards!BY723","v":"καὶ μήν"}," ",{"$f":"FlashCards!CD723","v":"moreover, and indeed, truly (particle)"}]
[{"$f":"FlashCards!BY724","v":"καινός"}," ",{"$f":"FlashCards!CD724","v":"new"}]
[{"$f":"FlashCards!BY725","v":"καίπερ"}," ",{"$f":"FlashCards!CD725","v":"although, even though (particle)"}]
[{"$f":"FlashCards!BY726","v":"ὁ καιρός"}," ",{"$f":"FlashCards!CD726","v":"(appointed) time, season"}]
[{"$f":"FlashCards!BY727","v":"ὁ Καῖσαρ"}," ",{"$f":"FlashCards!CD727","v":"Caesar"}]
[{"$f":"FlashCards!BY728","v":"ἡ Καισάρεια"}," ",{"$f":"FlashCards!CD728","v":"Caesaria"}]
[{"$f":"FlashCards!BY729","v":"καίω"}," ",{"$f":"FlashCards!CD729","v":"I burn, I light"}]
[{"$f":"FlashCards!BY730","v":"κἀκεῖ"}," ",{"$f":"FlashCards!CD730","v":"and there"}]
[{"$f":"FlashCards!BY731","v":"κἀκεῖθεν"}," ",{"$f":"FlashCards!CD731","v":"and then"}]
[{"$f":"FlashCards!BY732","v":"κἀκεῖνος"}," ",{"$f":"FlashCards!CD732","v":"and that one, that one also"}]
[{"$f":"FlashCards!BY733","v":"ἡ κακία"}," ",{"$f":"FlashCards!CD733","v":"malice, wickedness"}]
[{"$f":"FlashCards!BY734","v":"κακός"}," ",{"$f":"FlashCards!CD734","v":"bad, evil"}]
[{"$f":"FlashCards!BY735","v":"κακῶς"}," ",{"$f":"FlashCards!CD735","v":"badly"}]
[{"$f":"FlashCards!BY736","v":"ὁ κἀλαμος"}," ",{"$f":"FlashCards!CD736","v":"reed"}]
[{"$f":"FlashCards!BY737","v":"καλέω"}," ",{"$f":"FlashCards!CD737","v":"I call, I name, I invite"}]
[{"$f":"FlashCards!BY738","v":"καλός"}," ",{"$f":"FlashCards!CD738","v":"good, beautiful"}]
[{"$f":"FlashCards!BY739","v":"καλῶς"}," ",{"$f":"FlashCards!CD739","v":"well, commendably"}]
[{"$f":"FlashCards!BY740","v":"κἄν"}," ",{"$f":"FlashCards!CD740","v":"and if, even if (particle)"}]
[{"$f":"FlashCards!BY741","v":"ἡ Καφαρναούμ"}," ",{"$f":"FlashCards!CD741","v":"Capernaum"}]
[{"$f":"FlashCards!BY742","v":"ὁ καπνός"}," ",{"$f":"FlashCards!CD742","v":"smoke"}]
[{"$f":"FlashCards!BY743","v":"ἡ καρδία"}," ",{"$f":"FlashCards!CD743","v":"heart, inner self"}]
[{"$f":"FlashCards!BY744","v":"ὁ καρπός"}," ",{"$f":"FlashCards!CD744","v":"fruit, crop, result"}]
[{"$f":"FlashCards!BY745","v":"κατά [genitive]"}," ",{"$f":"FlashCards!CD745","v":"down from, against [genitive]"}]
[{"$f":"FlashCards!BY746","v":"κατά [accusative]"}," ",{"$f":"FlashCards!CD746","v":"according to, throughout, during [accusative]"}]
[{"$f":"FlashCards!BY747","v":"καταβαίνω"}," ",{"$f":"FlashCards!CD747","v":"I go down, I come down"}]
[{"$f":"FlashCards!BY748","v":"ἡ καταβολή"}," ",{"$f":"FlashCards!CD748","v":"foundation"}]
[{"$f":"FlashCards!BY749","v":"καταγγέλλω"}," ",{"$f":"FlashCards!CD749","v":"I proclaim"}]
[{"$f":"FlashCards!BY750","v":"καταισχύνω"}," ",{"$f":"FlashCards!CD750","v":"I put to shame, I dishonor"}]
[{"$f":"FlashCards!BY751","v":"κατακαίω"}," ",{"$f":"FlashCards!CD751","v":"I burn up, I consume"}]
[{"$f":"FlashCards!BY752","v":"κατάκειμαι"}," ",{"$f":"FlashCards!CD752","v":"I recline, I lie down"}]
[{"$f":"FlashCards!BY753","v":"κατακρίνω"}," ",{"$f":"FlashCards!CD753","v":"I condemn"}]
[{"$f":"FlashCards!BY754","v":"καταλαμβάνω"}," ",{"$f":"FlashCards!CD754","v":"I attain, I seize, I grasp"}]
[{"$f":"FlashCards!BY755","v":"καταλείπω"}," ",{"$f":"FlashCards!CD755","v":"I leave behind"}]
[{"$f":"FlashCards!BY756","v":"καταλύω"}," ",{"$f":"FlashCards!CD756","v":"I destroy, I put an end to"}]
[{"$f":"FlashCards!BY757","v":"κατανοέω"}," ",{"$f":"FlashCards!CD757","v":"I consider, I notice"}]
[{"$f":"FlashCards!BY758","v":"καταντάω"}," ",{"$f":"FlashCards!CD758","v":"I arrive at, I attain, I reach"}]
[{"$f":"FlashCards!BY759","v":"καταργέω"}," ",{"$f":"FlashCards!CD759","v":"I abolish, I nullify"}]
[{"$f":"FlashCards!BY760","v":"καταρτίζω"}," ",{"$f":"FlashCards!CD760","v":"I restore, I prepare"}]
[{"$f":"FlashCards!BY761","v":"κατασκευάζω"}," ",{"$f":"FlashCards!CD761","v":"I prepare"}]
[{"$f":"FlashCards!BY762","v":"κατεργάζομαι"}," ",{"$f":"FlashCards!CD762","v":"I accomplish, I produce"}]
[{"$f":"FlashCards!BY763","v":"κατέρχομαι"}," ",{"$f":"FlashCards!CD763","v":"I come down"}]
[{"$f":"FlashCards!BY764","v":"κατεσθίω"}," ",{"$f":"FlashCards!CD764","v":"I consume, I devour"}]
[{"$f":"FlashCards!BY765","v":"κατέχω"}," ",{"$f":"FlashCards!CD765","v":"I restrain, I hold fast"}]
[{"$f":"FlashCards!BY766","v":"κατηγορέω"}," ",{"$f":"FlashCards!CD766","v":"I accuse"}]
[{"$f":"FlashCards!BY767","v":"κατοικέω"}," ",{"$f":"FlashCards!CD767","v":"I inhabit, I dwell"}]
[{"$f":"FlashCards!BY768","v":"καυχάομαι"}," ",{"$f":"FlashCards!CD768","v":"I boast"}]
[{"$f":"FlashCards!BY769","v":"τό καύχημα"}," ",{"$f":"FlashCards!CD769","v":"boast"}]
[{"$f":"FlashCards!BY770","v":"ἡ καύχησις"}," ",{"$f":"FlashCards!CD770","v":"boasting"}]
[{"$f":"FlashCards!BY771","v":"κεῖμαι"}," ",{"$f":"FlashCards!CD771","v":"I lie (down), I am laid"}]
[{"$f":"FlashCards!BY772","v":"κελεύω"}," ",{"$f":"FlashCards!CD772","v":"I command, I order"}]
[{"$f":"FlashCards!BY773","v":"κενός"}," ",{"$f":"FlashCards!CD773","v":"empty, vain"}]
[{"$f":"FlashCards!BY774","v":"τό κέρας"}," ",{"$f":"FlashCards!CD774","v":"horn"}]
[{"$f":"FlashCards!BY775","v":"κερδαίνω"}," ",{"$f":"FlashCards!CD775","v":"I gain"}]
[{"$f":"FlashCards!BY776","v":"ἡ κεφαλή"}," ",{"$f":"FlashCards!CD776","v":"head"}]
[{"$f":"FlashCards!BY777","v":"κηρύσσω"}," ",{"$f":"FlashCards!CD777","v":"I proclaim, I preach"}]
[{"$f":"FlashCards!BY778","v":"ὁ κλάδος"}," ",{"$f":"FlashCards!CD778","v":"branch"}]
[{"$f":"FlashCards!BY779","v":"κλαίω"}," ",{"$f":"FlashCards!CD779","v":"I weep"}]
[{"$f":"FlashCards!BY780","v":"κλάω"}," ",{"$f":"FlashCards!CD780","v":"I break"}]
[{"$f":"FlashCards!BY781","v":"κλείω"}," ",{"$f":"FlashCards!CD781","v":"I shut"}]
[{"$f":"FlashCards!BY782","v":"ὁ κλέπτης"}," ",{"$f":"FlashCards!CD782","v":"thief"}]
[{"$f":"FlashCards!BY783","v":"κλέπτω"}," ",{"$f":"FlashCards!CD783","v":"I steal"}]
[{"$f":"FlashCards!BY784","v":"κληρονομέω"}," ",{"$f":"FlashCards!CD784","v":"I acquire, I inherit"}]
[{"$f":"FlashCards!BY785","v":"ἡ κληρονομία"}," ",{"$f":"FlashCards!CD785","v":"inheritance"}]
[{"$f":"FlashCards!BY786","v":"ὁ κληρονόμος"}," ",{"$f":"FlashCards!CD786","v":"heir"}]
[{"$f":"FlashCards!BY787","v":"ὁ κλῆρος"}," ",{"$f":"FlashCards!CD787","v":"share, portion, lot, inheritance"}]
[{"$f":"FlashCards!BY788","v":"ἡ κλῆσις"}," ",{"$f":"FlashCards!CD788","v":"calling, call"}]
[{"$f":"FlashCards!BY789","v":"κλητός"}," ",{"$f":"FlashCards!CD789","v":"called"}]
[{"$f":"FlashCards!BY790","v":"κλίνω"}," ",{"$f":"FlashCards!CD790","v":"I bow"}]
[{"$f":"FlashCards!BY791","v":"ἡ κοιλία"}," ",{"$f":"FlashCards!CD791","v":"belly, womb"}]
[{"$f":"FlashCards!BY792","v":"κοιμάω"}," ",{"$f":"FlashCards!CD792","v":"I sleep, I fall asleep"}]
[{"$f":"FlashCards!BY793","v":"   κοινός"}," ",{"$f":"FlashCards!CD793","v":"common, (ceremonially) unclean"}]
[{"$f":"FlashCards!BY794","v":"κοινόω"}," ",{"$f":"FlashCards!CD794","v":"I defile, I make impure"}]
[{"$f":"FlashCards!BY795","v":"ἡ κοινωνία"}," ",{"$f":"FlashCards!CD795","v":"fellowship, participation"}]
[{"$f":"FlashCards!BY796","v":"ὁ κοινωνός"}," ",{"$f":"FlashCards!CD796","v":"partner, sharer"}]
[{"$f":"FlashCards!BY797","v":"κολλάω"}," ",{"$f":"FlashCards!CD797","v":"I join, I cling to"}]
[{"$f":"FlashCards!BY798","v":"κομίζω"}," ",{"$f":"FlashCards!CD798","v":"I bring; [middle: I receive]"}]
[{"$f":"FlashCards!BY799","v":"κοπιάω"}," ",{"$f":"FlashCards!CD799","v":"I toil, I labor"}]
[{"$f":"FlashCards!BY800","v":"ὁ κόπος"}," ",{"$f":"FlashCards!CD800","v":"labor, trouble"}]
[{"$f":"FlashCards!BY801","v":"κοσμέω"}," ",{"$f":"FlashCards!CD801","v":"I adorn, I arrange, I put in order"}]
[{"$f":"FlashCards!BY802","v":"ὁ κόσμος"}," ",{"$f":"FlashCards!CD802","v":"world, universe, humanity"}]
[{"$f":"FlashCards!BY803","v":"ὁ κράβαττος or κράββατος"}," ",{"$f":"FlashCards!CD803","v":"mattress, pallet, (poor) bed"}]
[{"$f":"FlashCards!BY804","v":"κράζω"}," ",{"$f":"FlashCards!CD804","v":"I cry out, I call out"}]
[{"$f":"FlashCards!BY805","v":"κρατέω"}," ",{"$f":"FlashCards!CD805","v":"I seize, I hold"}]
[{"$f":"FlashCards!BY806","v":"τό κράτος"}," ",{"$f":"FlashCards!CD806","v":"power, might"}]
[{"$f":"FlashCards!BY807","v":"κρείσσων"}," ",{"$f":"FlashCards!CD807","v":"better"}]
[{"$f":"FlashCards!BY808","v":"κρείττων"}," ",{"$f":"FlashCards!CD808","v":"better"}]
[{"$f":"FlashCards!BY809","v":"τό κρίμα"}," ",{"$f":"FlashCards!CD809","v":"judgment"}]
[{"$f":"FlashCards!BY810","v":"κρίνω"}," ",{"$f":"FlashCards!CD810","v":"I judge, I decide, I prefer"}]
[{"$f":"FlashCards!BY811","v":"ἡ κρίσις"}," ",{"$f":"FlashCards!CD811","v":"judgement, justice"}]
[{"$f":"FlashCards!BY812","v":"ὁ κριτής"}," ",{"$f":"FlashCards!CD812","v":"judge"}]
[{"$f":"FlashCards!BY813","v":"κρυπτός"}," ",{"$f":"FlashCards!CD813","v":"hidden"}]
[{"$f":"FlashCards!BY814","v":"κρύπτω"}," ",{"$f":"FlashCards!CD814","v":"I hide"}]
[{"$f":"FlashCards!BY815","v":" κρυφαίος"}," ",{"$f":"FlashCards!CD815","v":"secret"}]
[{"$f":"FlashCards!BY816","v":"κρυφαίως"}," ",{"$f":"FlashCards!CD816","v":"secretly"}]
[{"$f":"FlashCards!BY817","v":"κτίζω"}," ",{"$f":"FlashCards!CD817","v":"I create"}]
[{"$f":"FlashCards!BY818","v":"ἡ κτίσις"}," ",{"$f":"FlashCards!CD818","v":"creation, creature"}]
[{"$f":"FlashCards!BY819","v":"ὁ κύριος"}," ",{"$f":"FlashCards!CD819","v":"lord, master, sir"}]
[{"$f":"FlashCards!BY820","v":"κωλύω"}," ",{"$f":"FlashCards!CD820","v":"I forbid, I hinder"}]
[{"$f":"FlashCards!BY821","v":"ἡ κώμη"}," ",{"$f":"FlashCards!CD821","v":"village"}]
[{"$f":"FlashCards!BY822","v":"κωφός"}," ",{"$f":"FlashCards!CD822","v":"mute, deaf"}]
[{"$f":"FlashCards!BY823","v":"ὁ Λάζαρος"}," ",{"$f":"FlashCards!CD823","v":"Lazarus"}]
[{"$f":"FlashCards!BY824","v":"λαλέω"}," ",{"$f":"FlashCards!CD824","v":"I speak, I say"}]
[{"$f":"FlashCards!BY825","v":"λαμβάνω"}," ",{"$f":"FlashCards!CD825","v":"I take, I receive"}]
[{"$f":"FlashCards!BY826","v":"ὁ λαός"}," ",{"$f":"FlashCards!CD826","v":"people, crowd"}]
[{"$f":"FlashCards!BY827","v":"λατρεύω"}," ",{"$f":"FlashCards!CD827","v":"I serve, I worship"}]
[{"$f":"FlashCards!BY828","v":"λέγω"}," ",{"$f":"FlashCards!CD828","v":"I say, I speak"}]
[{"$f":"FlashCards!BY829","v":"εἶπεν"}," ",{"$f":"FlashCards!CD829","v":"(he, she, it) said"}]
[{"$f":"FlashCards!BY830","v":"λευκός"}," ",{"$f":"FlashCards!CD830","v":"white"}]
[{"$f":"FlashCards!BY831","v":"ὁ λῃστής"}," ",{"$f":"FlashCards!CD831","v":"robber, revolutionary"}]
[{"$f":"FlashCards!BY832","v":"λίαν"}," ",{"$f":"FlashCards!CD832","v":"exceedingly, very much"}]
[{"$f":"FlashCards!BY833","v":"ὁ λίθος"}," ",{"$f":"FlashCards!CD833","v":"stone"}]
[{"$f":"FlashCards!BY834","v":"ἡ λίμνη"}," ",{"$f":"FlashCards!CD834","v":"lake, pond"}]
[{"$f":"FlashCards!BY835","v":"ὁ λιμός"}," ",{"$f":"FlashCards!CD835","v":"hunger, famine"}]
[{"$f":"FlashCards!BY836","v":"λογίζομαι"}," ",{"$f":"FlashCards!CD836","v":"I reckon, I think"}]
[{"$f":"FlashCards!BY837","v":"ὁ λόγος"}," ",{"$f":"FlashCards!CD837","v":"word, statement, message"}]
[{"$f":"FlashCards!BY838","v":"ὁ λοιπός [noun]"}," ",{"$f":"FlashCards!CD838","v":"(the) rest, (the) remainder"}]
[{"$f":"FlashCards!BY839","v":"λοιπός [adjective]"}," ",{"$f":"FlashCards!CD839","v":"remaining"}]
[{"$f":"FlashCards!BY840","v":"λοιπός [adverb]"}," ",{"$f":"FlashCards!CD840","v":"for the rest, henceforth"}]
[{"$f":"FlashCards!BY841","v":"λυπέω"}," ",{"$f":"FlashCards!CD841","v":"I grieve"}]
[{"$f":"FlashCards!BY842","v":"ἡ λύπη"}," ",{"$f":"FlashCards!CD842","v":"grief, sorrow"}]
[{"$f":"FlashCards!BY843","v":"λυτρόω"}," ",{"$f":"FlashCards!CD843","v":"I ransom, I liberate"}]
[{"$f":"FlashCards!BY844","v":"ἡ λυχνία"}," ",{"$f":"FlashCards!CD844","v":"lampstand"}]
[{"$f":"FlashCards!BY845","v":"ὁ λύχνος"}," ",{"$f":"FlashCards!CD845","v":"lamp"}]
[{"$f":"FlashCards!BY846","v":"λύω"}," ",{"$f":"FlashCards!CD846","v":"I loose, I untie, I destroy, I release"}]
[{"$f":"FlashCards!BY847","v":"ἡ Μαγδαληνή"}," ",{"$f":"FlashCards!CD847","v":"Magdalene"}]
[{"$f":"FlashCards!BY848","v":"ὁ μαθητής"}," ",{"$f":"FlashCards!CD848","v":"disciple"}]
[{"$f":"FlashCards!BY849","v":"μακάριος"}," ",{"$f":"FlashCards!CD849","v":"blessed, happy"}]
[{"$f":"FlashCards!BY850","v":"ἡ Μακεδονία"}," ",{"$f":"FlashCards!CD850","v":"Macedonia"}]
[{"$f":"FlashCards!BY851","v":"μακράν"}," ",{"$f":"FlashCards!CD851","v":"far, far away"}]
[{"$f":"FlashCards!BY852","v":"μακρόθεν"}," ",{"$f":"FlashCards!CD852","v":"from a distance, from afar"}]
[{"$f":"FlashCards!BY853","v":"μακροθυμέω"}," ",{"$f":"FlashCards!CD853","v":"I am patient"}]
[{"$f":"FlashCards!BY854","v":"ἡ μακροθυμία"}," ",{"$f":"FlashCards!CD854","v":"Patience, forbearance, steadfastness"}]
[{"$f":"FlashCards!BY855","v":"μάλιστα"}," ",{"$f":"FlashCards!CD855","v":"most of all, especially"}]
[{"$f":"FlashCards!BY856","v":"μᾶλλον"}," ",{"$f":"FlashCards!CD856","v":"more, rather"}]
[{"$f":"FlashCards!BY857","v":"μανθάνω"}," ",{"$f":"FlashCards!CD857","v":"I learn"}]
[{"$f":"FlashCards!BY858","v":"ἡ Μάρθα"}," ",{"$f":"FlashCards!CD858","v":"Martha"}]
[{"$f":"FlashCards!BY859","v":"ἡ Μαρία"}," ",{"$f":"FlashCards!CD859","v":"Mary"}]
[{"$f":"FlashCards!BY860","v":"ἡ Μαριάμ"}," ",{"$f":"FlashCards!CD860","v":"Mary"}]
[{"$f":"FlashCards!BY861","v":"μαρτυρέω"}," ",{"$f":"FlashCards!CD861","v":"I bear witness, I testify"}]
[{"$f":"FlashCards!BY862","v":"ἡ μαρτυρία"}," ",{"$f":"FlashCards!CD862","v":"testimony"}]
[{"$f":"FlashCards!BY863","v":"τό μαρτύριον"}," ",{"$f":"FlashCards!CD863","v":"testimony, proof"}]
[{"$f":"FlashCards!BY864","v":"ὁ μάρτυς"}," ",{"$f":"FlashCards!CD864","v":"witness"}]
[{"$f":"FlashCards!BY865","v":"ἡ μάχαιρα"}," ",{"$f":"FlashCards!CD865","v":"sword"}]
[{"$f":"FlashCards!BY866","v":"μέγας"}," ",{"$f":"FlashCards!CD866","v":"large, great (masculine)"}]
[{"$f":"FlashCards!BY867","v":"μεγάλη"}," ",{"$f":"FlashCards!CD867","v":"large, great (feminine)"}]
[{"$f":"FlashCards!BY868","v":"μέγα"}," ",{"$f":"FlashCards!CD868","v":"large, great (neuter)"}]
[{"$f":"FlashCards!BY869","v":"μείζων"}," ",{"$f":"FlashCards!CD869","v":"greater"}]
[{"$f":"FlashCards!BY870","v":"μελετάω"}," ",{"$f":"FlashCards!CD870","v":"I practice, I cultivate"}]
[{"$f":"FlashCards!BY871","v":"μέλλω"}," ",{"$f":"FlashCards!CD871","v":"I am about to"}]
[{"$f":"FlashCards!BY872","v":"τό μέλος"}," ",{"$f":"FlashCards!CD872","v":"member, part"}]
[{"$f":"FlashCards!BY873","v":"μέλει"}," ",{"$f":"FlashCards!CD873","v":"It is a concern; a form of μέλω, ‘I care for’"}]
[{"$f":"FlashCards!BY874","v":"μέν"}," ",{"$f":"FlashCards!CD874","v":"on the one hand, indeed (particle)"}]
[{"$f":"FlashCards!BY875","v":"μέν ... δέ"}," ",{"$f":"FlashCards!CD875","v":"on the one hand... but on the other (particles)"}]
[{"$f":"FlashCards!BY876","v":"μέντοι"}," ",{"$f":"FlashCards!CD876","v":"however, nevertheless, but, really (particle)"}]
[{"$f":"FlashCards!BY877","v":"μένω"}," ",{"$f":"FlashCards!CD877","v":"I remain, I live, I abide"}]
[{"$f":"FlashCards!BY878","v":"μερίζω"}," ",{"$f":"FlashCards!CD878","v":"I divide, I share"}]
[{"$f":"FlashCards!BY879","v":"μεριμνάω"}," ",{"$f":"FlashCards!CD879","v":"I am anxious, I care for"}]
[{"$f":"FlashCards!BY880","v":"τό μέρος"}," ",{"$f":"FlashCards!CD880","v":"part"}]
[{"$f":"FlashCards!BY881","v":"μέσος"}," ",{"$f":"FlashCards!CD881","v":"middle, in the midst"}]
[{"$f":"FlashCards!BY882","v":"μετά (μετʼ, μεθʼ) [genitive]"}," ",{"$f":"FlashCards!CD882","v":"with [genitive]"}]
[{"$f":"FlashCards!BY883","v":"μετά (μετʼ, μεθʼ) [accusative]"}," ",{"$f":"FlashCards!CD883","v":"after [accusative]"}]
[{"$f":"FlashCards!BY884","v":"μεταβαίνω"}," ",{"$f":"FlashCards!CD884","v":"I go over, I pass over"}]
[{"$f":"FlashCards!BY885","v":"μετανοέω"}," ",{"$f":"FlashCards!CD885","v":"I repent"}]
[{"$f":"FlashCards!BY886","v":"ἡ μετάνοια"}," ",{"$f":"FlashCards!CD886","v":"repentance"}]
[{"$f":"FlashCards!BY887","v":"μετρέω"}," ",{"$f":"FlashCards!CD887","v":"I measure, I apportion"}]
[{"$f":"FlashCards!BY888","v":"τό μέτρον"}," ",{"$f":"FlashCards!CD888","v":"measure"}]
[{"$f":"FlashCards!BY889","v":"μέχρι"}," ",{"$f":"FlashCards!CD889","v":"until, as far as [genitive]"}]
[{"$f":"FlashCards!BY890","v":"μέχρις"}," ",{"$f":"FlashCards!CD890","v":"until, as far as [genitive]"}]
[{"$f":"FlashCards!BY891","v":"μή"}," ",{"$f":"FlashCards!CD891","v":"not, lest (particle; used in non-indicative moods like subjunctive or imperative)"}]
[{"$f":"FlashCards!BY892","v":"μηδέ"}," ",{"$f":"FlashCards!CD892","v":"nor, but not, not even"}]
[{"$f":"FlashCards!BY893","v":"μηδείς"}," ",{"$f":"FlashCards!CD893","v":"no one, nothing (masculine)"}]
[{"$f":"FlashCards!BY894","v":"μηδεμία"}," ",{"$f":"FlashCards!CD894","v":"no one, nothing (feminine)"}]
[{"$f":"FlashCards!BY895","v":"μηδέν"}," ",{"$f":"FlashCards!CD895","v":"no one, nothing (neuter)"}]
[{"$f":"FlashCards!BY896","v":"μηκέτι"}," ",{"$f":"FlashCards!CD896","v":"no longer"}]
[{"$f":"FlashCards!BY897","v":"μήν, μέν"}," ",{"$f":"FlashCards!CD897","v":"truly, certainly, indeed (particle)"}]
[{"$f":"FlashCards!BY898","v":"ὁ μήν (μηνός)"}," ",{"$f":"FlashCards!CD898","v":"month"}]
[{"$f":"FlashCards!BY899","v":"μήποτε"}," ",{"$f":"FlashCards!CD899","v":"lest, so that not (particle)"}]
[{"$f":"FlashCards!BY900","v":"μήτε"}," ",{"$f":"FlashCards!CD900","v":"neither, nor, and not"}]
[{"$f":"FlashCards!BY901","v":"ἡ μήτηρ"}," ",{"$f":"FlashCards!CD901","v":"mother"}]
[{"$f":"FlashCards!BY902","v":"μήτι"}," ",{"$f":"FlashCards!CD902","v":"is it not?, surely not? (interrogative particle expecting a negative response)"}]
[{"$f":"FlashCards!BY903","v":"μικρός"}," ",{"$f":"FlashCards!CD903","v":"small, little"}]
[{"$f":"FlashCards!BY904","v":"μιμνῄσκομαι"}," ",{"$f":"FlashCards!CD904","v":"I remember"}]
[{"$f":"FlashCards!BY905","v":"μισέω"}," ",{"$f":"FlashCards!CD905","v":"I hate"}]
[{"$f":"FlashCards!BY906","v":"ὁ μισθός"}," ",{"$f":"FlashCards!CD906","v":"wage, reward"}]
[{"$f":"FlashCards!BY907","v":"τό μνημεῖον"}," ",{"$f":"FlashCards!CD907","v":"grave, tomb, memorial, monument"}]
[{"$f":"FlashCards!BY908","v":"μνημονεύω"}," ",{"$f":"FlashCards!CD908","v":"I remember"}]
[{"$f":"FlashCards!BY909","v":"μοιχεύω"}," ",{"$f":"FlashCards!CD909","v":"I commit adultery"}]
[{"$f":"FlashCards!BY910","v":"μόνος"}," ",{"$f":"FlashCards!CD910","v":"alone, only"}]
[{"$f":"FlashCards!BY911","v":"μου"}," ",{"$f":"FlashCards!CD911","v":"my/of me (genitive singular)"}]
[{"$f":"FlashCards!BY912","v":"μου"}," ",{"$f":"FlashCards!CD912","v":"my"}]
[{"$f":"FlashCards!BY913","v":"τό μύρον"}," ",{"$f":"FlashCards!CD913","v":"ointment, perfume"}]
[{"$f":"FlashCards!BY914","v":"ἡ μυστήριον"}," ",{"$f":"FlashCards!CD914","v":"mystery, secret"}]
[{"$f":"FlashCards!BY915","v":"μωρός"}," ",{"$f":"FlashCards!CD915","v":"foolish"}]
[{"$f":"FlashCards!BY916","v":"ὁ Μωϋσῆς"}," ",{"$f":"FlashCards!CD916","v":"Moses"}]
[{"$f":"FlashCards!BY917","v":"ὁ Ναζωραῖος"}," ",{"$f":"FlashCards!CD917","v":"Nazareth"}]
[{"$f":"FlashCards!BY918","v":"ναί"}," ",{"$f":"FlashCards!CD918","v":"yes, certainly"}]
[{"$f":"FlashCards!BY919","v":"ὁ ναός"}," ",{"$f":"FlashCards!CD919","v":"temple"}]
[{"$f":"FlashCards!BY920","v":"ὁ νεανίσκος"}," ",{"$f":"FlashCards!CD920","v":"youth, young man"}]
[{"$f":"FlashCards!BY921","v":"ὁ νεκρός (noun)"}," ",{"$f":"FlashCards!CD921","v":"corpse"}]
[{"$f":"FlashCards!BY922","v":"νεκρός (adjective)"}," ",{"$f":"FlashCards!CD922","v":"dead"}]
[{"$f":"FlashCards!BY923","v":"νέος"}," ",{"$f":"FlashCards!CD923","v":"new, young"}]
[{"$f":"FlashCards!BY924","v":"ἡ νεφέλη"}," ",{"$f":"FlashCards!CD924","v":"cloud"}]
[{"$f":"FlashCards!BY925","v":"ὁ νεφρός"}," ",{"$f":"FlashCards!CD925","v":"mind"}]
[{"$f":"FlashCards!BY926","v":"ὁ νήπιος"}," ",{"$f":"FlashCards!CD926","v":"infant, child"}]
[{"$f":"FlashCards!BY927","v":"νηστεύω"}," ",{"$f":"FlashCards!CD927","v":"I fast"}]
[{"$f":"FlashCards!BY928","v":"νικάω"}," ",{"$f":"FlashCards!CD928","v":"I conquer, I overcome"}]
[{"$f":"FlashCards!BY929","v":"νίπτω"}," ",{"$f":"FlashCards!CD929","v":"I wash"}]
[{"$f":"FlashCards!BY930","v":"νοέω"}," ",{"$f":"FlashCards!CD930","v":"I understand"}]
[{"$f":"FlashCards!BY931","v":"νομίζω"}," ",{"$f":"FlashCards!CD931","v":"I suppose, I consider"}]
[{"$f":"FlashCards!BY932","v":"ὁ νόμος"}," ",{"$f":"FlashCards!CD932","v":"law, principle"}]
[{"$f":"FlashCards!BY933","v":"ἡ νόσος"}," ",{"$f":"FlashCards!CD933","v":"disease, illness"}]
[{"$f":"FlashCards!BY934","v":"ὁ νοῦς, νοός"}," ",{"$f":"FlashCards!CD934","v":"mind, understanding"}]
[{"$f":"FlashCards!BY935","v":"ὁ νυμφίος"}," ",{"$f":"FlashCards!CD935","v":"bridegroom"}]
[{"$f":"FlashCards!BY936","v":"νῦν"}," ",{"$f":"FlashCards!CD936","v":"now (particle)"}]
[{"$f":"FlashCards!BY937","v":"νυνί"}," ",{"$f":"FlashCards!CD937","v":"now"}]
[{"$f":"FlashCards!BY938","v":"ἡ νύξ"}," ",{"$f":"FlashCards!CD938","v":"night"}]
[{"$f":"FlashCards!BY939","v":"ξενίζω"}," ",{"$f":"FlashCards!CD939","v":"I entertain, I astonish"}]
[{"$f":"FlashCards!BY940","v":"ξένος"}," ",{"$f":"FlashCards!CD940","v":"strange, foreign"}]
[{"$f":"FlashCards!BY941","v":"ξηραίνω"}," ",{"$f":"FlashCards!CD941","v":"I dry up"}]
[{"$f":"FlashCards!BY942","v":"τό ξύλον"}," ",{"$f":"FlashCards!CD942","v":"tree, wood"}]
[{"$f":"FlashCards!BY943","v":"ὁ"}," ",{"$f":"FlashCards!CD943","v":"the (nominative, singular, masculine)"}]
[{"$f":"FlashCards!BY944","v":"ἡ"}," ",{"$f":"FlashCards!CD944","v":"the (nominative, singular, feminine)"}]
[{"$f":"FlashCards!BY945","v":"τό"}," ",{"$f":"FlashCards!CD945","v":"the (nominative or accusative, singular, neuter)"}]
[{"$f":"FlashCards!BY946","v":"τοῦ"}," ",{"$f":"FlashCards!CD946","v":"the/of the (genitive, singular, masculine or neuter)"}]
[{"$f":"FlashCards!BY947","v":"τῆς"}," ",{"$f":"FlashCards!CD947","v":"the/of the (genitive, singular, feminine)"}]
[{"$f":"FlashCards!BY948","v":"τῷ"}," ",{"$f":"FlashCards!CD948","v":"the/to the (dative, singular, masculine or neuter)"}]
[{"$f":"FlashCards!BY949","v":"τῇ"}," ",{"$f":"FlashCards!CD949","v":"the/ to the (dative, singular, feminine)"}]
[{"$f":"FlashCards!BY950","v":"τόν"}," ",{"$f":"FlashCards!CD950","v":"the (accusative, singular, masculine)"}]
[{"$f":"FlashCards!BY951","v":"τήν"}," ",{"$f":"FlashCards!CD951","v":"the (accusative, singular, feminine)"}]
[{"$f":"FlashCards!BY952","v":"οἱ"}," ",{"$f":"FlashCards!CD952","v":"the (nominative, plural, masculine)"}]
[{"$f":"FlashCards!BY953","v":"αἱ"}," ",{"$f":"FlashCards!CD953","v":"the (nominative, plural, feminine)"}]
[{"$f":"FlashCards!BY954","v":"τά"}," ",{"$f":"FlashCards!CD954","v":"the (nominative or accusative, plural, neuter)"}]
[{"$f":"FlashCards!BY955","v":"τῶν"}," ",{"$f":"FlashCards!CD955","v":"the/of the (genitive, plural, masculine, feminine, neuter)"}]
[{"$f":"FlashCards!BY956","v":"τοῖς"}," ",{"$f":"FlashCards!CD956","v":"the/ to the (dative, plural, masculine or neuter)"}]
[{"$f":"FlashCards!BY957","v":"ταῖς"}," ",{"$f":"FlashCards!CD957","v":"the/to the (dative, plural, feminine)"}]
[{"$f":"FlashCards!BY958","v":"τούς"}," ",{"$f":"FlashCards!CD958","v":"the (accusative, plural, masculine)"}]
[{"$f":"FlashCards!BY959","v":"τάς"}," ",{"$f":"FlashCards!CD959","v":"the (accusative, plural, feminine)"}]
[{"$f":"FlashCards!BY960","v":"ὅδε, ἥδε, τόδε"}," ",{"$f":"FlashCards!CD960","v":"this (one) [masc., fem., neut.]"}]
[{"$f":"FlashCards!BY961","v":"ἡ ὁδός"}," ",{"$f":"FlashCards!CD961","v":"way, road, journey, conduct"}]
[{"$f":"FlashCards!BY962","v":"ὁ ὀδούς"}," ",{"$f":"FlashCards!CD962","v":"tooth"}]
[{"$f":"FlashCards!BY963","v":"ὅθεν"}," ",{"$f":"FlashCards!CD963","v":"from where, for which reason"}]
[{"$f":"FlashCards!BY964","v":"τό ὀθόνιον"}," ",{"$f":"FlashCards!CD964","v":"linen, linen cloth"}]
[{"$f":"FlashCards!BY965","v":"ἡ οἰκία"}," ",{"$f":"FlashCards!CD965","v":"house, home, household"}]
[{"$f":"FlashCards!BY966","v":"ὁ οἰκοδεσπότης"}," ",{"$f":"FlashCards!CD966","v":"master of the house"}]
[{"$f":"FlashCards!BY967","v":"οἰκοδομέω"}," ",{"$f":"FlashCards!CD967","v":"I build, I construct"}]
[{"$f":"FlashCards!BY968","v":"ἡ οἰκοδομή"}," ",{"$f":"FlashCards!CD968","v":"building, edification"}]
[{"$f":"FlashCards!BY969","v":"ὁ οἰκονόμος"}," ",{"$f":"FlashCards!CD969","v":"steward, administrator"}]
[{"$f":"FlashCards!BY970","v":"ὁ οἶκος"}," ",{"$f":"FlashCards!CD970","v":"house, estate, clan"}]
[{"$f":"FlashCards!BY971","v":"ἡ οἰκουμένη"}," ",{"$f":"FlashCards!CD971","v":"(the) inhabited world"}]
[{"$f":"FlashCards!BY972","v":"ὁ οἶνος"}," ",{"$f":"FlashCards!CD972","v":"wine"}]
[{"$f":"FlashCards!BY973","v":"οἶος"}," ",{"$f":"FlashCards!CD973","v":"of what sort, such as"}]
[{"$f":"FlashCards!BY974","v":"ὀλίγος"}," ",{"$f":"FlashCards!CD974","v":"little, few"}]
[{"$f":"FlashCards!BY975","v":"ὅλος"}," ",{"$f":"FlashCards!CD975","v":"whole, complete"}]
[{"$f":"FlashCards!BY976","v":"ὅλος"}," ",{"$f":"FlashCards!CD976","v":"entirely, wholly"}]
[{"$f":"FlashCards!BY977","v":"ὁμιλέω"}," ",{"$f":"FlashCards!CD977","v":"I converse with, I keep company with"}]
[{"$f":"FlashCards!BY978","v":"ὀμνύω or ὄμνυμι"}," ",{"$f":"FlashCards!CD978","v":"I swear, I take an oath"}]
[{"$f":"FlashCards!BY979","v":"ὁμοθυμαδόν"}," ",{"$f":"FlashCards!CD979","v":"with one mind"}]
[{"$f":"FlashCards!BY980","v":"ὅμοιος"}," ",{"$f":"FlashCards!CD980","v":"like, similar"}]
[{"$f":"FlashCards!BY981","v":"ὁμοιόω"}," ",{"$f":"FlashCards!CD981","v":"I compare, I make like"}]
[{"$f":"FlashCards!BY982","v":"ὁμοίως"}," ",{"$f":"FlashCards!CD982","v":"likewise, in the same way"}]
[{"$f":"FlashCards!BY983","v":"ὁμολογέω"}," ",{"$f":"FlashCards!CD983","v":"I profess, I confess"}]
[{"$f":"FlashCards!BY984","v":"τό ὄνομα"}," ",{"$f":"FlashCards!CD984","v":"name, reputation"}]
[{"$f":"FlashCards!BY985","v":"τί ὄνομά σοι"}," ",{"$f":"FlashCards!CD985","v":"what is your name?"}]
[{"$f":"FlashCards!BY986","v":"ὀνομάζω"}," ",{"$f":"FlashCards!CD986","v":"I name"}]
[{"$f":"FlashCards!BY987","v":"ὄντωσ"}," ",{"$f":"FlashCards!CD987","v":"real"}]
[{"$f":"FlashCards!BY988","v":"ὄντωσ"}," ",{"$f":"FlashCards!CD988","v":"really"}]
[{"$f":"FlashCards!BY989","v":"ὀπίζω"}," ",{"$f":"FlashCards!CD989","v":"behind, after [genitive]"}]
[{"$f":"FlashCards!BY990","v":"ὅπου"}," ",{"$f":"FlashCards!CD990","v":"where"}]
[{"$f":"FlashCards!BY991","v":"ὀπτάνομαι"}," ",{"$f":"FlashCards!CD991","v":"I am seen"}]
[{"$f":"FlashCards!BY992","v":"ἡ ὀπτασία"}," ",{"$f":"FlashCards!CD992","v":"(a) vision"}]
[{"$f":"FlashCards!BY993","v":"ὅπως"}," ",{"$f":"FlashCards!CD993","v":"how, that, in order that"}]
[{"$f":"FlashCards!BY994","v":"τό ὅραμα"}," ",{"$f":"FlashCards!CD994","v":"vision"}]
[{"$f":"FlashCards!BY995","v":"ὁράω"}," ",{"$f":"FlashCards!CD995","v":"I see, I notice, I experience"}]
[{"$f":"FlashCards!BY996","v":"ἡ ὀργή"}," ",{"$f":"FlashCards!CD996","v":"wrath, anger"}]
[{"$f":"FlashCards!BY997","v":"ὁ ὄρθρος"}," ",{"$f":"FlashCards!CD997","v":"early dawn"}]
[{"$f":"FlashCards!BY998","v":"τό ὅριον"}," ",{"$f":"FlashCards!CD998","v":"region, boundary"}]
[{"$f":"FlashCards!BY999","v":"ὁ ὅρκος"}," ",{"$f":"FlashCards!CD999","v":"oath"}]
[{"$f":"FlashCards!BY1000","v":"τό ὄρος"}," ",{"$f":"FlashCards!CD1000","v":"mountain, hill"}]
[{"$f":"FlashCards!BY1001","v":"ὅς"}," ",{"$f":"FlashCards!CD1001","v":"who/which/that (nominative, singular, masculine)"}]
[{"$f":"FlashCards!BY1002","v":"ἥ"}," ",{"$f":"FlashCards!CD1002","v":"who/which/that (nominative, singular, feminine)"}]
[{"$f":"FlashCards!BY1003","v":"ὅ"}," ",{"$f":"FlashCards!CD1003","v":"who/whom/which/that (nominative or accusative, singular, neuter)"}]
[{"$f":"FlashCards!BY1004","v":"οὗ"}," ",{"$f":"FlashCards!CD1004","v":"of whom/of which/of whose (genitive, singular, masculine or neuter)"}]
[{"$f":"FlashCards!BY1005","v":"ἧς"}," ",{"$f":"FlashCards!CD1005","v":"of whom/of which/of whose (genitive, singular, feminine)"}]
[{"$f":"FlashCards!BY1006","v":"ᾧ"}," ",{"$f":"FlashCards!CD1006","v":"to whom/to which (dative, singular, masculine or neuter)"}]
[{"$f":"FlashCards!BY1007","v":"ᾗ"}," ",{"$f":"FlashCards!CD1007","v":"to whom/to which (dative, singular, feminine)"}]
[{"$f":"FlashCards!BY1008","v":"ὅν"}," ",{"$f":"FlashCards!CD1008","v":"whom/which/that (accusative, singular, masculine)"}]
[{"$f":"FlashCards!BY1009","v":"ἥν"}," ",{"$f":"FlashCards!CD1009","v":"whom/which/that (accusative, singular, feminine)"}]
[{"$f":"FlashCards!BY1010","v":"οἵ"}," ",{"$f":"FlashCards!CD1010","v":"who/which/that (nominative, plural, masculine)"}]
[{"$f":"FlashCards!BY1011","v":"αἵ"}," ",{"$f":"FlashCards!CD1011","v":"who/which/that (nominative, plural, feminine)"}]
[{"$f":"FlashCards!BY1012","v":"ἅ"}," ",{"$f":"FlashCards!CD1012","v":"who/which/that/whom (nominative or accusative, plural, neuter)"}]
[{"$f":"FlashCards!BY1013","v":"ὧν"}," ",{"$f":"FlashCards!CD1013","v":"of whom/of which/of whose (genitive, plural, masculine, feminine, neuter)"}]
[{"$f":"FlashCards!BY1014","v":"οἷς"}," ",{"$f":"FlashCards!CD1014","v":"to whom/to which (dative, plural, masculine or neuter)"}]
[{"$f":"FlashCards!BY1015","v":"αἷς"}," ",{"$f":"FlashCards!CD1015","v":"to whom/to which (dative, plural, feminine)"}]
[{"$f":"FlashCards!BY1016","v":"οὕς"}," ",{"$f":"FlashCards!CD1016","v":"whom/which (accusative, plural, masculine)"}]
[{"$f":"FlashCards!BY1017","v":"ἅς"}," ",{"$f":"FlashCards!CD1017","v":"whom/which (accusative, plural, feminine)"}]
[{"$f":"FlashCards!BY1018","v":"ὅ τι"}," ",{"$f":"FlashCards!CD1018","v":"whoever, whichever, whatever (neuter; 2 words)"}]
[{"$f":"FlashCards!BY1019","v":"ὅς ἐὰν"}," ",{"$f":"FlashCards!CD1019","v":"whoever"}]
[{"$f":"FlashCards!BY1020","v":"ὅσος"}," ",{"$f":"FlashCards!CD1020","v":"as great as, as many as"}]
[{"$f":"FlashCards!BY1021","v":"τό ὀστέον, ὀστοῦν"}," ",{"$f":"FlashCards!CD1021","v":"bone"}]
[{"$f":"FlashCards!BY1022","v":"ἥτις"}," ",{"$f":"FlashCards!CD1022","v":"whoever, whichever, whatever (feminine)"}]
[{"$f":"FlashCards!BY1023","v":"ὅστις"}," ",{"$f":"FlashCards!CD1023","v":"whoever, whichever, whatever (masculine)"}]
[{"$f":"FlashCards!BY1024","v":"ὅτι"}," ",{"$f":"FlashCards!CD1024","v":"whoever, whichever, whatever (neuter) (usually appears as ὅ τι)"}]
[{"$f":"FlashCards!BY1025","v":"ὅταν"}," ",{"$f":"FlashCards!CD1025","v":"whenever"}]
[{"$f":"FlashCards!BY1026","v":"ὄτε"}," ",{"$f":"FlashCards!CD1026","v":"when"}]
[{"$f":"FlashCards!BY1027","v":"ὅτι"}," ",{"$f":"FlashCards!CD1027","v":"that, since, because, or begin a quotation"}]
[{"$f":"FlashCards!BY1028","v":"οὐ, οὐκ, οὐχ "}," ",{"$f":"FlashCards!CD1028","v":"not (particle; used in indicative moods)"}]
[{"$f":"FlashCards!BY1029","v":"οὐ μή"}," ",{"$f":"FlashCards!CD1029","v":"no! (emphatic)"}]
[{"$f":"FlashCards!BY1030","v":"οὗ"}," ",{"$f":"FlashCards!CD1030","v":"where"}]
[{"$f":"FlashCards!BY1031","v":"οὐαί"}," ",{"$f":"FlashCards!CD1031","v":"woe!, alas!"}]
[{"$f":"FlashCards!BY1032","v":"οὐδέ"}," ",{"$f":"FlashCards!CD1032","v":"and not, not even, neither, nor"}]
[{"$f":"FlashCards!BY1033","v":"οὐδείς"}," ",{"$f":"FlashCards!CD1033","v":"no one, none, nothing (masculine)"}]
[{"$f":"FlashCards!BY1034","v":"οὐδεμία"}," ",{"$f":"FlashCards!CD1034","v":"no one, none, nothing (feminine)"}]
[{"$f":"FlashCards!BY1035","v":"οὐδέν"}," ",{"$f":"FlashCards!CD1035","v":"no one, none, nothing (neuter)"}]
[{"$f":"FlashCards!BY1036","v":"οὐδέποτε"}," ",{"$f":"FlashCards!CD1036","v":"never"}]
[{"$f":"FlashCards!BY1037","v":"οὐκέτι"}," ",{"$f":"FlashCards!CD1037","v":"no longer"}]
[{"$f":"FlashCards!BY1038","v":"οὐκοῦν"}," ",{"$f":"FlashCards!CD1038","v":"so, then (particle introducing a question)"}]
[{"$f":"FlashCards!BY1039","v":"οὖν"}," ",{"$f":"FlashCards!CD1039","v":"so, therefore, accordingly, then (particle)"}]
[{"$f":"FlashCards!BY1040","v":"οὔπω"}," ",{"$f":"FlashCards!CD1040","v":"not yet"}]
[{"$f":"FlashCards!BY1041","v":"οὐράνιος"}," ",{"$f":"FlashCards!CD1041","v":"heavenly"}]
[{"$f":"FlashCards!BY1042","v":"ὁ οὐρανός"}," ",{"$f":"FlashCards!CD1042","v":"sky, heaven"}]
[{"$f":"FlashCards!BY1043","v":"τό οὖς, [ὠτός]"}," ",{"$f":"FlashCards!CD1043","v":"ear"}]
[{"$f":"FlashCards!BY1044","v":"οὔτε"}," ",{"$f":"FlashCards!CD1044","v":"and not, neither, nor"}]
[{"$f":"FlashCards!BY1045","v":"οὗτος"}," ",{"$f":"FlashCards!CD1045","v":"this one (nominative, singular, masculine)"}]
[{"$f":"FlashCards!BY1046","v":"οὗτος"}," ",{"$f":"FlashCards!CD1046","v":"this (nominative, singular, masculine)"}]
[{"$f":"FlashCards!BY1047","v":"αὗτη"}," ",{"$f":"FlashCards!CD1047","v":"this one (nominative, singular, feminine)"}]
[{"$f":"FlashCards!BY1048","v":"αὗτη"}," ",{"$f":"FlashCards!CD1048","v":"this (nominative, singular, feminine)"}]
[{"$f":"FlashCards!BY1049","v":"ταύτης"}," ",{"$f":"FlashCards!CD1049","v":"of this (genitive, singular, feminine)"}]
[{"$f":"FlashCards!BY1050","v":"ταύτην"}," ",{"$f":"FlashCards!CD1050","v":"this (accusative, singular, feminine)"}]
[{"$f":"FlashCards!BY1051","v":"οὗτοι"}," ",{"$f":"FlashCards!CD1051","v":"these (nominative, plural, masculine)"}]
[{"$f":"FlashCards!BY1052","v":"αὗται"}," ",{"$f":"FlashCards!CD1052","v":"these (nominative, plural, feminine)"}]
[{"$f":"FlashCards!BY1053","v":"ταύτας"}," ",{"$f":"FlashCards!CD1053","v":"these (accusative, plural, feminine)"}]
[{"$f":"FlashCards!BY1054","v":"οὕτως"}," ",{"$f":"FlashCards!CD1054","v":"thus, so, in this manner"}]
[{"$f":"FlashCards!BY1055","v":"οὐχί"}," ",{"$f":"FlashCards!CD1055","v":"not"}]
[{"$f":"FlashCards!BY1056","v":"ὀφείλω"}," ",{"$f":"FlashCards!CD1056","v":"I owe, I ought"}]
[{"$f":"FlashCards!BY1057","v":"ὁ ὀφθαλμός"}," ",{"$f":"FlashCards!CD1057","v":"eye, sight, vision"}]
[{"$f":"FlashCards!BY1058","v":"ὁ ὄφις"}," ",{"$f":"FlashCards!CD1058","v":"serpent"}]
[{"$f":"FlashCards!BY1059","v":"ὁ ὄχλος"}," ",{"$f":"FlashCards!CD1059","v":"crowd, multitude"}]
[{"$f":"FlashCards!BY1060","v":"ὄψιος"}," ",{"$f":"FlashCards!CD1060","v":"evening"}]
[{"$f":"FlashCards!BY1061","v":"τό πάθημα"}," ",{"$f":"FlashCards!CD1061","v":"suffering"}]
[{"$f":"FlashCards!BY1062","v":"παιδεύω"}," ",{"$f":"FlashCards!CD1062","v":"I train, I discipline"}]
[{"$f":"FlashCards!BY1063","v":"τό παιδίον"}," ",{"$f":"FlashCards!CD1063","v":"child, infant"}]
[{"$f":"FlashCards!BY1064","v":"ἡ παιδίσκη"}," ",{"$f":"FlashCards!CD1064","v":"maid, servant"}]
[{"$f":"FlashCards!BY1065","v":"ὁ παιδός, παῖς"}," ",{"$f":"FlashCards!CD1065","v":"boy, son, servant, girl (when feminine)"}]
[{"$f":"FlashCards!BY1066","v":"ἡ παῖς"}," ",{"$f":"FlashCards!CD1066","v":"girl"}]
[{"$f":"FlashCards!BY1067","v":"παλαιός"}," ",{"$f":"FlashCards!CD1067","v":"old"}]
[{"$f":"FlashCards!BY1068","v":"πάλιν"}," ",{"$f":"FlashCards!CD1068","v":"again"}]
[{"$f":"FlashCards!BY1069","v":"ὁ παντοκράτωρ"}," ",{"$f":"FlashCards!CD1069","v":"almighty (one)"}]
[{"$f":"FlashCards!BY1070","v":"πάντοτε"}," ",{"$f":"FlashCards!CD1070","v":"always"}]
[{"$f":"FlashCards!BY1071","v":"πάντως"}," ",{"$f":"FlashCards!CD1071","v":"surely, certainly, by all possible means, quite (particle)"}]
[{"$f":"FlashCards!BY1072","v":"παρά (παρʼ) [accusative]"}," ",{"$f":"FlashCards!CD1072","v":"alongside of [accusative]"}]
[{"$f":"FlashCards!BY1073","v":"παρά (παρʼ) [dative]"}," ",{"$f":"FlashCards!CD1073","v":"beside, in the presence of [dative]"}]
[{"$f":"FlashCards!BY1074","v":"παρά (παρʼ) [genitive]"}," ",{"$f":"FlashCards!CD1074","v":"from [genitive]"}]
[{"$f":"FlashCards!BY1075","v":"ἡ παραβολή"}," ",{"$f":"FlashCards!CD1075","v":"parable"}]
[{"$f":"FlashCards!BY1076","v":"παραγγέλλω"}," ",{"$f":"FlashCards!CD1076","v":"I command"}]
[{"$f":"FlashCards!BY1077","v":"παραγίνομαι"}," ",{"$f":"FlashCards!CD1077","v":"I arrive, I come"}]
[{"$f":"FlashCards!BY1078","v":"παράγω"}," ",{"$f":"FlashCards!CD1078","v":"I pass by"}]
[{"$f":"FlashCards!BY1079","v":"ὁ παράδεισος"}," ",{"$f":"FlashCards!CD1079","v":"paradise"}]
[{"$f":"FlashCards!BY1080","v":"παραδίδωμι"}," ",{"$f":"FlashCards!CD1080","v":"I deliver, I entrust, I hand over, I betray"}]
[{"$f":"FlashCards!BY1081","v":"ἡ παράδοσις"}," ",{"$f":"FlashCards!CD1081","v":"tradition"}]
[{"$f":"FlashCards!BY1082","v":"παραιτέομαι"}," ",{"$f":"FlashCards!CD1082","v":"I reject, I refuse, I decline"}]
[{"$f":"FlashCards!BY1083","v":"παρακαλέω"}," ",{"$f":"FlashCards!CD1083","v":"I urge, I call (to myself), I implore, I comfort"}]
[{"$f":"FlashCards!BY1084","v":"ἡ παράκλησις"}," ",{"$f":"FlashCards!CD1084","v":"comfort, encouragement"}]
[{"$f":"FlashCards!BY1085","v":"ὁ παράκλητος"}," ",{"$f":"FlashCards!CD1085","v":"advocate"}]
[{"$f":"FlashCards!BY1086","v":"παρακύπτω"}," ",{"$f":"FlashCards!CD1086","v":"I examine, I stoop to examine"}]
[{"$f":"FlashCards!BY1087","v":"παραλαμβάνω"}," ",{"$f":"FlashCards!CD1087","v":"I take over, I take"}]
[{"$f":"FlashCards!BY1088","v":"παραλυτικός"}," ",{"$f":"FlashCards!CD1088","v":"lame"}]
[{"$f":"FlashCards!BY1089","v":"ὁ παραλυτικός"}," ",{"$f":"FlashCards!CD1089","v":"paralytic (one)"}]
[{"$f":"FlashCards!BY1090","v":"τό παράπτωμα"}," ",{"$f":"FlashCards!CD1090","v":"wrongdoing, sin"}]
[{"$f":"FlashCards!BY1091","v":"παρατίθημι"}," ",{"$f":"FlashCards!CD1091","v":"I set before, I entrust"}]
[{"$f":"FlashCards!BY1092","v":"παραχρῆμα"}," ",{"$f":"FlashCards!CD1092","v":"immediately"}]
[{"$f":"FlashCards!BY1093","v":"πάρειμι"}," ",{"$f":"FlashCards!CD1093","v":"I am present, I have arrived"}]
[{"$f":"FlashCards!BY1094","v":"ἡ παρεμβολή"}," ",{"$f":"FlashCards!CD1094","v":"barracks, camp"}]
[{"$f":"FlashCards!BY1095","v":"παρέρχομαι"}," ",{"$f":"FlashCards!CD1095","v":"I pass away, I pass by"}]
[{"$f":"FlashCards!BY1096","v":"παρέχω"}," ",{"$f":"FlashCards!CD1096","v":"I offer"}]
[{"$f":"FlashCards!BY1097","v":"ἡ παρθένος"}," ",{"$f":"FlashCards!CD1097","v":"virgin"}]
[{"$f":"FlashCards!BY1098","v":"παρίστημι"}," ",{"$f":"FlashCards!CD1098","v":"I present, I am present, I stand with"}]
[{"$f":"FlashCards!BY1099","v":"παροικέω"}," ",{"$f":"FlashCards!CD1099","v":"I visit or I dwell (as an outsider)"}]
[{"$f":"FlashCards!BY1100","v":"ἡ παρουσία"}," ",{"$f":"FlashCards!CD1100","v":"presence, coming"}]
[{"$f":"FlashCards!BY1101","v":"ἡ παρρησία"}," ",{"$f":"FlashCards!CD1101","v":"boldness, openness, confidence"}]
[{"$f":"FlashCards!BY1102","v":"πᾶν"}," ",{"$f":"FlashCards!CD1102","v":"each, every, all (neuter)"}]
[{"$f":"FlashCards!BY1103","v":"πᾶς"}," ",{"$f":"FlashCards!CD1103","v":"each, every, all (masculine)"}]
[{"$f":"FlashCards!BY1104","v":"πᾶσα"}," ",{"$f":"FlashCards!CD1104","v":"each, every, all (feminine)"}]
[{"$f":"FlashCards!BY1105","v":"τό πάσχα"}," ",{"$f":"FlashCards!CD1105","v":"Passover"}]
[{"$f":"FlashCards!BY1106","v":"πάσχω"}," ",{"$f":"FlashCards!CD1106","v":"I suffer"}]
[{"$f":"FlashCards!BY1107","v":"πατάσσω"}," ",{"$f":"FlashCards!CD1107","v":"I strike"}]
[{"$f":"FlashCards!BY1108","v":"ὁ πατήρ"}," ",{"$f":"FlashCards!CD1108","v":"father"}]
[{"$f":"FlashCards!BY1109","v":"ὁ Παῦλος"}," ",{"$f":"FlashCards!CD1109","v":"Paul"}]
[{"$f":"FlashCards!BY1110","v":"παύω"}," ",{"$f":"FlashCards!CD1110","v":"I pause, I stop, I cease; I cause to stop or cease"}]
[{"$f":"FlashCards!BY1111","v":"πείθω"}," ",{"$f":"FlashCards!CD1111","v":"I persuade"}]
[{"$f":"FlashCards!BY1112","v":"πεινάω"}," ",{"$f":"FlashCards!CD1112","v":"I hunger, I am hungry, I need"}]
[{"$f":"FlashCards!BY1113","v":"πειράζω"}," ",{"$f":"FlashCards!CD1113","v":"I test, I tempt"}]
[{"$f":"FlashCards!BY1114","v":"ὁ πειρασμός"}," ",{"$f":"FlashCards!CD1114","v":"temptation, test"}]
[{"$f":"FlashCards!BY1115","v":"πέμπω"}," ",{"$f":"FlashCards!CD1115","v":"I send"}]
[{"$f":"FlashCards!BY1116","v":"πενθέω"}," ",{"$f":"FlashCards!CD1116","v":"I mourn"}]
[{"$f":"FlashCards!BY1117","v":"πέντε"}," ",{"$f":"FlashCards!CD1117","v":"five"}]
[{"$f":"FlashCards!BY1118","v":"πέραν"}," ",{"$f":"FlashCards!CD1118","v":"on the other side"}]
[{"$f":"FlashCards!BY1119","v":"περί [accusative]"}," ",{"$f":"FlashCards!CD1119","v":"around [accusative]"}]
[{"$f":"FlashCards!BY1120","v":"περί [genitive]"}," ",{"$f":"FlashCards!CD1120","v":"concerning, about [genitive]"}]
[{"$f":"FlashCards!BY1121","v":"περιβάλλω"}," ",{"$f":"FlashCards!CD1121","v":"I put on, I clothe"}]
[{"$f":"FlashCards!BY1122","v":"περιμένω"}," ",{"$f":"FlashCards!CD1122","v":"I wait, I remain"}]
[{"$f":"FlashCards!BY1123","v":"περιπατέω"}," ",{"$f":"FlashCards!CD1123","v":"I walk, I walk around, I live"}]
[{"$f":"FlashCards!BY1124","v":"περισσεύω"}," ",{"$f":"FlashCards!CD1124","v":"I abound, I exceed"}]
[{"$f":"FlashCards!BY1125","v":"περισσότερος"}," ",{"$f":"FlashCards!CD1125","v":"greater, more"}]
[{"$f":"FlashCards!BY1126","v":"περισσοτέρως"}," ",{"$f":"FlashCards!CD1126","v":"greatly, greater, more"}]
[{"$f":"FlashCards!BY1127","v":"ἡ περιστερά"}," ",{"$f":"FlashCards!CD1127","v":"dove"}]
[{"$f":"FlashCards!BY1128","v":"περιτέμνω"}," ",{"$f":"FlashCards!CD1128","v":"I circumcise, I cut around"}]
[{"$f":"FlashCards!BY1129","v":"ἡ περιτομή"}," ",{"$f":"FlashCards!CD1129","v":"circumcision"}]
[{"$f":"FlashCards!BY1130","v":"τό πετεινόν"}," ",{"$f":"FlashCards!CD1130","v":"bird"}]
[{"$f":"FlashCards!BY1131","v":"ἡ πέτρα"}," ",{"$f":"FlashCards!CD1131","v":"rock, solid rock"}]
[{"$f":"FlashCards!BY1132","v":"ὁ Πέτρος"}," ",{"$f":"FlashCards!CD1132","v":"Peter"}]
[{"$f":"FlashCards!BY1133","v":"ἡ πηγή"}," ",{"$f":"FlashCards!CD1133","v":"spring, fountain"}]
[{"$f":"FlashCards!BY1134","v":"πιάζω"}," ",{"$f":"FlashCards!CD1134","v":"I seize, I take hold of"}]
[{"$f":"FlashCards!BY1135","v":"ὁ Πιλᾶτος"}," ",{"$f":"FlashCards!CD1135","v":"Pilate"}]
[{"$f":"FlashCards!BY1136","v":"πίνω"}," ",{"$f":"FlashCards!CD1136","v":"I drink"}]
[{"$f":"FlashCards!BY1137","v":"πίπτω"}," ",{"$f":"FlashCards!CD1137","v":"I fall"}]
[{"$f":"FlashCards!BY1138","v":"πιστεύω"}," ",{"$f":"FlashCards!CD1138","v":"I believe, I trust, I have faith (in)"}]
[{"$f":"FlashCards!BY1139","v":"ἡ πίστις"}," ",{"$f":"FlashCards!CD1139","v":"trust, faith, belief, teaching"}]
[{"$f":"FlashCards!BY1140","v":"πιστός"}," ",{"$f":"FlashCards!CD1140","v":"faithful, believing"}]
[{"$f":"FlashCards!BY1141","v":"πλανάω"}," ",{"$f":"FlashCards!CD1141","v":"I go astray, I mislead"}]
[{"$f":"FlashCards!BY1142","v":"ἡ πλάνη"}," ",{"$f":"FlashCards!CD1142","v":"error, mistake"}]
[{"$f":"FlashCards!BY1143","v":"πολλή"}," ",{"$f":"FlashCards!CD1143","v":"much, many, often (feminine)"}]
[{"$f":"FlashCards!BY1144","v":"πολύ"}," ",{"$f":"FlashCards!CD1144","v":"much, many, often (neuter)"}]
[{"$f":"FlashCards!BY1145","v":"πολύς"}," ",{"$f":"FlashCards!CD1145","v":"much, many, often (masculine)"}]
[{"$f":"FlashCards!BY1146","v":"πλεῖον"}," ",{"$f":"FlashCards!CD1146","v":"larger, more (neuter)"}]
[{"$f":"FlashCards!BY1147","v":"πλείων"}," ",{"$f":"FlashCards!CD1147","v":"larger, more (masculine or feminine)"}]
[{"$f":"FlashCards!BY1148","v":"ἡ πλεονεξία"}," ",{"$f":"FlashCards!CD1148","v":"greed, greediness"}]
[{"$f":"FlashCards!BY1149","v":"ἡ πληγή"}," ",{"$f":"FlashCards!CD1149","v":"plague, blow, wound, affliction"}]
[{"$f":"FlashCards!BY1150","v":"τό πλῆθος"}," ",{"$f":"FlashCards!CD1150","v":"multitude"}]
[{"$f":"FlashCards!BY1151","v":"πληθύνω"}," ",{"$f":"FlashCards!CD1151","v":"I multiply, I increase"}]
[{"$f":"FlashCards!BY1152","v":"πίμπλημι"}," ",{"$f":"FlashCards!CD1152","v":"I fulfill, I fill"}]
[{"$f":"FlashCards!BY1153","v":"πλήν"}," ",{"$f":"FlashCards!CD1153","v":"nevertheless, but, except (particle)"}]
[{"$f":"FlashCards!BY1154","v":"   πλήρης"}," ",{"$f":"FlashCards!CD1154","v":"full"}]
[{"$f":"FlashCards!BY1155","v":"πληρόω"}," ",{"$f":"FlashCards!CD1155","v":"I fill, I fulfill, I complete"}]
[{"$f":"FlashCards!BY1156","v":"τό πλήρωμα"}," ",{"$f":"FlashCards!CD1156","v":"fullness"}]
[{"$f":"FlashCards!BY1157","v":"πλησίον"}," ",{"$f":"FlashCards!CD1157","v":"near"}]
[{"$f":"FlashCards!BY1158","v":"ὁ πλησίον"}," ",{"$f":"FlashCards!CD1158","v":"neighbor"}]
[{"$f":"FlashCards!BY1159","v":"τό πλοῖον"}," ",{"$f":"FlashCards!CD1159","v":"ship, boat"}]
[{"$f":"FlashCards!BY1160","v":"πλούσιος"}," ",{"$f":"FlashCards!CD1160","v":"rich"}]
[{"$f":"FlashCards!BY1161","v":"πλουτέω"}," ",{"$f":"FlashCards!CD1161","v":"I am rich"}]
[{"$f":"FlashCards!BY1162","v":"ὁ πλοῦτος"}," ",{"$f":"FlashCards!CD1162","v":"wealth"}]
[{"$f":"FlashCards!BY1163","v":"τό πνεῦμα"}," ",{"$f":"FlashCards!CD1163","v":"breath, wind, spirit, air, inner life"}]
[{"$f":"FlashCards!BY1164","v":"πνευματικός"}," ",{"$f":"FlashCards!CD1164","v":"spiritual"}]
[{"$f":"FlashCards!BY1165","v":"πόθεν"}," ",{"$f":"FlashCards!CD1165","v":"from where? from whom?"}]
[{"$f":"FlashCards!BY1166","v":"ποιέω"}," ",{"$f":"FlashCards!CD1166","v":"I do, I make"}]
[{"$f":"FlashCards!BY1167","v":"ποικίλος"}," ",{"$f":"FlashCards!CD1167","v":"diverse, manifold, varied, various"}]
[{"$f":"FlashCards!BY1168","v":"ποιμαίνω"}," ",{"$f":"FlashCards!CD1168","v":"I shepherd"}]
[{"$f":"FlashCards!BY1169","v":"ὁ ποιμήν"}," ",{"$f":"FlashCards!CD1169","v":"shepherd"}]
[{"$f":"FlashCards!BY1170","v":"ποῖος"}," ",{"$f":"FlashCards!CD1170","v":"which? of what kind? what?"}]
[{"$f":"FlashCards!BY1171","v":"ἐν ποία"}," ",{"$f":"FlashCards!CD1171","v":"by what?"}]
[{"$f":"FlashCards!BY1172","v":"ὁ πόλεμος"}," ",{"$f":"FlashCards!CD1172","v":"war, battle"}]
[{"$f":"FlashCards!BY1173","v":"ἡ πόλις"}," ",{"$f":"FlashCards!CD1173","v":"city, town"}]
[{"$f":"FlashCards!BY1174","v":"πολλάκις"}," ",{"$f":"FlashCards!CD1174","v":"often, frequently"}]
[{"$f":"FlashCards!BY1175","v":"πονηρός"}," ",{"$f":"FlashCards!CD1175","v":"evil, bad"}]
[{"$f":"FlashCards!BY1176","v":"πορεύομαι"}," ",{"$f":"FlashCards!CD1176","v":"I go, I proceed, I live"}]
[{"$f":"FlashCards!BY1177","v":"ἡ πορνεία"}," ",{"$f":"FlashCards!CD1177","v":"fornication"}]
[{"$f":"FlashCards!BY1178","v":"ἡ πόρνη"}," ",{"$f":"FlashCards!CD1178","v":"prostitute"}]
[{"$f":"FlashCards!BY1179","v":"ὁ πόρνος "}," ",{"$f":"FlashCards!CD1179","v":"fornicator"}]
[{"$f":"FlashCards!BY1180","v":"πόσος"}," ",{"$f":"FlashCards!CD1180","v":"how great? how much? how many"}]
[{"$f":"FlashCards!BY1181","v":"ὁ ποταμός"}," ",{"$f":"FlashCards!CD1181","v":"river"}]
[{"$f":"FlashCards!BY1182","v":"ποτέ"}," ",{"$f":"FlashCards!CD1182","v":"at some time, once, at one time"}]
[{"$f":"FlashCards!BY1183","v":"πότε"}," ",{"$f":"FlashCards!CD1183","v":"when?"}]
[{"$f":"FlashCards!BY1184","v":"τό ποτήριον"}," ",{"$f":"FlashCards!CD1184","v":"cup"}]
[{"$f":"FlashCards!BY1185","v":"ποτίζω"}," ",{"$f":"FlashCards!CD1185","v":"I give to drink"}]
[{"$f":"FlashCards!BY1186","v":"ποῦ"}," ",{"$f":"FlashCards!CD1186","v":"where? (particle)"}]
[{"$f":"FlashCards!BY1187","v":"ὁ πούς (ποδός)"}," ",{"$f":"FlashCards!CD1187","v":"foot"}]
[{"$f":"FlashCards!BY1188","v":"τό πρᾶγμα"}," ",{"$f":"FlashCards!CD1188","v":"deed, thing, matter"}]
[{"$f":"FlashCards!BY1189","v":"πράσσω"}," ",{"$f":"FlashCards!CD1189","v":"I do"}]
[{"$f":"FlashCards!BY1190","v":"ἡ πραΰτης"}," ",{"$f":"FlashCards!CD1190","v":"gentleness, humility"}]
[{"$f":"FlashCards!BY1191","v":"πρεσβύτερος [adjective]"}," ",{"$f":"FlashCards!CD1191","v":"older"}]
[{"$f":"FlashCards!BY1192","v":"ὁ πρεσβύτερος [noun]"}," ",{"$f":"FlashCards!CD1192","v":"elder"}]
[{"$f":"FlashCards!BY1193","v":"πρίν"}," ",{"$f":"FlashCards!CD1193","v":"before"}]
[{"$f":"FlashCards!BY1194","v":"πρό"}," ",{"$f":"FlashCards!CD1194","v":"before [genitive]"}]
[{"$f":"FlashCards!BY1195","v":"προάγω"}," ",{"$f":"FlashCards!CD1195","v":"I go before"}]
[{"$f":"FlashCards!BY1196","v":"τό πρόβατον"}," ",{"$f":"FlashCards!CD1196","v":"sheep, grazing animal"}]
[{"$f":"FlashCards!BY1197","v":"ἡ πρόθεσις"}," ",{"$f":"FlashCards!CD1197","v":"plan, purpose"}]
[{"$f":"FlashCards!BY1198","v":"προλέγω"}," ",{"$f":"FlashCards!CD1198","v":"I tell beforehand"}]
[{"$f":"FlashCards!BY1199","v":"πρός [accusative]"}," ",{"$f":"FlashCards!CD1199","v":"to, towards, with [accusative]"}]
[{"$f":"FlashCards!BY1200","v":"προσδέχομαι"}," ",{"$f":"FlashCards!CD1200","v":"I receive, I wait for"}]
[{"$f":"FlashCards!BY1201","v":"προσδοκάω"}," ",{"$f":"FlashCards!CD1201","v":"I expect, I wait for"}]
[{"$f":"FlashCards!BY1202","v":"προσέρχομαι"}," ",{"$f":"FlashCards!CD1202","v":"I come, I go to"}]
[{"$f":"FlashCards!BY1203","v":"ἡ προσευχή"}," ",{"$f":"FlashCards!CD1203","v":"prayer"}]
[{"$f":"FlashCards!BY1204","v":"προσεύχομαι"}," ",{"$f":"FlashCards!CD1204","v":"I pray"}]
[{"$f":"FlashCards!BY1205","v":"προσέχω"}," ",{"$f":"FlashCards!CD1205","v":"I am concerned about, I give heed to"}]
[{"$f":"FlashCards!BY1206","v":"προσκαλέω"}," ",{"$f":"FlashCards!CD1206","v":"I summon"}]
[{"$f":"FlashCards!BY1207","v":"προσκαρτερέω"}," ",{"$f":"FlashCards!CD1207","v":"I am devoted to, I am faithful"}]
[{"$f":"FlashCards!BY1208","v":"προσκυνέω"}," ",{"$f":"FlashCards!CD1208","v":"I worship"}]
[{"$f":"FlashCards!BY1209","v":"προσλαμβάνω"}," ",{"$f":"FlashCards!CD1209","v":"I receive"}]
[{"$f":"FlashCards!BY1210","v":"προστίθημι"}," ",{"$f":"FlashCards!CD1210","v":"I add to, I increase"}]
[{"$f":"FlashCards!BY1211","v":"προσφέρω"}," ",{"$f":"FlashCards!CD1211","v":"I bring to, I offer, I present"}]
[{"$f":"FlashCards!BY1212","v":"τό πρόσωπον"}," ",{"$f":"FlashCards!CD1212","v":"face, appearance"}]
[{"$f":"FlashCards!BY1213","v":"πρότερος"}," ",{"$f":"FlashCards!CD1213","v":"former, earlier"}]
[{"$f":"FlashCards!BY1214","v":"ἡ προφητεία"}," ",{"$f":"FlashCards!CD1214","v":"prophecy"}]
[{"$f":"FlashCards!BY1215","v":"προφητεύω"}," ",{"$f":"FlashCards!CD1215","v":"I prophesy"}]
[{"$f":"FlashCards!BY1216","v":"ὁ προφήτης"}," ",{"$f":"FlashCards!CD1216","v":"prophet"}]
[{"$f":"FlashCards!BY1217","v":"πρωΐ"}," ",{"$f":"FlashCards!CD1217","v":"early (in the morning)"}]
[{"$f":"FlashCards!BY1218","v":"πρῶτος"}," ",{"$f":"FlashCards!CD1218","v":"first, earlier"}]
[{"$f":"FlashCards!BY1219","v":"ὁ πρωτότοκος"}," ",{"$f":"FlashCards!CD1219","v":"firstborn"}]
[{"$f":"FlashCards!BY1220","v":"πτωχός"}," ",{"$f":"FlashCards!CD1220","v":"poor"}]
[{"$f":"FlashCards!BY1221","v":"ὁ πτωχός"}," ",{"$f":"FlashCards!CD1221","v":"poor (person)"}]
[{"$f":"FlashCards!BY1222","v":"ἡ πύλη"}," ",{"$f":"FlashCards!CD1222","v":"gate, (large) door"}]
[{"$f":"FlashCards!BY1223","v":"ὁ πυλών"}," ",{"$f":"FlashCards!CD1223","v":"gateway, gate"}]
[{"$f":"FlashCards!BY1224","v":"πυνθάνομαι"}," ",{"$f":"FlashCards!CD1224","v":"I inquire"}]
[{"$f":"FlashCards!BY1225","v":"τό πῦρ"}," ",{"$f":"FlashCards!CD1225","v":"fire"}]
[{"$f":"FlashCards!BY1226","v":"πωλέω"}," ",{"$f":"FlashCards!CD1226","v":"I sell"}]
[{"$f":"FlashCards!BY1227","v":"ὁ πῶλος"}," ",{"$f":"FlashCards!CD1227","v":"colt"}]
[{"$f":"FlashCards!BY1228","v":"πώς"}," ",{"$f":"FlashCards!CD1228","v":"somehow, perhaps (note the acute mark)"}]
[{"$f":"FlashCards!BY1229","v":"πῶς"}," ",{"$f":"FlashCards!CD1229","v":"how? (note the circumflex)"}]
[{"$f":"FlashCards!BY1230","v":"ὁ ῥαββί"}," ",{"$f":"FlashCards!CD1230","v":"rabbi, teacher, master"}]
[{"$f":"FlashCards!BY1231","v":"ἡ ῥάβδος"}," ",{"$f":"FlashCards!CD1231","v":"staff, rod"}]
[{"$f":"FlashCards!BY1232","v":"τό ῥῆμα"}," ",{"$f":"FlashCards!CD1232","v":"saying, word"}]
[{"$f":"FlashCards!BY1233","v":"ἡ ῥίζα"}," ",{"$f":"FlashCards!CD1233","v":"root"}]
[{"$f":"FlashCards!BY1234","v":"ῥύομαι"}," ",{"$f":"FlashCards!CD1234","v":"I rescue"}]
[{"$f":"FlashCards!BY1235","v":"Ῥωμαῖος"}," ",{"$f":"FlashCards!CD1235","v":"Roman"}]
[{"$f":"FlashCards!BY1236","v":"τό σάββατον"}," ",{"$f":"FlashCards!CD1236","v":"sabbath, week"}]
[{"$f":"FlashCards!BY1237","v":"ὁ Σαδδουκαῖος"}," ",{"$f":"FlashCards!CD1237","v":"Sadducee"}]
[{"$f":"FlashCards!BY1238","v":"σαλεύω"}," ",{"$f":"FlashCards!CD1238","v":"I shake"}]
[{"$f":"FlashCards!BY1239","v":"ἡ σάλπιγξ"}," ",{"$f":"FlashCards!CD1239","v":"trumpet"}]
[{"$f":"FlashCards!BY1240","v":"σαλπίζω"}," ",{"$f":"FlashCards!CD1240","v":"I blow (a) trumpet"}]
[{"$f":"FlashCards!BY1241","v":"ἡ Σαμάρεια"}," ",{"$f":"FlashCards!CD1241","v":"Samaria"}]
[{"$f":"FlashCards!BY1242","v":"ἡ σάρξ"}," ",{"$f":"FlashCards!CD1242","v":"flesh, body"}]
[{"$f":"FlashCards!BY1243","v":"ὁ σατανάς"}," ",{"$f":"FlashCards!CD1243","v":"satan, adversary"}]
[{"$f":"FlashCards!BY1244","v":"ὁ Σαῦλος"}," ",{"$f":"FlashCards!CD1244","v":"Saul"}]
[{"$f":"FlashCards!BY1245","v":"σύ"}," ",{"$f":"FlashCards!CD1245","v":"you (singular)"}]
[{"$f":"FlashCards!BY1246","v":"σε"}," ",{"$f":"FlashCards!CD1246","v":"you (accusative singular)"}]
[{"$f":"FlashCards!BY1247","v":"σέ"}," ",{"$f":"FlashCards!CD1247","v":"you (emphatic accusative singular)"}]
[{"$f":"FlashCards!BY1248","v":"σοῦ"}," ",{"$f":"FlashCards!CD1248","v":"your/of you (emphatic genitive singular)"}]
[{"$f":"FlashCards!BY1249","v":"σύ"}," ",{"$f":"FlashCards!CD1249","v":"you (nominative singular)"}]
[{"$f":"FlashCards!BY1250","v":"σεαυτοῦ"}," ",{"$f":"FlashCards!CD1250","v":"of yourself"}]
[{"$f":"FlashCards!BY1251","v":"σέβω"}," ",{"$f":"FlashCards!CD1251","v":"I worship, I show devotion"}]
[{"$f":"FlashCards!BY1252","v":"ὁ σεισμός"}," ",{"$f":"FlashCards!CD1252","v":"earthquake"}]
[{"$f":"FlashCards!BY1253","v":"τό σημεῖον"}," ",{"$f":"FlashCards!CD1253","v":"sign, miracle"}]
[{"$f":"FlashCards!BY1254","v":"τό σήμερον"}," ",{"$f":"FlashCards!CD1254","v":"today"}]
[{"$f":"FlashCards!BY1255","v":"σιγάω"}," ",{"$f":"FlashCards!CD1255","v":"I keep silent, I become silent"}]
[{"$f":"FlashCards!BY1256","v":"ὁ Σίλας"}," ",{"$f":"FlashCards!CD1256","v":"Silas"}]
[{"$f":"FlashCards!BY1257","v":"ὁ Σίμων"}," ",{"$f":"FlashCards!CD1257","v":"Simon"}]
[{"$f":"FlashCards!BY1258","v":"ὁ σῖτος"}," ",{"$f":"FlashCards!CD1258","v":"wheat, grain"}]
[{"$f":"FlashCards!BY1259","v":"σιωπάω"}," ",{"$f":"FlashCards!CD1259","v":"I keep silent, I am calm, I become silent"}]
[{"$f":"FlashCards!BY1260","v":"σκανδαλίζω"}," ",{"$f":"FlashCards!CD1260","v":"I take offense, I cause to stumble, I cause to sin"}]
[{"$f":"FlashCards!BY1261","v":"τό σκάνδαλον"}," ",{"$f":"FlashCards!CD1261","v":"temptation, temptation to sin, offense"}]
[{"$f":"FlashCards!BY1262","v":"τό σκεῦος"}," ",{"$f":"FlashCards!CD1262","v":"instrument, vessel, good(s), thing"}]
[{"$f":"FlashCards!BY1263","v":"ἡ σκηνή"}," ",{"$f":"FlashCards!CD1263","v":"tent, tabernacle"}]
[{"$f":"FlashCards!BY1264","v":"ἡ σκοτία"}," ",{"$f":"FlashCards!CD1264","v":"darkness"}]
[{"$f":"FlashCards!BY1265","v":"τό σκότος"}," ",{"$f":"FlashCards!CD1265","v":"darkness"}]
[{"$f":"FlashCards!BY1266","v":"σοί"}," ",{"$f":"FlashCards!CD1266","v":"to you (emphatic dative singular)"}]
[{"$f":"FlashCards!BY1267","v":"ὁ Σολομῶν"}," ",{"$f":"FlashCards!CD1267","v":"Solomon"}]
[{"$f":"FlashCards!BY1268","v":"σός, σή, σόν"}," ",{"$f":"FlashCards!CD1268","v":"your, yours, of you (singular) [masc., fem., neut.]"}]
[{"$f":"FlashCards!BY1269","v":"σός"}," ",{"$f":"FlashCards!CD1269","v":"your, of you (masculine)"}]
[{"$f":"FlashCards!BY1270","v":"σή"}," ",{"$f":"FlashCards!CD1270","v":"your, of you (feminine)"}]
[{"$f":"FlashCards!BY1271","v":"σόν"}," ",{"$f":"FlashCards!CD1271","v":"your, of you (neuter)"}]
[{"$f":"FlashCards!BY1272","v":"ἡ σοφία"}," ",{"$f":"FlashCards!CD1272","v":"wisdom"}]
[{"$f":"FlashCards!BY1273","v":"σοφός"}," ",{"$f":"FlashCards!CD1273","v":"wise ('wise one' when used as a noun)"}]
[{"$f":"FlashCards!BY1274","v":"σπείρω"}," ",{"$f":"FlashCards!CD1274","v":"I sow"}]
[{"$f":"FlashCards!BY1275","v":"τό σπέρμα"}," ",{"$f":"FlashCards!CD1275","v":"seed, offspring"}]
[{"$f":"FlashCards!BY1276","v":"σπλαγχνίζομαι"}," ",{"$f":"FlashCards!CD1276","v":"I have pity, I feel sympathy"}]
[{"$f":"FlashCards!BY1277","v":"τό σπλάγχνον"}," ",{"$f":"FlashCards!CD1277","v":"affection, heart, compassion"}]
[{"$f":"FlashCards!BY1278","v":"σπουδάζω"}," ",{"$f":"FlashCards!CD1278","v":"I am eager, I am zealous, I am diligent"}]
[{"$f":"FlashCards!BY1279","v":"ἡ σπουδή"}," ",{"$f":"FlashCards!CD1279","v":"diligence, earnestness"}]
[{"$f":"FlashCards!BY1280","v":"ὁ σταυρός"}," ",{"$f":"FlashCards!CD1280","v":"cross"}]
[{"$f":"FlashCards!BY1281","v":"σταυρόω"}," ",{"$f":"FlashCards!CD1281","v":"I crucify"}]
[{"$f":"FlashCards!BY1282","v":"ὁ στέφανος"}," ",{"$f":"FlashCards!CD1282","v":"crown, wreath"}]
[{"$f":"FlashCards!BY1283","v":"στήκω"}," ",{"$f":"FlashCards!CD1283","v":"I stand firm, I stand"}]
[{"$f":"FlashCards!BY1284","v":"στηρίζω"}," ",{"$f":"FlashCards!CD1284","v":"I establish, I strengthen"}]
[{"$f":"FlashCards!BY1285","v":"τό στόμα"}," ",{"$f":"FlashCards!CD1285","v":"mouth"}]
[{"$f":"FlashCards!BY1286","v":"ὁ στρατηγός"}," ",{"$f":"FlashCards!CD1286","v":"commander, magistrate"}]
[{"$f":"FlashCards!BY1287","v":"ὁ στρατιώτης"}," ",{"$f":"FlashCards!CD1287","v":"soldier"}]
[{"$f":"FlashCards!BY1288","v":"στρέφω"}," ",{"$f":"FlashCards!CD1288","v":"I turn"}]
[{"$f":"FlashCards!BY1289","v":"σοι"}," ",{"$f":"FlashCards!CD1289","v":"to you (dative singular)"}]
[{"$f":"FlashCards!BY1290","v":"σου"}," ",{"$f":"FlashCards!CD1290","v":"your/of you (genitive singular)"}]
[{"$f":"FlashCards!BY1291","v":"συγγενής"}," ",{"$f":"FlashCards!CD1291","v":"related"}]
[{"$f":"FlashCards!BY1292","v":"ἡ συγγενής"}," ",{"$f":"FlashCards!CD1292","v":"relative, family"}]
[{"$f":"FlashCards!BY1293","v":"ὁ συγγενής"}," ",{"$f":"FlashCards!CD1293","v":"(a) relative"}]
[{"$f":"FlashCards!BY1294","v":"συζητέω"}," ",{"$f":"FlashCards!CD1294","v":"I dispute, I discuss"}]
[{"$f":"FlashCards!BY1295","v":"ἡ συκῆ"}," ",{"$f":"FlashCards!CD1295","v":"fig tree"}]
[{"$f":"FlashCards!BY1296","v":"συλλαμβάνω"}," ",{"$f":"FlashCards!CD1296","v":"I seize, I conceive, I arrest"}]
[{"$f":"FlashCards!BY1297","v":"συμβαίνω"}," ",{"$f":"FlashCards!CD1297","v":"I come together (with), it happens"}]
[{"$f":"FlashCards!BY1298","v":"συμφέρω"}," ",{"$f":"FlashCards!CD1298","v":"I am useful/profitable"}]
[{"$f":"FlashCards!BY1299","v":"σύν [dative]"}," ",{"$f":"FlashCards!CD1299","v":"with [dative]"}]
[{"$f":"FlashCards!BY1300","v":"συνάγω"}," ",{"$f":"FlashCards!CD1300","v":"I gather together, I bring together, I lead"}]
[{"$f":"FlashCards!BY1301","v":"ἡ συναγωγή"}," ",{"$f":"FlashCards!CD1301","v":"synagogue, meeting"}]
[{"$f":"FlashCards!BY1302","v":"συναλίζω"}," ",{"$f":"FlashCards!CD1302","v":"I gather with, I congregate with"}]
[{"$f":"FlashCards!BY1303","v":"ὁ σύνδουλος"}," ",{"$f":"FlashCards!CD1303","v":"fellow slave, fellow servant"}]
[{"$f":"FlashCards!BY1304","v":"τό συνέδριον"}," ",{"$f":"FlashCards!CD1304","v":"sanhedrin, council"}]
[{"$f":"FlashCards!BY1305","v":"ἡ συνείδησις"}," ",{"$f":"FlashCards!CD1305","v":"conscience"}]
[{"$f":"FlashCards!BY1306","v":"ὁ συνεργός"}," ",{"$f":"FlashCards!CD1306","v":"helping, helper, fellow worker"}]
[{"$f":"FlashCards!BY1307","v":"συνέρχομαι"}," ",{"$f":"FlashCards!CD1307","v":"I assemble, I travel with"}]
[{"$f":"FlashCards!BY1308","v":"συνέχω"}," ",{"$f":"FlashCards!CD1308","v":"I compel, I confine, I oppress, I distress"}]
[{"$f":"FlashCards!BY1309","v":"συνίημι"}," ",{"$f":"FlashCards!CD1309","v":"I understand"}]
[{"$f":"FlashCards!BY1310","v":"συνίστημι (συνιστάνω)"}," ",{"$f":"FlashCards!CD1310","v":"I commend, I demonstrate"}]
[{"$f":"FlashCards!BY1311","v":"σφάζω"}," ",{"$f":"FlashCards!CD1311","v":"I slaughter"}]
[{"$f":"FlashCards!BY1312","v":"σφόδρα"}," ",{"$f":"FlashCards!CD1312","v":"extremely, greatly"}]
[{"$f":"FlashCards!BY1313","v":"σφραγίζω"}," ",{"$f":"FlashCards!CD1313","v":"I seal, I mark"}]
[{"$f":"FlashCards!BY1314","v":"ἡ σφραγίς"}," ",{"$f":"FlashCards!CD1314","v":"seal, signet"}]
[{"$f":"FlashCards!BY1315","v":"σχίζω"}," ",{"$f":"FlashCards!CD1315","v":"I split, I divide"}]
[{"$f":"FlashCards!BY1316","v":"σῴζω"}," ",{"$f":"FlashCards!CD1316","v":"I save, I deliver, I rescue"}]
[{"$f":"FlashCards!BY1317","v":"σῴζεσθε"}," ",{"$f":"FlashCards!CD1317","v":"be saved ( used as 'farewell' or 'goodbye')"}]
[{"$f":"FlashCards!BY1318","v":"τό σῶμα"}," ",{"$f":"FlashCards!CD1318","v":"body"}]
[{"$f":"FlashCards!BY1319","v":"ὁ σωτήρ"}," ",{"$f":"FlashCards!CD1319","v":"savior, deliverer"}]
[{"$f":"FlashCards!BY1320","v":"ἡ σωτηρία"}," ",{"$f":"FlashCards!CD1320","v":"salvation, deliverance"}]
[{"$f":"FlashCards!BY1321","v":"τό τάλαντον"}," ",{"$f":"FlashCards!CD1321","v":"talent (i.e., the coin, or money)"}]
[{"$f":"FlashCards!BY1322","v":"ταπεινόω"}," ",{"$f":"FlashCards!CD1322","v":"I humble"}]
[{"$f":"FlashCards!BY1323","v":"ταράσσω"}," ",{"$f":"FlashCards!CD1323","v":"I disturb, I trouble"}]
[{"$f":"FlashCards!BY1324","v":"ταῦτα"}," ",{"$f":"FlashCards!CD1324","v":"these (nominative or accusative, plural, neuter)"}]
[{"$f":"FlashCards!BY1325","v":"ταύταις"}," ",{"$f":"FlashCards!CD1325","v":"to these (dative, plural, feminine)"}]
[{"$f":"FlashCards!BY1326","v":"ταύτῃ"}," ",{"$f":"FlashCards!CD1326","v":"this (dative, singular, feminine)"}]
[{"$f":"FlashCards!BY1327","v":"ταχέως"}," ",{"$f":"FlashCards!CD1327","v":"quickly, in a short time"}]
[{"$f":"FlashCards!BY1328","v":"ταχύς"}," ",{"$f":"FlashCards!CD1328","v":"quick, swift"}]
[{"$f":"FlashCards!BY1329","v":"τέ"}," ",{"$f":"FlashCards!CD1329","v":"so, and so"}]
[{"$f":"FlashCards!BY1330","v":"τε ... και"}," ",{"$f":"FlashCards!CD1330","v":"both ... and"}]
[{"$f":"FlashCards!BY1331","v":"τό τεκμήριον"}," ",{"$f":"FlashCards!CD1331","v":"proof, evidence"}]
[{"$f":"FlashCards!BY1332","v":"τό τεκνίον"}," ",{"$f":"FlashCards!CD1332","v":"little child"}]
[{"$f":"FlashCards!BY1333","v":"τό τέκνον"}," ",{"$f":"FlashCards!CD1333","v":"child, descendant"}]
[{"$f":"FlashCards!BY1334","v":"τέλειος"}," ",{"$f":"FlashCards!CD1334","v":"complete, finished, perfect"}]
[{"$f":"FlashCards!BY1335","v":"τελειόω"}," ",{"$f":"FlashCards!CD1335","v":"I accomplish, I complete, I perfect"}]
[{"$f":"FlashCards!BY1336","v":"τελευτάω"}," ",{"$f":"FlashCards!CD1336","v":"I die"}]
[{"$f":"FlashCards!BY1337","v":"τελέω"}," ",{"$f":"FlashCards!CD1337","v":"I finish, I fulfill"}]
[{"$f":"FlashCards!BY1338","v":"τό τέλος"}," ",{"$f":"FlashCards!CD1338","v":"end, goal"}]
[{"$f":"FlashCards!BY1339","v":"ὁ τελώνης"}," ",{"$f":"FlashCards!CD1339","v":"tax collector"}]
[{"$f":"FlashCards!BY1340","v":"τό τέρας"}," ",{"$f":"FlashCards!CD1340","v":"omen, wonder"}]
[{"$f":"FlashCards!BY1341","v":"τεσσεράκοντα"}," ",{"$f":"FlashCards!CD1341","v":"forty"}]
[{"$f":"FlashCards!BY1342","v":"τέσσαρες"}," ",{"$f":"FlashCards!CD1342","v":"four"}]
[{"$f":"FlashCards!BY1343","v":"τέταρτος"}," ",{"$f":"FlashCards!CD1343","v":"fourth"}]
[{"$f":"FlashCards!BY1344","v":"τηρέω"}," ",{"$f":"FlashCards!CD1344","v":"I keep, I guard, I observe"}]
[{"$f":"FlashCards!BY1345","v":"τίθημι"}," ",{"$f":"FlashCards!CD1345","v":"I put, I place"}]
[{"$f":"FlashCards!BY1346","v":"τίκτω"}," ",{"$f":"FlashCards!CD1346","v":"I give birth to"}]
[{"$f":"FlashCards!BY1347","v":"τιμάω"}," ",{"$f":"FlashCards!CD1347","v":"I honor"}]
[{"$f":"FlashCards!BY1348","v":"ἡ τιμή"}," ",{"$f":"FlashCards!CD1348","v":"honor, price"}]
[{"$f":"FlashCards!BY1349","v":"τίμιος"}," ",{"$f":"FlashCards!CD1349","v":"costly, precious"}]
[{"$f":"FlashCards!BY1350","v":"ὁ Τιμόθεος"}," ",{"$f":"FlashCards!CD1350","v":"Timothy"}]
[{"$f":"FlashCards!BY1351","v":"τις"}," ",{"$f":"FlashCards!CD1351","v":"someone, something, anyone, anything (nominative, singular, masculine or feminine)"}]
[{"$f":"FlashCards!BY1352","v":"τι"}," ",{"$f":"FlashCards!CD1352","v":"someone, something, anyone, anything (nominative or accusative, singular, neuter)"}]
[{"$f":"FlashCards!BY1353","v":"τινός"}," ",{"$f":"FlashCards!CD1353","v":"of someone/something (genitive, singular, masculine, feminine, neuter)"}]
[{"$f":"FlashCards!BY1354","v":"τινί"}," ",{"$f":"FlashCards!CD1354","v":"to someone/something (dative, singular, masculine, feminine, neuter)"}]
[{"$f":"FlashCards!BY1355","v":"τινά"}," ",{"$f":"FlashCards!CD1355","v":"someone/something [accusative, singular, masculine or feminine] or [ accusative, singular, neuter], or [accusative, plural, neuter] "}]
[{"$f":"FlashCards!BY1356","v":"τινές"}," ",{"$f":"FlashCards!CD1356","v":"someone/something (nominative, plural, masculine or feminine)"}]
[{"$f":"FlashCards!BY1357","v":"τινῶν"}," ",{"$f":"FlashCards!CD1357","v":"of someone/something (genitive, plural, masculine, feminine, neuter)"}]
[{"$f":"FlashCards!BY1358","v":"τισί or τισίν"}," ",{"$f":"FlashCards!CD1358","v":"to someone/something (dative, plural, masculine, feminine, neuter)"}]
[{"$f":"FlashCards!BY1359","v":"τινάς"}," ",{"$f":"FlashCards!CD1359","v":"someone/something (accusative, plural, masculine or feminine)"}]
[{"$f":"FlashCards!BY1360","v":"τίς"}," ",{"$f":"FlashCards!CD1360","v":"who? what? which? (nominative, singular, masculine or feminine)"}]
[{"$f":"FlashCards!BY1361","v":"τί"}," ",{"$f":"FlashCards!CD1361","v":"why? who? what? which? (nominative or accusative, singular, neuter)"}]
[{"$f":"FlashCards!BY1362","v":"τίνος"}," ",{"$f":"FlashCards!CD1362","v":"of whom? of what? of which? (genitive, singular, masculine, feminine, neuter)"}]
[{"$f":"FlashCards!BY1363","v":"τίνι"}," ",{"$f":"FlashCards!CD1363","v":"to whom? to what? to which? (dative, singular, masculine, feminine, neuter)"}]
[{"$f":"FlashCards!BY1364","v":"τίνα"}," ",{"$f":"FlashCards!CD1364","v":"whom? what? which? (accusative, singular, masculine or feminine; nominative or accusative, plural, neuter)"}]
[{"$f":"FlashCards!BY1365","v":"τίνες"}," ",{"$f":"FlashCards!CD1365","v":"who? what? which? (nominative, plural, masculine or feminine)"}]
[{"$f":"FlashCards!BY1366","v":"τίνων"}," ",{"$f":"FlashCards!CD1366","v":"of whom? of what? of which? (genitive, plural, masculine, feminine, or neuter)"}]
[{"$f":"FlashCards!BY1367","v":"τίσι or τίσιν"}," ",{"$f":"FlashCards!CD1367","v":"to whom? to what? to which? (dative, plural, masculine, feminine, or neuter)"}]
[{"$f":"FlashCards!BY1368","v":"τίνας"}," ",{"$f":"FlashCards!CD1368","v":"whom? what? which? (accusative, plural, masculine or feminine)"}]
[{"$f":"FlashCards!BY1369","v":"ὁ Τίτος"}," ",{"$f":"FlashCards!CD1369","v":"Titus"}]
[{"$f":"FlashCards!BY1370","v":"τοι"}," ",{"$f":"FlashCards!CD1370","v":"assuredly, certainly (particle)"}]
[{"$f":"FlashCards!BY1371","v":"τοίνυν"}," ",{"$f":"FlashCards!CD1371","v":"therefore, then, so (particle)"}]
[{"$f":"FlashCards!BY1372","v":"τοιοῦτος"}," ",{"$f":"FlashCards!CD1372","v":"such, of such a kind"}]
[{"$f":"FlashCards!BY1373","v":"τολμάω"}," ",{"$f":"FlashCards!CD1373","v":"I dare to, I bring myself to"}]
[{"$f":"FlashCards!BY1374","v":"ὁ τόπος"}," ",{"$f":"FlashCards!CD1374","v":"place, location"}]
[{"$f":"FlashCards!BY1375","v":"τοσοῦτος"}," ",{"$f":"FlashCards!CD1375","v":"so great, so much, so many"}]
[{"$f":"FlashCards!BY1376","v":"τότε"}," ",{"$f":"FlashCards!CD1376","v":"then, thereafter"}]
[{"$f":"FlashCards!BY1377","v":"τοῦτο"}," ",{"$f":"FlashCards!CD1377","v":"this one (nominative, singular, neuter)"}]
[{"$f":"FlashCards!BY1378","v":"τοῦτο"}," ",{"$f":"FlashCards!CD1378","v":"this (nominative or accusative, singular, neuter)"}]
[{"$f":"FlashCards!BY1379","v":"τούτοις"}," ",{"$f":"FlashCards!CD1379","v":"to these (dative, plural, masculine or neuter)"}]
[{"$f":"FlashCards!BY1380","v":"τοῦτον"}," ",{"$f":"FlashCards!CD1380","v":"this (accusative, singular, masculine)"}]
[{"$f":"FlashCards!BY1381","v":"τούτου"}," ",{"$f":"FlashCards!CD1381","v":"of this (genitive, singular, masculine or neuter)"}]
[{"$f":"FlashCards!BY1382","v":"ἐκ τοῦτου"}," ",{"$f":"FlashCards!CD1382","v":"by this"}]
[{"$f":"FlashCards!BY1383","v":"τούτους"}," ",{"$f":"FlashCards!CD1383","v":"these (accusative, plural, masculine)"}]
[{"$f":"FlashCards!BY1384","v":"τούτῳ"}," ",{"$f":"FlashCards!CD1384","v":"to this (dative, singular, masculine or neuter)"}]
[{"$f":"FlashCards!BY1385","v":"τούτων"}," ",{"$f":"FlashCards!CD1385","v":"of these (genitive, plural, masculine, feminine, neuter)"}]
[{"$f":"FlashCards!BY1386","v":"ἡ τράπεζα"}," ",{"$f":"FlashCards!CD1386","v":"table"}]
[{"$f":"FlashCards!BY1387","v":"τρεῖς"}," ",{"$f":"FlashCards!CD1387","v":"three"}]
[{"$f":"FlashCards!BY1388","v":"τρία"}," ",{"$f":"FlashCards!CD1388","v":"three"}]
[{"$f":"FlashCards!BY1389","v":"τρέχω"}," ",{"$f":"FlashCards!CD1389","v":"I run"}]
[{"$f":"FlashCards!BY1390","v":"τριάκοντα"}," ",{"$f":"FlashCards!CD1390","v":"thirty"}]
[{"$f":"FlashCards!BY1391","v":"τρίς"}," ",{"$f":"FlashCards!CD1391","v":"three times"}]
[{"$f":"FlashCards!BY1392","v":"τρίτος"}," ",{"$f":"FlashCards!CD1392","v":"third"}]
[{"$f":"FlashCards!BY1393","v":"ὁ τρόπος"}," ",{"$f":"FlashCards!CD1393","v":"manner, way"}]
[{"$f":"FlashCards!BY1394","v":"ἡ τροφή"}," ",{"$f":"FlashCards!CD1394","v":"food"}]
[{"$f":"FlashCards!BY1395","v":"τυγχάνω"}," ",{"$f":"FlashCards!CD1395","v":"I attain, it happens, it turns out"}]
[{"$f":"FlashCards!BY1396","v":"ὁ τύπος"}," ",{"$f":"FlashCards!CD1396","v":"pattern, type"}]
[{"$f":"FlashCards!BY1397","v":"τύπτω"}," ",{"$f":"FlashCards!CD1397","v":"I strike"}]
[{"$f":"FlashCards!BY1398","v":"ὁ Τύρος"}," ",{"$f":"FlashCards!CD1398","v":"Tyre"}]
[{"$f":"FlashCards!BY1399","v":"τυφλός"}," ",{"$f":"FlashCards!CD1399","v":"blind"}]
[{"$f":"FlashCards!BY1400","v":"ὑγιαίνω"}," ",{"$f":"FlashCards!CD1400","v":"I am healthy, I am sound"}]
[{"$f":"FlashCards!BY1401","v":"ὑγιής"}," ",{"$f":"FlashCards!CD1401","v":"whole, healthy"}]
[{"$f":"FlashCards!BY1402","v":"τό ὕδωρ"}," ",{"$f":"FlashCards!CD1402","v":"water"}]
[{"$f":"FlashCards!BY1403","v":"ὁ υἱός"}," ",{"$f":"FlashCards!CD1403","v":"son, descendant"}]
[{"$f":"FlashCards!BY1404","v":"ὑμᾶς"}," ",{"$f":"FlashCards!CD1404","v":"you (accusative plural)"}]
[{"$f":"FlashCards!BY1405","v":"ὑμεῖς"}," ",{"$f":"FlashCards!CD1405","v":"you (nominative plural)"}]
[{"$f":"FlashCards!BY1406","v":"ὑμέτερος, -α, -ον"}," ",{"$f":"FlashCards!CD1406","v":"your (plural)"}]
[{"$f":"FlashCards!BY1407","v":"ὑμῖν"}," ",{"$f":"FlashCards!CD1407","v":"to you (dative plural)"}]
[{"$f":"FlashCards!BY1408","v":"ὑμῶν"}," ",{"$f":"FlashCards!CD1408","v":"your/of ya'll (genitive plural)"}]
[{"$f":"FlashCards!BY1409","v":"ὑπάγω"}," ",{"$f":"FlashCards!CD1409","v":"I depart"}]
[{"$f":"FlashCards!BY1410","v":"ἡ ὑπακοή"}," ",{"$f":"FlashCards!CD1410","v":"obedience"}]
[{"$f":"FlashCards!BY1411","v":"ὑπακούω"}," ",{"$f":"FlashCards!CD1411","v":"I obey"}]
[{"$f":"FlashCards!BY1412","v":"ὑπαντάω"}," ",{"$f":"FlashCards!CD1412","v":"I meet, I go to meet"}]
[{"$f":"FlashCards!BY1413","v":"ὑπάρχω"}," ",{"$f":"FlashCards!CD1413","v":"I am, I exist"}]
[{"$f":"FlashCards!BY1414","v":"ὑπέρ [accusative]"}," ",{"$f":"FlashCards!CD1414","v":"above [accusative]"}]
[{"$f":"FlashCards!BY1415","v":"ὑπέρ [genitive]"}," ",{"$f":"FlashCards!CD1415","v":"in behalf of [genitive]"}]
[{"$f":"FlashCards!BY1416","v":"ὁ ὑπηρέτης"}," ",{"$f":"FlashCards!CD1416","v":"servant, assistant"}]
[{"$f":"FlashCards!BY1417","v":"ὑπό [accusative]"}," ",{"$f":"FlashCards!CD1417","v":"under [accusative]"}]
[{"$f":"FlashCards!BY1418","v":"ὑπό [genitive]"}," ",{"$f":"FlashCards!CD1418","v":"by [genitive]"}]
[{"$f":"FlashCards!BY1419","v":"τό ὑπόδημα"}," ",{"$f":"FlashCards!CD1419","v":"sandal, shoe"}]
[{"$f":"FlashCards!BY1420","v":"ὑποκάτω"}," ",{"$f":"FlashCards!CD1420","v":"under, below [genitive]"}]
[{"$f":"FlashCards!BY1421","v":"ὁ ὑποκριτής"}," ",{"$f":"FlashCards!CD1421","v":"hypocrite"}]
[{"$f":"FlashCards!BY1422","v":"ὑπολαμβάνω"}," ",{"$f":"FlashCards!CD1422","v":"I take up, I respond"}]
[{"$f":"FlashCards!BY1423","v":"ὑπομένω"}," ",{"$f":"FlashCards!CD1423","v":"I endure"}]
[{"$f":"FlashCards!BY1424","v":"ἡ ὑπομονή"}," ",{"$f":"FlashCards!CD1424","v":"endurance"}]
[{"$f":"FlashCards!BY1425","v":"ὑποστρέφω"}," ",{"$f":"FlashCards!CD1425","v":"I return, I turn back"}]
[{"$f":"FlashCards!BY1426","v":"ὑποτάσσω"}," ",{"$f":"FlashCards!CD1426","v":"I subject, I subordinate"}]
[{"$f":"FlashCards!BY1427","v":"ὑστερέω"}," ",{"$f":"FlashCards!CD1427","v":"I lack"}]
[{"$f":"FlashCards!BY1428","v":"ὕστερος"}," ",{"$f":"FlashCards!CD1428","v":"later, then, finally"}]
[{"$f":"FlashCards!BY1429","v":"ὑψηλός"}," ",{"$f":"FlashCards!CD1429","v":"high, exalted"}]
[{"$f":"FlashCards!BY1430","v":"ὕψιστος"}," ",{"$f":"FlashCards!CD1430","v":"highest"}]
[{"$f":"FlashCards!BY1431","v":"ὑψόω"}," ",{"$f":"FlashCards!CD1431","v":"I exalt, I lift up"}]
[{"$f":"FlashCards!BY1432","v":"φαίνω"}," ",{"$f":"FlashCards!CD1432","v":"I shine, I appear"}]
[{"$f":"FlashCards!BY1433","v":"φανερός"}," ",{"$f":"FlashCards!CD1433","v":"visible, evident"}]
[{"$f":"FlashCards!BY1434","v":"φανερόω"}," ",{"$f":"FlashCards!CD1434","v":"I reveal, I make known"}]
[{"$f":"FlashCards!BY1435","v":"ὁ Φαρισαῖος"}," ",{"$f":"FlashCards!CD1435","v":"Pharisee"}]
[{"$f":"FlashCards!BY1436","v":"φείδομαι"}," ",{"$f":"FlashCards!CD1436","v":"I spare"}]
[{"$f":"FlashCards!BY1437","v":"φέρω"}," ",{"$f":"FlashCards!CD1437","v":"I carry,  I bear, I produce"}]
[{"$f":"FlashCards!BY1438","v":"φεύγω"}," ",{"$f":"FlashCards!CD1438","v":"I flee"}]
[{"$f":"FlashCards!BY1439","v":"ἔφη"}," ",{"$f":"FlashCards!CD1439","v":"he/she/it said/was saying/was affirming (3rd person singular)"}]
[{"$f":"FlashCards!BY1440","v":"φημί"}," ",{"$f":"FlashCards!CD1440","v":"I say, I affirm"}]
[{"$f":"FlashCards!BY1441","v":"ὁ Φῆστος"}," ",{"$f":"FlashCards!CD1441","v":"Festus"}]
[{"$f":"FlashCards!BY1442","v":"ἡ φιάλη"}," ",{"$f":"FlashCards!CD1442","v":"bowl"}]
[{"$f":"FlashCards!BY1443","v":"φιλέω"}," ",{"$f":"FlashCards!CD1443","v":"I like, I love"}]
[{"$f":"FlashCards!BY1444","v":"τό φίλημα"}," ",{"$f":"FlashCards!CD1444","v":"kiss"}]
[{"$f":"FlashCards!BY1445","v":"ὁ Φίλιππος"}," ",{"$f":"FlashCards!CD1445","v":"Philip"}]
[{"$f":"FlashCards!BY1446","v":"φίλος [adjective]"}," ",{"$f":"FlashCards!CD1446","v":"beloved"}]
[{"$f":"FlashCards!BY1447","v":"ὁ φίλος [noun]"}," ",{"$f":"FlashCards!CD1447","v":"friend"}]
[{"$f":"FlashCards!BY1448","v":"φοβέομαι"}," ",{"$f":"FlashCards!CD1448","v":"I fear"}]
[{"$f":"FlashCards!BY1449","v":"ὁ φόβος"}," ",{"$f":"FlashCards!CD1449","v":"fear, reverence"}]
[{"$f":"FlashCards!BY1450","v":"φονεύω"}," ",{"$f":"FlashCards!CD1450","v":"I kill, I murder"}]
[{"$f":"FlashCards!BY1451","v":"φρίσσω"}," ",{"$f":"FlashCards!CD1451","v":"I tremble"}]
[{"$f":"FlashCards!BY1452","v":"φρονέω"}," ",{"$f":"FlashCards!CD1452","v":"I think, I regard"}]
[{"$f":"FlashCards!BY1453","v":"φρόνιμος"}," ",{"$f":"FlashCards!CD1453","v":"prudent, sensible"}]
[{"$f":"FlashCards!BY1454","v":"ἡ φυλακή"}," ",{"$f":"FlashCards!CD1454","v":"prison"}]
[{"$f":"FlashCards!BY1455","v":"φυλάσσω"}," ",{"$f":"FlashCards!CD1455","v":"I guard, I watch, I observe"}]
[{"$f":"FlashCards!BY1456","v":"ἡ φυλή"}," ",{"$f":"FlashCards!CD1456","v":"tribe, nation"}]
[{"$f":"FlashCards!BY1457","v":"ἡ φύσις"}," ",{"$f":"FlashCards!CD1457","v":"nature, essence"}]
[{"$f":"FlashCards!BY1458","v":"φυτεύω"}," ",{"$f":"FlashCards!CD1458","v":"I plant"}]
[{"$f":"FlashCards!BY1459","v":"φωνέω"}," ",{"$f":"FlashCards!CD1459","v":"I summon, I call out"}]
[{"$f":"FlashCards!BY1460","v":"ἡ φωνή"}," ",{"$f":"FlashCards!CD1460","v":"sound, noise, voice"}]
[{"$f":"FlashCards!BY1461","v":"τό φῶς"}," ",{"$f":"FlashCards!CD1461","v":"light"}]
[{"$f":"FlashCards!BY1462","v":"φωτίζω"}," ",{"$f":"FlashCards!CD1462","v":"I illuminate, I enlighten"}]
[{"$f":"FlashCards!BY1463","v":"χαίρω"}," ",{"$f":"FlashCards!CD1463","v":"I rejoice"}]
[{"$f":"FlashCards!BY1464","v":"ἡ χαρά"}," ",{"$f":"FlashCards!CD1464","v":"joy, delight"}]
[{"$f":"FlashCards!BY1465","v":"χαρίζομαι"}," ",{"$f":"FlashCards!CD1465","v":"I give freely, I forgive"}]
[{"$f":"FlashCards!BY1466","v":"ἡ χάρις"}," ",{"$f":"FlashCards!CD1466","v":"grace, favor, kindness "}]
[{"$f":"FlashCards!BY1467","v":"τό χάρισμα"}," ",{"$f":"FlashCards!CD1467","v":"gift, favor, free gift"}]
[{"$f":"FlashCards!BY1468","v":"ἡ χείρ"}," ",{"$f":"FlashCards!CD1468","v":"hand, arm, finger"}]
[{"$f":"FlashCards!BY1469","v":"χείρων"}," ",{"$f":"FlashCards!CD1469","v":"worse"}]
[{"$f":"FlashCards!BY1470","v":"ἡ χήρα"}," ",{"$f":"FlashCards!CD1470","v":"widow"}]
[{"$f":"FlashCards!BY1471","v":"ἐχθὲς"}," ",{"$f":"FlashCards!CD1471","v":"yesterday"}]
[{"$f":"FlashCards!BY1472","v":"ἡ χιλίας"}," ",{"$f":"FlashCards!CD1472","v":"thousand (ones)"}]
[{"$f":"FlashCards!BY1473","v":"ὁ χιλίαρχος"}," ",{"$f":"FlashCards!CD1473","v":"military tribune, commander"}]
[{"$f":"FlashCards!BY1474","v":"χίλιοι"}," ",{"$f":"FlashCards!CD1474","v":"thousand"}]
[{"$f":"FlashCards!BY1475","v":"ὁ χιτών"}," ",{"$f":"FlashCards!CD1475","v":"tunic"}]
[{"$f":"FlashCards!BY1476","v":"ὁ χοῖρος"}," ",{"$f":"FlashCards!CD1476","v":"pig"}]
[{"$f":"FlashCards!BY1477","v":"χορτάζω"}," ",{"$f":"FlashCards!CD1477","v":"I feed, I fill, I satisfy"}]
[{"$f":"FlashCards!BY1478","v":"ὁ χόρτος"}," ",{"$f":"FlashCards!CD1478","v":"grass, hay"}]
[{"$f":"FlashCards!BY1479","v":"χράομαι"}," ",{"$f":"FlashCards!CD1479","v":"I use, I make use of"}]
[{"$f":"FlashCards!BY1480","v":"ἡ χρεία"}," ",{"$f":"FlashCards!CD1480","v":"need"}]
[{"$f":"FlashCards!BY1481","v":"ἡ χρηστότης"}," ",{"$f":"FlashCards!CD1481","v":"goodness, kindness, excellence"}]
[{"$f":"FlashCards!BY1482","v":"ὁ Χριστός"}," ",{"$f":"FlashCards!CD1482","v":"Christ, messiah, anointed one"}]
[{"$f":"FlashCards!BY1483","v":"ὁ χρόνος"}," ",{"$f":"FlashCards!CD1483","v":"time"}]
[{"$f":"FlashCards!BY1484","v":"χρυσοῦς, χρύσεος"}," ",{"$f":"FlashCards!CD1484","v":"golden"}]
[{"$f":"FlashCards!BY1485","v":"τό χρυσίον"}," ",{"$f":"FlashCards!CD1485","v":"gold"}]
[{"$f":"FlashCards!BY1486","v":"ὁ χρυσός"}," ",{"$f":"FlashCards!CD1486","v":"gold"}]
[{"$f":"FlashCards!BY1487","v":"   χωλός"}," ",{"$f":"FlashCards!CD1487","v":"lame"}]
[{"$f":"FlashCards!BY1488","v":"ἡ χώρα"}," ",{"$f":"FlashCards!CD1488","v":"land, region"}]
[{"$f":"FlashCards!BY1489","v":"   χωρέω"}," ",{"$f":"FlashCards!CD1489","v":"I accept, I make room"}]
[{"$f":"FlashCards!BY1490","v":"χωρίζω"}," ",{"$f":"FlashCards!CD1490","v":"I separate"}]
[{"$f":"FlashCards!BY1491","v":"τό χωρίον"}," ",{"$f":"FlashCards!CD1491","v":"place, land, field"}]
[{"$f":"FlashCards!BY1492","v":"χωρίς"}," ",{"$f":"FlashCards!CD1492","v":"without, apart from [genitive]"}]
[{"$f":"FlashCards!BY1493","v":"ψευδής"}," ",{"$f":"FlashCards!CD1493","v":"lying, false, untrue"}]
[{"$f":"FlashCards!BY1494","v":"ψεύδομαι"}," ",{"$f":"FlashCards!CD1494","v":"I lie"}]
[{"$f":"FlashCards!BY1495","v":"ὁ ψευδοπροφήτης"}," ",{"$f":"FlashCards!CD1495","v":"false prophet"}]
[{"$f":"FlashCards!BY1496","v":"τό ψεῦδος"}," ",{"$f":"FlashCards!CD1496","v":"lie"}]
[{"$f":"FlashCards!BY1497","v":"ὁ ψεύστης"}," ",{"$f":"FlashCards!CD1497","v":"liar"}]
[{"$f":"FlashCards!BY1498","v":"ἡ ψυχή"}," ",{"$f":"FlashCards!CD1498","v":"soul, life, self"}]
[{"$f":"FlashCards!BY1499","v":"ὦ"}," ",{"$f":"FlashCards!CD1499","v":"oh!"}]
[{"$f":"FlashCards!BY1500","v":"ὧδε"}," ",{"$f":"FlashCards!CD1500","v":"here"}]
[{"$f":"FlashCards!BY1501","v":"ἡ ὥρα"}," ",{"$f":"FlashCards!CD1501","v":"hour, occasion, moment"}]
[{"$f":"FlashCards!BY1502","v":"ὡς"}," ",{"$f":"FlashCards!CD1502","v":"as, like, that, when, after, approximately"}]
[{"$f":"FlashCards!BY1503","v":"ὡσαύτως"}," ",{"$f":"FlashCards!CD1503","v":"similarly, likewise"}]
[{"$f":"FlashCards!BY1504","v":"ὡσεί"}," ",{"$f":"FlashCards!CD1504","v":"as, like, about"}]
[{"$f":"FlashCards!BY1505","v":"ὥσπερ"}," ",{"$f":"FlashCards!CD1505","v":"just as (particle)"}]
[{"$f":"FlashCards!BY1506","v":"ὥστε"}," ",{"$f":"FlashCards!CD1506","v":"therefore, so that"}]
[{"$f":"FlashCards!BY1507","v":"ὠφελέω"}," ",{"$f":"FlashCards!CD1507","v":"I help, I benefit"}]
[{"$f":"FlashCards!BY1508","v":" "}," ",{"$f":"FlashCards!CD1508","v":" "}]
[{"$f":"FlashCards!BY1509","v":" "}," ",{"$f":"FlashCards!CD1509","v":" "}]
[{"$f":"FlashCards!BY1510","v":" "}," ",{"$f":"FlashCards!CD1510","v":" "}]
[{"$f":"FlashCards!BY1511","v":" "}," ",{"$f":"FlashCards!CD1511","v":" "}]
[{"$f":"FlashCards!BY1512","v":" "}," ",{"$f":"FlashCards!CD1512","v":" "}]
[{"$f":"FlashCards!BY1513","v":" "}," ",{"$f":"FlashCards!CD1513","v":" "}]
[{"$f":"FlashCards!BY1514","v":" "}," ",{"$f":"FlashCards!CD1514","v":" "}]
[{"$f":"FlashCards!BY1515","v":" "}," ",{"$f":"FlashCards!CD1515","v":" "}]
[{"$f":"FlashCards!BY1516","v":" "}," ",{"$f":"FlashCards!CD1516","v":" "}]
[{"$f":"FlashCards!BY1517","v":" "}," ",{"$f":"FlashCards!CD1517","v":" "}]
[{"$f":"FlashCards!BY1518","v":" "}," ",{"$f":"FlashCards!CD1518","v":" "}]
[{"$f":"FlashCards!BY1519","v":" "}," ",{"$f":"FlashCards!CD1519","v":" "}]
[{"$f":"FlashCards!BY1520","v":" "}," ",{"$f":"FlashCards!CD1520","v":" "}]
[{"$f":"FlashCards!BY1521","v":" "}," ",{"$f":"FlashCards!CD1521","v":" "}]
[{"$f":"FlashCards!BY1522","v":" "}," ",{"$f":"FlashCards!CD1522","v":" "}]
[{"$f":"FlashCards!BY1523","v":" "}," ",{"$f":"FlashCards!CD1523","v":" "}]
[{"$f":"FlashCards!BY1524","v":" "}," ",{"$f":"FlashCards!CD1524","v":" "}]
[{"$f":"FlashCards!BY1525","v":" "}," ",{"$f":"FlashCards!CD1525","v":" "}]
[{"$f":"FlashCards!BY1526","v":" "}," ",{"$f":"FlashCards!CD1526","v":" "}]
[{"$f":"FlashCards!BY1527","v":" "}," ",{"$f":"FlashCards!CD1527","v":" "}]
[{"$f":"FlashCards!BY1528","v":" "}," ",{"$f":"FlashCards!CD1528","v":" "}]
[{"$f":"FlashCards!BY1529","v":" "}," ",{"$f":"FlashCards!CD1529","v":" "}]
[{"$f":"FlashCards!BY1530","v":" "}," ",{"$f":"FlashCards!CD1530","v":" "}]
[{"$f":"FlashCards!BY1531","v":" "}," ",{"$f":"FlashCards!CD1531","v":" "}]
[{"$f":"FlashCards!BY1532","v":" "}," ",{"$f":"FlashCards!CD1532","v":" "}]
[{"$f":"FlashCards!BY1533","v":" "}," ",{"$f":"FlashCards!CD1533","v":" "}]
[{"$f":"FlashCards!BY1534","v":" "}," ",{"$f":"FlashCards!CD1534","v":" "}]
[{"$f":"FlashCards!BY1535","v":" "}," ",{"$f":"FlashCards!CD1535","v":" "}]
[{"$f":"FlashCards!BY1536","v":" "}," ",{"$f":"FlashCards!CD1536","v":" "}]
[{"$f":"FlashCards!BY1537","v":" "}," ",{"$f":"FlashCards!CD1537","v":" "}]
[{"$f":"FlashCards!BY1538","v":" "}," ",{"$f":"FlashCards!CD1538","v":" "}]
[{"$f":"FlashCards!BY1539","v":" "}," ",{"$f":"FlashCards!CD1539","v":" "}]
[{"$f":"FlashCards!BY1540","v":" "}," ",{"$f":"FlashCards!CD1540","v":" "}]
[{"$f":"FlashCards!BY1541","v":" "}," ",{"$f":"FlashCards!CD1541","v":" "}]
[{"$f":"FlashCards!BY1542","v":" "}," ",{"$f":"FlashCards!CD1542","v":" "}]
[{"$f":"FlashCards!BY1543","v":" "}," ",{"$f":"FlashCards!CD1543","v":" "}]
[{"$f":"FlashCards!BY1544","v":" "}," ",{"$f":"FlashCards!CD1544","v":" "}]
[{"$f":"FlashCards!BY1545","v":" "}," ",{"$f":"FlashCards!CD1545","v":" "}]
[{"$f":"FlashCards!BY1546","v":" "}," ",{"$f":"FlashCards!CD1546","v":" "}]
[{"$f":"FlashCards!BY1547","v":" "}," ",{"$f":"FlashCards!CD1547","v":" "}]
[{"$f":"FlashCards!BY1548","v":" "}," ",{"$f":"FlashCards!CD1548","v":" "}]
[{"$f":"FlashCards!BY1549","v":" "}," ",{"$f":"FlashCards!CD1549","v":" "}]
[{"$f":"FlashCards!BY1550","v":" "}," ",{"$f":"FlashCards!CD1550","v":" "}]
[{"$f":"FlashCards!BY1551","v":" "}," ",{"$f":"FlashCards!CD1551","v":" "}]
[{"$f":"FlashCards!BY1552","v":" "}," ",{"$f":"FlashCards!CD1552","v":" "}]
[{"$f":"FlashCards!BY1553","v":" "}," ",{"$f":"FlashCards!CD1553","v":" "}]
[{"$f":"FlashCards!BY1554","v":" "}," ",{"$f":"FlashCards!CD1554","v":" "}]
[{"$f":"FlashCards!BY1555","v":" "}," ",{"$f":"FlashCards!CD1555","v":" "}]
[{"$f":"FlashCards!BY1556","v":" "}," ",{"$f":"FlashCards!CD1556","v":" "}]
[{"$f":"FlashCards!BY1557","v":" "}," ",{"$f":"FlashCards!CD1557","v":" "}]
[{"$f":"FlashCards!BY1558","v":" "}," ",{"$f":"FlashCards!CD1558","v":" "}]
[{"$f":"FlashCards!BY1559","v":" "}," ",{"$f":"FlashCards!CD1559","v":" "}]
[{"$f":"FlashCards!BY1560","v":" "}," ",{"$f":"FlashCards!CD1560","v":" "}]
[{"$f":"FlashCards!BY1561","v":" "}," ",{"$f":"FlashCards!CD1561","v":" "}]
[{"$f":"FlashCards!BY1562","v":" "}," ",{"$f":"FlashCards!CD1562","v":" "}]
[{"$f":"FlashCards!BY1563","v":" "}," ",{"$f":"FlashCards!CD1563","v":" "}]
[{"$f":"FlashCards!BY1564","v":" "}," ",{"$f":"FlashCards!CD1564","v":" "}]
[{"$f":"FlashCards!BY1565","v":" "}," ",{"$f":"FlashCards!CD1565","v":" "}]
[{"$f":"FlashCards!BY1566","v":" "}," ",{"$f":"FlashCards!CD1566","v":" "}]
[{"$f":"FlashCards!BY1567","v":" "}," ",{"$f":"FlashCards!CD1567","v":" "}]
[{"$f":"FlashCards!BY1568","v":" "}," ",{"$f":"FlashCards!CD1568","v":" "}]
[{"$f":"FlashCards!BY1569","v":" "}," ",{"$f":"FlashCards!CD1569","v":" "}]
[{"$f":"FlashCards!BY1570","v":" "}," ",{"$f":"FlashCards!CD1570","v":" "}]
[{"$f":"FlashCards!BY1571","v":" "}," ",{"$f":"FlashCards!CD1571","v":" "}]
[{"$f":"FlashCards!BY1572","v":" "}," ",{"$f":"FlashCards!CD1572","v":" "}]
[{"$f":"FlashCards!BY1573","v":" "}," ",{"$f":"FlashCards!CD1573","v":" "}]
[{"$f":"FlashCards!BY1574","v":" "}," ",{"$f":"FlashCards!CD1574","v":" "}]
[{"$f":"FlashCards!BY1575","v":" "}," ",{"$f":"FlashCards!CD1575","v":" "}]
[{"$f":"FlashCards!BY1576","v":" "}," ",{"$f":"FlashCards!CD1576","v":" "}]
[{"$f":"FlashCards!BY1577","v":" "}," ",{"$f":"FlashCards!CD1577","v":" "}]
[{"$f":"FlashCards!BY1578","v":" "}," ",{"$f":"FlashCards!CD1578","v":" "}]
[{"$f":"FlashCards!BY1579","v":" "}," ",{"$f":"FlashCards!CD1579","v":" "}]
[{"$f":"FlashCards!BY1580","v":" "}," ",{"$f":"FlashCards!CD1580","v":" "}]
[{"$f":"FlashCards!BY1581","v":" "}," ",{"$f":"FlashCards!CD1581","v":" "}]
[{"$f":"FlashCards!BY1582","v":" "}," ",{"$f":"FlashCards!CD1582","v":" "}]
[{"$f":"FlashCards!BY1583","v":" "}," ",{"$f":"FlashCards!CD1583","v":" "}]
[{"$f":"FlashCards!BY1584","v":" "}," ",{"$f":"FlashCards!CD1584","v":" "}]
[{"$f":"FlashCards!BY1585","v":" "}," ",{"$f":"FlashCards!CD1585","v":" "}]
[{"$f":"FlashCards!BY1586","v":" "}," ",{"$f":"FlashCards!CD1586","v":" "}]
[{"$f":"FlashCards!BY1587","v":" "}," ",{"$f":"FlashCards!CD1587","v":" "}]
[{"$f":"FlashCards!BY1588","v":" "}," ",{"$f":"FlashCards!CD1588","v":" "}]
[{"$f":"FlashCards!BY1589","v":" "}," ",{"$f":"FlashCards!CD1589","v":" "}]
[{"$f":"FlashCards!BY1590","v":" "}," ",{"$f":"FlashCards!CD1590","v":" "}]
[{"$f":"FlashCards!BY1591","v":" "}," ",{"$f":"FlashCards!CD1591","v":" "}]
[{"$f":"FlashCards!BY1592","v":" "}," ",{"$f":"FlashCards!CD1592","v":" "}]
[{"$f":"FlashCards!BY1593","v":" "}," ",{"$f":"FlashCards!CD1593","v":" "}]
[{"$f":"FlashCards!BY1594","v":" "}," ",{"$f":"FlashCards!CD1594","v":" "}]
[{"$f":"FlashCards!BY1595","v":" "}," ",{"$f":"FlashCards!CD1595","v":" "}]
[{"$f":"FlashCards!BY1596","v":" "}," ",{"$f":"FlashCards!CD1596","v":" "}]
[{"$f":"FlashCards!BY1597","v":" "}," ",{"$f":"FlashCards!CD1597","v":" "}]
[{"$f":"FlashCards!BY1598","v":" "}," ",{"$f":"FlashCards!CD1598","v":" "}]
[{"$f":"FlashCards!BY1599","v":" "}," ",{"$f":"FlashCards!CD1599","v":" "}]
[{"$f":"FlashCards!BY1600","v":" "}," ",{"$f":"FlashCards!CD1600","v":" "}]
[{"$f":"FlashCards!BY1601","v":" "}," ",{"$f":"FlashCards!CD1601","v":" "}]
[{"$f":"FlashCards!BY1602","v":" "}," ",{"$f":"FlashCards!CD1602","v":" "}]
[{"$f":"FlashCards!BY1603","v":" "}," ",{"$f":"FlashCards!CD1603","v":" "}]
[{"$f":"FlashCards!BY1604","v":" "}," ",{"$f":"FlashCards!CD1604","v":" "}]
[{"$f":"FlashCards!BY1605","v":" "}," ",{"$f":"FlashCards!CD1605","v":" "}]
[{"$f":"FlashCards!BY1606","v":" "}," ",{"$f":"FlashCards!CD1606","v":" "}]
[{"$f":"FlashCards!BY1607","v":" "}," ",{"$f":"FlashCards!CD1607","v":" "}]
[{"$f":"FlashCards!BY1608","v":" "}," ",{"$f":"FlashCards!CD1608","v":" "}]
[{"$f":"FlashCards!BY1609","v":" "}," ",{"$f":"FlashCards!CD1609","v":" "}]
[{"$f":"FlashCards!BY1610","v":" "}," ",{"$f":"FlashCards!CD1610","v":" "}]
[{"$f":"FlashCards!BY1611","v":" "}," ",{"$f":"FlashCards!CD1611","v":" "}]
[{"$f":"FlashCards!BY1612","v":" "}," ",{"$f":"FlashCards!CD1612","v":" "}]
[{"$f":"FlashCards!BY1613","v":" "}," ",{"$f":"FlashCards!CD1613","v":" "}]
[{"$f":"FlashCards!BY1614","v":" "}," ",{"$f":"FlashCards!CD1614","v":" "}]
[{"$f":"FlashCards!BY1615","v":" "}," ",{"$f":"FlashCards!CD1615","v":" "}]
[{"$f":"FlashCards!BY1616","v":" "}," ",{"$f":"FlashCards!CD1616","v":" "}]
[{"$f":"FlashCards!BY1617","v":" "}," ",{"$f":"FlashCards!CD1617","v":" "}]
[{"$f":"FlashCards!BY1618","v":" "}," ",{"$f":"FlashCards!CD1618","v":" "}]
[{"$f":"FlashCards!BY1619","v":" "}," ",{"$f":"FlashCards!CD1619","v":" "}]
[{"$f":"FlashCards!BY1620","v":" "}," ",{"$f":"FlashCards!CD1620","v":" "}]
[{"$f":"FlashCards!BY1621","v":" "}," ",{"$f":"FlashCards!CD1621","v":" "}]
[{"$f":"FlashCards!BY1622","v":" "}," ",{"$f":"FlashCards!CD1622","v":" "}]
[{"$f":"FlashCards!BY1623","v":" "}," ",{"$f":"FlashCards!CD1623","v":" "}]
[{"$f":"FlashCards!BY1624","v":" "}," ",{"$f":"FlashCards!CD1624","v":" "}]
[{"$f":"FlashCards!BY1625","v":" "}," ",{"$f":"FlashCards!CD1625","v":" "}]
[{"$f":"FlashCards!BY1626","v":" "}," ",{"$f":"FlashCards!CD1626","v":" "}]
[{"$f":"FlashCards!BY1627","v":" "}," ",{"$f":"FlashCards!CD1627","v":" "}]
[{"$f":"FlashCards!BY1628","v":" "}," ",{"$f":"FlashCards!CD1628","v":" "}]
[{"$f":"FlashCards!BY1629","v":" "}," ",{"$f":"FlashCards!CD1629","v":" "}]
[{"$f":"FlashCards!BY1630","v":" "}," ",{"$f":"FlashCards!CD1630","v":" "}]
[{"$f":"FlashCards!BY1631","v":" "}," ",{"$f":"FlashCards!CD1631","v":" "}]
[{"$f":"FlashCards!BY1632","v":" "}," ",{"$f":"FlashCards!CD1632","v":" "}]
[{"$f":"FlashCards!BY1633","v":" "}," ",{"$f":"FlashCards!CD1633","v":" "}]
[{"$f":"FlashCards!BY1634","v":" "}," ",{"$f":"FlashCards!CD1634","v":" "}]
[{"$f":"FlashCards!BY1635","v":" "}," ",{"$f":"FlashCards!CD1635","v":" "}]
[{"$f":"FlashCards!BY1636","v":" "}," ",{"$f":"FlashCards!CD1636","v":" "}]
[{"$f":"FlashCards!BY1637","v":" "}," ",{"$f":"FlashCards!CD1637","v":" "}]
[{"$f":"FlashCards!BY1638","v":" "}," ",{"$f":"FlashCards!CD1638","v":" "}]
[{"$f":"FlashCards!BY1639","v":" "}," ",{"$f":"FlashCards!CD1639","v":" "}]
[{"$f":"FlashCards!BY1640","v":" "}," ",{"$f":"FlashCards!CD1640","v":" "}]
[{"$f":"FlashCards!BY1641","v":" "}," ",{"$f":"FlashCards!CD1641","v":" "}]
[{"$f":"FlashCards!BY1642","v":" "}," ",{"$f":"FlashCards!CD1642","v":" "}]
[{"$f":"FlashCards!BY1643","v":" "}," ",{"$f":"FlashCards!CD1643","v":" "}]
[{"$f":"FlashCards!BY1644","v":" "}," ",{"$f":"FlashCards!CD1644","v":" "}]
[{"$f":"FlashCards!BY1645","v":" "}," ",{"$f":"FlashCards!CD1645","v":" "}]
[{"$f":"FlashCards!BY1646","v":" "}," ",{"$f":"FlashCards!CD1646","v":" "}]
[{"$f":"FlashCards!BY1647","v":" "}," ",{"$f":"FlashCards!CD1647","v":" "}]
[{"$f":"FlashCards!BY1648","v":" "}," ",{"$f":"FlashCards!CD1648","v":" "}]
[{"$f":"FlashCards!BY1649","v":" "}," ",{"$f":"FlashCards!CD1649","v":" "}]
[{"$f":"FlashCards!BY1650","v":" "}," ",{"$f":"FlashCards!CD1650","v":" "}]
[{"$f":"FlashCards!BY1651","v":" "}," ",{"$f":"FlashCards!CD1651","v":" "}]
[{"$f":"FlashCards!BY1652","v":" "}," ",{"$f":"FlashCards!CD1652","v":" "}]
[{"$f":"FlashCards!BY1653","v":" "}," ",{"$f":"FlashCards!CD1653","v":" "}]
[{"$f":"FlashCards!BY1654","v":" "}," ",{"$f":"FlashCards!CD1654","v":" "}]
[{"$f":"FlashCards!BY1655","v":" "}," ",{"$f":"FlashCards!CD1655","v":" "}]
[{"$f":"FlashCards!BY1656","v":" "}," ",{"$f":"FlashCards!CD1656","v":" "}]
[{"$f":"FlashCards!BY1657","v":" "}," ",{"$f":"FlashCards!CD1657","v":" "}]
[{"$f":"FlashCards!BY1658","v":" "}," ",{"$f":"FlashCards!CD1658","v":" "}]
[{"$f":"FlashCards!BY1659","v":" "}," ",{"$f":"FlashCards!CD1659","v":" "}]
[{"$f":"FlashCards!BY1660","v":" "}," ",{"$f":"FlashCards!CD1660","v":" "}]
[{"$f":"FlashCards!BY1661","v":" "}," ",{"$f":"FlashCards!CD1661","v":" "}]
[{"$f":"FlashCards!BY1662","v":" "}," ",{"$f":"FlashCards!CD1662","v":" "}]
[{"$f":"FlashCards!BY1663","v":" "}," ",{"$f":"FlashCards!CD1663","v":" "}]
[{"$f":"FlashCards!BY1664","v":" "}," ",{"$f":"FlashCards!CD1664","v":" "}]
[{"$f":"FlashCards!BY1665","v":" "}," ",{"$f":"FlashCards!CD1665","v":" "}]
[{"$f":"FlashCards!BY1666","v":" "}," ",{"$f":"FlashCards!CD1666","v":" "}]
[{"$f":"FlashCards!BY1667","v":" "}," ",{"$f":"FlashCards!CD1667","v":" "}]
[{"$f":"FlashCards!BY1668","v":" "}," ",{"$f":"FlashCards!CD1668","v":" "}]
[{"$f":"FlashCards!BY1669","v":" "}," ",{"$f":"FlashCards!CD1669","v":" "}]
[{"$f":"FlashCards!BY1670","v":" "}," ",{"$f":"FlashCards!CD1670","v":" "}]
[{"$f":"FlashCards!BY1671","v":" "}," ",{"$f":"FlashCards!CD1671","v":" "}]
[{"$f":"FlashCards!BY1672","v":" "}," ",{"$f":"FlashCards!CD1672","v":" "}]
[{"$f":"FlashCards!BY1673","v":" "}," ",{"$f":"FlashCards!CD1673","v":" "}]
[{"$f":"FlashCards!BY1674","v":" "}," ",{"$f":"FlashCards!CD1674","v":" "}]
[{"$f":"FlashCards!BY1675","v":" "}," ",{"$f":"FlashCards!CD1675","v":" "}]
[{"$f":"FlashCards!BY1676","v":" "}," ",{"$f":"FlashCards!CD1676","v":" "}]
[{"$f":"FlashCards!BY1677","v":" "}," ",{"$f":"FlashCards!CD1677","v":" "}]
[{"$f":"FlashCards!BY1678","v":" "}," ",{"$f":"FlashCards!CD1678","v":" "}]
[{"$f":"FlashCards!BY1679","v":" "}," ",{"$f":"FlashCards!CD1679","v":" "}]
[{"$f":"FlashCards!BY1680","v":" "}," ",{"$f":"FlashCards!CD1680","v":" "}]
[{"$f":"FlashCards!BY1681","v":" "}," ",{"$f":"FlashCards!CD1681","v":" "}]
[{"$f":"FlashCards!BY1682","v":" "}," ",{"$f":"FlashCards!CD1682","v":" "}]
[{"$f":"FlashCards!BY1683","v":" "}," ",{"$f":"FlashCards!CD1683","v":" "}]
[{"$f":"FlashCards!BY1684","v":" "}," ",{"$f":"FlashCards!CD1684","v":" "}]
[{"$f":"FlashCards!BY1685","v":" "}," ",{"$f":"FlashCards!CD1685","v":" "}]
[{"$f":"FlashCards!BY1686","v":" "}," ",{"$f":"FlashCards!CD1686","v":" "}]
[{"$f":"FlashCards!BY1687","v":" "}," ",{"$f":"FlashCards!CD1687","v":" "}]
[{"$f":"FlashCards!BY1688","v":" "}," ",{"$f":"FlashCards!CD1688","v":" "}]
[{"$f":"FlashCards!BY1689","v":" "}," ",{"$f":"FlashCards!CD1689","v":" "}]
[{"$f":"FlashCards!BY1690","v":" "}," ",{"$f":"FlashCards!CD1690","v":" "}]
[{"$f":"FlashCards!BY1691","v":" "}," ",{"$f":"FlashCards!CD1691","v":" "}]
[{"$f":"FlashCards!BY1692","v":" "}," ",{"$f":"FlashCards!CD1692","v":" "}]
[{"$f":"FlashCards!BY1693","v":" "}," ",{"$f":"FlashCards!CD1693","v":" "}]
[{"$f":"FlashCards!BY1694","v":" "}," ",{"$f":"FlashCards!CD1694","v":" "}]
[{"$f":"FlashCards!BY1695","v":" "}," ",{"$f":"FlashCards!CD1695","v":" "}]
[{"$f":"FlashCards!BY1696","v":" "}," ",{"$f":"FlashCards!CD1696","v":" "}]
[{"$f":"FlashCards!BY1697","v":" "}," ",{"$f":"FlashCards!CD1697","v":" "}]
[{"$f":"FlashCards!BY1698","v":" "}," ",{"$f":"FlashCards!CD1698","v":" "}]
[{"$f":"FlashCards!BY1699","v":" "}," ",{"$f":"FlashCards!CD1699","v":" "}]
[{"$f":"FlashCards!BY1700","v":" "}," ",{"$f":"FlashCards!CD1700","v":" "}]
[{"$f":"FlashCards!BY1701","v":" "}," ",{"$f":"FlashCards!CD1701","v":" "}]
[{"$f":"FlashCards!BY1702","v":" "}," ",{"$f":"FlashCards!CD1702","v":" "}]
[{"$f":"FlashCards!BY1703","v":" "}," ",{"$f":"FlashCards!CD1703","v":" "}]
[{"$f":"FlashCards!BY1704","v":" "}," ",{"$f":"FlashCards!CD1704","v":" "}]
[{"$f":"FlashCards!BY1705","v":" "}," ",{"$f":"FlashCards!CD1705","v":" "}]
[{"$f":"FlashCards!BY1706","v":" "}," ",{"$f":"FlashCards!CD1706","v":" "}]
[{"$f":"FlashCards!BY1707","v":" "}," ",{"$f":"FlashCards!CD1707","v":" "}]
[{"$f":"FlashCards!BY1708","v":" "}," ",{"$f":"FlashCards!CD1708","v":" "}]
[{"$f":"FlashCards!BY1709","v":" "}," ",{"$f":"FlashCards!CD1709","v":" "}]
[{"$f":"FlashCards!BY1710","v":" "}," ",{"$f":"FlashCards!CD1710","v":" "}]
[{"$f":"FlashCards!BY1711","v":" "}," ",{"$f":"FlashCards!CD1711","v":" "}]
[{"$f":"FlashCards!BY1712","v":" "}," ",{"$f":"FlashCards!CD1712","v":" "}]
[{"$f":"FlashCards!BY1713","v":" "}," ",{"$f":"FlashCards!CD1713","v":" "}]
[{"$f":"FlashCards!BY1714","v":" "}," ",{"$f":"FlashCards!CD1714","v":" "}]
[{"$f":"FlashCards!BY1715","v":" "}," ",{"$f":"FlashCards!CD1715","v":" "}]
[{"$f":"FlashCards!BY1716","v":" "}," ",{"$f":"FlashCards!CD1716","v":" "}]
[{"$f":"FlashCards!BY1717","v":" "}," ",{"$f":"FlashCards!CD1717","v":" "}]
[{"$f":"FlashCards!BY1718","v":" "}," ",{"$f":"FlashCards!CD1718","v":" "}]
[{"$f":"FlashCards!BY1719","v":" "}," ",{"$f":"FlashCards!CD1719","v":" "}]
[{"$f":"FlashCards!BY1720","v":" "}," ",{"$f":"FlashCards!CD1720","v":" "}]
[{"$f":"FlashCards!BY1721","v":" "}," ",{"$f":"FlashCards!CD1721","v":" "}]
[{"$f":"FlashCards!BY1722","v":" "}," ",{"$f":"FlashCards!CD1722","v":" "}]
[{"$f":"FlashCards!BY1723","v":" "}," ",{"$f":"FlashCards!CD1723","v":" "}]
[{"$f":"FlashCards!BY1724","v":" "}," ",{"$f":"FlashCards!CD1724","v":" "}]
[{"$f":"FlashCards!BY1725","v":" "}," ",{"$f":"FlashCards!CD1725","v":" "}]
[{"$f":"FlashCards!BY1726","v":" "}," ",{"$f":"FlashCards!CD1726","v":" "}]
[{"$f":"FlashCards!BY1727","v":" "}," ",{"$f":"FlashCards!CD1727","v":" "}]
[{"$f":"FlashCards!BY1728","v":" "}," ",{"$f":"FlashCards!CD1728","v":" "}]
[{"$f":"FlashCards!BY1729","v":" "}," ",{"$f":"FlashCards!CD1729","v":" "}]
[{"$f":"FlashCards!BY1730","v":" "}," ",{"$f":"FlashCards!CD1730","v":" "}]
[{"$f":"FlashCards!BY1731","v":" "}," ",{"$f":"FlashCards!CD1731","v":" "}]
[{"$f":"FlashCards!BY1732","v":" "}," ",{"$f":"FlashCards!CD1732","v":" "}]
[{"$f":"FlashCards!BY1733","v":" "}," ",{"$f":"FlashCards!CD1733","v":" "}]
[{"$f":"FlashCards!BY1734","v":" "}," ",{"$f":"FlashCards!CD1734","v":" "}]
[{"$f":"FlashCards!BY1735","v":" "}," ",{"$f":"FlashCards!CD1735","v":" "}]
[{"$f":"FlashCards!BY1736","v":" "}," ",{"$f":"FlashCards!CD1736","v":" "}]
[{"$f":"FlashCards!BY1737","v":" "}," ",{"$f":"FlashCards!CD1737","v":" "}]
[{"$f":"FlashCards!BY1738","v":" "}," ",{"$f":"FlashCards!CD1738","v":" "}]
[{"$f":"FlashCards!BY1739","v":" "}," ",{"$f":"FlashCards!CD1739","v":" "}]
[{"$f":"FlashCards!BY1740","v":" "}," ",{"$f":"FlashCards!CD1740","v":" "}]
[{"$f":"FlashCards!BY1741","v":" "}," ",{"$f":"FlashCards!CD1741","v":" "}]
[{"$f":"FlashCards!BY1742","v":" "}," ",{"$f":"FlashCards!CD1742","v":" "}]
[{"$f":"FlashCards!BY1743","v":" "}," ",{"$f":"FlashCards!CD1743","v":" "}]
[{"$f":"FlashCards!BY1744","v":" "}," ",{"$f":"FlashCards!CD1744","v":" "}]
[{"$f":"FlashCards!BY1745","v":" "}," ",{"$f":"FlashCards!CD1745","v":" "}]
[{"$f":"FlashCards!BY1746","v":" "}," ",{"$f":"FlashCards!CD1746","v":" "}]
[{"$f":"FlashCards!BY1747","v":" "}," ",{"$f":"FlashCards!CD1747","v":" "}]
[{"$f":"FlashCards!BY1748","v":" "}," ",{"$f":"FlashCards!CD1748","v":" "}]
[{"$f":"FlashCards!BY1749","v":" "}," ",{"$f":"FlashCards!CD1749","v":" "}]
[{"$f":"FlashCards!BY1750","v":" "}," ",{"$f":"FlashCards!CD1750","v":" "}]
[{"$f":"FlashCards!BY1751","v":" "}," ",{"$f":"FlashCards!CD1751","v":" "}]
[{"$f":"FlashCards!BY1752","v":" "}," ",{"$f":"FlashCards!CD1752","v":" "}]
[{"$f":"FlashCards!BY1753","v":" "}," ",{"$f":"FlashCards!CD1753","v":" "}]
[{"$f":"FlashCards!BY1754","v":" "}," ",{"$f":"FlashCards!CD1754","v":" "}]
[{"$f":"FlashCards!BY1755","v":" "}," ",{"$f":"FlashCards!CD1755","v":" "}]
[{"$f":"FlashCards!BY1756","v":" "}," ",{"$f":"FlashCards!CD1756","v":" "}]
[{"$f":"FlashCards!BY1757","v":" "}," ",{"$f":"FlashCards!CD1757","v":" "}]
[{"$f":"FlashCards!BY1758","v":" "}," ",{"$f":"FlashCards!CD1758","v":" "}]
[{"$f":"FlashCards!BY1759","v":" "}," ",{"$f":"FlashCards!CD1759","v":" "}]
[{"$f":"FlashCards!BY1760","v":" "}," ",{"$f":"FlashCards!CD1760","v":" "}]
[{"$f":"FlashCards!BY1761","v":" "}," ",{"$f":"FlashCards!CD1761","v":" "}]
[{"$f":"FlashCards!BY1762","v":" "}," ",{"$f":"FlashCards!CD1762","v":" "}]
[{"$f":"FlashCards!BY1763","v":" "}," ",{"$f":"FlashCards!CD1763","v":" "}]
[{"$f":"FlashCards!BY1764","v":" "}," ",{"$f":"FlashCards!CD1764","v":" "}]
[{"$f":"FlashCards!BY1765","v":" "}," ",{"$f":"FlashCards!CD1765","v":" "}]
[{"$f":"FlashCards!BY1766","v":" "}," ",{"$f":"FlashCards!CD1766","v":" "}]
[{"$f":"FlashCards!BY1767","v":" "}," ",{"$f":"FlashCards!CD1767","v":" "}]
[{"$f":"FlashCards!BY1768","v":" "}," ",{"$f":"FlashCards!CD1768","v":" "}]
[{"$f":"FlashCards!BY1769","v":" "}," ",{"$f":"FlashCards!CD1769","v":" "}]
[{"$f":"FlashCards!BY1770","v":" "}," ",{"$f":"FlashCards!CD1770","v":" "}]
[{"$f":"FlashCards!BY1771","v":" "}," ",{"$f":"FlashCards!CD1771","v":" "}]
[{"$f":"FlashCards!BY1772","v":" "}," ",{"$f":"FlashCards!CD1772","v":" "}]
[{"$f":"FlashCards!BY1773","v":" "}," ",{"$f":"FlashCards!CD1773","v":" "}]
[{"$f":"FlashCards!BY1774","v":" "}," ",{"$f":"FlashCards!CD1774","v":" "}]
[{"$f":"FlashCards!BY1775","v":" "}," ",{"$f":"FlashCards!CD1775","v":" "}]
[{"$f":"FlashCards!BY1776","v":" "}," ",{"$f":"FlashCards!CD1776","v":" "}]
[{"$f":"FlashCards!BY1777","v":" "}," ",{"$f":"FlashCards!CD1777","v":" "}]
[{"$f":"FlashCards!BY1778","v":" "}," ",{"$f":"FlashCards!CD1778","v":" "}]
[{"$f":"FlashCards!BY1779","v":" "}," ",{"$f":"FlashCards!CD1779","v":" "}]
[{"$f":"FlashCards!BY1780","v":" "}," ",{"$f":"FlashCards!CD1780","v":" "}]
[{"$f":"FlashCards!BY1781","v":" "}," ",{"$f":"FlashCards!CD1781","v":" "}]
[{"$f":"FlashCards!BY1782","v":" "}," ",{"$f":"FlashCards!CD1782","v":" "}]
[{"$f":"FlashCards!BY1783","v":" "}," ",{"$f":"FlashCards!CD1783","v":" "}]
[{"$f":"FlashCards!BY1784","v":" "}," ",{"$f":"FlashCards!CD1784","v":" "}]
[{"$f":"FlashCards!BY1785","v":" "}," ",{"$f":"FlashCards!CD1785","v":" "}]
[{"$f":"FlashCards!BY1786","v":" "}," ",{"$f":"FlashCards!CD1786","v":" "}]
[{"$f":"FlashCards!BY1787","v":" "}," ",{"$f":"FlashCards!CD1787","v":" "}]
[{"$f":"FlashCards!BY1788","v":" "}," ",{"$f":"FlashCards!CD1788","v":" "}]
[{"$f":"FlashCards!BY1789","v":" "}," ",{"$f":"FlashCards!CD1789","v":" "}]
[{"$f":"FlashCards!BY1790","v":" "}," ",{"$f":"FlashCards!CD1790","v":" "}]
[{"$f":"FlashCards!BY1791","v":" "}," ",{"$f":"FlashCards!CD1791","v":" "}]
[{"$f":"FlashCards!BY1792","v":" "}," ",{"$f":"FlashCards!CD1792","v":" "}]
[{"$f":"FlashCards!BY1793","v":" "}," ",{"$f":"FlashCards!CD1793","v":" "}]
[{"$f":"FlashCards!BY1794","v":" "}," ",{"$f":"FlashCards!CD1794","v":" "}]
[{"$f":"FlashCards!BY1795","v":" "}," ",{"$f":"FlashCards!CD1795","v":" "}]
[{"$f":"FlashCards!BY1796","v":" "}," ",{"$f":"FlashCards!CD1796","v":" "}]
[{"$f":"FlashCards!BY1797","v":" "}," ",{"$f":"FlashCards!CD1797","v":" "}]
[{"$f":"FlashCards!BY1798","v":" "}," ",{"$f":"FlashCards!CD1798","v":" "}]
[{"$f":"FlashCards!BY1799","v":" "}," ",{"$f":"FlashCards!CD1799","v":" "}]
[{"$f":"FlashCards!BY1800","v":" "}," ",{"$f":"FlashCards!CD1800","v":" "}]
[{"$f":"FlashCards!BY1801","v":" "}," ",{"$f":"FlashCards!CD1801","v":" "}]
[{"$f":"FlashCards!BY1802","v":" "}," ",{"$f":"FlashCards!CD1802","v":" "}]
[{"$f":"FlashCards!BY1803","v":" "}," ",{"$f":"FlashCards!CD1803","v":" "}]
[{"$f":"FlashCards!BY1804","v":" "}," ",{"$f":"FlashCards!CD1804","v":" "}]
[{"$f":"FlashCards!BY1805","v":" "}," ",{"$f":"FlashCards!CD1805","v":" "}]
[{"$f":"FlashCards!BY1806","v":" "}," ",{"$f":"FlashCards!CD1806","v":" "}]
[{"$f":"FlashCards!BY1807","v":" "}," ",{"$f":"FlashCards!CD1807","v":" "}]
[{"$f":"FlashCards!BY1808","v":" "}," ",{"$f":"FlashCards!CD1808","v":" "}]
[{"$f":"FlashCards!BY1809","v":" "}," ",{"$f":"FlashCards!CD1809","v":" "}]
[{"$f":"FlashCards!BY1810","v":" "}," ",{"$f":"FlashCards!CD1810","v":" "}]
[{"$f":"FlashCards!BY1811","v":" "}," ",{"$f":"FlashCards!CD1811","v":" "}]
[{"$f":"FlashCards!BY1812","v":" "}," ",{"$f":"FlashCards!CD1812","v":" "}]
[{"$f":"FlashCards!BY1813","v":" "}," ",{"$f":"FlashCards!CD1813","v":" "}]
[{"$f":"FlashCards!BY1814","v":" "}," ",{"$f":"FlashCards!CD1814","v":" "}]
[{"$f":"FlashCards!BY1815","v":" "}," ",{"$f":"FlashCards!CD1815","v":" "}]
[{"$f":"FlashCards!BY1816","v":" "}," ",{"$f":"FlashCards!CD1816","v":" "}]
[{"$f":"FlashCards!BY1817","v":" "}," ",{"$f":"FlashCards!CD1817","v":" "}]
[{"$f":"FlashCards!BY1818","v":" "}," ",{"$f":"FlashCards!CD1818","v":" "}]
[{"$f":"FlashCards!BY1819","v":" "}," ",{"$f":"FlashCards!CD1819","v":" "}]
[{"$f":"FlashCards!BY1820","v":" "}," ",{"$f":"FlashCards!CD1820","v":" "}]
[{"$f":"FlashCards!BY1821","v":" "}," ",{"$f":"FlashCards!CD1821","v":" "}]
[{"$f":"FlashCards!BY1822","v":" "}," ",{"$f":"FlashCards!CD1822","v":" "}]
[{"$f":"FlashCards!BY1823","v":" "}," ",{"$f":"FlashCards!CD1823","v":" "}]
[{"$f":"FlashCards!BY1824","v":" "}," ",{"$f":"FlashCards!CD1824","v":" "}]
[{"$f":"FlashCards!BY1825","v":" "}," ",{"$f":"FlashCards!CD1825","v":" "}]
[{"$f":"FlashCards!BY1826","v":" "}," ",{"$f":"FlashCards!CD1826","v":" "}]
[{"$f":"FlashCards!BY1827","v":" "}," ",{"$f":"FlashCards!CD1827","v":" "}]
[{"$f":"FlashCards!BY1828","v":" "}," ",{"$f":"FlashCards!CD1828","v":" "}]
[{"$f":"FlashCards!BY1829","v":" "}," ",{"$f":"FlashCards!CD1829","v":" "}]
[{"$f":"FlashCards!BY1830","v":" "}," ",{"$f":"FlashCards!CD1830","v":" "}]
[{"$f":"FlashCards!BY1831","v":" "}," ",{"$f":"FlashCards!CD1831","v":" "}]
[{"$f":"FlashCards!BY1832","v":" "}," ",{"$f":"FlashCards!CD1832","v":" "}]
[{"$f":"FlashCards!BY1833","v":" "}," ",{"$f":"FlashCards!CD1833","v":" "}]
[{"$f":"FlashCards!BY1834","v":" "}," ",{"$f":"FlashCards!CD1834","v":" "}]
[{"$f":"FlashCards!BY1835","v":" "}," ",{"$f":"FlashCards!CD1835","v":" "}]
[{"$f":"FlashCards!BY1836","v":" "}," ",{"$f":"FlashCards!CD1836","v":" "}]
[{"$f":"FlashCards!BY1837","v":" "}," ",{"$f":"FlashCards!CD1837","v":" "}]
[{"$f":"FlashCards!BY1838","v":" "}," ",{"$f":"FlashCards!CD1838","v":" "}]
[{"$f":"FlashCards!BY1839","v":" "}," ",{"$f":"FlashCards!CD1839","v":" "}]
[{"$f":"FlashCards!BY1840","v":" "}," ",{"$f":"FlashCards!CD1840","v":" "}]
[{"$f":"FlashCards!BY1841","v":" "}," ",{"$f":"FlashCards!CD1841","v":" "}]
[{"$f":"FlashCards!BY1842","v":" "}," ",{"$f":"FlashCards!CD1842","v":" "}]
[{"$f":"FlashCards!BY1843","v":" "}," ",{"$f":"FlashCards!CD1843","v":" "}]
[{"$f":"FlashCards!BY1844","v":" "}," ",{"$f":"FlashCards!CD1844","v":" "}]
[{"$f":"FlashCards!BY1845","v":" "}," ",{"$f":"FlashCards!CD1845","v":" "}]
[{"$f":"FlashCards!BY1846","v":" "}," ",{"$f":"FlashCards!CD1846","v":" "}]
[{"$f":"FlashCards!BY1847","v":" "}," ",{"$f":"FlashCards!CD1847","v":" "}]
[{"$f":"FlashCards!BY1848","v":" "}," ",{"$f":"FlashCards!CD1848","v":" "}]
[{"$f":"FlashCards!BY1849","v":" "}," ",{"$f":"FlashCards!CD1849","v":" "}]
[{"$f":"FlashCards!BY1850","v":" "}," ",{"$f":"FlashCards!CD1850","v":" "}]
[{"$f":"FlashCards!BY1851","v":" "}," ",{"$f":"FlashCards!CD1851","v":" "}]
[{"$f":"FlashCards!BY1852","v":" "}," ",{"$f":"FlashCards!CD1852","v":" "}]
[{"$f":"FlashCards!BY1853","v":" "}," ",{"$f":"FlashCards!CD1853","v":" "}]
[{"$f":"FlashCards!BY1854","v":" "}," ",{"$f":"FlashCards!CD1854","v":" "}]
[{"$f":"FlashCards!BY1855","v":" "}," ",{"$f":"FlashCards!CD1855","v":" "}]
[{"$f":"FlashCards!BY1856","v":" "}," ",{"$f":"FlashCards!CD1856","v":" "}]
[{"$f":"FlashCards!BY1857","v":" "}," ",{"$f":"FlashCards!CD1857","v":" "}]
[{"$f":"FlashCards!BY1858","v":" "}," ",{"$f":"FlashCards!CD1858","v":" "}]
[{"$f":"FlashCards!BY1859","v":" "}," ",{"$f":"FlashCards!CD1859","v":" "}]
[{"$f":"FlashCards!BY1860","v":" "}," ",{"$f":"FlashCards!CD1860","v":" "}]
[{"$f":"FlashCards!BY1861","v":" "}," ",{"$f":"FlashCards!CD1861","v":" "}]
[{"$f":"FlashCards!BY1862","v":" "}," ",{"$f":"FlashCards!CD1862","v":" "}]
[{"$f":"FlashCards!BY1863","v":" "}," ",{"$f":"FlashCards!CD1863","v":" "}]
[{"$f":"FlashCards!BY1864","v":" "}," ",{"$f":"FlashCards!CD1864","v":" "}]
[{"$f":"FlashCards!BY1865","v":" "}," ",{"$f":"FlashCards!CD1865","v":" "}]
[{"$f":"FlashCards!BY1866","v":" "}," ",{"$f":"FlashCards!CD1866","v":" "}]
[{"$f":"FlashCards!BY1867","v":" "}," ",{"$f":"FlashCards!CD1867","v":" "}]
[{"$f":"FlashCards!BY1868","v":" "}," ",{"$f":"FlashCards!CD1868","v":" "}]
[{"$f":"FlashCards!BY1869","v":" "}," ",{"$f":"FlashCards!CD1869","v":" "}]
[{"$f":"FlashCards!BY1870","v":" "}," ",{"$f":"FlashCards!CD1870","v":" "}]
[{"$f":"FlashCards!BY1871","v":" "}," ",{"$f":"FlashCards!CD1871","v":" "}]
[{"$f":"FlashCards!BY1872","v":" "}," ",{"$f":"FlashCards!CD1872","v":" "}]
[{"$f":"FlashCards!BY1873","v":" "}," ",{"$f":"FlashCards!CD1873","v":" "}]
[{"$f":"FlashCards!BY1874","v":" "}," ",{"$f":"FlashCards!CD1874","v":" "}]
[{"$f":"FlashCards!BY1875","v":" "}," ",{"$f":"FlashCards!CD1875","v":" "}]
[{"$f":"FlashCards!BY1876","v":" "}," ",{"$f":"FlashCards!CD1876","v":" "}]
[{"$f":"FlashCards!BY1877","v":" "}," ",{"$f":"FlashCards!CD1877","v":" "}]
[{"$f":"FlashCards!BY1878","v":" "}," ",{"$f":"FlashCards!CD1878","v":" "}]
[{"$f":"FlashCards!BY1879","v":" "}," ",{"$f":"FlashCards!CD1879","v":" "}]
[{"$f":"FlashCards!BY1880","v":" "}," ",{"$f":"FlashCards!CD1880","v":" "}]
[{"$f":"FlashCards!BY1881","v":" "}," ",{"$f":"FlashCards!CD1881","v":" "}]
[{"$f":"FlashCards!BY1882","v":" "}," ",{"$f":"FlashCards!CD1882","v":" "}]
[{"$f":"FlashCards!BY1883","v":" "}," ",{"$f":"FlashCards!CD1883","v":" "}]
[{"$f":"FlashCards!BY1884","v":" "}," ",{"$f":"FlashCards!CD1884","v":" "}]
[{"$f":"FlashCards!BY1885","v":" "}," ",{"$f":"FlashCards!CD1885","v":" "}]
[{"$f":"FlashCards!BY1886","v":" "}," ",{"$f":"FlashCards!CD1886","v":" "}]
[{"$f":"FlashCards!BY1887","v":" "}," ",{"$f":"FlashCards!CD1887","v":" "}]
[{"$f":"FlashCards!BY1888","v":" "}," ",{"$f":"FlashCards!CD1888","v":" "}]
[{"$f":"FlashCards!BY1889","v":" "}," ",{"$f":"FlashCards!CD1889","v":" "}]
[{"$f":"FlashCards!BY1890","v":" "}," ",{"$f":"FlashCards!CD1890","v":" "}]
[{"$f":"FlashCards!BY1891","v":" "}," ",{"$f":"FlashCards!CD1891","v":" "}]
[{"$f":"FlashCards!BY1892","v":" "}," ",{"$f":"FlashCards!CD1892","v":" "}]
[{"$f":"FlashCards!BY1893","v":" "}," ",{"$f":"FlashCards!CD1893","v":" "}]
[{"$f":"FlashCards!BY1894","v":" "}," ",{"$f":"FlashCards!CD1894","v":" "}]
[{"$f":"FlashCards!BY1895","v":" "}," ",{"$f":"FlashCards!CD1895","v":" "}]
[{"$f":"FlashCards!BY1896","v":" "}," ",{"$f":"FlashCards!CD1896","v":" "}]
[{"$f":"FlashCards!BY1897","v":" "}," ",{"$f":"FlashCards!CD1897","v":" "}]
[{"$f":"FlashCards!BY1898","v":" "}," ",{"$f":"FlashCards!CD1898","v":" "}]
[{"$f":"FlashCards!BY1899","v":" "}," ",{"$f":"FlashCards!CD1899","v":" "}]
[{"$f":"FlashCards!BY1900","v":" "}," ",{"$f":"FlashCards!CD1900","v":" "}]
[{"$f":"FlashCards!BY1901","v":" "}," ",{"$f":"FlashCards!CD1901","v":" "}]
[{"$f":"FlashCards!BY1902","v":" "}," ",{"$f":"FlashCards!CD1902","v":" "}]
[{"$f":"FlashCards!BY1903","v":" "}," ",{"$f":"FlashCards!CD1903","v":" "}]
[{"$f":"FlashCards!BY1904","v":" "}," ",{"$f":"FlashCards!CD1904","v":" "}]
[{"$f":"FlashCards!BY1905","v":" "}," ",{"$f":"FlashCards!CD1905","v":" "}]
[{"$f":"FlashCards!BY1906","v":" "}," ",{"$f":"FlashCards!CD1906","v":" "}]
[{"$f":"FlashCards!BY1907","v":" "}," ",{"$f":"FlashCards!CD1907","v":" "}]
[{"$f":"FlashCards!BY1908","v":" "}," ",{"$f":"FlashCards!CD1908","v":" "}]
[{"$f":"FlashCards!BY1909","v":" "}," ",{"$f":"FlashCards!CD1909","v":" "}]
[{"$f":"FlashCards!BY1910","v":" "}," ",{"$f":"FlashCards!CD1910","v":" "}]
[{"$f":"FlashCards!BY1911","v":" "}," ",{"$f":"FlashCards!CD1911","v":" "}]
[{"$f":"FlashCards!BY1912","v":" "}," ",{"$f":"FlashCards!CD1912","v":" "}]
[{"$f":"FlashCards!BY1913","v":" "}," ",{"$f":"FlashCards!CD1913","v":" "}]
[{"$f":"FlashCards!BY1914","v":" "}," ",{"$f":"FlashCards!CD1914","v":" "}]
[{"$f":"FlashCards!BY1915","v":" "}," ",{"$f":"FlashCards!CD1915","v":" "}]
[{"$f":"FlashCards!BY1916","v":" "}," ",{"$f":"FlashCards!CD1916","v":" "}]
[{"$f":"FlashCards!BY1917","v":" "}," ",{"$f":"FlashCards!CD1917","v":" "}]
[{"$f":"FlashCards!BY1918","v":" "}," ",{"$f":"FlashCards!CD1918","v":" "}]
[{"$f":"FlashCards!BY1919","v":" "}," ",{"$f":"FlashCards!CD1919","v":" "}]
[{"$f":"FlashCards!BY1920","v":" "}," ",{"$f":"FlashCards!CD1920","v":" "}]
[{"$f":"FlashCards!BY1921","v":" "}," ",{"$f":"FlashCards!CD1921","v":" "}]
[{"$f":"FlashCards!BY1922","v":" "}," ",{"$f":"FlashCards!CD1922","v":" "}]
[{"$f":"FlashCards!BY1923","v":" "}," ",{"$f":"FlashCards!CD1923","v":" "}]
[{"$f":"FlashCards!BY1924","v":" "}," ",{"$f":"FlashCards!CD1924","v":" "}]
[{"$f":"FlashCards!BY1925","v":" "}," ",{"$f":"FlashCards!CD1925","v":" "}]
[{"$f":"FlashCards!BY1926","v":" "}," ",{"$f":"FlashCards!CD1926","v":" "}]
[{"$f":"FlashCards!BY1927","v":" "}," ",{"$f":"FlashCards!CD1927","v":" "}]
[{"$f":"FlashCards!BY1928","v":" "}," ",{"$f":"FlashCards!CD1928","v":" "}]
[{"$f":"FlashCards!BY1929","v":" "}," ",{"$f":"FlashCards!CD1929","v":" "}]
[{"$f":"FlashCards!BY1930","v":" "}," ",{"$f":"FlashCards!CD1930","v":" "}]
[{"$f":"FlashCards!BY1931","v":" "}," ",{"$f":"FlashCards!CD1931","v":" "}]
[{"$f":"FlashCards!BY1932","v":" "}," ",{"$f":"FlashCards!CD1932","v":" "}]
[{"$f":"FlashCards!BY1933","v":" "}," ",{"$f":"FlashCards!CD1933","v":" "}]
[{"$f":"FlashCards!BY1934","v":" "}," ",{"$f":"FlashCards!CD1934","v":" "}]
[{"$f":"FlashCards!BY1935","v":" "}," ",{"$f":"FlashCards!CD1935","v":" "}]
[{"$f":"FlashCards!BY1936","v":" "}," ",{"$f":"FlashCards!CD1936","v":" "}]
[{"$f":"FlashCards!BY1937","v":" "}," ",{"$f":"FlashCards!CD1937","v":" "}]
[{"$f":"FlashCards!BY1938","v":" "}," ",{"$f":"FlashCards!CD1938","v":" "}]
[{"$f":"FlashCards!BY1939","v":" "}," ",{"$f":"FlashCards!CD1939","v":" "}]
[{"$f":"FlashCards!BY1940","v":" "}," ",{"$f":"FlashCards!CD1940","v":" "}]
[{"$f":"FlashCards!BY1941","v":" "}," ",{"$f":"FlashCards!CD1941","v":" "}]
[{"$f":"FlashCards!BY1942","v":" "}," ",{"$f":"FlashCards!CD1942","v":" "}]
[{"$f":"FlashCards!BY1943","v":" "}," ",{"$f":"FlashCards!CD1943","v":" "}]
[{"$f":"FlashCards!BY1944","v":" "}," ",{"$f":"FlashCards!CD1944","v":" "}]
[{"$f":"FlashCards!BY1945","v":" "}," ",{"$f":"FlashCards!CD1945","v":" "}]
[{"$f":"FlashCards!BY1946","v":" "}," ",{"$f":"FlashCards!CD1946","v":" "}]
[{"$f":"FlashCards!BY1947","v":" "}," ",{"$f":"FlashCards!CD1947","v":" "}]
[{"$f":"FlashCards!BY1948","v":" "}," ",{"$f":"FlashCards!CD1948","v":" "}]
[{"$f":"FlashCards!BY1949","v":" "}," ",{"$f":"FlashCards!CD1949","v":" "}]
[{"$f":"FlashCards!BY1950","v":" "}," ",{"$f":"FlashCards!CD1950","v":" "}]
[{"$f":"FlashCards!BY1951","v":" "}," ",{"$f":"FlashCards!CD1951","v":" "}]
[{"$f":"FlashCards!BY1952","v":" "}," ",{"$f":"FlashCards!CD1952","v":" "}]
[{"$f":"FlashCards!BY1953","v":" "}," ",{"$f":"FlashCards!CD1953","v":" "}]
[{"$f":"FlashCards!BY1954","v":" "}," ",{"$f":"FlashCards!CD1954","v":" "}]
[{"$f":"FlashCards!BY1955","v":" "}," ",{"$f":"FlashCards!CD1955","v":" "}]
[{"$f":"FlashCards!BY1956","v":" "}," ",{"$f":"FlashCards!CD1956","v":" "}]
[{"$f":"FlashCards!BY1957","v":" "}," ",{"$f":"FlashCards!CD1957","v":" "}]
[{"$f":"FlashCards!BY1958","v":" "}," ",{"$f":"FlashCards!CD1958","v":" "}]
[{"$f":"FlashCards!BY1959","v":" "}," ",{"$f":"FlashCards!CD1959","v":" "}]
[{"$f":"FlashCards!BY1960","v":" "}," ",{"$f":"FlashCards!CD1960","v":" "}]
[{"$f":"FlashCards!BY1961","v":" "}," ",{"$f":"FlashCards!CD1961","v":" "}]
[{"$f":"FlashCards!BY1962","v":" "}," ",{"$f":"FlashCards!CD1962","v":" "}]
[{"$f":"FlashCards!BY1963","v":" "}," ",{"$f":"FlashCards!CD1963","v":" "}]
[{"$f":"FlashCards!BY1964","v":" "}," ",{"$f":"FlashCards!CD1964","v":" "}]
[{"$f":"FlashCards!BY1965","v":" "}," ",{"$f":"FlashCards!CD1965","v":" "}]
[{"$f":"FlashCards!BY1966","v":" "}," ",{"$f":"FlashCards!CD1966","v":" "}]
[{"$f":"FlashCards!BY1967","v":" "}," ",{"$f":"FlashCards!CD1967","v":" "}]
[{"$f":"FlashCards!BY1968","v":" "}," ",{"$f":"FlashCards!CD1968","v":" "}]
[{"$f":"FlashCards!BY1969","v":" "}," ",{"$f":"FlashCards!CD1969","v":" "}]
[{"$f":"FlashCards!BY1970","v":" "}," ",{"$f":"FlashCards!CD1970","v":" "}]
[{"$f":"FlashCards!BY1971","v":" "}," ",{"$f":"FlashCards!CD1971","v":" "}]
[{"$f":"FlashCards!BY1972","v":" "}," ",{"$f":"FlashCards!CD1972","v":" "}]
[{"$f":"FlashCards!BY1973","v":" "}," ",{"$f":"FlashCards!CD1973","v":" "}]
[{"$f":"FlashCards!BY1974","v":" "}," ",{"$f":"FlashCards!CD1974","v":" "}]
[{"$f":"FlashCards!BY1975","v":" "}," ",{"$f":"FlashCards!CD1975","v":" "}]
[{"$f":"FlashCards!BY1976","v":" "}," ",{"$f":"FlashCards!CD1976","v":" "}]
[{"$f":"FlashCards!BY1977","v":" "}," ",{"$f":"FlashCards!CD1977","v":" "}]
[{"$f":"FlashCards!BY1978","v":" "}," ",{"$f":"FlashCards!CD1978","v":" "}]
[{"$f":"FlashCards!BY1979","v":" "}," ",{"$f":"FlashCards!CD1979","v":" "}]
[{"$f":"FlashCards!BY1980","v":" "}," ",{"$f":"FlashCards!CD1980","v":" "}]
[{"$f":"FlashCards!BY1981","v":" "}," ",{"$f":"FlashCards!CD1981","v":" "}]
[{"$f":"FlashCards!BY1982","v":" "}," ",{"$f":"FlashCards!CD1982","v":" "}]
[{"$f":"FlashCards!BY1983","v":" "}," ",{"$f":"FlashCards!CD1983","v":" "}]
[{"$f":"FlashCards!BY1984","v":" "}," ",{"$f":"FlashCards!CD1984","v":" "}]
[{"$f":"FlashCards!BY1985","v":" "}," ",{"$f":"FlashCards!CD1985","v":" "}]
[{"$f":"FlashCards!BY1986","v":" "}," ",{"$f":"FlashCards!CD1986","v":" "}]
[{"$f":"FlashCards!BY1987","v":" "}," ",{"$f":"FlashCards!CD1987","v":" "}]
[{"$f":"FlashCards!BY1988","v":" "}," ",{"$f":"FlashCards!CD1988","v":" "}]
[{"$f":"FlashCards!BY1989","v":" "}," ",{"$f":"FlashCards!CD1989","v":" "}]
[{"$f":"FlashCards!BY1990","v":" "}," ",{"$f":"FlashCards!CD1990","v":" "}]
[{"$f":"FlashCards!BY1991","v":" "}," ",{"$f":"FlashCards!CD1991","v":" "}]
[{"$f":"FlashCards!BY1992","v":" "}," ",{"$f":"FlashCards!CD1992","v":" "}]
[{"$f":"FlashCards!BY1993","v":" "}," ",{"$f":"FlashCards!CD1993","v":" "}]
[{"$f":"FlashCards!BY1994","v":" "}," ",{"$f":"FlashCards!CD1994","v":" "}]
[{"$f":"FlashCards!BY1995","v":" "}," ",{"$f":"FlashCards!CD1995","v":" "}]
[{"$f":"FlashCards!BY1996","v":" "}," ",{"$f":"FlashCards!CD1996","v":" "}]
[{"$f":"FlashCards!BY1997","v":" "}," ",{"$f":"FlashCards!CD1997","v":" "}]
[{"$f":"FlashCards!BY1998","v":" "}," ",{"$f":"FlashCards!CD1998","v":" "}]
[{"$f":"FlashCards!BY1999","v":" "}," ",{"$f":"FlashCards!CD1999","v":" "}]
[{"$f":"FlashCards!BY2000","v":" "}," ",{"$f":"FlashCards!CD2000","v":" "}]
[{"$f":"FlashCards!BY2001","v":" "}," ",{"$f":"FlashCards!CD2001","v":" "}]
[{"$f":"FlashCards!BY2002","v":" "}," ",{"$f":"FlashCards!CD2002","v":" "}]
[{"$f":"FlashCards!BY2003","v":" "}," ",{"$f":"FlashCards!CD2003","v":" "}]

{"sheet":"Printables","index":2,"n_rows":996,"n_cols":5,"rows_kept":996,"cut":false,"hidden":false,"merged":[]}
[]
[]
[null,{"$f":"INDIRECT( \"FlashCards!\"&IF(MOD(INT((ROW(B4)-4)/50),2)=0,\"CF\"&TEXT((ROW(B4)/6)+10/3-INT((ROW(B4)-4)/50)/3,\"#\"),\"CF\"&TEXT((ROW(B4)/6)+10/3-INT((ROW(B4)-4)/50)/3,\"#\")))","v":"Chapter 07: Noun Ending"},null,null,{"$f":"INDIRECT( \"FlashCards!\"&IF(MOD(INT((ROW(B4)-4)/50),2)=0,\"CF\"&TEXT((ROW(B4)/6)+10/3-INT((ROW(B4)-4)/50)/3+8,\"#\"),\"CF\"&TEXT((ROW(B4)/6)+10/3-INT((ROW(B4)-4)/50)/3+8,\"#\")))","v":"Chapter 07: Noun Ending"}]
[null,{"$f":"INDIRECT( \"FlashCards!\"&IF(MOD(INT((ROW(B4)-4)/50),2)=0,\"CE\"&TEXT((ROW(B4)/6)+10/3-INT((ROW(B4)-4)/50)/3,\"#\"),\"CD\"&TEXT((ROW(B4)/6)+10/3-INT((ROW(B4)-4)/50)/3,\"#\")))","v":"-ς, -ος  "},null,null,{"$f":"INDIRECT( \"FlashCards!\"&IF(MOD(INT((ROW(B4)-4)/50),2)=0,\"CE\"&TEXT((ROW(B4)/6)+10/3-INT((ROW(B4)-4)/50)/3+8,\"#\"),\"CD\"&TEXT((ROW(B4)/6)+10/3-INT((ROW(B4)-4)/50)/3+8,\"#\")))","v":"-ι, -οι"}]
[]
[null,{"$f":"INDIRECT( \"FlashCards!\"&IF(MOD(INT((ROW(B4)-4)/50),2)=0,\"CC\"&TEXT((ROW(B4)/6)+10/3-INT((ROW(B4)-4)/50)/3,\"#\"),\"\"))","v":" "},null,null,{"$f":"INDIRECT( \"FlashCards!\"&IF(MOD(INT((ROW(B4)-4)/50),2)=0,\"CC\"&TEXT((ROW(B4)/6)+10/3-INT((ROW(B4)-4)/50)/3+8,\"#\"),\"CC\"&TEXT((ROW(B4)/6)+10/3-INT((ROW(B4)-4)/50)/3+8,\"#\")))","v":" "}]
[]
[]
[null,{"$f":"INDIRECT( \"FlashCards!\"&IF(MOD(INT((ROW(B10)-4)/50),2)=0,\"CF\"&TEXT((ROW(B10)/6)+10/3-INT((ROW(B10)-4)/50)/3,\"#\"),\"CF\"&TEXT((ROW(B10)/6)+10/3-INT((ROW(B10)-4)/50)/3,\"#\")))","v":"Chapter 07: Noun Ending"},null,null,{"$f":"INDIRECT( \"FlashCards!\"&IF(MOD(INT((ROW(B10)-4)/50),2)=0,\"CF\"&TEXT((ROW(B10)/6)+10/3-INT((ROW(B10)-4)/50)/3+8,\"#\"),\"CF\"&TEXT((ROW(B10)/6)+10/3-INT((ROW(B10)-4)/50)/3+8,\"#\")))","v":"Chapter 10: Noun Ending"}]
[null,{"$f":"INDIRECT( \"FlashCards!\"&IF(MOD(INT((ROW(B10)-4)/50),2)=0,\"CE\"&TEXT((ROW(B10)/6)+10/3-INT((ROW(B10)-4)/50)/3,\"#\"),\"CD\"&TEXT((ROW(B10)/6)+10/3-INT((ROW(B10)-4)/50)/3,\"#\")))","v":"-, -η, -α"},null,null,{"$f":"INDIRECT( \"FlashCards!\"&IF(MOD(INT((ROW(B10)-4)/50),2)=0,\"CE\"&TEXT((ROW(B10)/6)+10/3-INT((ROW(B10)-4)/50)/3+8,\"#\"),\"CD\"&TEXT((ROW(B10)/6)+10/3-INT((ROW(B10)-4)/50)/3+8,\"#\")))","v":"-ες"}]
[]
[null,{"$f":"INDIRECT( \"FlashCards!\"&IF(MOD(INT((ROW(B10)-4)/50),2)=0,\"CC\"&TEXT((ROW(B10)/6)+10/3-INT((ROW(B10)-4)/50)/3,\"#\"),\"\"))","v":" "},null,null,{"$f":"INDIRECT( \"FlashCards!\"&IF(MOD(INT((ROW(B10)-4)/50),2)=0,\"CC\"&TEXT((ROW(B10)/6)+10/3-INT((ROW(B10)-4)/50)/3+8,\"#\"),\"CC\"&TEXT((ROW(B10)/6)+10/3-INT((ROW(B10)-4)/50)/3+8,\"#\")))","v":" "}]
[]
[]
[null,{"$f":"INDIRECT( \"FlashCards!\"&IF(MOD(INT((ROW(B16)-4)/50),2)=0,\"CF\"&TEXT((ROW(B16)/6)+10/3-INT((ROW(B16)-4)/50)/3,\"#\"),\"CF\"&TEXT((ROW(B16)/6)+10/3-INT((ROW(B16)-4)/50)/3,\"#\")))","v":"Chapter 07: Noun Ending"},null,null,{"$f":"INDIRECT( \"FlashCards!\"&IF(MOD(INT((ROW(B16)-4)/50),2)=0,\"CF\"&TEXT((ROW(B16)/6)+10/3-INT((ROW(B16)-4)/50)/3+8,\"#\"),\"CF\"&TEXT((ROW(B16)/6)+10/3-INT((ROW(B16)-4)/50)/3+8,\"#\")))","v":"Chapter 07: Noun Ending"}]
[null,{"$f":"INDIRECT( \"FlashCards!\"&IF(MOD(INT((ROW(B16)-4)/50),2)=0,\"CE\"&TEXT((ROW(B16)/6)+10/3-INT((ROW(B16)-4)/50)/3,\"#\"),\"CD\"&TEXT((ROW(B16)/6)+10/3-INT((ROW(B16)-4)/50)/3,\"#\")))","v":"-ν, -ον"},null,null,{"$f":"INDIRECT( \"FlashCards!\"&IF(MOD(INT((ROW(B16)-4)/50),2)=0,\"CE\"&TEXT((ROW(B16)/6)+10/3-INT((ROW(B16)-4)/50)/3+8,\"#\"),\"CD\"&TEXT((ROW(B16)/6)+10/3-INT((ROW(B16)-4)/50)/3+8,\"#\")))","v":"-ι, -αι"}]
[]
[null,{"$f":"INDIRECT( \"FlashCards!\"&IF(MOD(INT((ROW(B16)-4)/50),2)=0,\"CC\"&TEXT((ROW(B16)/6)+10/3-INT((ROW(B16)-4)/50)/3,\"#\"),\"\"))","v":" "},null,null,{"$f":"INDIRECT( \"FlashCards!\"&IF(MOD(INT((ROW(B16)-4)/50),2)=0,\"CC\"&TEXT((ROW(B16)/6)+10/3-INT((ROW(B16)-4)/50)/3+8,\"#\"),\"CC\"&TEXT((ROW(B16)/6)+10/3-INT((ROW(B16)-4)/50)/3+8,\"#\")))","v":" "}]
[]
[]
[null,{"$f":"INDIRECT( \"FlashCards!\"&IF(MOD(INT((ROW(B22)-4)/50),2)=0,\"CF\"&TEXT((ROW(B22)/6)+10/3-INT((ROW(B22)-4)/50)/3,\"#\"),\"CF\"&TEXT((ROW(B22)/6)+10/3-INT((ROW(B22)-4)/50)/3,\"#\")))","v":"Chapter 07: Noun Ending"},null,null,{"$f":"INDIRECT( \"FlashCards!\"&IF(MOD(INT((ROW(B22)-4)/50),2)=0,\"CF\"&TEXT((ROW(B22)/6)+10/3-INT((ROW(B22)-4)/50)/3+8,\"#\"),\"CF\"&TEXT((ROW(B22)/6)+10/3-INT((ROW(B22)-4)/50)/3+8,\"#\")))","v":"Chapter 07: Noun Ending"}]
[null,{"$f":"INDIRECT( \"FlashCards!\"&IF(MOD(INT((ROW(B22)-4)/50),2)=0,\"CE\"&TEXT((ROW(B22)/6)+10/3-INT((ROW(B22)-4)/50)/3,\"#\"),\"CD\"&TEXT((ROW(B22)/6)+10/3-INT((ROW(B22)-4)/50)/3,\"#\")))","v":"-υ, -ου"},null,null,{"$f":"INDIRECT( \"FlashCards!\"&IF(MOD(INT((ROW(B22)-4)/50),2)=0,\"CE\"&TEXT((ROW(B22)/6)+10/3-INT((ROW(B22)-4)/50)/3+8,\"#\"),\"CD\"&TEXT((ROW(B22)/6)+10/3-INT((ROW(B22)-4)/50)/3+8,\"#\")))","v":"-α     "}]
[]
[null,{"$f":"INDIRECT( \"FlashCards!\"&IF(MOD(INT((ROW(B22)-4)/50),2)=0,\"CC\"&TEXT((ROW(B22)/6)+10/3-INT((ROW(B22)-4)/50)/3,\"#\"),\"\"))","v":" "},null,null,{"$f":"INDIRECT( \"FlashCards!\"&IF(MOD(INT((ROW(B22)-4)/50),2)=0,\"CC\"&TEXT((ROW(B22)/6)+10/3-INT((ROW(B22)-4)/50)/3+8,\"#\"),\"CC\"&TEXT((ROW(B22)/6)+10/3-INT((ROW(B22)-4)/50)/3+8,\"#\")))","v":" "}]
[]
[]
[null,{"$f":"INDIRECT( \"FlashCards!\"&IF(MOD(INT((ROW(B28)-4)/50),2)=0,\"CF\"&TEXT((ROW(B28)/6)+10/3-INT((ROW(B28)-4)/50)/3,\"#\"),\"CF\"&TEXT((ROW(B28)/6)+10/3-INT((ROW(B28)-4)/50)/3,\"#\")))","v":"Chapter 07: Noun Ending"},null,null,{"$f":"INDIRECT( \"FlashCards!\"&IF(MOD(INT((ROW(B28)-4)/50),2)=0,\"CF\"&TEXT((ROW(B28)/6)+10/3-INT((ROW(B28)-4)/50)/3+8,\"#\"),\"CF\"&TEXT((ROW(B28)/6)+10/3-INT((ROW(B28)-4)/50)/3+8,\"#\")))","v":"Chapter 07: Noun Ending"}]
[null,{"$f":"INDIRECT( \"FlashCards!\"&IF(MOD(INT((ROW(B28)-4)/50),2)=0,\"CE\"&TEXT((ROW(B28)/6)+10/3-INT((ROW(B28)-4)/50)/3,\"#\"),\"CD\"&TEXT((ROW(B28)/6)+10/3-INT((ROW(B28)-4)/50)/3,\"#\")))","v":"-ς, -ης, -ας"},null,null,{"$f":"INDIRECT( \"FlashCards!\"&IF(MOD(INT((ROW(B28)-4)/50),2)=0,\"CE\"&TEXT((ROW(B28)/6)+10/3-INT((ROW(B28)-4)/50)/3+8,\"#\"),\"CD\"&TEXT((ROW(B28)/6)+10/3-INT((ROW(B28)-4)/50)/3+8,\"#\")))","v":"-ων     "}]
[]
[null,{"$f":"INDIRECT( \"FlashCards!\"&IF(MOD(INT((ROW(B28)-4)/50),2)=0,\"CC\"&TEXT((ROW(B28)/6)+10/3-INT((ROW(B28)-4)/50)/3,\"#\"),\"\"))","v":" "},null,null,{"$f":"INDIRECT( \"FlashCards!\"&IF(MOD(INT((ROW(B28)-4)/50),2)=0,\"CC\"&TEXT((ROW(B28)/6)+10/3-INT((ROW(B28)-4)/50)/3+8,\"#\"),\"CC\"&TEXT((ROW(B28)/6)+10/3-INT((ROW(B28)-4)/50)/3+8,\"#\")))","v":" "}]
[]
[]
[null,{"$f":"INDIRECT( \"FlashCards!\"&IF(MOD(INT((ROW(B34)-4)/50),2)=0,\"CF\"&TEXT((ROW(B34)/6)+10/3-INT((ROW(B34)-4)/50)/3,\"#\"),\"CF\"&TEXT((ROW(B34)/6)+10/3-INT((ROW(B34)-4)/50)/3,\"#\")))","v":"Chapter 07: Noun Ending"},null,null,{"$f":"INDIRECT( \"FlashCards!\"&IF(MOD(INT((ROW(B34)-4)/50),2)=0,\"CF\"&TEXT((ROW(B34)/6)+10/3-INT((ROW(B34)-4)/50)/3+8,\"#\"),\"CF\"&TEXT((ROW(B34)/6)+10/3-INT((ROW(B34)-4)/50)/3+8,\"#\")))","v":"Chapter 07: Noun Ending"}]
[null,{"$f":"INDIRECT( \"FlashCards!\"&IF(MOD(INT((ROW(B34)-4)/50),2)=0,\"CE\"&TEXT((ROW(B34)/6)+10/3-INT((ROW(B34)-4)/50)/3,\"#\"),\"CD\"&TEXT((ROW(B34)/6)+10/3-INT((ROW(B34)-4)/50)/3,\"#\")))","v":"-ι, -ῳ"},null,null,{"$f":"INDIRECT( \"FlashCards!\"&IF(MOD(INT((ROW(B34)-4)/50),2)=0,\"CE\"&TEXT((ROW(B34)/6)+10/3-INT((ROW(B34)-4)/50)/3+8,\"#\"),\"CD\"&TEXT((ROW(B34)/6)+10/3-INT((ROW(B34)-4)/50)/3+8,\"#\")))","v":"-ις, -οις"}]
[]
[null,{"$f":"INDIRECT( \"FlashCards!\"&IF(MOD(INT((ROW(B34)-4)/50),2)=0,\"CC\"&TEXT((ROW(B34)/6)+10/3-INT((ROW(B34)-4)/50)/3,\"#\"),\"\"))","v":" "},null,null,{"$f":"INDIRECT( \"FlashCards!\"&IF(MOD(INT((ROW(B34)-4)/50),2)=0,\"CC\"&TEXT((ROW(B34)/6)+10/3-INT((ROW(B34)-4)/50)/3+8,\"#\"),\"CC\"&TEXT((ROW(B34)/6)+10/3-INT((ROW(B34)-4)/50)/3+8,\"#\")))","v":" "}]
[]
[]
[null,{"$f":"INDIRECT( \"FlashCards!\"&IF(MOD(INT((ROW(B40)-4)/50),2)=0,\"CF\"&TEXT((ROW(B40)/6)+10/3-INT((ROW(B40)-4)/50)/3,\"#\"),\"CF\"&TEXT((ROW(B40)/6)+10/3-INT((ROW(B40)-4)/50)/3,\"#\")))","v":"Chapter 07: Noun Ending"},null,null,{"$f":"INDIRECT( \"FlashCards!\"&IF(MOD(INT((ROW(B40)-4)/50),2)=0,\"CF\"&TEXT((ROW(B40)/6)+10/3-INT((ROW(B40)-4)/50)/3+8,\"#\"),\"CF\"&TEXT((ROW(B40)/6)+10/3-INT((ROW(B40)-4)/50)/3+8,\"#\")))","v":"Chapter 07: Noun Ending"}]
[null,{"$f":"INDIRECT( \"FlashCards!\"&IF(MOD(INT((ROW(B40)-4)/50),2)=0,\"CE\"&TEXT((ROW(B40)/6)+10/3-INT((ROW(B40)-4)/50)/3,\"#\"),\"CD\"&TEXT((ROW(B40)/6)+10/3-INT((ROW(B40)-4)/50)/3,\"#\")))","v":"-ι, -ῃ, -ᾳ"},null,null,{"$f":"INDIRECT( \"FlashCards!\"&IF(MOD(INT((ROW(B40)-4)/50),2)=0,\"CE\"&TEXT((ROW(B40)/6)+10/3-INT((ROW(B40)-4)/50)/3+8,\"#\"),\"CD\"&TEXT((ROW(B40)/6)+10/3-INT((ROW(B40)-4)/50)/3+8,\"#\")))","v":"-ις, -αις"}]
[]
[null,{"$f":"INDIRECT( \"FlashCards!\"&IF(MOD(INT((ROW(B40)-4)/50),2)=0,\"CC\"&TEXT((ROW(B40)/6)+10/3-INT((ROW(B40)-4)/50)/3,\"#\"),\"\"))","v":" "},null,null,{"$f":"INDIRECT( \"FlashCards!\"&IF(MOD(INT((ROW(B40)-4)/50),2)=0,\"CC\"&TEXT((ROW(B40)/6)+10/3-INT((ROW(B40)-4)/50)/3+8,\"#\"),\"CC\"&TEXT((ROW(B40)/6)+10/3-INT((ROW(B40)-4)/50)/3+8,\"#\")))","v":" "}]
[]
[]
[null,{"$f":"INDIRECT( \"FlashCards!\"&IF(MOD(INT((ROW(B46)-4)/50),2)=0,\"CF\"&TEXT((ROW(B46)/6)+10/3-INT((ROW(B46)-4)/50)/3,\"#\"),\"CF\"&TEXT((ROW(B46)/6)+10/3-INT((ROW(B46)-4)/50)/3,\"#\")))","v":"Chapter 07: Noun Ending"},null,null,{"$f":"INDIRECT( \"FlashCards!\"&IF(MOD(INT((ROW(B46)-4)/50),2)=0,\"CF\"&TEXT((ROW(B46)/6)+10/3-INT((ROW(B46)-4)/50)/3+8,\"#\"),\"CF\"&TEXT((ROW(B46)/6)+10/3-INT((ROW(B46)-4)/50)/3+8,\"#\")))","v":"Chapter 10: Noun Ending"}]
[null,{"$f":"INDIRECT( \"FlashCards!\"&IF(MOD(INT((ROW(B46)-4)/50),2)=0,\"CE\"&TEXT((ROW(B46)/6)+10/3-INT((ROW(B46)-4)/50)/3,\"#\"),\"CD\"&TEXT((ROW(B46)/6)+10/3-INT((ROW(B46)-4)/50)/3,\"#\")))","v":"-ν, -ην, -αν"},null,null,{"$f":"INDIRECT( \"FlashCards!\"&IF(MOD(INT((ROW(B46)-4)/50),2)=0,\"CE\"&TEXT((ROW(B46)/6)+10/3-INT((ROW(B46)-4)/50)/3+8,\"#\"),\"CD\"&TEXT((ROW(B46)/6)+10/3-INT((ROW(B46)-4)/50)/3+8,\"#\")))","v":"-σι(ν)"}]
[]
[null,{"$f":"INDIRECT( \"FlashCards!\"&IF(MOD(INT((ROW(B46)-4)/50),2)=0,\"CC\"&TEXT((ROW(B46)/6)+10/3-INT((ROW(B46)-4)/50)/3,\"#\"),\"\"))","v":" "},null,null,{"$f":"INDIRECT( \"FlashCards!\"&IF(MOD(INT((ROW(B46)-4)/50),2)=0,\"CC\"&TEXT((ROW(B46)/6)+10/3-INT((ROW(B46)-4)/50)/3+8,\"#\"),\"CC\"&TEXT((ROW(B46)/6)+10/3-INT((ROW(B46)-4)/50)/3+8,\"#\")))","v":" "}]
[]
[]
[]
[]
[null,{"$f":"E3","v":"Chapter 07: Noun Ending"},null,null,{"$f":"B3","v":"Chapter 07: Noun Ending"}]
[null,{"$f":"INDIRECT( \"FlashCards!\"&IF(MOD(INT((ROW(B54)-4)/50),2)=0,\"CE\"&TEXT((ROW(B54)/6)+10/3-INT((ROW(B54)-4)/50)/3,\"#\"),\"CD\"&TEXT((ROW(B54)/6)+10/3-INT((ROW(B54)-4)/50)/3,\"#\")))","v":"(nominative, plural, masculine)"},null,null,{"$f":"INDIRECT( \"FlashCards!\"&IF(MOD(INT((ROW(B54)-4)/50),2)=0,\"CE\"&TEXT((ROW(B54)/6)+10/3-INT((ROW(B54)-4)/50)/3-8,\"#\"),\"CD\"&TEXT((ROW(B54)/6)+10/3-INT((ROW(B54)-4)/50)/3-8,\"#\")))","v":"(nominative, singular, masculine)"}]
[]
[]
[]
[]
[null,{"$f":"E9","v":"Chapter 10: Noun Ending"},null,null,{"$f":"B9","v":"Chapter 07: Noun Ending"}]
[null,{"$f":"INDIRECT( \"FlashCards!\"&IF(MOD(INT((ROW(B60)-4)/50),2)=0,\"CE\"&TEXT((ROW(B60)/6)+10/3-INT((ROW(B60)-4)/50)/3,\"#\"),\"CD\"&TEXT((ROW(B60)/6)+10/3-INT((ROW(B60)-4)/50)/3,\"#\")))","v":"(nominative, plural, masculine or feminine, 3ʳᵈ declension)"},null,null,{"$f":"INDIRECT( \"FlashCards!\"&IF(MOD(INT((ROW(B60)-4)/50),2)=0,\"CE\"&TEXT((ROW(B60)/6)+10/3-INT((ROW(B60)-4)/50)/3-8,\"#\"),\"CD\"&TEXT((ROW(B60)/6)+10/3-INT((ROW(B60)-4)/50)/3-8,\"#\")))","v":"(nominative, singular, feminine)"}]
[]
[]
[]
[]
[null,{"$f":"E15","v":"Chapter 07: Noun Ending"},null,null,{"$f":"B15","v":"Chapter 07: Noun Ending"}]
[null,{"$f":"INDIRECT( \"FlashCards!\"&IF(MOD(INT((ROW(B66)-4)/50),2)=0,\"CE\"&TEXT((ROW(B66)/6)+10/3-INT((ROW(B66)-4)/50)/3,\"#\"),\"CD\"&TEXT((ROW(B66)/6)+10/3-INT((ROW(B66)-4)/50)/3,\"#\")))","v":"(nominative, plural, feminine)"},null,null,{"$f":"INDIRECT( \"FlashCards!\"&IF(MOD(INT((ROW(B66)-4)/50),2)=0,\"CE\"&TEXT((ROW(B66)/6)+10/3-INT((ROW(B66)-4)/50)/3-8,\"#\"),\"CD\"&TEXT((ROW(B66)/6)+10/3-INT((ROW(B66)-4)/50)/3-8,\"#\")))","v":"(nominative, singular, neuter; accusative, singular, masculine or neuter)"}]
[]
[]
[]
[]
[null,{"$f":"E21","v":"Chapter 07: Noun Ending"},null,null,{"$f":"B21","v":"Chapter 07: Noun Ending"}]
[null,{"$f":"INDIRECT( \"FlashCards!\"&IF(MOD(INT((ROW(B72)-4)/50),2)=0,\"CE\"&TEXT((ROW(B72)/6)+10/3-INT((ROW(B72)-4)/50)/3,\"#\"),\"CD\"&TEXT((ROW(B72)/6)+10/3-INT((ROW(B72)-4)/50)/3,\"#\")))","v":"(nominative or accusative, plural, neuter)"},null,null,{"$f":"INDIRECT( \"FlashCards!\"&IF(MOD(INT((ROW(B72)-4)/50),2)=0,\"CE\"&TEXT((ROW(B72)/6)+10/3-INT((ROW(B72)-4)/50)/3-8,\"#\"),\"CD\"&TEXT((ROW(B72)/6)+10/3-INT((ROW(B72)-4)/50)/3-8,\"#\")))","v":"(genitive, singular, masculine or neuter)"}]
[]
[]
[]
[]
[null,{"$f":"E27","v":"Chapter 07: Noun Ending"},null,null,{"$f":"B27","v":"Chapter 07: Noun Ending"}]
[null,{"$f":"INDIRECT( \"FlashCards!\"&IF(MOD(INT((ROW(B78)-4)/50),2)=0,\"CE\"&TEXT((ROW(B78)/6)+10/3-INT((ROW(B78)-4)/50)/3,\"#\"),\"CD\"&TEXT((ROW(B78)/6)+10/3-INT((ROW(B78)-4)/50)/3,\"#\")))","v":"(genitive, plural, masculine, feminine, neuter)"},null,null,{"$f":"INDIRECT( \"FlashCards!\"&IF(MOD(INT((ROW(B78)-4)/50),2)=0,\"CE\"&TEXT((ROW(B78)/6)+10/3-INT((ROW(B78)-4)/50)/3-8,\"#\"),\"CD\"&TEXT((ROW(B78)/6)+10/3-INT((ROW(B78)-4)/50)/3-8,\"#\")))","v":"(genitive, singular,  feminine)"}]
[]
[]
[]
[]
[null,{"$f":"E33","v":"Chapter 07: Noun Ending"},null,null,{"$f":"B33","v":"Chapter 07: Noun Ending"}]
[null,{"$f":"INDIRECT( \"FlashCards!\"&IF(MOD(INT((ROW(B84)-4)/50),2)=0,\"CE\"&TEXT((ROW(B84)/6)+10/3-INT((ROW(B84)-4)/50)/3,\"#\"),\"CD\"&TEXT((ROW(B84)/6)+10/3-INT((ROW(B84)-4)/50)/3,\"#\")))","v":"(dative, plural, masculine or neuter)"},null,null,{"$f":"INDIRECT( \"FlashCards!\"&IF(MOD(INT((ROW(B84)-4)/50),2)=0,\"CE\"&TEXT((ROW(B84)/6)+10/3-INT((ROW(B84)-4)/50)/3-8,\"#\"),\"CD\"&TEXT((ROW(B84)/6)+10/3-INT((ROW(B84)-4)/50)/3-8,\"#\")))","v":"(dative, singular, masculine; dative, singular, neuter)"}]
[]
[]
[]
[]
[null,{"$f":"E39","v":"Chapter 07: Noun Ending"},null,null,{"$f":"B39","v":"Chapter 07: Noun Ending"}]
[null,{"$f":"INDIRECT( \"FlashCards!\"&IF(MOD(INT((ROW(B90)-4)/50),2)=0,\"CE\"&TEXT((ROW(B90)/6)+10/3-INT((ROW(B90)-4)/50)/3,\"#\"),\"CD\"&TEXT((ROW(B90)/6)+10/3-INT((ROW(B90)-4)/50)/3,\"#\")))","v":"(dative, plural, feminine)"},null,null,{"$f":"INDIRECT( \"FlashCards!\"&IF(MOD(INT((ROW(B90)-4)/50),2)=0,\"CE\"&TEXT((ROW(B90)/6)+10/3-INT((ROW(B90)-4)/50)/3-8,\"#\"),\"CD\"&TEXT((ROW(B90)/6)+10/3-INT((ROW(B90)-4)/50)/3-8,\"#\")))","v":"(dative, singular, feminine)"}]
[]
[]
[]
[]
[null,{"$f":"E45","v":"Chapter 10: Noun Ending"},null,null,{"$f":"B45","v":"Chapter 07: Noun Ending"}]
[null,{"$f":"INDIRECT( \"FlashCards!\"&IF(MOD(INT((ROW(B96)-4)/50),2)=0,\"CE\"&TEXT((ROW(B96)/6)+10/3-INT((ROW(B96)-4)/50)/3,\"#\"),\"CD\"&TEXT((ROW(B96)/6)+10/3-INT((ROW(B96)-4)/50)/3,\"#\")))","v":"(dative, plural, masculine/ feminine/neuter, 3ʳᵈ declension)"},null,null,{"$f":"INDIRECT( \"FlashCards!\"&IF(MOD(INT((ROW(B96)-4)/50),2)=0,\"CE\"&TEXT((ROW(B96)/6)+10/3-INT((ROW(B96)-4)/50)/3-8,\"#\"),\"CD\"&TEXT((ROW(B96)/6)+10/3-INT((ROW(B96)-4)/50)/3-8,\"#\")))","v":"(accusative, singular, feminine)"}]
[]
[]
[]
[]
[]
[]
[null,{"$f":"INDIRECT( \"FlashCards!\"&IF(MOD(INT((ROW(B104)-4)/50),2)=0,\"CF\"&TEXT((ROW(B104)/6)+10/3-INT((ROW(B104)-4)/50)/3,\"#\"),\"CF\"&TEXT((ROW(B104)/6)+10/3-INT((ROW(B104)-4)/50)/3,\"#\")))","v":"Chapter 07: Noun Ending"},null,null,{"$f":"INDIRECT( \"FlashCards!\"&IF(MOD(INT((ROW(B104)-4)/50),2)=0,\"CF\"&TEXT((ROW(B104)/6)+10/3-INT((ROW(B104)-4)/50)/3+8,\"#\"),\"CF\"&TEXT((ROW(B104)/6)+10/3-INT((ROW(B104)-4)/50)/3+8,\"#\")))","v":"Chapter 16: Verb Ending"}]
[null,{"$f":"INDIRECT( \"FlashCards!\"&IF(MOD(INT((ROW(B104)-4)/50),2)=0,\"CE\"&TEXT((ROW(B104)/6)+10/3-INT((ROW(B104)-4)/50)/3,\"#\"),\"CD\"&TEXT((ROW(B104)/6)+10/3-INT((ROW(B104)-4)/50)/3,\"#\")))","v":"-υς, -ους"},null,null,{"$f":"INDIRECT( \"FlashCards!\"&IF(MOD(INT((ROW(B104)-4)/50),2)=0,\"CE\"&TEXT((ROW(B104)/6)+10/3-INT((ROW(B104)-4)/50)/3+8,\"#\"),\"CD\"&TEXT((ROW(B104)/6)+10/3-INT((ROW(B104)-4)/50)/3+8,\"#\")))","v":"[active stem] +ετε"}]
[]
[null,{"$f":"INDIRECT( \"FlashCards!\"&IF(MOD(INT((ROW(B104)-4)/50),2)=0,\"CC\"&TEXT((ROW(B104)/6)+10/3-INT((ROW(B104)-4)/50)/3,\"#\"),\"\"))","v":" "},null,null,{"$f":"INDIRECT( \"FlashCards!\"&IF(MOD(INT((ROW(B104)-4)/50),2)=0,\"CC\"&TEXT((ROW(B104)/6)+10/3-INT((ROW(B104)-4)/50)/3+8,\"#\"),\"CC\"&TEXT((ROW(B104)/6)+10/3-INT((ROW(B104)-4)/50)/3+8,\"#\")))","v":" "}]
[]
[]
[null,{"$f":"INDIRECT( \"FlashCards!\"&IF(MOD(INT((ROW(B110)-4)/50),2)=0,\"CF\"&TEXT((ROW(B110)/6)+10/3-INT((ROW(B110)-4)/50)/3,\"#\"),\"CF\"&TEXT((ROW(B110)/6)+10/3-INT((ROW(B110)-4)/50)/3,\"#\")))","v":"Chapter 07: Noun Ending"},null,null,{"$f":"INDIRECT( \"FlashCards!\"&IF(MOD(INT((ROW(B110)-4)/50),2)=0,\"CF\"&TEXT((ROW(B110)/6)+10/3-INT((ROW(B110)-4)/50)/3+8,\"#\"),\"CF\"&TEXT((ROW(B110)/6)+10/3-INT((ROW(B110)-4)/50)/3+8,\"#\")))","v":"Chapter 16: Verb Ending"}]
[null,{"$f":"INDIRECT( \"FlashCards!\"&IF(MOD(INT((ROW(B110)-4)/50),2)=0,\"CE\"&TEXT((ROW(B110)/6)+10/3-INT((ROW(B110)-4)/50)/3,\"#\"),\"CD\"&TEXT((ROW(B110)/6)+10/3-INT((ROW(B110)-4)/50)/3,\"#\")))","v":"-ς, -ας"},null,null,{"$f":"INDIRECT( \"FlashCards!\"&IF(MOD(INT((ROW(B110)-4)/50),2)=0,\"CE\"&TEXT((ROW(B110)/6)+10/3-INT((ROW(B110)-4)/50)/3+8,\"#\"),\"CD\"&TEXT((ROW(B110)/6)+10/3-INT((ROW(B110)-4)/50)/3+8,\"#\")))","v":"[active stem] +ονσι, +οσιν"}]
[]
[null,{"$f":"INDIRECT( \"FlashCards!\"&IF(MOD(INT((ROW(B110)-4)/50),2)=0,\"CC\"&TEXT((ROW(B110)/6)+10/3-INT((ROW(B110)-4)/50)/3,\"#\"),\"\"))","v":" "},null,null,{"$f":"INDIRECT( \"FlashCards!\"&IF(MOD(INT((ROW(B110)-4)/50),2)=0,\"CC\"&TEXT((ROW(B110)/6)+10/3-INT((ROW(B110)-4)/50)/3+8,\"#\"),\"CC\"&TEXT((ROW(B110)/6)+10/3-INT((ROW(B110)-4)/50)/3+8,\"#\")))","v":" "}]
[]
[]
[null,{"$f":"INDIRECT( \"FlashCards!\"&IF(MOD(INT((ROW(B116)-4)/50),2)=0,\"CF\"&TEXT((ROW(B116)/6)+10/3-INT((ROW(B116)-4)/50)/3,\"#\"),\"CF\"&TEXT((ROW(B116)/6)+10/3-INT((ROW(B116)-4)/50)/3,\"#\")))","v":"Chapter 19: Noun Ending"},null,null,{"$f":"INDIRECT( \"FlashCards!\"&IF(MOD(INT((ROW(B116)-4)/50),2)=0,\"CF\"&TEXT((ROW(B116)/6)+10/3-INT((ROW(B116)-4)/50)/3+8,\"#\"),\"CF\"&TEXT((ROW(B116)/6)+10/3-INT((ROW(B116)-4)/50)/3+8,\"#\")))","v":"Chapter 18: Verb Ending"}]
[null,{"$f":"INDIRECT( \"FlashCards!\"&IF(MOD(INT((ROW(B116)-4)/50),2)=0,\"CE\"&TEXT((ROW(B116)/6)+10/3-INT((ROW(B116)-4)/50)/3,\"#\"),\"CD\"&TEXT((ROW(B116)/6)+10/3-INT((ROW(B116)-4)/50)/3,\"#\")))","v":"-εύς "},null,null,{"$f":"INDIRECT( \"FlashCards!\"&IF(MOD(INT((ROW(B116)-4)/50),2)=0,\"CE\"&TEXT((ROW(B116)/6)+10/3-INT((ROW(B116)-4)/50)/3+8,\"#\"),\"CD\"&TEXT((ROW(B116)/6)+10/3-INT((ROW(B116)-4)/50)/3+8,\"#\")))","v":"[middle stem] +ομαι, "}]
[]
[null,{"$f":"INDIRECT( \"FlashCards!\"&IF(MOD(INT((ROW(B116)-4)/50),2)=0,\"CC\"&TEXT((ROW(B116)/6)+10/3-INT((ROW(B116)-4)/50)/3,\"#\"),\"\"))","v":"yoose"},null,null,{"$f":"INDIRECT( \"FlashCards!\"&IF(MOD(INT((ROW(B116)-4)/50),2)=0,\"CC\"&TEXT((ROW(B116)/6)+10/3-INT((ROW(B116)-4)/50)/3+8,\"#\"),\"CC\"&TEXT((ROW(B116)/6)+10/3-INT((ROW(B116)-4)/50)/3+8,\"#\")))","v":" "}]
[]
[]
[null,{"$f":"INDIRECT( \"FlashCards!\"&IF(MOD(INT((ROW(B122)-4)/50),2)=0,\"CF\"&TEXT((ROW(B122)/6)+10/3-INT((ROW(B122)-4)/50)/3,\"#\"),\"CF\"&TEXT((ROW(B122)/6)+10/3-INT((ROW(B122)-4)/50)/3,\"#\")))","v":"Extra: Noun Ending"},null,null,{"$f":"INDIRECT( \"FlashCards!\"&IF(MOD(INT((ROW(B122)-4)/50),2)=0,\"CF\"&TEXT((ROW(B122)/6)+10/3-INT((ROW(B122)-4)/50)/3+8,\"#\"),\"CF\"&TEXT((ROW(B122)/6)+10/3-INT((ROW(B122)-4)/50)/3+8,\"#\")))","v":"Chapter 18: Verb Ending"}]
[null,{"$f":"INDIRECT( \"FlashCards!\"&IF(MOD(INT((ROW(B122)-4)/50),2)=0,\"CE\"&TEXT((ROW(B122)/6)+10/3-INT((ROW(B122)-4)/50)/3,\"#\"),\"CD\"&TEXT((ROW(B122)/6)+10/3-INT((ROW(B122)-4)/50)/3,\"#\")))","v":"-ικός"},null,null,{"$f":"INDIRECT( \"FlashCards!\"&IF(MOD(INT((ROW(B122)-4)/50),2)=0,\"CE\"&TEXT((ROW(B122)/6)+10/3-INT((ROW(B122)-4)/50)/3+8,\"#\"),\"CD\"&TEXT((ROW(B122)/6)+10/3-INT((ROW(B122)-4)/50)/3+8,\"#\")))","v":"[middle stem] +εσαι, +ῃ"}]
[]
[null,{"$f":"INDIRECT( \"FlashCards!\"&IF(MOD(INT((ROW(B122)-4)/50),2)=0,\"CC\"&TEXT((ROW(B122)/6)+10/3-INT((ROW(B122)-4)/50)/3,\"#\"),\"\"))","v":"ee-KOSS"},null,null,{"$f":"INDIRECT( \"FlashCards!\"&IF(MOD(INT((ROW(B122)-4)/50),2)=0,\"CC\"&TEXT((ROW(B122)/6)+10/3-INT((ROW(B122)-4)/50)/3+8,\"#\"),\"CC\"&TEXT((ROW(B122)/6)+10/3-INT((ROW(B122)-4)/50)/3+8,\"#\")))","v":" "}]
[]
[]
[null,{"$f":"INDIRECT( \"FlashCards!\"&IF(MOD(INT((ROW(B128)-4)/50),2)=0,\"CF\"&TEXT((ROW(B128)/6)+10/3-INT((ROW(B128)-4)/50)/3,\"#\"),\"CF\"&TEXT((ROW(B128)/6)+10/3-INT((ROW(B128)-4)/50)/3,\"#\")))","v":"Chapter 16: Verb Ending"},null,null,{"$f":"INDIRECT( \"FlashCards!\"&IF(MOD(INT((ROW(B128)-4)/50),2)=0,\"CF\"&TEXT((ROW(B128)/6)+10/3-INT((ROW(B128)-4)/50)/3+8,\"#\"),\"CF\"&TEXT((ROW(B128)/6)+10/3-INT((ROW(B128)-4)/50)/3+8,\"#\")))","v":"Chapter 18: Verb Ending"}]
[null,{"$f":"INDIRECT( \"FlashCards!\"&IF(MOD(INT((ROW(B128)-4)/50),2)=0,\"CE\"&TEXT((ROW(B128)/6)+10/3-INT((ROW(B128)-4)/50)/3,\"#\"),\"CD\"&TEXT((ROW(B128)/6)+10/3-INT((ROW(B128)-4)/50)/3,\"#\")))","v":"[active stem] +ω"},null,null,{"$f":"INDIRECT( \"FlashCards!\"&IF(MOD(INT((ROW(B128)-4)/50),2)=0,\"CE\"&TEXT((ROW(B128)/6)+10/3-INT((ROW(B128)-4)/50)/3+8,\"#\"),\"CD\"&TEXT((ROW(B128)/6)+10/3-INT((ROW(B128)-4)/50)/3+8,\"#\")))","v":"[middle stem] +εται"}]
[]
[null,{"$f":"INDIRECT( \"FlashCards!\"&IF(MOD(INT((ROW(B128)-4)/50),2)=0,\"CC\"&TEXT((ROW(B128)/6)+10/3-INT((ROW(B128)-4)/50)/3,\"#\"),\"\"))","v":" "},null,null,{"$f":"INDIRECT( \"FlashCards!\"&IF(MOD(INT((ROW(B128)-4)/50),2)=0,\"CC\"&TEXT((ROW(B128)/6)+10/3-INT((ROW(B128)-4)/50)/3+8,\"#\"),\"CC\"&TEXT((ROW(B128)/6)+10/3-INT((ROW(B128)-4)/50)/3+8,\"#\")))","v":" "}]
[]
[]
[null,{"$f":"INDIRECT( \"FlashCards!\"&IF(MOD(INT((ROW(B134)-4)/50),2)=0,\"CF\"&TEXT((ROW(B134)/6)+10/3-INT((ROW(B134)-4)/50)/3,\"#\"),\"CF\"&TEXT((ROW(B134)/6)+10/3-INT((ROW(B134)-4)/50)/3,\"#\")))","v":"Chapter 16: Verb Ending"},null,null,{"$f":"INDIRECT( \"FlashCards!\"&IF(MOD(INT((ROW(B134)-4)/50),2)=0,\"CF\"&TEXT((ROW(B134)/6)+10/3-INT((ROW(B134)-4)/50)/3+8,\"#\"),\"CF\"&TEXT((ROW(B134)/6)+10/3-INT((ROW(B134)-4)/50)/3+8,\"#\")))","v":"Chapter 18: Verb Ending"}]
[null,{"$f":"INDIRECT( \"FlashCards!\"&IF(MOD(INT((ROW(B134)-4)/50),2)=0,\"CE\"&TEXT((ROW(B134)/6)+10/3-INT((ROW(B134)-4)/50)/3,\"#\"),\"CD\"&TEXT((ROW(B134)/6)+10/3-INT((ROW(B134)-4)/50)/3,\"#\")))","v":"[active stem] +ες, +εις"},null,null,{"$f":"INDIRECT( \"FlashCards!\"&IF(MOD(INT((ROW(B134)-4)/50),2)=0,\"CE\"&TEXT((ROW(B134)/6)+10/3-INT((ROW(B134)-4)/50)/3+8,\"#\"),\"CD\"&TEXT((ROW(B134)/6)+10/3-INT((ROW(B134)-4)/50)/3+8,\"#\")))","v":"[middle stem] +ομεθα"}]
[]
[null,{"$f":"INDIRECT( \"FlashCards!\"&IF(MOD(INT((ROW(B134)-4)/50),2)=0,\"CC\"&TEXT((ROW(B134)/6)+10/3-INT((ROW(B134)-4)/50)/3,\"#\"),\"\"))","v":" "},null,null,{"$f":"INDIRECT( \"FlashCards!\"&IF(MOD(INT((ROW(B134)-4)/50),2)=0,\"CC\"&TEXT((ROW(B134)/6)+10/3-INT((ROW(B134)-4)/50)/3+8,\"#\"),\"CC\"&TEXT((ROW(B134)/6)+10/3-INT((ROW(B134)-4)/50)/3+8,\"#\")))","v":" "}]
[]
[]
[null,{"$f":"INDIRECT( \"FlashCards!\"&IF(MOD(INT((ROW(B140)-4)/50),2)=0,\"CF\"&TEXT((ROW(B140)/6)+10/3-INT((ROW(B140)-4)/50)/3,\"#\"),\"CF\"&TEXT((ROW(B140)/6)+10/3-INT((ROW(B140)-4)/50)/3,\"#\")))","v":"Chapter 16: Verb Ending"},null,null,{"$f":"INDIRECT( \"FlashCards!\"&IF(MOD(INT((ROW(B140)-4)/50),2)=0,\"CF\"&TEXT((ROW(B140)/6)+10/3-INT((ROW(B140)-4)/50)/3+8,\"#\"),\"CF\"&TEXT((ROW(B140)/6)+10/3-INT((ROW(B140)-4)/50)/3+8,\"#\")))","v":"Chapter 18: Verb Ending"}]
[null,{"$f":"INDIRECT( \"FlashCards!\"&IF(MOD(INT((ROW(B140)-4)/50),2)=0,\"CE\"&TEXT((ROW(B140)/6)+10/3-INT((ROW(B140)-4)/50)/3,\"#\"),\"CD\"&TEXT((ROW(B140)/6)+10/3-INT((ROW(B140)-4)/50)/3,\"#\")))","v":"[active stem] +ει"},null,null,{"$f":"INDIRECT( \"FlashCards!\"&IF(MOD(INT((ROW(B140)-4)/50),2)=0,\"CE\"&TEXT((ROW(B140)/6)+10/3-INT((ROW(B140)-4)/50)/3+8,\"#\"),\"CD\"&TEXT((ROW(B140)/6)+10/3-INT((ROW(B140)-4)/50)/3+8,\"#\")))","v":"[middle stem] +εσθε "}]
[]
[null,{"$f":"INDIRECT( \"FlashCards!\"&IF(MOD(INT((ROW(B140)-4)/50),2)=0,\"CC\"&TEXT((ROW(B140)/6)+10/3-INT((ROW(B140)-4)/50)/3,\"#\"),\"\"))","v":" "},null,null,{"$f":"INDIRECT( \"FlashCards!\"&IF(MOD(INT((ROW(B140)-4)/50),2)=0,\"CC\"&TEXT((ROW(B140)/6)+10/3-INT((ROW(B140)-4)/50)/3+8,\"#\"),\"CC\"&TEXT((ROW(B140)/6)+10/3-INT((ROW(B140)-4)/50)/3+8,\"#\")))","v":" "}]
[]
[]
[null,{"$f":"INDIRECT( \"FlashCards!\"&IF(MOD(INT((ROW(B146)-4)/50),2)=0,\"CF\"&TEXT((ROW(B146)/6)+10/3-INT((ROW(B146)-4)/50)/3,\"#\"),\"CF\"&TEXT((ROW(B146)/6)+10/3-INT((ROW(B146)-4)/50)/3,\"#\")))","v":"Chapter 16: Verb Ending"},null,null,{"$f":"INDIRECT( \"FlashCards!\"&IF(MOD(INT((ROW(B146)-4)/50),2)=0,\"CF\"&TEXT((ROW(B146)/6)+10/3-INT((ROW(B146)-4)/50)/3+8,\"#\"),\"CF\"&TEXT((ROW(B146)/6)+10/3-INT((ROW(B146)-4)/50)/3+8,\"#\")))","v":"Chapter 18: Verb Ending"}]
[null,{"$f":"INDIRECT( \"FlashCards!\"&IF(MOD(INT((ROW(B146)-4)/50),2)=0,\"CE\"&TEXT((ROW(B146)/6)+10/3-INT((ROW(B146)-4)/50)/3,\"#\"),\"CD\"&TEXT((ROW(B146)/6)+10/3-INT((ROW(B146)-4)/50)/3,\"#\")))","v":"[active stem] +ομεν"},null,null,{"$f":"INDIRECT( \"FlashCards!\"&IF(MOD(INT((ROW(B146)-4)/50),2)=0,\"CE\"&TEXT((ROW(B146)/6)+10/3-INT((ROW(B146)-4)/50)/3+8,\"#\"),\"CD\"&TEXT((ROW(B146)/6)+10/3-INT((ROW(B146)-4)/50)/3+8,\"#\")))","v":"[middle stem] +ονται"}]
[]
[null,{"$f":"INDIRECT( \"FlashCards!\"&IF(MOD(INT((ROW(B146)-4)/50),2)=0,\"CC\"&TEXT((ROW(B146)/6)+10/3-INT((ROW(B146)-4)/50)/3,\"#\"),\"\"))","v":" "},null,null,{"$f":"INDIRECT( \"FlashCards!\"&IF(MOD(INT((ROW(B146)-4)/50),2)=0,\"CC\"&TEXT((ROW(B146)/6)+10/3-INT((ROW(B146)-4)/50)/3+8,\"#\"),\"CC\"&TEXT((ROW(B146)/6)+10/3-INT((ROW(B146)-4)/50)/3+8,\"#\")))","v":" "}]
[]
[]
[]
[]
[null,{"$f":"E103","v":"Chapter 16: Verb Ending"},null,null,{"$f":"B103","v":"Chapter 07: Noun Ending"}]
[null,{"$f":"INDIRECT( \"FlashCards!\"&IF(MOD(INT((ROW(B154)-4)/50),2)=0,\"CE\"&TEXT((ROW(B154)/6)+10/3-INT((ROW(B154)-4)/50)/3,\"#\"),\"CD\"&TEXT((ROW(B154)/6)+10/3-INT((ROW(B154)-4)/50)/3,\"#\")))","v":"ya'll are verbing (it) [present active indicative]"},null,null,{"$f":"INDIRECT( \"FlashCards!\"&IF(MOD(INT((ROW(B154)-4)/50),2)=0,\"CE\"&TEXT((ROW(B154)/6)+10/3-INT((ROW(B154)-4)/50)/3-8,\"#\"),\"CD\"&TEXT((ROW(B154)/6)+10/3-INT((ROW(B154)-4)/50)/3-8,\"#\")))","v":"(accusative, plural, masculine)"}]
[]
[]
[]
[]
[null,{"$f":"E109","v":"Chapter 16: Verb Ending"},null,null,{"$f":"B109","v":"Chapter 07: Noun Ending"}]
[null,{"$f":"INDIRECT( \"FlashCards!\"&IF(MOD(INT((ROW(B160)-4)/50),2)=0,\"CE\"&TEXT((ROW(B160)/6)+10/3-INT((ROW(B160)-4)/50)/3,\"#\"),\"CD\"&TEXT((ROW(B160)/6)+10/3-INT((ROW(B160)-4)/50)/3,\"#\")))","v":"they are verbing (it) [present active indicative]"},null,null,{"$f":"INDIRECT( \"FlashCards!\"&IF(MOD(INT((ROW(B160)-4)/50),2)=0,\"CE\"&TEXT((ROW(B160)/6)+10/3-INT((ROW(B160)-4)/50)/3-8,\"#\"),\"CD\"&TEXT((ROW(B160)/6)+10/3-INT((ROW(B160)-4)/50)/3-8,\"#\")))","v":"(accusative, plural, feminine)"}]
[]
[]
[]
[]
[null,{"$f":"E115","v":"Chapter 18: Verb Ending"},null,null,{"$f":"B115","v":"Chapter 19: Noun Ending"}]
[null,{"$f":"INDIRECT( \"FlashCards!\"&IF(MOD(INT((ROW(B166)-4)/50),2)=0,\"CE\"&TEXT((ROW(B166)/6)+10/3-INT((ROW(B166)-4)/50)/3,\"#\"),\"CD\"&TEXT((ROW(B166)/6)+10/3-INT((ROW(B166)-4)/50)/3,\"#\")))","v":"I verb, I am verbing [present middle indicative]"},null,null,{"$f":"INDIRECT( \"FlashCards!\"&IF(MOD(INT((ROW(B166)-4)/50),2)=0,\"CE\"&TEXT((ROW(B166)/6)+10/3-INT((ROW(B166)-4)/50)/3-8,\"#\"),\"CD\"&TEXT((ROW(B166)/6)+10/3-INT((ROW(B166)-4)/50)/3-8,\"#\")))","v":"suffix for a person related to the stem (genitive, singular, masculine)"}]
[]
[]
[]
[]
[null,{"$f":"E121","v":"Chapter 18: Verb Ending"},null,null,{"$f":"B121","v":"Extra: Noun Ending"}]
[null,{"$f":"INDIRECT( \"FlashCards!\"&IF(MOD(INT((ROW(B172)-4)/50),2)=0,\"CE\"&TEXT((ROW(B172)/6)+10/3-INT((ROW(B172)-4)/50)/3,\"#\"),\"CD\"&TEXT((ROW(B172)/6)+10/3-INT((ROW(B172)-4)/50)/3,\"#\")))","v":"you verb, you are verbing [present middle indicative]"},null,null,{"$f":"INDIRECT( \"FlashCards!\"&IF(MOD(INT((ROW(B172)-4)/50),2)=0,\"CE\"&TEXT((ROW(B172)/6)+10/3-INT((ROW(B172)-4)/50)/3-8,\"#\"),\"CD\"&TEXT((ROW(B172)/6)+10/3-INT((ROW(B172)-4)/50)/3-8,\"#\")))","v":"converts a noun into an adjective (\"king\" becomes \"royal\")"}]
[]
[]
[]
[]
[null,{"$f":"E127","v":"Chapter 18: Verb Ending"},null,null,{"$f":"B127","v":"Chapter 16: Verb Ending"}]
[null,{"$f":"INDIRECT( \"FlashCards!\"&IF(MOD(INT((ROW(B178)-4)/50),2)=0,\"CE\"&TEXT((ROW(B178)/6)+10/3-INT((ROW(B178)-4)/50)/3,\"#\"),\"CD\"&TEXT((ROW(B178)/6)+10/3-INT((ROW(B178)-4)/50)/3,\"#\")))","v":"he/she/it verbs, he is verbing [present middle indicative]"},null,null,{"$f":"INDIRECT( \"FlashCards!\"&IF(MOD(INT((ROW(B178)-4)/50),2)=0,\"CE\"&TEXT((ROW(B178)/6)+10/3-INT((ROW(B178)-4)/50)/3-8,\"#\"),\"CD\"&TEXT((ROW(B178)/6)+10/3-INT((ROW(B178)-4)/50)/3-8,\"#\")))","v":"I am verbing (it) [present active indicative]"}]
[]
[]
[]
[]
[null,{"$f":"E133","v":"Chapter 18: Verb Ending"},null,null,{"$f":"B133","v":"Chapter 16: Verb Ending"}]
[null,{"$f":"INDIRECT( \"FlashCards!\"&IF(MOD(INT((ROW(B184)-4)/50),2)=0,\"CE\"&TEXT((ROW(B184)/6)+10/3-INT((ROW(B184)-4)/50)/3,\"#\"),\"CD\"&TEXT((ROW(B184)/6)+10/3-INT((ROW(B184)-4)/50)/3,\"#\")))","v":"we verb, we are verbing [present middle indicative]"},null,null,{"$f":"INDIRECT( \"FlashCards!\"&IF(MOD(INT((ROW(B184)-4)/50),2)=0,\"CE\"&TEXT((ROW(B184)/6)+10/3-INT((ROW(B184)-4)/50)/3-8,\"#\"),\"CD\"&TEXT((ROW(B184)/6)+10/3-INT((ROW(B184)-4)/50)/3-8,\"#\")))","v":"you are verbing (it) [present active indicative]"}]
[]
[]
[]
[]
[null,{"$f":"E139","v":"Chapter 18: Verb Ending"},null,null,{"$f":"B139","v":"Chapter 16: Verb Ending"}]
[null,{"$f":"INDIRECT( \"FlashCards!\"&IF(MOD(INT((ROW(B190)-4)/50),2)=0,\"CE\"&TEXT((ROW(B190)/6)+10/3-INT((ROW(B190)-4)/50)/3,\"#\"),\"CD\"&TEXT((ROW(B190)/6)+10/3-INT((ROW(B190)-4)/50)/3,\"#\")))","v":"ya'll verb, ya'll are verbing [present middle indicative]"},null,null,{"$f":"INDIRECT( \"FlashCards!\"&IF(MOD(INT((ROW(B190)-4)/50),2)=0,\"CE\"&TEXT((ROW(B190)/6)+10/3-INT((ROW(B190)-4)/50)/3-8,\"#\"),\"CD\"&TEXT((ROW(B190)/6)+10/3-INT((ROW(B190)-4)/50)/3-8,\"#\")))","v":"he/she/it is verbing (it) [present active indicative]"}]
[]
[]
[]
[]
[null,{"$f":"E145","v":"Chapter 18: Verb Ending"},null,null,{"$f":"B145","v":"Chapter 16: Verb Ending"}]
[null,{"$f":"INDIRECT( \"FlashCards!\"&IF(MOD(INT((ROW(B196)-4)/50),2)=0,\"CE\"&TEXT((ROW(B196)/6)+10/3-INT((ROW(B196)-4)/50)/3,\"#\"),\"CD\"&TEXT((ROW(B196)/6)+10/3-INT((ROW(B196)-4)/50)/3,\"#\")))","v":"they verb, they are verbing [present middle indicative]"},null,null,{"$f":"INDIRECT( \"FlashCards!\"&IF(MOD(INT((ROW(B196)-4)/50),2)=0,\"CE\"&TEXT((ROW(B196)/6)+10/3-INT((ROW(B196)-4)/50)/3-8,\"#\"),\"CD\"&TEXT((ROW(B196)/6)+10/3-INT((ROW(B196)-4)/50)/3-8,\"#\")))","v":"we are verbing (it) [present active indicative]"}]
[]
[]
[]
[]
[]
[]
[null,{"$f":"INDIRECT( \"FlashCards!\"&IF(MOD(INT((ROW(B204)-4)/50),2)=0,\"CF\"&TEXT((ROW(B204)/6)+10/3-INT((ROW(B204)-4)/50)/3,\"#\"),\"CF\"&TEXT((ROW(B204)/6)+10/3-INT((ROW(B204)-4)/50)/3,\"#\")))","v":"Chapter 18: Verb Ending"},null,null,{"$f":"INDIRECT( \"FlashCards!\"&IF(MOD(INT((ROW(B204)-4)/50),2)=0,\"CF\"&TEXT((ROW(B204)/6)+10/3-INT((ROW(B204)-4)/50)/3+8,\"#\"),\"CF\"&TEXT((ROW(B204)/6)+10/3-INT((ROW(B204)-4)/50)/3+8,\"#\")))","v":"Chapter 19: Verb Ending"}]
[null,{"$f":"INDIRECT( \"FlashCards!\"&IF(MOD(INT((ROW(B204)-4)/50),2)=0,\"CE\"&TEXT((ROW(B204)/6)+10/3-INT((ROW(B204)-4)/50)/3,\"#\"),\"CD\"&TEXT((ROW(B204)/6)+10/3-INT((ROW(B204)-4)/50)/3,\"#\")))","v":"[active stem] +ομαι"},null,null,{"$f":"INDIRECT( \"FlashCards!\"&IF(MOD(INT((ROW(B204)-4)/50),2)=0,\"CE\"&TEXT((ROW(B204)/6)+10/3-INT((ROW(B204)-4)/50)/3+8,\"#\"),\"CD\"&TEXT((ROW(B204)/6)+10/3-INT((ROW(B204)-4)/50)/3+8,\"#\")))","v":"[active stem] +σει"}]
[]
[null,{"$f":"INDIRECT( \"FlashCards!\"&IF(MOD(INT((ROW(B204)-4)/50),2)=0,\"CC\"&TEXT((ROW(B204)/6)+10/3-INT((ROW(B204)-4)/50)/3,\"#\"),\"\"))","v":" "},null,null,{"$f":"INDIRECT( \"FlashCards!\"&IF(MOD(INT((ROW(B204)-4)/50),2)=0,\"CC\"&TEXT((ROW(B204)/6)+10/3-INT((ROW(B204)-4)/50)/3+8,\"#\"),\"CC\"&TEXT((ROW(B204)/6)+10/3-INT((ROW(B204)-4)/50)/3+8,\"#\")))","v":" "}]
[]
[]
[null,{"$f":"INDIRECT( \"FlashCards!\"&IF(MOD(INT((ROW(B210)-4)/50),2)=0,\"CF\"&TEXT((ROW(B210)/6)+10/3-INT((ROW(B210)-4)/50)/3,\"#\"),\"CF\"&TEXT((ROW(B210)/6)+10/3-INT((ROW(B210)-4)/50)/3,\"#\")))","v":"Chapter 18: Verb Ending"},null,null,{"$f":"INDIRECT( \"FlashCards!\"&IF(MOD(INT((ROW(B210)-4)/50),2)=0,\"CF\"&TEXT((ROW(B210)/6)+10/3-INT((ROW(B210)-4)/50)/3+8,\"#\"),\"CF\"&TEXT((ROW(B210)/6)+10/3-INT((ROW(B210)-4)/50)/3+8,\"#\")))","v":"Chapter 19: Verb Ending"}]
[null,{"$f":"INDIRECT( \"FlashCards!\"&IF(MOD(INT((ROW(B210)-4)/50),2)=0,\"CE\"&TEXT((ROW(B210)/6)+10/3-INT((ROW(B210)-4)/50)/3,\"#\"),\"CD\"&TEXT((ROW(B210)/6)+10/3-INT((ROW(B210)-4)/50)/3,\"#\")))","v":"[active stem] +εσαι, +ῃ"},null,null,{"$f":"INDIRECT( \"FlashCards!\"&IF(MOD(INT((ROW(B210)-4)/50),2)=0,\"CE\"&TEXT((ROW(B210)/6)+10/3-INT((ROW(B210)-4)/50)/3+8,\"#\"),\"CD\"&TEXT((ROW(B210)/6)+10/3-INT((ROW(B210)-4)/50)/3+8,\"#\")))","v":"[active stem] +σομεν"}]
[]
[null,{"$f":"INDIRECT( \"FlashCards!\"&IF(MOD(INT((ROW(B210)-4)/50),2)=0,\"CC\"&TEXT((ROW(B210)/6)+10/3-INT((ROW(B210)-4)/50)/3,\"#\"),\"\"))","v":" "},null,null,{"$f":"INDIRECT( \"FlashCards!\"&IF(MOD(INT((ROW(B210)-4)/50),2)=0,\"CC\"&TEXT((ROW(B210)/6)+10/3-INT((ROW(B210)-4)/50)/3+8,\"#\"),\"CC\"&TEXT((ROW(B210)/6)+10/3-INT((ROW(B210)-4)/50)/3+8,\"#\")))","v":" "}]
[]
[]
[null,{"$f":"INDIRECT( \"FlashCards!\"&IF(MOD(INT((ROW(B216)-4)/50),2)=0,\"CF\"&TEXT((ROW(B216)/6)+10/3-INT((ROW(B216)-4)/50)/3,\"#\"),\"CF\"&TEXT((ROW(B216)/6)+10/3-INT((ROW(B216)-4)/50)/3,\"#\")))","v":"Chapter 18: Verb Ending"},null,null,{"$f":"INDIRECT( \"FlashCards!\"&IF(MOD(INT((ROW(B216)-4)/50),2)=0,\"CF\"&TEXT((ROW(B216)/6)+10/3-INT((ROW(B216)-4)/50)/3+8,\"#\"),\"CF\"&TEXT((ROW(B216)/6)+10/3-INT((ROW(B216)-4)/50)/3+8,\"#\")))","v":"Chapter 19: Verb Ending"}]
[null,{"$f":"INDIRECT( \"FlashCards!\"&IF(MOD(INT((ROW(B216)-4)/50),2)=0,\"CE\"&TEXT((ROW(B216)/6)+10/3-INT((ROW(B216)-4)/50)/3,\"#\"),\"CD\"&TEXT((ROW(B216)/6)+10/3-INT((ROW(B216)-4)/50)/3,\"#\")))","v":"[active stem] +εται"},null,null,{"$f":"INDIRECT( \"FlashCards!\"&IF(MOD(INT((ROW(B216)-4)/50),2)=0,\"CE\"&TEXT((ROW(B216)/6)+10/3-INT((ROW(B216)-4)/50)/3+8,\"#\"),\"CD\"&TEXT((ROW(B216)/6)+10/3-INT((ROW(B216)-4)/50)/3+8,\"#\")))","v":"[active stem] +σετε"}]
[]
[null,{"$f":"INDIRECT( \"FlashCards!\"&IF(MOD(INT((ROW(B216)-4)/50),2)=0,\"CC\"&TEXT((ROW(B216)/6)+10/3-INT((ROW(B216)-4)/50)/3,\"#\"),\"\"))","v":" "},null,null,{"$f":"INDIRECT( \"FlashCards!\"&IF(MOD(INT((ROW(B216)-4)/50),2)=0,\"CC\"&TEXT((ROW(B216)/6)+10/3-INT((ROW(B216)-4)/50)/3+8,\"#\"),\"CC\"&TEXT((ROW(B216)/6)+10/3-INT((ROW(B216)-4)/50)/3+8,\"#\")))","v":" "}]
[]
[]
[null,{"$f":"INDIRECT( \"FlashCards!\"&IF(MOD(INT((ROW(B222)-4)/50),2)=0,\"CF\"&TEXT((ROW(B222)/6)+10/3-INT((ROW(B222)-4)/50)/3,\"#\"),\"CF\"&TEXT((ROW(B222)/6)+10/3-INT((ROW(B222)-4)/50)/3,\"#\")))","v":"Chapter 18: Verb Ending"},null,null,{"$f":"INDIRECT( \"FlashCards!\"&IF(MOD(INT((ROW(B222)-4)/50),2)=0,\"CF\"&TEXT((ROW(B222)/6)+10/3-INT((ROW(B222)-4)/50)/3+8,\"#\"),\"CF\"&TEXT((ROW(B222)/6)+10/3-INT((ROW(B222)-4)/50)/3+8,\"#\")))","v":"Chapter 19: Verb Ending"}]
[null,{"$f":"INDIRECT( \"FlashCards!\"&IF(MOD(INT((ROW(B222)-4)/50),2)=0,\"CE\"&TEXT((ROW(B222)/6)+10/3-INT((ROW(B222)-4)/50)/3,\"#\"),\"CD\"&TEXT((ROW(B222)/6)+10/3-INT((ROW(B222)-4)/50)/3,\"#\")))","v":"[active stem] +ομεθα"},null,null,{"$f":"INDIRECT( \"FlashCards!\"&IF(MOD(INT((ROW(B222)-4)/50),2)=0,\"CE\"&TEXT((ROW(B222)/6)+10/3-INT((ROW(B222)-4)/50)/3+8,\"#\"),\"CD\"&TEXT((ROW(B222)/6)+10/3-INT((ROW(B222)-4)/50)/3+8,\"#\")))","v":"[active stem] +σονσι, +σοσιν"}]
[]
[null,{"$f":"INDIRECT( \"FlashCards!\"&IF(MOD(INT((ROW(B222)-4)/50),2)=0,\"CC\"&TEXT((ROW(B222)/6)+10/3-INT((ROW(B222)-4)/50)/3,\"#\"),\"\"))","v":" "},null,null,{"$f":"INDIRECT( \"FlashCards!\"&IF(MOD(INT((ROW(B222)-4)/50),2)=0,\"CC\"&TEXT((ROW(B222)/6)+10/3-INT((ROW(B222)-4)/50)/3+8,\"#\"),\"CC\"&TEXT((ROW(B222)/6)+10/3-INT((ROW(B222)-4)/50)/3+8,\"#\")))","v":" "}]
[]
[]
[null,{"$f":"INDIRECT( \"FlashCards!\"&IF(MOD(INT((ROW(B228)-4)/50),2)=0,\"CF\"&TEXT((ROW(B228)/6)+10/3-INT((ROW(B228)-4)/50)/3,\"#\"),\"CF\"&TEXT((ROW(B228)/6)+10/3-INT((ROW(B228)-4)/50)/3,\"#\")))","v":"Chapter 18: Verb Ending"},null,null,{"$f":"INDIRECT( \"FlashCards!\"&IF(MOD(INT((ROW(B228)-4)/50),2)=0,\"CF\"&TEXT((ROW(B228)/6)+10/3-INT((ROW(B228)-4)/50)/3+8,\"#\"),\"CF\"&TEXT((ROW(B228)/6)+10/3-INT((ROW(B228)-4)/50)/3+8,\"#\")))","v":"Chapter 19: Verb Ending"}]
[null,{"$f":"INDIRECT( \"FlashCards!\"&IF(MOD(INT((ROW(B228)-4)/50),2)=0,\"CE\"&TEXT((ROW(B228)/6)+10/3-INT((ROW(B228)-4)/50)/3,\"#\"),\"CD\"&TEXT((ROW(B228)/6)+10/3-INT((ROW(B228)-4)/50)/3,\"#\")))","v":"[active stem] +εσθε "},null,null,{"$f":"INDIRECT( \"FlashCards!\"&IF(MOD(INT((ROW(B228)-4)/50),2)=0,\"CE\"&TEXT((ROW(B228)/6)+10/3-INT((ROW(B228)-4)/50)/3+8,\"#\"),\"CD\"&TEXT((ROW(B228)/6)+10/3-INT((ROW(B228)-4)/50)/3+8,\"#\")))","v":"[middle stem] +σομαι, "}]
[]
[null,{"$f":"INDIRECT( \"FlashCards!\"&IF(MOD(INT((ROW(B228)-4)/50),2)=0,\"CC\"&TEXT((ROW(B228)/6)+10/3-INT((ROW(B228)-4)/50)/3,\"#\"),\"\"))","v":" "},null,null,{"$f":"INDIRECT( \"FlashCards!\"&IF(MOD(INT((ROW(B228)-4)/50),2)=0,\"CC\"&TEXT((ROW(B228)/6)+10/3-INT((ROW(B228)-4)/50)/3+8,\"#\"),\"CC\"&TEXT((ROW(B228)/6)+10/3-INT((ROW(B228)-4)/50)/3+8,\"#\")))","v":" "}]
[]
[]
[null,{"$f":"INDIRECT( \"FlashCards!\"&IF(MOD(INT((ROW(B234)-4)/50),2)=0,\"CF\"&TEXT((ROW(B234)/6)+10/3-INT((ROW(B234)-4)/50)/3,\"#\"),\"CF\"&TEXT((ROW(B234)/6)+10/3-INT((ROW(B234)-4)/50)/3,\"#\")))","v":"Chapter 18: Verb Ending"},null,null,{"$f":"INDIRECT( \"FlashCards!\"&IF(MOD(INT((ROW(B234)-4)/50),2)=0,\"CF\"&TEXT((ROW(B234)/6)+10/3-INT((ROW(B234)-4)/50)/3+8,\"#\"),\"CF\"&TEXT((ROW(B234)/6)+10/3-INT((ROW(B234)-4)/50)/3+8,\"#\")))","v":"Chapter 19: Verb Ending"}]
[null,{"$f":"INDIRECT( \"FlashCards!\"&IF(MOD(INT((ROW(B234)-4)/50),2)=0,\"CE\"&TEXT((ROW(B234)/6)+10/3-INT((ROW(B234)-4)/50)/3,\"#\"),\"CD\"&TEXT((ROW(B234)/6)+10/3-INT((ROW(B234)-4)/50)/3,\"#\")))","v":"[active stem] +ονται"},null,null,{"$f":"INDIRECT( \"FlashCards!\"&IF(MOD(INT((ROW(B234)-4)/50),2)=0,\"CE\"&TEXT((ROW(B234)/6)+10/3-INT((ROW(B234)-4)/50)/3+8,\"#\"),\"CD\"&TEXT((ROW(B234)/6)+10/3-INT((ROW(B234)-4)/50)/3+8,\"#\")))","v":"[middle stem] +σεσαι, +σῃ"}]
[]
[null,{"$f":"INDIRECT( \"FlashCards!\"&IF(MOD(INT((ROW(B234)-4)/50),2)=0,\"CC\"&TEXT((ROW(B234)/6)+10/3-INT((ROW(B234)-4)/50)/3,\"#\"),\"\"))","v":" "},null,null,{"$f":"INDIRECT( \"FlashCards!\"&IF(MOD(INT((ROW(B234)-4)/50),2)=0,\"CC\"&TEXT((ROW(B234)/6)+10/3-INT((ROW(B234)-4)/50)/3+8,\"#\"),\"CC\"&TEXT((ROW(B234)/6)+10/3-INT((ROW(B234)-4)/50)/3+8,\"#\")))","v":" "}]
[]
[]
[null,{"$f":"INDIRECT( \"FlashCards!\"&IF(MOD(INT((ROW(B240)-4)/50),2)=0,\"CF\"&TEXT((ROW(B240)/6)+10/3-INT((ROW(B240)-4)/50)/3,\"#\"),\"CF\"&TEXT((ROW(B240)/6)+10/3-INT((ROW(B240)-4)/50)/3,\"#\")))","v":"Chapter 19: Verb Ending"},null,null,{"$f":"INDIRECT( \"FlashCards!\"&IF(MOD(INT((ROW(B240)-4)/50),2)=0,\"CF\"&TEXT((ROW(B240)/6)+10/3-INT((ROW(B240)-4)/50)/3+8,\"#\"),\"CF\"&TEXT((ROW(B240)/6)+10/3-INT((ROW(B240)-4)/50)/3+8,\"#\")))","v":"Chapter 19: Verb Ending"}]
[null,{"$f":"INDIRECT( \"FlashCards!\"&IF(MOD(INT((ROW(B240)-4)/50),2)=0,\"CE\"&TEXT((ROW(B240)/6)+10/3-INT((ROW(B240)-4)/50)/3,\"#\"),\"CD\"&TEXT((ROW(B240)/6)+10/3-INT((ROW(B240)-4)/50)/3,\"#\")))","v":"[active stem] +σω"},null,null,{"$f":"INDIRECT( \"FlashCards!\"&IF(MOD(INT((ROW(B240)-4)/50),2)=0,\"CE\"&TEXT((ROW(B240)/6)+10/3-INT((ROW(B240)-4)/50)/3+8,\"#\"),\"CD\"&TEXT((ROW(B240)/6)+10/3-INT((ROW(B240)-4)/50)/3+8,\"#\")))","v":"[middle stem] +σεται"}]
[]
[null,{"$f":"INDIRECT( \"FlashCards!\"&IF(MOD(INT((ROW(B240)-4)/50),2)=0,\"CC\"&TEXT((ROW(B240)/6)+10/3-INT((ROW(B240)-4)/50)/3,\"#\"),\"\"))","v":" "},null,null,{"$f":"INDIRECT( \"FlashCards!\"&IF(MOD(INT((ROW(B240)-4)/50),2)=0,\"CC\"&TEXT((ROW(B240)/6)+10/3-INT((ROW(B240)-4)/50)/3+8,\"#\"),\"CC\"&TEXT((ROW(B240)/6)+10/3-INT((ROW(B240)-4)/50)/3+8,\"#\")))","v":" "}]
[]
[]
[null,{"$f":"INDIRECT( \"FlashCards!\"&IF(MOD(INT((ROW(B246)-4)/50),2)=0,\"CF\"&TEXT((ROW(B246)/6)+10/3-INT((ROW(B246)-4)/50)/3,\"#\"),\"CF\"&TEXT((ROW(B246)/6)+10/3-INT((ROW(B246)-4)/50)/3,\"#\")))","v":"Chapter 19: Verb Ending"},null,null,{"$f":"INDIRECT( \"FlashCards!\"&IF(MOD(INT((ROW(B246)-4)/50),2)=0,\"CF\"&TEXT((ROW(B246)/6)+10/3-INT((ROW(B246)-4)/50)/3+8,\"#\"),\"CF\"&TEXT((ROW(B246)/6)+10/3-INT((ROW(B246)-4)/50)/3+8,\"#\")))","v":"Chapter 19: Verb Ending"}]
[null,{"$f":"INDIRECT( \"FlashCards!\"&IF(MOD(INT((ROW(B246)-4)/50),2)=0,\"CE\"&TEXT((ROW(B246)/6)+10/3-INT((ROW(B246)-4)/50)/3,\"#\"),\"CD\"&TEXT((ROW(B246)/6)+10/3-INT((ROW(B246)-4)/50)/3,\"#\")))","v":"[active stem] +σες, +σεις"},null,null,{"$f":"INDIRECT( \"FlashCards!\"&IF(MOD(INT((ROW(B246)-4)/50),2)=0,\"CE\"&TEXT((ROW(B246)/6)+10/3-INT((ROW(B246)-4)/50)/3+8,\"#\"),\"CD\"&TEXT((ROW(B246)/6)+10/3-INT((ROW(B246)-4)/50)/3+8,\"#\")))","v":"[middle stem] +σομεθα"}]
[]
[null,{"$f":"INDIRECT( \"FlashCards!\"&IF(MOD(INT((ROW(B246)-4)/50),2)=0,\"CC\"&TEXT((ROW(B246)/6)+10/3-INT((ROW(B246)-4)/50)/3,\"#\"),\"\"))","v":" "},null,null,{"$f":"INDIRECT( \"FlashCards!\"&IF(MOD(INT((ROW(B246)-4)/50),2)=0,\"CC\"&TEXT((ROW(B246)/6)+10/3-INT((ROW(B246)-4)/50)/3+8,\"#\"),\"CC\"&TEXT((ROW(B246)/6)+10/3-INT((ROW(B246)-4)/50)/3+8,\"#\")))","v":" "}]
[]
[]
[]
[]
[null,{"$f":"E203","v":"Chapter 19: Verb Ending"},null,null,{"$f":"B203","v":"Chapter 18: Verb Ending"}]
[null,{"$f":"INDIRECT( \"FlashCards!\"&IF(MOD(INT((ROW(B254)-4)/50),2)=0,\"CE\"&TEXT((ROW(B254)/6)+10/3-INT((ROW(B254)-4)/50)/3,\"#\"),\"CD\"&TEXT((ROW(B254)/6)+10/3-INT((ROW(B254)-4)/50)/3,\"#\")))","v":"he/she/it will verb (it) [future active indicative]"},null,null,{"$f":"INDIRECT( \"FlashCards!\"&IF(MOD(INT((ROW(B254)-4)/50),2)=0,\"CE\"&TEXT((ROW(B254)/6)+10/3-INT((ROW(B254)-4)/50)/3-8,\"#\"),\"CD\"&TEXT((ROW(B254)/6)+10/3-INT((ROW(B254)-4)/50)/3-8,\"#\")))","v":"I am being verbed (by it) [present passive indicative]"}]
[]
[]
[]
[]
[null,{"$f":"E209","v":"Chapter 19: Verb Ending"},null,null,{"$f":"B209","v":"Chapter 18: Verb Ending"}]
[null,{"$f":"INDIRECT( \"FlashCards!\"&IF(MOD(INT((ROW(B260)-4)/50),2)=0,\"CE\"&TEXT((ROW(B260)/6)+10/3-INT((ROW(B260)-4)/50)/3,\"#\"),\"CD\"&TEXT((ROW(B260)/6)+10/3-INT((ROW(B260)-4)/50)/3,\"#\")))","v":"we will verb (it) [future active indicative]"},null,null,{"$f":"INDIRECT( \"FlashCards!\"&IF(MOD(INT((ROW(B260)-4)/50),2)=0,\"CE\"&TEXT((ROW(B260)/6)+10/3-INT((ROW(B260)-4)/50)/3-8,\"#\"),\"CD\"&TEXT((ROW(B260)/6)+10/3-INT((ROW(B260)-4)/50)/3-8,\"#\")))","v":"you are being verbed (by it) [present passive indicative]"}]
[]
[]
[]
[]
[null,{"$f":"E215","v":"Chapter 19: Verb Ending"},null,null,{"$f":"B215","v":"Chapter 18: Verb Ending"}]
[null,{"$f":"INDIRECT( \"FlashCards!\"&IF(MOD(INT((ROW(B266)-4)/50),2)=0,\"CE\"&TEXT((ROW(B266)/6)+10/3-INT((ROW(B266)-4)/50)/3,\"#\"),\"CD\"&TEXT((ROW(B266)/6)+10/3-INT((ROW(B266)-4)/50)/3,\"#\")))","v":"ya'll will verb (it) [future active indicative]"},null,null,{"$f":"INDIRECT( \"FlashCards!\"&IF(MOD(INT((ROW(B266)-4)/50),2)=0,\"CE\"&TEXT((ROW(B266)/6)+10/3-INT((ROW(B266)-4)/50)/3-8,\"#\"),\"CD\"&TEXT((ROW(B266)/6)+10/3-INT((ROW(B266)-4)/50)/3-8,\"#\")))","v":"he/she/it is being verbed (by it) [present passive indicative]"}]
[]
[]
[]
[]
[null,{"$f":"E221","v":"Chapter 19: Verb Ending"},null,null,{"$f":"B221","v":"Chapter 18: Verb Ending"}]
[null,{"$f":"INDIRECT( \"FlashCards!\"&IF(MOD(INT((ROW(B272)-4)/50),2)=0,\"CE\"&TEXT((ROW(B272)/6)+10/3-INT((ROW(B272)-4)/50)/3,\"#\"),\"CD\"&TEXT((ROW(B272)/6)+10/3-INT((ROW(B272)-4)/50)/3,\"#\")))","v":"they will verb (it) [future active indicative]"},null,null,{"$f":"INDIRECT( \"FlashCards!\"&IF(MOD(INT((ROW(B272)-4)/50),2)=0,\"CE\"&TEXT((ROW(B272)/6)+10/3-INT((ROW(B272)-4)/50)/3-8,\"#\"),\"CD\"&TEXT((ROW(B272)/6)+10/3-INT((ROW(B272)-4)/50)/3-8,\"#\")))","v":"we are being verbed (by it) [present passive indicative]"}]
[]
[]
[]
[]
[null,{"$f":"E227","v":"Chapter 19: Verb Ending"},null,null,{"$f":"B227","v":"Chapter 18: Verb Ending"}]
[null,{"$f":"INDIRECT( \"FlashCards!\"&IF(MOD(INT((ROW(B278)-4)/50),2)=0,\"CE\"&TEXT((ROW(B278)/6)+10/3-INT((ROW(B278)-4)/50)/3,\"#\"),\"CD\"&TEXT((ROW(B278)/6)+10/3-INT((ROW(B278)-4)/50)/3,\"#\")))","v":"I will verb [future middle indicative]"},null,null,{"$f":"INDIRECT( \"FlashCards!\"&IF(MOD(INT((ROW(B278)-4)/50),2)=0,\"CE\"&TEXT((ROW(B278)/6)+10/3-INT((ROW(B278)-4)/50)/3-8,\"#\"),\"CD\"&TEXT((ROW(B278)/6)+10/3-INT((ROW(B278)-4)/50)/3-8,\"#\")))","v":"ya'll are being verbed (by it) [present passive indicative]"}]
[]
[]
[]
[]
[null,{"$f":"E233","v":"Chapter 19: Verb Ending"},null,null,{"$f":"B233","v":"Chapter 18: Verb Ending"}]
[null,{"$f":"INDIRECT( \"FlashCards!\"&IF(MOD(INT((ROW(B284)-4)/50),2)=0,\"CE\"&TEXT((ROW(B284)/6)+10/3-INT((ROW(B284)-4)/50)/3,\"#\"),\"CD\"&TEXT((ROW(B284)/6)+10/3-INT((ROW(B284)-4)/50)/3,\"#\")))","v":"you will verb [future middle indicative]"},null,null,{"$f":"INDIRECT( \"FlashCards!\"&IF(MOD(INT((ROW(B284)-4)/50),2)=0,\"CE\"&TEXT((ROW(B284)/6)+10/3-INT((ROW(B284)-4)/50)/3-8,\"#\"),\"CD\"&TEXT((ROW(B284)/6)+10/3-INT((ROW(B284)-4)/50)/3-8,\"#\")))","v":"they are being verbed (by it) [present passive indicative]"}]
[]
[]
[]
[]
[null,{"$f":"E239","v":"Chapter 19: Verb Ending"},null,null,{"$f":"B239","v":"Chapter 19: Verb Ending"}]
[null,{"$f":"INDIRECT( \"FlashCards!\"&IF(MOD(INT((ROW(B290)-4)/50),2)=0,\"CE\"&TEXT((ROW(B290)/6)+10/3-INT((ROW(B290)-4)/50)/3,\"#\"),\"CD\"&TEXT((ROW(B290)/6)+10/3-INT((ROW(B290)-4)/50)/3,\"#\")))","v":"he/she/it will verb [future middle indicative]"},null,null,{"$f":"INDIRECT( \"FlashCards!\"&IF(MOD(INT((ROW(B290)-4)/50),2)=0,\"CE\"&TEXT((ROW(B290)/6)+10/3-INT((ROW(B290)-4)/50)/3-8,\"#\"),\"CD\"&TEXT((ROW(B290)/6)+10/3-INT((ROW(B290)-4)/50)/3-8,\"#\")))","v":"I will verb (it) [future active indicative]"}]
[]
[]
[]
[]
[null,{"$f":"E245","v":"Chapter 19: Verb Ending"},null,null,{"$f":"B245","v":"Chapter 19: Verb Ending"}]
[null,{"$f":"INDIRECT( \"FlashCards!\"&IF(MOD(INT((ROW(B296)-4)/50),2)=0,\"CE\"&TEXT((ROW(B296)/6)+10/3-INT((ROW(B296)-4)/50)/3,\"#\"),\"CD\"&TEXT((ROW(B296)/6)+10/3-INT((ROW(B296)-4)/50)/3,\"#\")))","v":"we will verb [future middle indicative]"},null,null,{"$f":"INDIRECT( \"FlashCards!\"&IF(MOD(INT((ROW(B296)-4)/50),2)=0,\"CE\"&TEXT((ROW(B296)/6)+10/3-INT((ROW(B296)-4)/50)/3-8,\"#\"),\"CD\"&TEXT((ROW(B296)/6)+10/3-INT((ROW(B296)-4)/50)/3-8,\"#\")))","v":"you will verb (it) [future active indicative]"}]
[]
[]
[]
[]
[]
[]
[null,{"$f":"INDIRECT( \"FlashCards!\"&IF(MOD(INT((ROW(B304)-4)/50),2)=0,\"CF\"&TEXT((ROW(B304)/6)+10/3-INT((ROW(B304)-4)/50)/3,\"#\"),\"CF\"&TEXT((ROW(B304)/6)+10/3-INT((ROW(B304)-4)/50)/3,\"#\")))","v":"Chapter 19: Verb Ending"},null,null,{"$f":"INDIRECT( \"FlashCards!\"&IF(MOD(INT((ROW(B304)-4)/50),2)=0,\"CF\"&TEXT((ROW(B304)/6)+10/3-INT((ROW(B304)-4)/50)/3+8,\"#\"),\"CF\"&TEXT((ROW(B304)/6)+10/3-INT((ROW(B304)-4)/50)/3+8,\"#\")))","v":"Chapter 21: Verb Ending"}]
[null,{"$f":"INDIRECT( \"FlashCards!\"&IF(MOD(INT((ROW(B304)-4)/50),2)=0,\"CE\"&TEXT((ROW(B304)/6)+10/3-INT((ROW(B304)-4)/50)/3,\"#\"),\"CD\"&TEXT((ROW(B304)/6)+10/3-INT((ROW(B304)-4)/50)/3,\"#\")))","v":"[middle stem] +σεσθε "},null,null,{"$f":"INDIRECT( \"FlashCards!\"&IF(MOD(INT((ROW(B304)-4)/50),2)=0,\"CE\"&TEXT((ROW(B304)/6)+10/3-INT((ROW(B304)-4)/50)/3+8,\"#\"),\"CD\"&TEXT((ROW(B304)/6)+10/3-INT((ROW(B304)-4)/50)/3+8,\"#\")))","v":"ἐ + [active stem] +ομην"}]
[]
[null,{"$f":"INDIRECT( \"FlashCards!\"&IF(MOD(INT((ROW(B304)-4)/50),2)=0,\"CC\"&TEXT((ROW(B304)/6)+10/3-INT((ROW(B304)-4)/50)/3,\"#\"),\"\"))","v":" "},null,null,{"$f":"INDIRECT( \"FlashCards!\"&IF(MOD(INT((ROW(B304)-4)/50),2)=0,\"CC\"&TEXT((ROW(B304)/6)+10/3-INT((ROW(B304)-4)/50)/3+8,\"#\"),\"CC\"&TEXT((ROW(B304)/6)+10/3-INT((ROW(B304)-4)/50)/3+8,\"#\")))","v":" "}]
[]
[]
[null,{"$f":"INDIRECT( \"FlashCards!\"&IF(MOD(INT((ROW(B310)-4)/50),2)=0,\"CF\"&TEXT((ROW(B310)/6)+10/3-INT((ROW(B310)-4)/50)/3,\"#\"),\"CF\"&TEXT((ROW(B310)/6)+10/3-INT((ROW(B310)-4)/50)/3,\"#\")))","v":"Chapter 19: Verb Ending"},null,null,{"$f":"INDIRECT( \"FlashCards!\"&IF(MOD(INT((ROW(B310)-4)/50),2)=0,\"CF\"&TEXT((ROW(B310)/6)+10/3-INT((ROW(B310)-4)/50)/3+8,\"#\"),\"CF\"&TEXT((ROW(B310)/6)+10/3-INT((ROW(B310)-4)/50)/3+8,\"#\")))","v":"Chapter 21: Verb Ending"}]
[null,{"$f":"INDIRECT( \"FlashCards!\"&IF(MOD(INT((ROW(B310)-4)/50),2)=0,\"CE\"&TEXT((ROW(B310)/6)+10/3-INT((ROW(B310)-4)/50)/3,\"#\"),\"CD\"&TEXT((ROW(B310)/6)+10/3-INT((ROW(B310)-4)/50)/3,\"#\")))","v":"[middle stem] +σονται"},null,null,{"$f":"INDIRECT( \"FlashCards!\"&IF(MOD(INT((ROW(B310)-4)/50),2)=0,\"CE\"&TEXT((ROW(B310)/6)+10/3-INT((ROW(B310)-4)/50)/3+8,\"#\"),\"CD\"&TEXT((ROW(B310)/6)+10/3-INT((ROW(B310)-4)/50)/3+8,\"#\")))","v":"ἐ + [active stem] +εσο"}]
[]
[null,{"$f":"INDIRECT( \"FlashCards!\"&IF(MOD(INT((ROW(B310)-4)/50),2)=0,\"CC\"&TEXT((ROW(B310)/6)+10/3-INT((ROW(B310)-4)/50)/3,\"#\"),\"\"))","v":" "},null,null,{"$f":"INDIRECT( \"FlashCards!\"&IF(MOD(INT((ROW(B310)-4)/50),2)=0,\"CC\"&TEXT((ROW(B310)/6)+10/3-INT((ROW(B310)-4)/50)/3+8,\"#\"),\"CC\"&TEXT((ROW(B310)/6)+10/3-INT((ROW(B310)-4)/50)/3+8,\"#\")))","v":" "}]
[]
[]
[null,{"$f":"INDIRECT( \"FlashCards!\"&IF(MOD(INT((ROW(B316)-4)/50),2)=0,\"CF\"&TEXT((ROW(B316)/6)+10/3-INT((ROW(B316)-4)/50)/3,\"#\"),\"CF\"&TEXT((ROW(B316)/6)+10/3-INT((ROW(B316)-4)/50)/3,\"#\")))","v":"Chapter 21: Verb Ending"},null,null,{"$f":"INDIRECT( \"FlashCards!\"&IF(MOD(INT((ROW(B316)-4)/50),2)=0,\"CF\"&TEXT((ROW(B316)/6)+10/3-INT((ROW(B316)-4)/50)/3+8,\"#\"),\"CF\"&TEXT((ROW(B316)/6)+10/3-INT((ROW(B316)-4)/50)/3+8,\"#\")))","v":"Chapter 21: Verb Ending"}]
[null,{"$f":"INDIRECT( \"FlashCards!\"&IF(MOD(INT((ROW(B316)-4)/50),2)=0,\"CE\"&TEXT((ROW(B316)/6)+10/3-INT((ROW(B316)-4)/50)/3,\"#\"),\"CD\"&TEXT((ROW(B316)/6)+10/3-INT((ROW(B316)-4)/50)/3,\"#\")))","v":"ἐ + [active stem] +ον"},null,null,{"$f":"INDIRECT( \"FlashCards!\"&IF(MOD(INT((ROW(B316)-4)/50),2)=0,\"CE\"&TEXT((ROW(B316)/6)+10/3-INT((ROW(B316)-4)/50)/3+8,\"#\"),\"CD\"&TEXT((ROW(B316)/6)+10/3-INT((ROW(B316)-4)/50)/3+8,\"#\")))","v":"ἐ + [active stem] +ετο"}]
[]
[null,{"$f":"INDIRECT( \"FlashCards!\"&IF(MOD(INT((ROW(B316)-4)/50),2)=0,\"CC\"&TEXT((ROW(B316)/6)+10/3-INT((ROW(B316)-4)/50)/3,\"#\"),\"\"))","v":" "},null,null,{"$f":"INDIRECT( \"FlashCards!\"&IF(MOD(INT((ROW(B316)-4)/50),2)=0,\"CC\"&TEXT((ROW(B316)/6)+10/3-INT((ROW(B316)-4)/50)/3+8,\"#\"),\"CC\"&TEXT((ROW(B316)/6)+10/3-INT((ROW(B316)-4)/50)/3+8,\"#\")))","v":" "}]
[]
[]
[null,{"$f":"INDIRECT( \"FlashCards!\"&IF(MOD(INT((ROW(B322)-4)/50),2)=0,\"CF\"&TEXT((ROW(B322)/6)+10/3-INT((ROW(B322)-4)/50)/3,\"#\"),\"CF\"&TEXT((ROW(B322)/6)+10/3-INT((ROW(B322)-4)/50)/3,\"#\")))","v":"Chapter 21: Verb Ending"},null,null,{"$f":"INDIRECT( \"FlashCards!\"&IF(MOD(INT((ROW(B322)-4)/50),2)=0,\"CF\"&TEXT((ROW(B322)/6)+10/3-INT((ROW(B322)-4)/50)/3+8,\"#\"),\"CF\"&TEXT((ROW(B322)/6)+10/3-INT((ROW(B322)-4)/50)/3+8,\"#\")))","v":"Chapter 21: Verb Ending"}]
[null,{"$f":"INDIRECT( \"FlashCards!\"&IF(MOD(INT((ROW(B322)-4)/50),2)=0,\"CE\"&TEXT((ROW(B322)/6)+10/3-INT((ROW(B322)-4)/50)/3,\"#\"),\"CD\"&TEXT((ROW(B322)/6)+10/3-INT((ROW(B322)-4)/50)/3,\"#\")))","v":"ἐ + [active stem] +ες, +εις"},null,null,{"$f":"INDIRECT( \"FlashCards!\"&IF(MOD(INT((ROW(B322)-4)/50),2)=0,\"CE\"&TEXT((ROW(B322)/6)+10/3-INT((ROW(B322)-4)/50)/3+8,\"#\"),\"CD\"&TEXT((ROW(B322)/6)+10/3-INT((ROW(B322)-4)/50)/3+8,\"#\")))","v":"ἐ + [active stem] +ομεθα"}]
[]
[null,{"$f":"INDIRECT( \"FlashCards!\"&IF(MOD(INT((ROW(B322)-4)/50),2)=0,\"CC\"&TEXT((ROW(B322)/6)+10/3-INT((ROW(B322)-4)/50)/3,\"#\"),\"\"))","v":" "},null,null,{"$f":"INDIRECT( \"FlashCards!\"&IF(MOD(INT((ROW(B322)-4)/50),2)=0,\"CC\"&TEXT((ROW(B322)/6)+10/3-INT((ROW(B322)-4)/50)/3+8,\"#\"),\"CC\"&TEXT((ROW(B322)/6)+10/3-INT((ROW(B322)-4)/50)/3+8,\"#\")))","v":" "}]
[]
[]
[null,{"$f":"INDIRECT( \"FlashCards!\"&IF(MOD(INT((ROW(B328)-4)/50),2)=0,\"CF\"&TEXT((ROW(B328)/6)+10/3-INT((ROW(B328)-4)/50)/3,\"#\"),\"CF\"&TEXT((ROW(B328)/6)+10/3-INT((ROW(B328)-4)/50)/3,\"#\")))","v":"Chapter 21: Verb Ending"},null,null,{"$f":"INDIRECT( \"FlashCards!\"&IF(MOD(INT((ROW(B328)-4)/50),2)=0,\"CF\"&TEXT((ROW(B328)/6)+10/3-INT((ROW(B328)-4)/50)/3+8,\"#\"),\"CF\"&TEXT((ROW(B328)/6)+10/3-INT((ROW(B328)-4)/50)/3+8,\"#\")))","v":"Chapter 21: Verb Ending"}]
[null,{"$f":"INDIRECT( \"FlashCards!\"&IF(MOD(INT((ROW(B328)-4)/50),2)=0,\"CE\"&TEXT((ROW(B328)/6)+10/3-INT((ROW(B328)-4)/50)/3,\"#\"),\"CD\"&TEXT((ROW(B328)/6)+10/3-INT((ROW(B328)-4)/50)/3,\"#\")))","v":"ἐ + [active stem] +ει"},null,null,{"$f":"INDIRECT( \"FlashCards!\"&IF(MOD(INT((ROW(B328)-4)/50),2)=0,\"CE\"&TEXT((ROW(B328)/6)+10/3-INT((ROW(B328)-4)/50)/3+8,\"#\"),\"CD\"&TEXT((ROW(B328)/6)+10/3-INT((ROW(B328)-4)/50)/3+8,\"#\")))","v":"ἐ + [active stem] +εσθε"}]
[]
[null,{"$f":"INDIRECT( \"FlashCards!\"&IF(MOD(INT((ROW(B328)-4)/50),2)=0,\"CC\"&TEXT((ROW(B328)/6)+10/3-INT((ROW(B328)-4)/50)/3,\"#\"),\"\"))","v":" "},null,null,{"$f":"INDIRECT( \"FlashCards!\"&IF(MOD(INT((ROW(B328)-4)/50),2)=0,\"CC\"&TEXT((ROW(B328)/6)+10/3-INT((ROW(B328)-4)/50)/3+8,\"#\"),\"CC\"&TEXT((ROW(B328)/6)+10/3-INT((ROW(B328)-4)/50)/3+8,\"#\")))","v":" "}]
[]
[]
[null,{"$f":"INDIRECT( \"FlashCards!\"&IF(MOD(INT((ROW(B334)-4)/50),2)=0,\"CF\"&TEXT((ROW(B334)/6)+10/3-INT((ROW(B334)-4)/50)/3,\"#\"),\"CF\"&TEXT((ROW(B334)/6)+10/3-INT((ROW(B334)-4)/50)/3,\"#\")))","v":"Chapter 21: Verb Ending"},null,null,{"$f":"INDIRECT( \"FlashCards!\"&IF(MOD(INT((ROW(B334)-4)/50),2)=0,\"CF\"&TEXT((ROW(B334)/6)+10/3-INT((ROW(B334)-4)/50)/3+8,\"#\"),\"CF\"&TEXT((ROW(B334)/6)+10/3-INT((ROW(B334)-4)/50)/3+8,\"#\")))","v":"Chapter 21: Verb Ending"}]
[null,{"$f":"INDIRECT( \"FlashCards!\"&IF(MOD(INT((ROW(B334)-4)/50),2)=0,\"CE\"&TEXT((ROW(B334)/6)+10/3-INT((ROW(B334)-4)/50)/3,\"#\"),\"CD\"&TEXT((ROW(B334)/6)+10/3-INT((ROW(B334)-4)/50)/3,\"#\")))","v":"ἐ + [active stem] +ομεν"},null,null,{"$f":"INDIRECT( \"FlashCards!\"&IF(MOD(INT((ROW(B334)-4)/50),2)=0,\"CE\"&TEXT((ROW(B334)/6)+10/3-INT((ROW(B334)-4)/50)/3+8,\"#\"),\"CD\"&TEXT((ROW(B334)/6)+10/3-INT((ROW(B334)-4)/50)/3+8,\"#\")))","v":"ἐ + [active stem] +οντο"}]
[]
[null,{"$f":"INDIRECT( \"FlashCards!\"&IF(MOD(INT((ROW(B334)-4)/50),2)=0,\"CC\"&TEXT((ROW(B334)/6)+10/3-INT((ROW(B334)-4)/50)/3,\"#\"),\"\"))","v":" "},null,null,{"$f":"INDIRECT( \"FlashCards!\"&IF(MOD(INT((ROW(B334)-4)/50),2)=0,\"CC\"&TEXT((ROW(B334)/6)+10/3-INT((ROW(B334)-4)/50)/3+8,\"#\"),\"CC\"&TEXT((ROW(B334)/6)+10/3-INT((ROW(B334)-4)/50)/3+8,\"#\")))","v":" "}]
[]
[]
[null,{"$f":"INDIRECT( \"FlashCards!\"&IF(MOD(INT((ROW(B340)-4)/50),2)=0,\"CF\"&TEXT((ROW(B340)/6)+10/3-INT((ROW(B340)-4)/50)/3,\"#\"),\"CF\"&TEXT((ROW(B340)/6)+10/3-INT((ROW(B340)-4)/50)/3,\"#\")))","v":"Chapter 21: Verb Ending"},null,null,{"$f":"INDIRECT( \"FlashCards!\"&IF(MOD(INT((ROW(B340)-4)/50),2)=0,\"CF\"&TEXT((ROW(B340)/6)+10/3-INT((ROW(B340)-4)/50)/3+8,\"#\"),\"CF\"&TEXT((ROW(B340)/6)+10/3-INT((ROW(B340)-4)/50)/3+8,\"#\")))","v":"Chapter 21: Verb Ending"}]
[null,{"$f":"INDIRECT( \"FlashCards!\"&IF(MOD(INT((ROW(B340)-4)/50),2)=0,\"CE\"&TEXT((ROW(B340)/6)+10/3-INT((ROW(B340)-4)/50)/3,\"#\"),\"CD\"&TEXT((ROW(B340)/6)+10/3-INT((ROW(B340)-4)/50)/3,\"#\")))","v":"ἐ + [active stem] +ετε"},null,null,{"$f":"INDIRECT( \"FlashCards!\"&IF(MOD(INT((ROW(B340)-4)/50),2)=0,\"CE\"&TEXT((ROW(B340)/6)+10/3-INT((ROW(B340)-4)/50)/3+8,\"#\"),\"CD\"&TEXT((ROW(B340)/6)+10/3-INT((ROW(B340)-4)/50)/3+8,\"#\")))","v":"ἐ + [middle stem] +ομην "}]
[]
[null,{"$f":"INDIRECT( \"FlashCards!\"&IF(MOD(INT((ROW(B340)-4)/50),2)=0,\"CC\"&TEXT((ROW(B340)/6)+10/3-INT((ROW(B340)-4)/50)/3,\"#\"),\"\"))","v":" "},null,null,{"$f":"INDIRECT( \"FlashCards!\"&IF(MOD(INT((ROW(B340)-4)/50),2)=0,\"CC\"&TEXT((ROW(B340)/6)+10/3-INT((ROW(B340)-4)/50)/3+8,\"#\"),\"CC\"&TEXT((ROW(B340)/6)+10/3-INT((ROW(B340)-4)/50)/3+8,\"#\")))","v":" "}]
[]
[]
[null,{"$f":"INDIRECT( \"FlashCards!\"&IF(MOD(INT((ROW(B346)-4)/50),2)=0,\"CF\"&TEXT((ROW(B346)/6)+10/3-INT((ROW(B346)-4)/50)/3,\"#\"),\"CF\"&TEXT((ROW(B346)/6)+10/3-INT((ROW(B346)-4)/50)/3,\"#\")))","v":"Chapter 21: Verb Ending"},null,null,{"$f":"INDIRECT( \"FlashCards!\"&IF(MOD(INT((ROW(B346)-4)/50),2)=0,\"CF\"&TEXT((ROW(B346)/6)+10/3-INT((ROW(B346)-4)/50)/3+8,\"#\"),\"CF\"&TEXT((ROW(B346)/6)+10/3-INT((ROW(B346)-4)/50)/3+8,\"#\")))","v":"Chapter 21: Verb Ending"}]
[null,{"$f":"INDIRECT( \"FlashCards!\"&IF(MOD(INT((ROW(B346)-4)/50),2)=0,\"CE\"&TEXT((ROW(B346)/6)+10/3-INT((ROW(B346)-4)/50)/3,\"#\"),\"CD\"&TEXT((ROW(B346)/6)+10/3-INT((ROW(B346)-4)/50)/3,\"#\")))","v":"ἐ + [active stem] +ον"},null,null,{"$f":"INDIRECT( \"FlashCards!\"&IF(MOD(INT((ROW(B346)-4)/50),2)=0,\"CE\"&TEXT((ROW(B346)/6)+10/3-INT((ROW(B346)-4)/50)/3+8,\"#\"),\"CD\"&TEXT((ROW(B346)/6)+10/3-INT((ROW(B346)-4)/50)/3+8,\"#\")))","v":"ἐ + [middle stem] +εσο"}]
[]
[null,{"$f":"INDIRECT( \"FlashCards!\"&IF(MOD(INT((ROW(B346)-4)/50),2)=0,\"CC\"&TEXT((ROW(B346)/6)+10/3-INT((ROW(B346)-4)/50)/3,\"#\"),\"\"))","v":" "},null,null,{"$f":"INDIRECT( \"FlashCards!\"&IF(MOD(INT((ROW(B346)-4)/50),2)=0,\"CC\"&TEXT((ROW(B346)/6)+10/3-INT((ROW(B346)-4)/50)/3+8,\"#\"),\"CC\"&TEXT((ROW(B346)/6)+10/3-INT((ROW(B346)-4)/50)/3+8,\"#\")))","v":" "}]
[]
[]
[]
[]
[null,{"$f":"E303","v":"Chapter 21: Verb Ending"},null,null,{"$f":"B303","v":"Chapter 19: Verb Ending"}]
[null,{"$f":"INDIRECT( \"FlashCards!\"&IF(MOD(INT((ROW(B354)-4)/50),2)=0,\"CE\"&TEXT((ROW(B354)/6)+10/3-INT((ROW(B354)-4)/50)/3,\"#\"),\"CD\"&TEXT((ROW(B354)/6)+10/3-INT((ROW(B354)-4)/50)/3,\"#\")))","v":"I was being verbed (by it) [imperfect passive indicative]"},null,null,{"$f":"INDIRECT( \"FlashCards!\"&IF(MOD(INT((ROW(B354)-4)/50),2)=0,\"CE\"&TEXT((ROW(B354)/6)+10/3-INT((ROW(B354)-4)/50)/3-8,\"#\"),\"CD\"&TEXT((ROW(B354)/6)+10/3-INT((ROW(B354)-4)/50)/3-8,\"#\")))","v":"ya'll will verb [future middle indicative]"}]
[]
[]
[]
[]
[null,{"$f":"E309","v":"Chapter 21: Verb Ending"},null,null,{"$f":"B309","v":"Chapter 19: Verb Ending"}]
[null,{"$f":"INDIRECT( \"FlashCards!\"&IF(MOD(INT((ROW(B360)-4)/50),2)=0,\"CE\"&TEXT((ROW(B360)/6)+10/3-INT((ROW(B360)-4)/50)/3,\"#\"),\"CD\"&TEXT((ROW(B360)/6)+10/3-INT((ROW(B360)-4)/50)/3,\"#\")))","v":"you were being verbed (by it) [imperfect passive indicative]"},null,null,{"$f":"INDIRECT( \"FlashCards!\"&IF(MOD(INT((ROW(B360)-4)/50),2)=0,\"CE\"&TEXT((ROW(B360)/6)+10/3-INT((ROW(B360)-4)/50)/3-8,\"#\"),\"CD\"&TEXT((ROW(B360)/6)+10/3-INT((ROW(B360)-4)/50)/3-8,\"#\")))","v":"they will verb [future middle indicative]"}]
[]
[]
[]
[]
[null,{"$f":"E315","v":"Chapter 21: Verb Ending"},null,null,{"$f":"B315","v":"Chapter 21: Verb Ending"}]
[null,{"$f":"INDIRECT( \"FlashCards!\"&IF(MOD(INT((ROW(B366)-4)/50),2)=0,\"CE\"&TEXT((ROW(B366)/6)+10/3-INT((ROW(B366)-4)/50)/3,\"#\"),\"CD\"&TEXT((ROW(B366)/6)+10/3-INT((ROW(B366)-4)/50)/3,\"#\")))","v":"he/she/it was being verbed (by it) [imperfect passive indicative]"},null,null,{"$f":"INDIRECT( \"FlashCards!\"&IF(MOD(INT((ROW(B366)-4)/50),2)=0,\"CE\"&TEXT((ROW(B366)/6)+10/3-INT((ROW(B366)-4)/50)/3-8,\"#\"),\"CD\"&TEXT((ROW(B366)/6)+10/3-INT((ROW(B366)-4)/50)/3-8,\"#\")))","v":"I was/they were verbing (it) [imperfect active indicative]"}]
[]
[]
[]
[]
[null,{"$f":"E321","v":"Chapter 21: Verb Ending"},null,null,{"$f":"B321","v":"Chapter 21: Verb Ending"}]
[null,{"$f":"INDIRECT( \"FlashCards!\"&IF(MOD(INT((ROW(B372)-4)/50),2)=0,\"CE\"&TEXT((ROW(B372)/6)+10/3-INT((ROW(B372)-4)/50)/3,\"#\"),\"CD\"&TEXT((ROW(B372)/6)+10/3-INT((ROW(B372)-4)/50)/3,\"#\")))","v":"we were being verbed (by it) [imperfect passive indicative]"},null,null,{"$f":"INDIRECT( \"FlashCards!\"&IF(MOD(INT((ROW(B372)-4)/50),2)=0,\"CE\"&TEXT((ROW(B372)/6)+10/3-INT((ROW(B372)-4)/50)/3-8,\"#\"),\"CD\"&TEXT((ROW(B372)/6)+10/3-INT((ROW(B372)-4)/50)/3-8,\"#\")))","v":"you were verbing (it) [imperfect active indicative]"}]
[]
[]
[]
[]
[null,{"$f":"E327","v":"Chapter 21: Verb Ending"},null,null,{"$f":"B327","v":"Chapter 21: Verb Ending"}]
[null,{"$f":"INDIRECT( \"FlashCards!\"&IF(MOD(INT((ROW(B378)-4)/50),2)=0,\"CE\"&TEXT((ROW(B378)/6)+10/3-INT((ROW(B378)-4)/50)/3,\"#\"),\"CD\"&TEXT((ROW(B378)/6)+10/3-INT((ROW(B378)-4)/50)/3,\"#\")))","v":"ya'll were being verbed (by it) [imperfect passive indicative]"},null,null,{"$f":"INDIRECT( \"FlashCards!\"&IF(MOD(INT((ROW(B378)-4)/50),2)=0,\"CE\"&TEXT((ROW(B378)/6)+10/3-INT((ROW(B378)-4)/50)/3-8,\"#\"),\"CD\"&TEXT((ROW(B378)/6)+10/3-INT((ROW(B378)-4)/50)/3-8,\"#\")))","v":"he/she/it was verbing (it) [imperfect active indicative]"}]
[]
[]
[]
[]
[null,{"$f":"E333","v":"Chapter 21: Verb Ending"},null,null,{"$f":"B333","v":"Chapter 21: Verb Ending"}]
[null,{"$f":"INDIRECT( \"FlashCards!\"&IF(MOD(INT((ROW(B384)-4)/50),2)=0,\"CE\"&TEXT((ROW(B384)/6)+10/3-INT((ROW(B384)-4)/50)/3,\"#\"),\"CD\"&TEXT((ROW(B384)/6)+10/3-INT((ROW(B384)-4)/50)/3,\"#\")))","v":"they were being verbed (by it) [imperfect passive indicative]"},null,null,{"$f":"INDIRECT( \"FlashCards!\"&IF(MOD(INT((ROW(B384)-4)/50),2)=0,\"CE\"&TEXT((ROW(B384)/6)+10/3-INT((ROW(B384)-4)/50)/3-8,\"#\"),\"CD\"&TEXT((ROW(B384)/6)+10/3-INT((ROW(B384)-4)/50)/3-8,\"#\")))","v":"we were verbing (it) [imperfect active indicative]"}]
[]
[]
[]
[]
[null,{"$f":"E339","v":"Chapter 21: Verb Ending"},null,null,{"$f":"B339","v":"Chapter 21: Verb Ending"}]
[null,{"$f":"INDIRECT( \"FlashCards!\"&IF(MOD(INT((ROW(B390)-4)/50),2)=0,\"CE\"&TEXT((ROW(B390)/6)+10/3-INT((ROW(B390)-4)/50)/3,\"#\"),\"CD\"&TEXT((ROW(B390)/6)+10/3-INT((ROW(B390)-4)/50)/3,\"#\")))","v":"I was verbing [imperfect middle indicative]"},null,null,{"$f":"INDIRECT( \"FlashCards!\"&IF(MOD(INT((ROW(B390)-4)/50),2)=0,\"CE\"&TEXT((ROW(B390)/6)+10/3-INT((ROW(B390)-4)/50)/3-8,\"#\"),\"CD\"&TEXT((ROW(B390)/6)+10/3-INT((ROW(B390)-4)/50)/3-8,\"#\")))","v":"ya'll were verbing (it) [imperfect active indicative]"}]
[]
[]
[]
[]
[null,{"$f":"E345","v":"Chapter 21: Verb Ending"},null,null,{"$f":"B345","v":"Chapter 21: Verb Ending"}]
[null,{"$f":"INDIRECT( \"FlashCards!\"&IF(MOD(INT((ROW(B396)-4)/50),2)=0,\"CE\"&TEXT((ROW(B396)/6)+10/3-INT((ROW(B396)-4)/50)/3,\"#\"),\"CD\"&TEXT((ROW(B396)/6)+10/3-INT((ROW(B396)-4)/50)/3,\"#\")))","v":"you were verbing [imperfect middle indicative]"},null,null,{"$f":"INDIRECT( \"FlashCards!\"&IF(MOD(INT((ROW(B396)-4)/50),2)=0,\"CE\"&TEXT((ROW(B396)/6)+10/3-INT((ROW(B396)-4)/50)/3-8,\"#\"),\"CD\"&TEXT((ROW(B396)/6)+10/3-INT((ROW(B396)-4)/50)/3-8,\"#\")))","v":"they were verbing (it) [imperfect active indicative]"}]
[]
[]
[]
[]
[]
[]
[null,{"$f":"INDIRECT( \"FlashCards!\"&IF(MOD(INT((ROW(B404)-4)/50),2)=0,\"CF\"&TEXT((ROW(B404)/6)+10/3-INT((ROW(B404)-4)/50)/3,\"#\"),\"CF\"&TEXT((ROW(B404)/6)+10/3-INT((ROW(B404)-4)/50)/3,\"#\")))","v":"Chapter 21: Verb Ending"},null,null,{"$f":"INDIRECT( \"FlashCards!\"&IF(MOD(INT((ROW(B404)-4)/50),2)=0,\"CF\"&TEXT((ROW(B404)/6)+10/3-INT((ROW(B404)-4)/50)/3+8,\"#\"),\"CF\"&TEXT((ROW(B404)/6)+10/3-INT((ROW(B404)-4)/50)/3+8,\"#\")))","v":"Chapter 17: Verb  "}]
[null,{"$f":"INDIRECT( \"FlashCards!\"&IF(MOD(INT((ROW(B404)-4)/50),2)=0,\"CE\"&TEXT((ROW(B404)/6)+10/3-INT((ROW(B404)-4)/50)/3,\"#\"),\"CD\"&TEXT((ROW(B404)/6)+10/3-INT((ROW(B404)-4)/50)/3,\"#\")))","v":"ἐ + [middle stem] +ετο"},null,null,{"$f":"INDIRECT( \"FlashCards!\"&IF(MOD(INT((ROW(B404)-4)/50),2)=0,\"CE\"&TEXT((ROW(B404)/6)+10/3-INT((ROW(B404)-4)/50)/3+8,\"#\"),\"CD\"&TEXT((ROW(B404)/6)+10/3-INT((ROW(B404)-4)/50)/3+8,\"#\")))","v":"ἀγαπάω"}]
[]
[null,{"$f":"INDIRECT( \"FlashCards!\"&IF(MOD(INT((ROW(B404)-4)/50),2)=0,\"CC\"&TEXT((ROW(B404)/6)+10/3-INT((ROW(B404)-4)/50)/3,\"#\"),\"\"))","v":" "},null,null,{"$f":"INDIRECT( \"FlashCards!\"&IF(MOD(INT((ROW(B404)-4)/50),2)=0,\"CC\"&TEXT((ROW(B404)/6)+10/3-INT((ROW(B404)-4)/50)/3+8,\"#\"),\"CC\"&TEXT((ROW(B404)/6)+10/3-INT((ROW(B404)-4)/50)/3+8,\"#\")))","v":"ah-gah-PAY-owe"}]
[]
[]
[null,{"$f":"INDIRECT( \"FlashCards!\"&IF(MOD(INT((ROW(B410)-4)/50),2)=0,\"CF\"&TEXT((ROW(B410)/6)+10/3-INT((ROW(B410)-4)/50)/3,\"#\"),\"CF\"&TEXT((ROW(B410)/6)+10/3-INT((ROW(B410)-4)/50)/3,\"#\")))","v":"Chapter 21: Verb Ending"},null,null,{"$f":"INDIRECT( \"FlashCards!\"&IF(MOD(INT((ROW(B410)-4)/50),2)=0,\"CF\"&TEXT((ROW(B410)/6)+10/3-INT((ROW(B410)-4)/50)/3+8,\"#\"),\"CF\"&TEXT((ROW(B410)/6)+10/3-INT((ROW(B410)-4)/50)/3+8,\"#\")))","v":"Chapter 06: Noun  "}]
[null,{"$f":"INDIRECT( \"FlashCards!\"&IF(MOD(INT((ROW(B410)-4)/50),2)=0,\"CE\"&TEXT((ROW(B410)/6)+10/3-INT((ROW(B410)-4)/50)/3,\"#\"),\"CD\"&TEXT((ROW(B410)/6)+10/3-INT((ROW(B410)-4)/50)/3,\"#\")))","v":"ἐ + [middle stem] +ομεθα"},null,null,{"$f":"INDIRECT( \"FlashCards!\"&IF(MOD(INT((ROW(B410)-4)/50),2)=0,\"CE\"&TEXT((ROW(B410)/6)+10/3-INT((ROW(B410)-4)/50)/3+8,\"#\"),\"CD\"&TEXT((ROW(B410)/6)+10/3-INT((ROW(B410)-4)/50)/3+8,\"#\")))","v":"ἡ ἀγάπη"}]
[]
[null,{"$f":"INDIRECT( \"FlashCards!\"&IF(MOD(INT((ROW(B410)-4)/50),2)=0,\"CC\"&TEXT((ROW(B410)/6)+10/3-INT((ROW(B410)-4)/50)/3,\"#\"),\"\"))","v":" "},null,null,{"$f":"INDIRECT( \"FlashCards!\"&IF(MOD(INT((ROW(B410)-4)/50),2)=0,\"CC\"&TEXT((ROW(B410)/6)+10/3-INT((ROW(B410)-4)/50)/3+8,\"#\"),\"CC\"&TEXT((ROW(B410)/6)+10/3-INT((ROW(B410)-4)/50)/3+8,\"#\")))","v":"ah-GAH-pay"}]
[]
[]
[null,{"$f":"INDIRECT( \"FlashCards!\"&IF(MOD(INT((ROW(B416)-4)/50),2)=0,\"CF\"&TEXT((ROW(B416)/6)+10/3-INT((ROW(B416)-4)/50)/3,\"#\"),\"CF\"&TEXT((ROW(B416)/6)+10/3-INT((ROW(B416)-4)/50)/3,\"#\")))","v":"Chapter 21: Verb Ending"},null,null,{"$f":"INDIRECT( \"FlashCards!\"&IF(MOD(INT((ROW(B416)-4)/50),2)=0,\"CF\"&TEXT((ROW(B416)/6)+10/3-INT((ROW(B416)-4)/50)/3+8,\"#\"),\"CF\"&TEXT((ROW(B416)/6)+10/3-INT((ROW(B416)-4)/50)/3+8,\"#\")))","v":"Chapter 09: Adjective"}]
[null,{"$f":"INDIRECT( \"FlashCards!\"&IF(MOD(INT((ROW(B416)-4)/50),2)=0,\"CE\"&TEXT((ROW(B416)/6)+10/3-INT((ROW(B416)-4)/50)/3,\"#\"),\"CD\"&TEXT((ROW(B416)/6)+10/3-INT((ROW(B416)-4)/50)/3,\"#\")))","v":"ἐ + [middle stem] +εσθε "},null,null,{"$f":"INDIRECT( \"FlashCards!\"&IF(MOD(INT((ROW(B416)-4)/50),2)=0,\"CE\"&TEXT((ROW(B416)/6)+10/3-INT((ROW(B416)-4)/50)/3+8,\"#\"),\"CD\"&TEXT((ROW(B416)/6)+10/3-INT((ROW(B416)-4)/50)/3+8,\"#\")))","v":"ἀγαπητός"}]
[]
[null,{"$f":"INDIRECT( \"FlashCards!\"&IF(MOD(INT((ROW(B416)-4)/50),2)=0,\"CC\"&TEXT((ROW(B416)/6)+10/3-INT((ROW(B416)-4)/50)/3,\"#\"),\"\"))","v":" "},null,null,{"$f":"INDIRECT( \"FlashCards!\"&IF(MOD(INT((ROW(B416)-4)/50),2)=0,\"CC\"&TEXT((ROW(B416)/6)+10/3-INT((ROW(B416)-4)/50)/3+8,\"#\"),\"CC\"&TEXT((ROW(B416)/6)+10/3-INT((ROW(B416)-4)/50)/3+8,\"#\")))","v":"ah-ga-pay-TOSS"}]
[]
[]
[null,{"$f":"INDIRECT( \"FlashCards!\"&IF(MOD(INT((ROW(B422)-4)/50),2)=0,\"CF\"&TEXT((ROW(B422)/6)+10/3-INT((ROW(B422)-4)/50)/3,\"#\"),\"CF\"&TEXT((ROW(B422)/6)+10/3-INT((ROW(B422)-4)/50)/3,\"#\")))","v":"Chapter 21: Verb Ending"},null,null,{"$f":"INDIRECT( \"FlashCards!\"&IF(MOD(INT((ROW(B422)-4)/50),2)=0,\"CF\"&TEXT((ROW(B422)/6)+10/3-INT((ROW(B422)-4)/50)/3+8,\"#\"),\"CF\"&TEXT((ROW(B422)/6)+10/3-INT((ROW(B422)-4)/50)/3+8,\"#\")))","v":"Extra: Noun  "}]
[null,{"$f":"INDIRECT( \"FlashCards!\"&IF(MOD(INT((ROW(B422)-4)/50),2)=0,\"CE\"&TEXT((ROW(B422)/6)+10/3-INT((ROW(B422)-4)/50)/3,\"#\"),\"CD\"&TEXT((ROW(B422)/6)+10/3-INT((ROW(B422)-4)/50)/3,\"#\")))","v":"ἐ + [middle stem] +οντο"},null,null,{"$f":"INDIRECT( \"FlashCards!\"&IF(MOD(INT((ROW(B422)-4)/50),2)=0,\"CE\"&TEXT((ROW(B422)/6)+10/3-INT((ROW(B422)-4)/50)/3+8,\"#\"),\"CD\"&TEXT((ROW(B422)/6)+10/3-INT((ROW(B422)-4)/50)/3+8,\"#\")))","v":"ἡ ἀγγελία"}]
[]
[null,{"$f":"INDIRECT( \"FlashCards!\"&IF(MOD(INT((ROW(B422)-4)/50),2)=0,\"CC\"&TEXT((ROW(B422)/6)+10/3-INT((ROW(B422)-4)/50)/3,\"#\"),\"\"))","v":" "},null,null,{"$f":"INDIRECT( \"FlashCards!\"&IF(MOD(INT((ROW(B422)-4)/50),2)=0,\"CC\"&TEXT((ROW(B422)/6)+10/3-INT((ROW(B422)-4)/50)/3+8,\"#\"),\"CC\"&TEXT((ROW(B422)/6)+10/3-INT((ROW(B422)-4)/50)/3+8,\"#\")))","v":"ahng-ell-EE-ah"}]
[]
[]
[null,{"$f":"INDIRECT( \"FlashCards!\"&IF(MOD(INT((ROW(B428)-4)/50),2)=0,\"CF\"&TEXT((ROW(B428)/6)+10/3-INT((ROW(B428)-4)/50)/3,\"#\"),\"CF\"&TEXT((ROW(B428)/6)+10/3-INT((ROW(B428)-4)/50)/3,\"#\")))","v":"Extra: Verb Ending"},null,null,{"$f":"INDIRECT( \"FlashCards!\"&IF(MOD(INT((ROW(B428)-4)/50),2)=0,\"CF\"&TEXT((ROW(B428)/6)+10/3-INT((ROW(B428)-4)/50)/3+8,\"#\"),\"CF\"&TEXT((ROW(B428)/6)+10/3-INT((ROW(B428)-4)/50)/3+8,\"#\")))","v":"Chapter 04: Noun  "}]
[null,{"$f":"INDIRECT( \"FlashCards!\"&IF(MOD(INT((ROW(B428)-4)/50),2)=0,\"CE\"&TEXT((ROW(B428)/6)+10/3-INT((ROW(B428)-4)/50)/3,\"#\"),\"CD\"&TEXT((ROW(B428)/6)+10/3-INT((ROW(B428)-4)/50)/3,\"#\")))","v":"κατα-, κατε-"},null,null,{"$f":"INDIRECT( \"FlashCards!\"&IF(MOD(INT((ROW(B428)-4)/50),2)=0,\"CE\"&TEXT((ROW(B428)/6)+10/3-INT((ROW(B428)-4)/50)/3+8,\"#\"),\"CD\"&TEXT((ROW(B428)/6)+10/3-INT((ROW(B428)-4)/50)/3+8,\"#\")))","v":"ὁ ἄγγελος"}]
[]
[null,{"$f":"INDIRECT( \"FlashCards!\"&IF(MOD(INT((ROW(B428)-4)/50),2)=0,\"CC\"&TEXT((ROW(B428)/6)+10/3-INT((ROW(B428)-4)/50)/3,\"#\"),\"\"))","v":" "},null,null,{"$f":"INDIRECT( \"FlashCards!\"&IF(MOD(INT((ROW(B428)-4)/50),2)=0,\"CC\"&TEXT((ROW(B428)/6)+10/3-INT((ROW(B428)-4)/50)/3+8,\"#\"),\"CC\"&TEXT((ROW(B428)/6)+10/3-INT((ROW(B428)-4)/50)/3+8,\"#\")))","v":"AHN-gell-oss"}]
[]
[]
[null,{"$f":"INDIRECT( \"FlashCards!\"&IF(MOD(INT((ROW(B434)-4)/50),2)=0,\"CF\"&TEXT((ROW(B434)/6)+10/3-INT((ROW(B434)-4)/50)/3,\"#\"),\"CF\"&TEXT((ROW(B434)/6)+10/3-INT((ROW(B434)-4)/50)/3,\"#\")))","v":"Chapter 04: Proper Noun"},null,null,{"$f":"INDIRECT( \"FlashCards!\"&IF(MOD(INT((ROW(B434)-4)/50),2)=0,\"CF\"&TEXT((ROW(B434)/6)+10/3-INT((ROW(B434)-4)/50)/3+8,\"#\"),\"CF\"&TEXT((ROW(B434)/6)+10/3-INT((ROW(B434)-4)/50)/3+8,\"#\")))","v":"Chapter 35: Verb  "}]
[null,{"$f":"INDIRECT( \"FlashCards!\"&IF(MOD(INT((ROW(B434)-4)/50),2)=0,\"CE\"&TEXT((ROW(B434)/6)+10/3-INT((ROW(B434)-4)/50)/3,\"#\"),\"CD\"&TEXT((ROW(B434)/6)+10/3-INT((ROW(B434)-4)/50)/3,\"#\")))","v":"ὁ Ἀβραάμ"},null,null,{"$f":"INDIRECT( \"FlashCards!\"&IF(MOD(INT((ROW(B434)-4)/50),2)=0,\"CE\"&TEXT((ROW(B434)/6)+10/3-INT((ROW(B434)-4)/50)/3+8,\"#\"),\"CD\"&TEXT((ROW(B434)/6)+10/3-INT((ROW(B434)-4)/50)/3+8,\"#\")))","v":"ἁγιάζω"}]
[]
[null,{"$f":"INDIRECT( \"FlashCards!\"&IF(MOD(INT((ROW(B434)-4)/50),2)=0,\"CC\"&TEXT((ROW(B434)/6)+10/3-INT((ROW(B434)-4)/50)/3,\"#\"),\"\"))","v":"ah-brah-AHM"},null,null,{"$f":"INDIRECT( \"FlashCards!\"&IF(MOD(INT((ROW(B434)-4)/50),2)=0,\"CC\"&TEXT((ROW(B434)/6)+10/3-INT((ROW(B434)-4)/50)/3+8,\"#\"),\"CC\"&TEXT((ROW(B434)/6)+10/3-INT((ROW(B434)-4)/50)/3+8,\"#\")))","v":"hah-gi-AH-zoe"}]
[]
[]
[null,{"$f":"INDIRECT( \"FlashCards!\"&IF(MOD(INT((ROW(B440)-4)/50),2)=0,\"CF\"&TEXT((ROW(B440)/6)+10/3-INT((ROW(B440)-4)/50)/3,\"#\"),\"CF\"&TEXT((ROW(B440)/6)+10/3-INT((ROW(B440)-4)/50)/3,\"#\")))","v":"Chapter 09: Adjective"},null,null,{"$f":"INDIRECT( \"FlashCards!\"&IF(MOD(INT((ROW(B440)-4)/50),2)=0,\"CF\"&TEXT((ROW(B440)/6)+10/3-INT((ROW(B440)-4)/50)/3+8,\"#\"),\"CF\"&TEXT((ROW(B440)/6)+10/3-INT((ROW(B440)-4)/50)/3+8,\"#\")))","v":"Chapter 38: Noun  "}]
[null,{"$f":"INDIRECT( \"FlashCards!\"&IF(MOD(INT((ROW(B440)-4)/50),2)=0,\"CE\"&TEXT((ROW(B440)/6)+10/3-INT((ROW(B440)-4)/50)/3,\"#\"),\"CD\"&TEXT((ROW(B440)/6)+10/3-INT((ROW(B440)-4)/50)/3,\"#\")))","v":"ἀγαθός"},null,null,{"$f":"INDIRECT( \"FlashCards!\"&IF(MOD(INT((ROW(B440)-4)/50),2)=0,\"CE\"&TEXT((ROW(B440)/6)+10/3-INT((ROW(B440)-4)/50)/3+8,\"#\"),\"CD\"&TEXT((ROW(B440)/6)+10/3-INT((ROW(B440)-4)/50)/3+8,\"#\")))","v":"ὁ ἁγιασμός"}]
[]
[null,{"$f":"INDIRECT( \"FlashCards!\"&IF(MOD(INT((ROW(B440)-4)/50),2)=0,\"CC\"&TEXT((ROW(B440)/6)+10/3-INT((ROW(B440)-4)/50)/3,\"#\"),\"\"))","v":"ah-gah-THOSS"},null,null,{"$f":"INDIRECT( \"FlashCards!\"&IF(MOD(INT((ROW(B440)-4)/50),2)=0,\"CC\"&TEXT((ROW(B440)/6)+10/3-INT((ROW(B440)-4)/50)/3+8,\"#\"),\"CC\"&TEXT((ROW(B440)/6)+10/3-INT((ROW(B440)-4)/50)/3+8,\"#\")))","v":"Ha-gee-ahs-MOSS"}]
[]
[]
[null,{"$f":"INDIRECT( \"FlashCards!\"&IF(MOD(INT((ROW(B446)-4)/50),2)=0,\"CF\"&TEXT((ROW(B446)/6)+10/3-INT((ROW(B446)-4)/50)/3,\"#\"),\"CF\"&TEXT((ROW(B446)/6)+10/3-INT((ROW(B446)-4)/50)/3,\"#\")))","v":"Index of Textbook: Verb  "},null,null,{"$f":"INDIRECT( \"FlashCards!\"&IF(MOD(INT((ROW(B446)-4)/50),2)=0,\"CF\"&TEXT((ROW(B446)/6)+10/3-INT((ROW(B446)-4)/50)/3+8,\"#\"),\"CF\"&TEXT((ROW(B446)/6)+10/3-INT((ROW(B446)-4)/50)/3+8,\"#\")))","v":"Chapter 09: Noun  "}]
[null,{"$f":"INDIRECT( \"FlashCards!\"&IF(MOD(INT((ROW(B446)-4)/50),2)=0,\"CE\"&TEXT((ROW(B446)/6)+10/3-INT((ROW(B446)-4)/50)/3,\"#\"),\"CD\"&TEXT((ROW(B446)/6)+10/3-INT((ROW(B446)-4)/50)/3,\"#\")))","v":"ἀγαλλιάω"},null,null,{"$f":"INDIRECT( \"FlashCards!\"&IF(MOD(INT((ROW(B446)-4)/50),2)=0,\"CE\"&TEXT((ROW(B446)/6)+10/3-INT((ROW(B446)-4)/50)/3+8,\"#\"),\"CD\"&TEXT((ROW(B446)/6)+10/3-INT((ROW(B446)-4)/50)/3+8,\"#\")))","v":"ὁ ἅγιος (noun)"}]
[]
[null,{"$f":"INDIRECT( \"FlashCards!\"&IF(MOD(INT((ROW(B446)-4)/50),2)=0,\"CC\"&TEXT((ROW(B446)/6)+10/3-INT((ROW(B446)-4)/50)/3,\"#\"),\"\"))","v":"ah-gah-lee-AH-owe"},null,null,{"$f":"INDIRECT( \"FlashCards!\"&IF(MOD(INT((ROW(B446)-4)/50),2)=0,\"CC\"&TEXT((ROW(B446)/6)+10/3-INT((ROW(B446)-4)/50)/3+8,\"#\"),\"CC\"&TEXT((ROW(B446)/6)+10/3-INT((ROW(B446)-4)/50)/3+8,\"#\")))","v":"HA-gi-oss"}]
[]
[]
[]
[]
[null,{"$f":"E403","v":"Chapter 17: Verb  "},null,null,{"$f":"B403","v":"Chapter 21: Verb Ending"}]
[null,{"$f":"INDIRECT( \"FlashCards!\"&IF(MOD(INT((ROW(B454)-4)/50),2)=0,\"CE\"&TEXT((ROW(B454)/6)+10/3-INT((ROW(B454)-4)/50)/3,\"#\"),\"CD\"&TEXT((ROW(B454)/6)+10/3-INT((ROW(B454)-4)/50)/3,\"#\")))","v":"I love, I cherish"},null,null,{"$f":"INDIRECT( \"FlashCards!\"&IF(MOD(INT((ROW(B454)-4)/50),2)=0,\"CE\"&TEXT((ROW(B454)/6)+10/3-INT((ROW(B454)-4)/50)/3-8,\"#\"),\"CD\"&TEXT((ROW(B454)/6)+10/3-INT((ROW(B454)-4)/50)/3-8,\"#\")))","v":"he/she/it was verbing [imperfect middle indicative]"}]
[]
[]
[]
[]
[null,{"$f":"E409","v":"Chapter 06: Noun  "},null,null,{"$f":"B409","v":"Chapter 21: Verb Ending"}]
[null,{"$f":"INDIRECT( \"FlashCards!\"&IF(MOD(INT((ROW(B460)-4)/50),2)=0,\"CE\"&TEXT((ROW(B460)/6)+10/3-INT((ROW(B460)-4)/50)/3,\"#\"),\"CD\"&TEXT((ROW(B460)/6)+10/3-INT((ROW(B460)-4)/50)/3,\"#\")))","v":"love"},null,null,{"$f":"INDIRECT( \"FlashCards!\"&IF(MOD(INT((ROW(B460)-4)/50),2)=0,\"CE\"&TEXT((ROW(B460)/6)+10/3-INT((ROW(B460)-4)/50)/3-8,\"#\"),\"CD\"&TEXT((ROW(B460)/6)+10/3-INT((ROW(B460)-4)/50)/3-8,\"#\")))","v":"we were verbing [imperfect middle indicative]"}]
[]
[]
[]
[]
[null,{"$f":"E415","v":"Chapter 09: Adjective"},null,null,{"$f":"B415","v":"Chapter 21: Verb Ending"}]
[null,{"$f":"INDIRECT( \"FlashCards!\"&IF(MOD(INT((ROW(B466)-4)/50),2)=0,\"CE\"&TEXT((ROW(B466)/6)+10/3-INT((ROW(B466)-4)/50)/3,\"#\"),\"CD\"&TEXT((ROW(B466)/6)+10/3-INT((ROW(B466)-4)/50)/3,\"#\")))","v":"beloved"},null,null,{"$f":"INDIRECT( \"FlashCards!\"&IF(MOD(INT((ROW(B466)-4)/50),2)=0,\"CE\"&TEXT((ROW(B466)/6)+10/3-INT((ROW(B466)-4)/50)/3-8,\"#\"),\"CD\"&TEXT((ROW(B466)/6)+10/3-INT((ROW(B466)-4)/50)/3-8,\"#\")))","v":"ya'll were verbing [imperfect middle indicative]"}]
[]
[]
[]
[]
[null,{"$f":"E421","v":"Extra: Noun  "},null,null,{"$f":"B421","v":"Chapter 21: Verb Ending"}]
[null,{"$f":"INDIRECT( \"FlashCards!\"&IF(MOD(INT((ROW(B472)-4)/50),2)=0,\"CE\"&TEXT((ROW(B472)/6)+10/3-INT((ROW(B472)-4)/50)/3,\"#\"),\"CD\"&TEXT((ROW(B472)/6)+10/3-INT((ROW(B472)-4)/50)/3,\"#\")))","v":"message"},null,null,{"$f":"INDIRECT( \"FlashCards!\"&IF(MOD(INT((ROW(B472)-4)/50),2)=0,\"CE\"&TEXT((ROW(B472)/6)+10/3-INT((ROW(B472)-4)/50)/3-8,\"#\"),\"CD\"&TEXT((ROW(B472)/6)+10/3-INT((ROW(B472)-4)/50)/3-8,\"#\")))","v":"they were verbing [imperfect middle indicative]"}]
[]
[]
[]
[]
[null,{"$f":"E427","v":"Chapter 04: Noun  "},null,null,{"$f":"B427","v":"Extra: Verb Ending"}]
[null,{"$f":"INDIRECT( \"FlashCards!\"&IF(MOD(INT((ROW(B478)-4)/50),2)=0,\"CE\"&TEXT((ROW(B478)/6)+10/3-INT((ROW(B478)-4)/50)/3,\"#\"),\"CD\"&TEXT((ROW(B478)/6)+10/3-INT((ROW(B478)-4)/50)/3,\"#\")))","v":"angel, messenger"},null,null,{"$f":"INDIRECT( \"FlashCards!\"&IF(MOD(INT((ROW(B478)-4)/50),2)=0,\"CE\"&TEXT((ROW(B478)/6)+10/3-INT((ROW(B478)-4)/50)/3-8,\"#\"),\"CD\"&TEXT((ROW(B478)/6)+10/3-INT((ROW(B478)-4)/50)/3-8,\"#\")))","v":"verb prefix adding \"thoroughly\" to meaning"}]
[]
[]
[]
[]
[null,{"$f":"E433","v":"Chapter 35: Verb  "},null,null,{"$f":"B433","v":"Chapter 04: Proper Noun"}]
[null,{"$f":"INDIRECT( \"FlashCards!\"&IF(MOD(INT((ROW(B484)-4)/50),2)=0,\"CE\"&TEXT((ROW(B484)/6)+10/3-INT((ROW(B484)-4)/50)/3,\"#\"),\"CD\"&TEXT((ROW(B484)/6)+10/3-INT((ROW(B484)-4)/50)/3,\"#\")))","v":"I consecrate, I sanctify"},null,null,{"$f":"INDIRECT( \"FlashCards!\"&IF(MOD(INT((ROW(B484)-4)/50),2)=0,\"CE\"&TEXT((ROW(B484)/6)+10/3-INT((ROW(B484)-4)/50)/3-8,\"#\"),\"CD\"&TEXT((ROW(B484)/6)+10/3-INT((ROW(B484)-4)/50)/3-8,\"#\")))","v":"Abraham"}]
[]
[]
[]
[]
[null,{"$f":"E439","v":"Chapter 38: Noun  "},null,null,{"$f":"B439","v":"Chapter 09: Adjective"}]
[null,{"$f":"INDIRECT( \"FlashCards!\"&IF(MOD(INT((ROW(B490)-4)/50),2)=0,\"CE\"&TEXT((ROW(B490)/6)+10/3-INT((ROW(B490)-4)/50)/3,\"#\"),\"CD\"&TEXT((ROW(B490)/6)+10/3-INT((ROW(B490)-4)/50)/3,\"#\")))","v":"holiness, consecration"},null,null,{"$f":"INDIRECT( \"FlashCards!\"&IF(MOD(INT((ROW(B490)-4)/50),2)=0,\"CE\"&TEXT((ROW(B490)/6)+10/3-INT((ROW(B490)-4)/50)/3-8,\"#\"),\"CD\"&TEXT((ROW(B490)/6)+10/3-INT((ROW(B490)-4)/50)/3-8,\"#\")))","v":"good, useful"}]
[]
[]
[]
[]
[null,{"$f":"E445","v":"Chapter 09: Noun  "},null,null,{"$f":"B445","v":"Index of Textbook: Verb  "}]
[null,{"$f":"INDIRECT( \"FlashCards!\"&IF(MOD(INT((ROW(B496)-4)/50),2)=0,\"CE\"&TEXT((ROW(B496)/6)+10/3-INT((ROW(B496)-4)/50)/3,\"#\"),\"CD\"&TEXT((ROW(B496)/6)+10/3-INT((ROW(B496)-4)/50)/3,\"#\")))","v":"saint, holy one"},null,null,{"$f":"INDIRECT( \"FlashCards!\"&IF(MOD(INT((ROW(B496)-4)/50),2)=0,\"CE\"&TEXT((ROW(B496)/6)+10/3-INT((ROW(B496)-4)/50)/3-8,\"#\"),\"CD\"&TEXT((ROW(B496)/6)+10/3-INT((ROW(B496)-4)/50)/3-8,\"#\")))","v":"I exult"}]
[]
[]
[]
[]
[]
[]
[null,{"$f":"INDIRECT( \"FlashCards!\"&IF(MOD(INT((ROW(B504)-4)/50),2)=0,\"CF\"&TEXT((ROW(B504)/6)+10/3-INT((ROW(B504)-4)/50)/3,\"#\"),\"CF\"&TEXT((ROW(B504)/6)+10/3-INT((ROW(B504)-4)/50)/3,\"#\")))","v":"Chapter 09: Adjective"},null,null,{"$f":"INDIRECT( \"FlashCards!\"&IF(MOD(INT((ROW(B504)-4)/50),2)=0,\"CF\"&TEXT((ROW(B504)/6)+10/3-INT((ROW(B504)-4)/50)/3+8,\"#\"),\"CF\"&TEXT((ROW(B504)/6)+10/3-INT((ROW(B504)-4)/50)/3+8,\"#\")))","v":"Chapter 11: Noun  "}]
[null,{"$f":"INDIRECT( \"FlashCards!\"&IF(MOD(INT((ROW(B504)-4)/50),2)=0,\"CE\"&TEXT((ROW(B504)/6)+10/3-INT((ROW(B504)-4)/50)/3,\"#\"),\"CD\"&TEXT((ROW(B504)/6)+10/3-INT((ROW(B504)-4)/50)/3,\"#\")))","v":"ἅγιος (adj)"},null,null,{"$f":"INDIRECT( \"FlashCards!\"&IF(MOD(INT((ROW(B504)-4)/50),2)=0,\"CE\"&TEXT((ROW(B504)/6)+10/3-INT((ROW(B504)-4)/50)/3+8,\"#\"),\"CD\"&TEXT((ROW(B504)/6)+10/3-INT((ROW(B504)-4)/50)/3+8,\"#\")))","v":"ὁ ἀδελφός"}]
[]
[null,{"$f":"INDIRECT( \"FlashCards!\"&IF(MOD(INT((ROW(B504)-4)/50),2)=0,\"CC\"&TEXT((ROW(B504)/6)+10/3-INT((ROW(B504)-4)/50)/3,\"#\"),\"\"))","v":"HA-gi-oss"},null,null,{"$f":"INDIRECT( \"FlashCards!\"&IF(MOD(INT((ROW(B504)-4)/50),2)=0,\"CC\"&TEXT((ROW(B504)/6)+10/3-INT((ROW(B504)-4)/50)/3+8,\"#\"),\"CC\"&TEXT((ROW(B504)/6)+10/3-INT((ROW(B504)-4)/50)/3+8,\"#\")))","v":"ah-dell-FOSS"}]
[]
[]
[null,{"$f":"INDIRECT( \"FlashCards!\"&IF(MOD(INT((ROW(B510)-4)/50),2)=0,\"CF\"&TEXT((ROW(B510)/6)+10/3-INT((ROW(B510)-4)/50)/3,\"#\"),\"CF\"&TEXT((ROW(B510)/6)+10/3-INT((ROW(B510)-4)/50)/3,\"#\")))","v":"Index of Textbook: Verb  "},null,null,{"$f":"INDIRECT( \"FlashCards!\"&IF(MOD(INT((ROW(B510)-4)/50),2)=0,\"CF\"&TEXT((ROW(B510)/6)+10/3-INT((ROW(B510)-4)/50)/3+8,\"#\"),\"CF\"&TEXT((ROW(B510)/6)+10/3-INT((ROW(B510)-4)/50)/3+8,\"#\")))","v":"Chapter 38: Noun  "}]
[null,{"$f":"INDIRECT( \"FlashCards!\"&IF(MOD(INT((ROW(B510)-4)/50),2)=0,\"CE\"&TEXT((ROW(B510)/6)+10/3-INT((ROW(B510)-4)/50)/3,\"#\"),\"CD\"&TEXT((ROW(B510)/6)+10/3-INT((ROW(B510)-4)/50)/3,\"#\")))","v":"ἀγνοέω"},null,null,{"$f":"INDIRECT( \"FlashCards!\"&IF(MOD(INT((ROW(B510)-4)/50),2)=0,\"CE\"&TEXT((ROW(B510)/6)+10/3-INT((ROW(B510)-4)/50)/3+8,\"#\"),\"CD\"&TEXT((ROW(B510)/6)+10/3-INT((ROW(B510)-4)/50)/3+8,\"#\")))","v":"ὁ ᾁδης"}]
[]
[null,{"$f":"INDIRECT( \"FlashCards!\"&IF(MOD(INT((ROW(B510)-4)/50),2)=0,\"CC\"&TEXT((ROW(B510)/6)+10/3-INT((ROW(B510)-4)/50)/3,\"#\"),\"\"))","v":"ahg-no-eh-owe"},null,null,{"$f":"INDIRECT( \"FlashCards!\"&IF(MOD(INT((ROW(B510)-4)/50),2)=0,\"CC\"&TEXT((ROW(B510)/6)+10/3-INT((ROW(B510)-4)/50)/3+8,\"#\"),\"CC\"&TEXT((ROW(B510)/6)+10/3-INT((ROW(B510)-4)/50)/3+8,\"#\")))","v":"HAH-dace"}]
[]
[]
[null,{"$f":"INDIRECT( \"FlashCards!\"&IF(MOD(INT((ROW(B516)-4)/50),2)=0,\"CF\"&TEXT((ROW(B516)/6)+10/3-INT((ROW(B516)-4)/50)/3,\"#\"),\"CF\"&TEXT((ROW(B516)/6)+10/3-INT((ROW(B516)-4)/50)/3,\"#\")))","v":"Chapter 38: Noun  "},null,null,{"$f":"INDIRECT( \"FlashCards!\"&IF(MOD(INT((ROW(B516)-4)/50),2)=0,\"CF\"&TEXT((ROW(B516)/6)+10/3-INT((ROW(B516)-4)/50)/3+8,\"#\"),\"CF\"&TEXT((ROW(B516)/6)+10/3-INT((ROW(B516)-4)/50)/3+8,\"#\")))","v":"Index of Textbook: Verb  "}]
[null,{"$f":"INDIRECT( \"FlashCards!\"&IF(MOD(INT((ROW(B516)-4)/50),2)=0,\"CE\"&TEXT((ROW(B516)/6)+10/3-INT((ROW(B516)-4)/50)/3,\"#\"),\"CD\"&TEXT((ROW(B516)/6)+10/3-INT((ROW(B516)-4)/50)/3,\"#\")))","v":"ἡ ἀγορά"},null,null,{"$f":"INDIRECT( \"FlashCards!\"&IF(MOD(INT((ROW(B516)-4)/50),2)=0,\"CE\"&TEXT((ROW(B516)/6)+10/3-INT((ROW(B516)-4)/50)/3+8,\"#\"),\"CD\"&TEXT((ROW(B516)/6)+10/3-INT((ROW(B516)-4)/50)/3+8,\"#\")))","v":"ἀδικέω"}]
[]
[null,{"$f":"INDIRECT( \"FlashCards!\"&IF(MOD(INT((ROW(B516)-4)/50),2)=0,\"CC\"&TEXT((ROW(B516)/6)+10/3-INT((ROW(B516)-4)/50)/3,\"#\"),\"\"))","v":"ah-gorr-AH"},null,null,{"$f":"INDIRECT( \"FlashCards!\"&IF(MOD(INT((ROW(B516)-4)/50),2)=0,\"CC\"&TEXT((ROW(B516)/6)+10/3-INT((ROW(B516)-4)/50)/3+8,\"#\"),\"CC\"&TEXT((ROW(B516)/6)+10/3-INT((ROW(B516)-4)/50)/3+8,\"#\")))","v":"ah-dee-KEH-owe"}]
[]
[]
[null,{"$f":"INDIRECT( \"FlashCards!\"&IF(MOD(INT((ROW(B522)-4)/50),2)=0,\"CF\"&TEXT((ROW(B522)/6)+10/3-INT((ROW(B522)-4)/50)/3,\"#\"),\"CF\"&TEXT((ROW(B522)/6)+10/3-INT((ROW(B522)-4)/50)/3,\"#\")))","v":"Index of Textbook: Verb  "},null,null,{"$f":"INDIRECT( \"FlashCards!\"&IF(MOD(INT((ROW(B522)-4)/50),2)=0,\"CF\"&TEXT((ROW(B522)/6)+10/3-INT((ROW(B522)-4)/50)/3+8,\"#\"),\"CF\"&TEXT((ROW(B522)/6)+10/3-INT((ROW(B522)-4)/50)/3+8,\"#\")))","v":"Index of Textbook: Noun  "}]
[null,{"$f":"INDIRECT( \"FlashCards!\"&IF(MOD(INT((ROW(B522)-4)/50),2)=0,\"CE\"&TEXT((ROW(B522)/6)+10/3-INT((ROW(B522)-4)/50)/3,\"#\"),\"CD\"&TEXT((ROW(B522)/6)+10/3-INT((ROW(B522)-4)/50)/3,\"#\")))","v":"ἀγοράζω"},null,null,{"$f":"INDIRECT( \"FlashCards!\"&IF(MOD(INT((ROW(B522)-4)/50),2)=0,\"CE\"&TEXT((ROW(B522)/6)+10/3-INT((ROW(B522)-4)/50)/3+8,\"#\"),\"CD\"&TEXT((ROW(B522)/6)+10/3-INT((ROW(B522)-4)/50)/3+8,\"#\")))","v":"ἡ ἀδικία"}]
[]
[null,{"$f":"INDIRECT( \"FlashCards!\"&IF(MOD(INT((ROW(B522)-4)/50),2)=0,\"CC\"&TEXT((ROW(B522)/6)+10/3-INT((ROW(B522)-4)/50)/3,\"#\"),\"\"))","v":"ah-gorr-AH-zoe"},null,null,{"$f":"INDIRECT( \"FlashCards!\"&IF(MOD(INT((ROW(B522)-4)/50),2)=0,\"CC\"&TEXT((ROW(B522)/6)+10/3-INT((ROW(B522)-4)/50)/3+8,\"#\"),\"CC\"&TEXT((ROW(B522)/6)+10/3-INT((ROW(B522)-4)/50)/3+8,\"#\")))","v":"ah-dik-EE-ah"}]
[]
[]
[null,{"$f":"INDIRECT( \"FlashCards!\"&IF(MOD(INT((ROW(B528)-4)/50),2)=0,\"CF\"&TEXT((ROW(B528)/6)+10/3-INT((ROW(B528)-4)/50)/3,\"#\"),\"CF\"&TEXT((ROW(B528)/6)+10/3-INT((ROW(B528)-4)/50)/3,\"#\")))","v":"Chapter 38: Proper Noun"},null,null,{"$f":"INDIRECT( \"FlashCards!\"&IF(MOD(INT((ROW(B528)-4)/50),2)=0,\"CF\"&TEXT((ROW(B528)/6)+10/3-INT((ROW(B528)-4)/50)/3+8,\"#\"),\"CF\"&TEXT((ROW(B528)/6)+10/3-INT((ROW(B528)-4)/50)/3+8,\"#\")))","v":"Chapter 38: Adjective"}]
[null,{"$f":"INDIRECT( \"FlashCards!\"&IF(MOD(INT((ROW(B528)-4)/50),2)=0,\"CE\"&TEXT((ROW(B528)/6)+10/3-INT((ROW(B528)-4)/50)/3,\"#\"),\"CD\"&TEXT((ROW(B528)/6)+10/3-INT((ROW(B528)-4)/50)/3,\"#\")))","v":"ὁ Ἀγρίππας"},null,null,{"$f":"INDIRECT( \"FlashCards!\"&IF(MOD(INT((ROW(B528)-4)/50),2)=0,\"CE\"&TEXT((ROW(B528)/6)+10/3-INT((ROW(B528)-4)/50)/3+8,\"#\"),\"CD\"&TEXT((ROW(B528)/6)+10/3-INT((ROW(B528)-4)/50)/3+8,\"#\")))","v":"ἂδικος"}]
[]
[null,{"$f":"INDIRECT( \"FlashCards!\"&IF(MOD(INT((ROW(B528)-4)/50),2)=0,\"CC\"&TEXT((ROW(B528)/6)+10/3-INT((ROW(B528)-4)/50)/3,\"#\"),\"\"))","v":"Ah-GRIP-ahs"},null,null,{"$f":"INDIRECT( \"FlashCards!\"&IF(MOD(INT((ROW(B528)-4)/50),2)=0,\"CC\"&TEXT((ROW(B528)/6)+10/3-INT((ROW(B528)-4)/50)/3+8,\"#\"),\"CC\"&TEXT((ROW(B528)/6)+10/3-INT((ROW(B528)-4)/50)/3+8,\"#\")))","v":"AH-dee-koss"}]
[]
[]
[null,{"$f":"INDIRECT( \"FlashCards!\"&IF(MOD(INT((ROW(B534)-4)/50),2)=0,\"CF\"&TEXT((ROW(B534)/6)+10/3-INT((ROW(B534)-4)/50)/3,\"#\"),\"CF\"&TEXT((ROW(B534)/6)+10/3-INT((ROW(B534)-4)/50)/3,\"#\")))","v":"Index of Textbook: Noun  "},null,null,{"$f":"INDIRECT( \"FlashCards!\"&IF(MOD(INT((ROW(B534)-4)/50),2)=0,\"CF\"&TEXT((ROW(B534)/6)+10/3-INT((ROW(B534)-4)/50)/3+8,\"#\"),\"CF\"&TEXT((ROW(B534)/6)+10/3-INT((ROW(B534)-4)/50)/3+8,\"#\")))","v":"Chapter 38: Adjective"}]
[null,{"$f":"INDIRECT( \"FlashCards!\"&IF(MOD(INT((ROW(B534)-4)/50),2)=0,\"CE\"&TEXT((ROW(B534)/6)+10/3-INT((ROW(B534)-4)/50)/3,\"#\"),\"CD\"&TEXT((ROW(B534)/6)+10/3-INT((ROW(B534)-4)/50)/3,\"#\")))","v":"ὁ ἀγρός"},null,null,{"$f":"INDIRECT( \"FlashCards!\"&IF(MOD(INT((ROW(B534)-4)/50),2)=0,\"CE\"&TEXT((ROW(B534)/6)+10/3-INT((ROW(B534)-4)/50)/3+8,\"#\"),\"CD\"&TEXT((ROW(B534)/6)+10/3-INT((ROW(B534)-4)/50)/3+8,\"#\")))","v":"ἀδύνατος"}]
[]
[null,{"$f":"INDIRECT( \"FlashCards!\"&IF(MOD(INT((ROW(B534)-4)/50),2)=0,\"CC\"&TEXT((ROW(B534)/6)+10/3-INT((ROW(B534)-4)/50)/3,\"#\"),\"\"))","v":"ah-grahs"},null,null,{"$f":"INDIRECT( \"FlashCards!\"&IF(MOD(INT((ROW(B534)-4)/50),2)=0,\"CC\"&TEXT((ROW(B534)/6)+10/3-INT((ROW(B534)-4)/50)/3+8,\"#\"),\"CC\"&TEXT((ROW(B534)/6)+10/3-INT((ROW(B534)-4)/50)/3+8,\"#\")))","v":"Ah-DOON-ah-toss"}]
[]
[]
[null,{"$f":"INDIRECT( \"FlashCards!\"&IF(MOD(INT((ROW(B540)-4)/50),2)=0,\"CF\"&TEXT((ROW(B540)/6)+10/3-INT((ROW(B540)-4)/50)/3,\"#\"),\"CF\"&TEXT((ROW(B540)/6)+10/3-INT((ROW(B540)-4)/50)/3,\"#\")))","v":"Chapter 24: Verb  "},null,null,{"$f":"INDIRECT( \"FlashCards!\"&IF(MOD(INT((ROW(B540)-4)/50),2)=0,\"CF\"&TEXT((ROW(B540)/6)+10/3-INT((ROW(B540)-4)/50)/3+8,\"#\"),\"CF\"&TEXT((ROW(B540)/6)+10/3-INT((ROW(B540)-4)/50)/3+8,\"#\")))","v":"Index of Textbook: Verb  "}]
[null,{"$f":"INDIRECT( \"FlashCards!\"&IF(MOD(INT((ROW(B540)-4)/50),2)=0,\"CE\"&TEXT((ROW(B540)/6)+10/3-INT((ROW(B540)-4)/50)/3,\"#\"),\"CD\"&TEXT((ROW(B540)/6)+10/3-INT((ROW(B540)-4)/50)/3,\"#\")))","v":"ἄγω"},null,null,{"$f":"INDIRECT( \"FlashCards!\"&IF(MOD(INT((ROW(B540)-4)/50),2)=0,\"CE\"&TEXT((ROW(B540)/6)+10/3-INT((ROW(B540)-4)/50)/3+8,\"#\"),\"CD\"&TEXT((ROW(B540)/6)+10/3-INT((ROW(B540)-4)/50)/3+8,\"#\")))","v":"ἀθετέω"}]
[]
[null,{"$f":"INDIRECT( \"FlashCards!\"&IF(MOD(INT((ROW(B540)-4)/50),2)=0,\"CC\"&TEXT((ROW(B540)/6)+10/3-INT((ROW(B540)-4)/50)/3,\"#\"),\"\"))","v":"AH-goe"},null,null,{"$f":"INDIRECT( \"FlashCards!\"&IF(MOD(INT((ROW(B540)-4)/50),2)=0,\"CC\"&TEXT((ROW(B540)/6)+10/3-INT((ROW(B540)-4)/50)/3+8,\"#\"),\"CC\"&TEXT((ROW(B540)/6)+10/3-INT((ROW(B540)-4)/50)/3+8,\"#\")))","v":"ah-thet-EH-owe"}]
[]
[]
[null,{"$f":"INDIRECT( \"FlashCards!\"&IF(MOD(INT((ROW(B546)-4)/50),2)=0,\"CF\"&TEXT((ROW(B546)/6)+10/3-INT((ROW(B546)-4)/50)/3,\"#\"),\"CF\"&TEXT((ROW(B546)/6)+10/3-INT((ROW(B546)-4)/50)/3,\"#\")))","v":"Chapter 38: Noun  "},null,null,{"$f":"INDIRECT( \"FlashCards!\"&IF(MOD(INT((ROW(B546)-4)/50),2)=0,\"CF\"&TEXT((ROW(B546)/6)+10/3-INT((ROW(B546)-4)/50)/3+8,\"#\"),\"CF\"&TEXT((ROW(B546)/6)+10/3-INT((ROW(B546)-4)/50)/3+8,\"#\")))","v":"Chapter 38: Proper Noun"}]
[null,{"$f":"INDIRECT( \"FlashCards!\"&IF(MOD(INT((ROW(B546)-4)/50),2)=0,\"CE\"&TEXT((ROW(B546)/6)+10/3-INT((ROW(B546)-4)/50)/3,\"#\"),\"CD\"&TEXT((ROW(B546)/6)+10/3-INT((ROW(B546)-4)/50)/3,\"#\")))","v":"ἡ ἀδελφή"},null,null,{"$f":"INDIRECT( \"FlashCards!\"&IF(MOD(INT((ROW(B546)-4)/50),2)=0,\"CE\"&TEXT((ROW(B546)/6)+10/3-INT((ROW(B546)-4)/50)/3+8,\"#\"),\"CD\"&TEXT((ROW(B546)/6)+10/3-INT((ROW(B546)-4)/50)/3+8,\"#\")))","v":"ἡ Αἴγυπτος"}]
[]
[null,{"$f":"INDIRECT( \"FlashCards!\"&IF(MOD(INT((ROW(B546)-4)/50),2)=0,\"CC\"&TEXT((ROW(B546)/6)+10/3-INT((ROW(B546)-4)/50)/3,\"#\"),\"\"))","v":"ah-dell-FAY"},null,null,{"$f":"INDIRECT( \"FlashCards!\"&IF(MOD(INT((ROW(B546)-4)/50),2)=0,\"CC\"&TEXT((ROW(B546)/6)+10/3-INT((ROW(B546)-4)/50)/3+8,\"#\"),\"CC\"&TEXT((ROW(B546)/6)+10/3-INT((ROW(B546)-4)/50)/3+8,\"#\")))","v":"EYE-goop-toss"}]
[]
[]
[]
[]
[null,{"$f":"E503","v":"Chapter 11: Noun  "},null,null,{"$f":"B503","v":"Chapter 09: Adjective"}]
[null,{"$f":"INDIRECT( \"FlashCards!\"&IF(MOD(INT((ROW(B554)-4)/50),2)=0,\"CE\"&TEXT((ROW(B554)/6)+10/3-INT((ROW(B554)-4)/50)/3,\"#\"),\"CD\"&TEXT((ROW(B554)/6)+10/3-INT((ROW(B554)-4)/50)/3,\"#\")))","v":"brother"},null,null,{"$f":"INDIRECT( \"FlashCards!\"&IF(MOD(INT((ROW(B554)-4)/50),2)=0,\"CE\"&TEXT((ROW(B554)/6)+10/3-INT((ROW(B554)-4)/50)/3-8,\"#\"),\"CD\"&TEXT((ROW(B554)/6)+10/3-INT((ROW(B554)-4)/50)/3-8,\"#\")))","v":"holy"}]
[]
[]
[]
[]
[null,{"$f":"E509","v":"Chapter 38: Noun  "},null,null,{"$f":"B509","v":"Index of Textbook: Verb  "}]
[null,{"$f":"INDIRECT( \"FlashCards!\"&IF(MOD(INT((ROW(B560)-4)/50),2)=0,\"CE\"&TEXT((ROW(B560)/6)+10/3-INT((ROW(B560)-4)/50)/3,\"#\"),\"CD\"&TEXT((ROW(B560)/6)+10/3-INT((ROW(B560)-4)/50)/3,\"#\")))","v":"Hades or hades (\"the unseen place\"; not a proper noun as used in the New Testament)"},null,null,{"$f":"INDIRECT( \"FlashCards!\"&IF(MOD(INT((ROW(B560)-4)/50),2)=0,\"CE\"&TEXT((ROW(B560)/6)+10/3-INT((ROW(B560)-4)/50)/3-8,\"#\"),\"CD\"&TEXT((ROW(B560)/6)+10/3-INT((ROW(B560)-4)/50)/3-8,\"#\")))","v":"I do not know"}]
[]
[]
[]
[]
[null,{"$f":"E515","v":"Index of Textbook: Verb  "},null,null,{"$f":"B515","v":"Chapter 38: Noun  "}]
[null,{"$f":"INDIRECT( \"FlashCards!\"&IF(MOD(INT((ROW(B566)-4)/50),2)=0,\"CE\"&TEXT((ROW(B566)/6)+10/3-INT((ROW(B566)-4)/50)/3,\"#\"),\"CD\"&TEXT((ROW(B566)/6)+10/3-INT((ROW(B566)-4)/50)/3,\"#\")))","v":"I injure, I do wrong"},null,null,{"$f":"INDIRECT( \"FlashCards!\"&IF(MOD(INT((ROW(B566)-4)/50),2)=0,\"CE\"&TEXT((ROW(B566)/6)+10/3-INT((ROW(B566)-4)/50)/3-8,\"#\"),\"CD\"&TEXT((ROW(B566)/6)+10/3-INT((ROW(B566)-4)/50)/3-8,\"#\")))","v":"marketplace"}]
[]
[]
[]
[]
[null,{"$f":"E521","v":"Index of Textbook: Noun  "},null,null,{"$f":"B521","v":"Index of Textbook: Verb  "}]
[null,{"$f":"INDIRECT( \"FlashCards!\"&IF(MOD(INT((ROW(B572)-4)/50),2)=0,\"CE\"&TEXT((ROW(B572)/6)+10/3-INT((ROW(B572)-4)/50)/3,\"#\"),\"CD\"&TEXT((ROW(B572)/6)+10/3-INT((ROW(B572)-4)/50)/3,\"#\")))","v":"unrighteousness"},null,null,{"$f":"INDIRECT( \"FlashCards!\"&IF(MOD(INT((ROW(B572)-4)/50),2)=0,\"CE\"&TEXT((ROW(B572)/6)+10/3-INT((ROW(B572)-4)/50)/3-8,\"#\"),\"CD\"&TEXT((ROW(B572)/6)+10/3-INT((ROW(B572)-4)/50)/3-8,\"#\")))","v":"I buy"}]
[]
[]
[]
[]
[null,{"$f":"E527","v":"Chapter 38: Adjective"},null,null,{"$f":"B527","v":"Chapter 38: Proper Noun"}]
[null,{"$f":"INDIRECT( \"FlashCards!\"&IF(MOD(INT((ROW(B578)-4)/50),2)=0,\"CE\"&TEXT((ROW(B578)/6)+10/3-INT((ROW(B578)-4)/50)/3,\"#\"),\"CD\"&TEXT((ROW(B578)/6)+10/3-INT((ROW(B578)-4)/50)/3,\"#\")))","v":"unjust"},null,null,{"$f":"INDIRECT( \"FlashCards!\"&IF(MOD(INT((ROW(B578)-4)/50),2)=0,\"CE\"&TEXT((ROW(B578)/6)+10/3-INT((ROW(B578)-4)/50)/3-8,\"#\"),\"CD\"&TEXT((ROW(B578)/6)+10/3-INT((ROW(B578)-4)/50)/3-8,\"#\")))","v":"Agrippa"}]
[]
[]
[]
[]
[null,{"$f":"E533","v":"Chapter 38: Adjective"},null,null,{"$f":"B533","v":"Index of Textbook: Noun  "}]
[null,{"$f":"INDIRECT( \"FlashCards!\"&IF(MOD(INT((ROW(B584)-4)/50),2)=0,\"CE\"&TEXT((ROW(B584)/6)+10/3-INT((ROW(B584)-4)/50)/3,\"#\"),\"CD\"&TEXT((ROW(B584)/6)+10/3-INT((ROW(B584)-4)/50)/3,\"#\")))","v":"impossible"},null,null,{"$f":"INDIRECT( \"FlashCards!\"&IF(MOD(INT((ROW(B584)-4)/50),2)=0,\"CE\"&TEXT((ROW(B584)/6)+10/3-INT((ROW(B584)-4)/50)/3-8,\"#\"),\"CD\"&TEXT((ROW(B584)/6)+10/3-INT((ROW(B584)-4)/50)/3-8,\"#\")))","v":"field, land"}]
[]
[]
[]
[]
[null,{"$f":"E539","v":"Index of Textbook: Verb  "},null,null,{"$f":"B539","v":"Chapter 24: Verb  "}]
[null,{"$f":"INDIRECT( \"FlashCards!\"&IF(MOD(INT((ROW(B590)-4)/50),2)=0,\"CE\"&TEXT((ROW(B590)/6)+10/3-INT((ROW(B590)-4)/50)/3,\"#\"),\"CD\"&TEXT((ROW(B590)/6)+10/3-INT((ROW(B590)-4)/50)/3,\"#\")))","v":"I nullify, I reject"},null,null,{"$f":"INDIRECT( \"FlashCards!\"&IF(MOD(INT((ROW(B590)-4)/50),2)=0,\"CE\"&TEXT((ROW(B590)/6)+10/3-INT((ROW(B590)-4)/50)/3-8,\"#\"),\"CD\"&TEXT((ROW(B590)/6)+10/3-INT((ROW(B590)-4)/50)/3-8,\"#\")))","v":"I lead, I bring, I arrest"}]
[]
[]
[]
[]
[null,{"$f":"E545","v":"Chapter 38: Proper Noun"},null,null,{"$f":"B545","v":"Chapter 38: Noun  "}]
[null,{"$f":"INDIRECT( \"FlashCards!\"&IF(MOD(INT((ROW(B596)-4)/50),2)=0,\"CE\"&TEXT((ROW(B596)/6)+10/3-INT((ROW(B596)-4)/50)/3,\"#\"),\"CD\"&TEXT((ROW(B596)/6)+10/3-INT((ROW(B596)-4)/50)/3,\"#\")))","v":"Egypt"},null,null,{"$f":"INDIRECT( \"FlashCards!\"&IF(MOD(INT((ROW(B596)-4)/50),2)=0,\"CE\"&TEXT((ROW(B596)/6)+10/3-INT((ROW(B596)-4)/50)/3-8,\"#\"),\"CD\"&TEXT((ROW(B596)/6)+10/3-INT((ROW(B596)-4)/50)/3-8,\"#\")))","v":"sister"}]
[]
[]
[]
[]
[]
[]
[null,{"$f":"INDIRECT( \"FlashCards!\"&IF(MOD(INT((ROW(B604)-4)/50),2)=0,\"CF\"&TEXT((ROW(B604)/6)+10/3-INT((ROW(B604)-4)/50)/3,\"#\"),\"CF\"&TEXT((ROW(B604)/6)+10/3-INT((ROW(B604)-4)/50)/3,\"#\")))","v":"Chapter 24: Noun  "},null,null,{"$f":"INDIRECT( \"FlashCards!\"&IF(MOD(INT((ROW(B604)-4)/50),2)=0,\"CF\"&TEXT((ROW(B604)/6)+10/3-INT((ROW(B604)-4)/50)/3+8,\"#\"),\"CF\"&TEXT((ROW(B604)/6)+10/3-INT((ROW(B604)-4)/50)/3+8,\"#\")))","v":"Chapter 38: Noun  "}]
[null,{"$f":"INDIRECT( \"FlashCards!\"&IF(MOD(INT((ROW(B604)-4)/50),2)=0,\"CE\"&TEXT((ROW(B604)/6)+10/3-INT((ROW(B604)-4)/50)/3,\"#\"),\"CD\"&TEXT((ROW(B604)/6)+10/3-INT((ROW(B604)-4)/50)/3,\"#\")))","v":"τό αἷμα"},null,null,{"$f":"INDIRECT( \"FlashCards!\"&IF(MOD(INT((ROW(B604)-4)/50),2)=0,\"CE\"&TEXT((ROW(B604)/6)+10/3-INT((ROW(B604)-4)/50)/3+8,\"#\"),\"CD\"&TEXT((ROW(B604)/6)+10/3-INT((ROW(B604)-4)/50)/3+8,\"#\")))","v":"ἡ ἀκαθαρσία"}]
[]
[null,{"$f":"INDIRECT( \"FlashCards!\"&IF(MOD(INT((ROW(B604)-4)/50),2)=0,\"CC\"&TEXT((ROW(B604)/6)+10/3-INT((ROW(B604)-4)/50)/3,\"#\"),\"\"))","v":"HAY-mah"},null,null,{"$f":"INDIRECT( \"FlashCards!\"&IF(MOD(INT((ROW(B604)-4)/50),2)=0,\"CC\"&TEXT((ROW(B604)/6)+10/3-INT((ROW(B604)-4)/50)/3+8,\"#\"),\"CC\"&TEXT((ROW(B604)/6)+10/3-INT((ROW(B604)-4)/50)/3+8,\"#\")))","v":"Ah-kath-"}]
[]
[]
[null,{"$f":"INDIRECT( \"FlashCards!\"&IF(MOD(INT((ROW(B610)-4)/50),2)=0,\"CF\"&TEXT((ROW(B610)/6)+10/3-INT((ROW(B610)-4)/50)/3,\"#\"),\"CF\"&TEXT((ROW(B610)/6)+10/3-INT((ROW(B610)-4)/50)/3,\"#\")))","v":"Chapter 20: Verb  "},null,null,{"$f":"INDIRECT( \"FlashCards!\"&IF(MOD(INT((ROW(B610)-4)/50),2)=0,\"CF\"&TEXT((ROW(B610)/6)+10/3-INT((ROW(B610)-4)/50)/3+8,\"#\"),\"CF\"&TEXT((ROW(B610)/6)+10/3-INT((ROW(B610)-4)/50)/3+8,\"#\")))","v":"Index of Textbook: Adjective"}]
[null,{"$f":"INDIRECT( \"FlashCards!\"&IF(MOD(INT((ROW(B610)-4)/50),2)=0,\"CE\"&TEXT((ROW(B610)/6)+10/3-INT((ROW(B610)-4)/50)/3,\"#\"),\"CD\"&TEXT((ROW(B610)/6)+10/3-INT((ROW(B610)-4)/50)/3,\"#\")))","v":"αἴρω"},null,null,{"$f":"INDIRECT( \"FlashCards!\"&IF(MOD(INT((ROW(B610)-4)/50),2)=0,\"CE\"&TEXT((ROW(B610)/6)+10/3-INT((ROW(B610)-4)/50)/3+8,\"#\"),\"CD\"&TEXT((ROW(B610)/6)+10/3-INT((ROW(B610)-4)/50)/3+8,\"#\")))","v":"ἀκαθαρτος"}]
[]
[null,{"$f":"INDIRECT( \"FlashCards!\"&IF(MOD(INT((ROW(B610)-4)/50),2)=0,\"CC\"&TEXT((ROW(B610)/6)+10/3-INT((ROW(B610)-4)/50)/3,\"#\"),\"\"))","v":"EYE-roe"},null,null,{"$f":"INDIRECT( \"FlashCards!\"&IF(MOD(INT((ROW(B610)-4)/50),2)=0,\"CC\"&TEXT((ROW(B610)/6)+10/3-INT((ROW(B610)-4)/50)/3+8,\"#\"),\"CC\"&TEXT((ROW(B610)/6)+10/3-INT((ROW(B610)-4)/50)/3+8,\"#\")))","v":"ah-kah-thar-toss"}]
[]
[]
[null,{"$f":"INDIRECT( \"FlashCards!\"&IF(MOD(INT((ROW(B616)-4)/50),2)=0,\"CF\"&TEXT((ROW(B616)/6)+10/3-INT((ROW(B616)-4)/50)/3,\"#\"),\"CF\"&TEXT((ROW(B616)/6)+10/3-INT((ROW(B616)-4)/50)/3,\"#\")))","v":"Chapter 25: Verb  "},null,null,{"$f":"INDIRECT( \"FlashCards!\"&IF(MOD(INT((ROW(B616)-4)/50),2)=0,\"CF\"&TEXT((ROW(B616)/6)+10/3-INT((ROW(B616)-4)/50)/3+8,\"#\"),\"CF\"&TEXT((ROW(B616)/6)+10/3-INT((ROW(B616)-4)/50)/3+8,\"#\")))","v":"Chapter 38: Noun  "}]
[null,{"$f":"INDIRECT( \"FlashCards!\"&IF(MOD(INT((ROW(B616)-4)/50),2)=0,\"CE\"&TEXT((ROW(B616)/6)+10/3-INT((ROW(B616)-4)/50)/3,\"#\"),\"CD\"&TEXT((ROW(B616)/6)+10/3-INT((ROW(B616)-4)/50)/3,\"#\")))","v":"αἰτέω"},null,null,{"$f":"INDIRECT( \"FlashCards!\"&IF(MOD(INT((ROW(B616)-4)/50),2)=0,\"CE\"&TEXT((ROW(B616)/6)+10/3-INT((ROW(B616)-4)/50)/3+8,\"#\"),\"CD\"&TEXT((ROW(B616)/6)+10/3-INT((ROW(B616)-4)/50)/3+8,\"#\")))","v":"ἡ ἄκανθα"}]
[]
[null,{"$f":"INDIRECT( \"FlashCards!\"&IF(MOD(INT((ROW(B616)-4)/50),2)=0,\"CC\"&TEXT((ROW(B616)/6)+10/3-INT((ROW(B616)-4)/50)/3,\"#\"),\"\"))","v":"eye-TEH-owe"},null,null,{"$f":"INDIRECT( \"FlashCards!\"&IF(MOD(INT((ROW(B616)-4)/50),2)=0,\"CC\"&TEXT((ROW(B616)/6)+10/3-INT((ROW(B616)-4)/50)/3+8,\"#\"),\"CC\"&TEXT((ROW(B616)/6)+10/3-INT((ROW(B616)-4)/50)/3+8,\"#\")))","v":"AH-kahn-thah"}]
[]
[]
[null,{"$f":"INDIRECT( \"FlashCards!\"&IF(MOD(INT((ROW(B622)-4)/50),2)=0,\"CF\"&TEXT((ROW(B622)/6)+10/3-INT((ROW(B622)-4)/50)/3,\"#\"),\"CF\"&TEXT((ROW(B622)/6)+10/3-INT((ROW(B622)-4)/50)/3,\"#\")))","v":"Chapter 38: Noun  "},null,null,{"$f":"INDIRECT( \"FlashCards!\"&IF(MOD(INT((ROW(B622)-4)/50),2)=0,\"CF\"&TEXT((ROW(B622)/6)+10/3-INT((ROW(B622)-4)/50)/3+8,\"#\"),\"CF\"&TEXT((ROW(B622)/6)+10/3-INT((ROW(B622)-4)/50)/3+8,\"#\")))","v":"Index of Textbook: Noun  "}]
[null,{"$f":"INDIRECT( \"FlashCards!\"&IF(MOD(INT((ROW(B622)-4)/50),2)=0,\"CE\"&TEXT((ROW(B622)/6)+10/3-INT((ROW(B622)-4)/50)/3,\"#\"),\"CD\"&TEXT((ROW(B622)/6)+10/3-INT((ROW(B622)-4)/50)/3,\"#\")))","v":"ἡ αἰτία"},null,null,{"$f":"INDIRECT( \"FlashCards!\"&IF(MOD(INT((ROW(B622)-4)/50),2)=0,\"CE\"&TEXT((ROW(B622)/6)+10/3-INT((ROW(B622)-4)/50)/3+8,\"#\"),\"CD\"&TEXT((ROW(B622)/6)+10/3-INT((ROW(B622)-4)/50)/3+8,\"#\")))","v":"ἡ ἀκοή"}]
[]
[null,{"$f":"INDIRECT( \"FlashCards!\"&IF(MOD(INT((ROW(B622)-4)/50),2)=0,\"CC\"&TEXT((ROW(B622)/6)+10/3-INT((ROW(B622)-4)/50)/3,\"#\"),\"\"))","v":"ay-TEE-ah"},null,null,{"$f":"INDIRECT( \"FlashCards!\"&IF(MOD(INT((ROW(B622)-4)/50),2)=0,\"CC\"&TEXT((ROW(B622)/6)+10/3-INT((ROW(B622)-4)/50)/3+8,\"#\"),\"CC\"&TEXT((ROW(B622)/6)+10/3-INT((ROW(B622)-4)/50)/3+8,\"#\")))","v":"ah-ko-ay"}]
[]
[]
[null,{"$f":"INDIRECT( \"FlashCards!\"&IF(MOD(INT((ROW(B628)-4)/50),2)=0,\"CF\"&TEXT((ROW(B628)/6)+10/3-INT((ROW(B628)-4)/50)/3,\"#\"),\"CF\"&TEXT((ROW(B628)/6)+10/3-INT((ROW(B628)-4)/50)/3,\"#\")))","v":"Chapter 12: Noun  "},null,null,{"$f":"INDIRECT( \"FlashCards!\"&IF(MOD(INT((ROW(B628)-4)/50),2)=0,\"CF\"&TEXT((ROW(B628)/6)+10/3-INT((ROW(B628)-4)/50)/3+8,\"#\"),\"CF\"&TEXT((ROW(B628)/6)+10/3-INT((ROW(B628)-4)/50)/3+8,\"#\")))","v":"Chapter 21: Verb  "}]
[null,{"$f":"INDIRECT( \"FlashCards!\"&IF(MOD(INT((ROW(B628)-4)/50),2)=0,\"CE\"&TEXT((ROW(B628)/6)+10/3-INT((ROW(B628)-4)/50)/3,\"#\"),\"CD\"&TEXT((ROW(B628)/6)+10/3-INT((ROW(B628)-4)/50)/3,\"#\")))","v":"ὁ αἰών"},null,null,{"$f":"INDIRECT( \"FlashCards!\"&IF(MOD(INT((ROW(B628)-4)/50),2)=0,\"CE\"&TEXT((ROW(B628)/6)+10/3-INT((ROW(B628)-4)/50)/3+8,\"#\"),\"CD\"&TEXT((ROW(B628)/6)+10/3-INT((ROW(B628)-4)/50)/3+8,\"#\")))","v":"ἀκολουθέω"}]
[]
[null,{"$f":"INDIRECT( \"FlashCards!\"&IF(MOD(INT((ROW(B628)-4)/50),2)=0,\"CC\"&TEXT((ROW(B628)/6)+10/3-INT((ROW(B628)-4)/50)/3,\"#\"),\"\"))","v":"eye-OWN"},null,null,{"$f":"INDIRECT( \"FlashCards!\"&IF(MOD(INT((ROW(B628)-4)/50),2)=0,\"CC\"&TEXT((ROW(B628)/6)+10/3-INT((ROW(B628)-4)/50)/3+8,\"#\"),\"CC\"&TEXT((ROW(B628)/6)+10/3-INT((ROW(B628)-4)/50)/3+8,\"#\")))","v":"ah-koll-oo-THEH-owe"}]
[]
[]
[null,{"$f":"INDIRECT( \"FlashCards!\"&IF(MOD(INT((ROW(B634)-4)/50),2)=0,\"CF\"&TEXT((ROW(B634)/6)+10/3-INT((ROW(B634)-4)/50)/3,\"#\"),\"CF\"&TEXT((ROW(B634)/6)+10/3-INT((ROW(B634)-4)/50)/3,\"#\")))","v":"Chapter 12: Idiom"},null,null,{"$f":"INDIRECT( \"FlashCards!\"&IF(MOD(INT((ROW(B634)-4)/50),2)=0,\"CF\"&TEXT((ROW(B634)/6)+10/3-INT((ROW(B634)-4)/50)/3+8,\"#\"),\"CF\"&TEXT((ROW(B634)/6)+10/3-INT((ROW(B634)-4)/50)/3+8,\"#\")))","v":"Chapter 16: Verb  "}]
[null,{"$f":"INDIRECT( \"FlashCards!\"&IF(MOD(INT((ROW(B634)-4)/50),2)=0,\"CE\"&TEXT((ROW(B634)/6)+10/3-INT((ROW(B634)-4)/50)/3,\"#\"),\"CD\"&TEXT((ROW(B634)/6)+10/3-INT((ROW(B634)-4)/50)/3,\"#\")))","v":"εἰς τὸν αἰῶνα"},null,null,{"$f":"INDIRECT( \"FlashCards!\"&IF(MOD(INT((ROW(B634)-4)/50),2)=0,\"CE\"&TEXT((ROW(B634)/6)+10/3-INT((ROW(B634)-4)/50)/3+8,\"#\"),\"CD\"&TEXT((ROW(B634)/6)+10/3-INT((ROW(B634)-4)/50)/3+8,\"#\")))","v":"ἀκούω"}]
[]
[null,{"$f":"INDIRECT( \"FlashCards!\"&IF(MOD(INT((ROW(B634)-4)/50),2)=0,\"CC\"&TEXT((ROW(B634)/6)+10/3-INT((ROW(B634)-4)/50)/3,\"#\"),\"\"))","v":"ace TAHN eye-OWN-ah"},null,null,{"$f":"INDIRECT( \"FlashCards!\"&IF(MOD(INT((ROW(B634)-4)/50),2)=0,\"CC\"&TEXT((ROW(B634)/6)+10/3-INT((ROW(B634)-4)/50)/3+8,\"#\"),\"CC\"&TEXT((ROW(B634)/6)+10/3-INT((ROW(B634)-4)/50)/3+8,\"#\")))","v":"ah-KOO-owe"}]
[]
[]
[null,{"$f":"INDIRECT( \"FlashCards!\"&IF(MOD(INT((ROW(B640)-4)/50),2)=0,\"CF\"&TEXT((ROW(B640)/6)+10/3-INT((ROW(B640)-4)/50)/3,\"#\"),\"CF\"&TEXT((ROW(B640)/6)+10/3-INT((ROW(B640)-4)/50)/3,\"#\")))","v":"Chapter 12: Idiom"},null,null,{"$f":"INDIRECT( \"FlashCards!\"&IF(MOD(INT((ROW(B640)-4)/50),2)=0,\"CF\"&TEXT((ROW(B640)/6)+10/3-INT((ROW(B640)-4)/50)/3+8,\"#\"),\"CF\"&TEXT((ROW(B640)/6)+10/3-INT((ROW(B640)-4)/50)/3+8,\"#\")))","v":"Index of Textbook: Noun  "}]
[null,{"$f":"INDIRECT( \"FlashCards!\"&IF(MOD(INT((ROW(B640)-4)/50),2)=0,\"CE\"&TEXT((ROW(B640)/6)+10/3-INT((ROW(B640)-4)/50)/3,\"#\"),\"CD\"&TEXT((ROW(B640)/6)+10/3-INT((ROW(B640)-4)/50)/3,\"#\")))","v":"εἰς τοὺς αἰώνας"},null,null,{"$f":"INDIRECT( \"FlashCards!\"&IF(MOD(INT((ROW(B640)-4)/50),2)=0,\"CE\"&TEXT((ROW(B640)/6)+10/3-INT((ROW(B640)-4)/50)/3+8,\"#\"),\"CD\"&TEXT((ROW(B640)/6)+10/3-INT((ROW(B640)-4)/50)/3+8,\"#\")))","v":"ἡ ἀκροβυστία"}]
[]
[null,{"$f":"INDIRECT( \"FlashCards!\"&IF(MOD(INT((ROW(B640)-4)/50),2)=0,\"CC\"&TEXT((ROW(B640)/6)+10/3-INT((ROW(B640)-4)/50)/3,\"#\"),\"\"))","v":"ace TOOS eye-OWE-nahs"},null,null,{"$f":"INDIRECT( \"FlashCards!\"&IF(MOD(INT((ROW(B640)-4)/50),2)=0,\"CC\"&TEXT((ROW(B640)/6)+10/3-INT((ROW(B640)-4)/50)/3+8,\"#\"),\"CC\"&TEXT((ROW(B640)/6)+10/3-INT((ROW(B640)-4)/50)/3+8,\"#\")))","v":"ahk-row-boost-EE-ah"}]
[]
[]
[null,{"$f":"INDIRECT( \"FlashCards!\"&IF(MOD(INT((ROW(B646)-4)/50),2)=0,\"CF\"&TEXT((ROW(B646)/6)+10/3-INT((ROW(B646)-4)/50)/3,\"#\"),\"CF\"&TEXT((ROW(B646)/6)+10/3-INT((ROW(B646)-4)/50)/3,\"#\")))","v":"Chapter 09: Adjective"},null,null,{"$f":"INDIRECT( \"FlashCards!\"&IF(MOD(INT((ROW(B646)-4)/50),2)=0,\"CF\"&TEXT((ROW(B646)/6)+10/3-INT((ROW(B646)-4)/50)/3+8,\"#\"),\"CF\"&TEXT((ROW(B646)/6)+10/3-INT((ROW(B646)-4)/50)/3+8,\"#\")))","v":"Index of Textbook: Noun  "}]
[null,{"$f":"INDIRECT( \"FlashCards!\"&IF(MOD(INT((ROW(B646)-4)/50),2)=0,\"CE\"&TEXT((ROW(B646)/6)+10/3-INT((ROW(B646)-4)/50)/3,\"#\"),\"CD\"&TEXT((ROW(B646)/6)+10/3-INT((ROW(B646)-4)/50)/3,\"#\")))","v":"αἰώνιος"},null,null,{"$f":"INDIRECT( \"FlashCards!\"&IF(MOD(INT((ROW(B646)-4)/50),2)=0,\"CE\"&TEXT((ROW(B646)/6)+10/3-INT((ROW(B646)-4)/50)/3+8,\"#\"),\"CD\"&TEXT((ROW(B646)/6)+10/3-INT((ROW(B646)-4)/50)/3+8,\"#\")))","v":"ἡ ἀλέκτωρ"}]
[]
[null,{"$f":"INDIRECT( \"FlashCards!\"&IF(MOD(INT((ROW(B646)-4)/50),2)=0,\"CC\"&TEXT((ROW(B646)/6)+10/3-INT((ROW(B646)-4)/50)/3,\"#\"),\"\"))","v":"eye-OWE-nee-oss"},null,null,{"$f":"INDIRECT( \"FlashCards!\"&IF(MOD(INT((ROW(B646)-4)/50),2)=0,\"CC\"&TEXT((ROW(B646)/6)+10/3-INT((ROW(B646)-4)/50)/3+8,\"#\"),\"CC\"&TEXT((ROW(B646)/6)+10/3-INT((ROW(B646)-4)/50)/3+8,\"#\")))","v":"ah-LEK-torr"}]
[]
[]
[]
[]
[null,{"$f":"E603","v":"Chapter 38: Noun  "},null,null,{"$f":"B603","v":"Chapter 24: Noun  "}]
[null,{"$f":"INDIRECT( \"FlashCards!\"&IF(MOD(INT((ROW(B654)-4)/50),2)=0,\"CE\"&TEXT((ROW(B654)/6)+10/3-INT((ROW(B654)-4)/50)/3,\"#\"),\"CD\"&TEXT((ROW(B654)/6)+10/3-INT((ROW(B654)-4)/50)/3,\"#\")))","v":"immorality, uncleanness"},null,null,{"$f":"INDIRECT( \"FlashCards!\"&IF(MOD(INT((ROW(B654)-4)/50),2)=0,\"CE\"&TEXT((ROW(B654)/6)+10/3-INT((ROW(B654)-4)/50)/3-8,\"#\"),\"CD\"&TEXT((ROW(B654)/6)+10/3-INT((ROW(B654)-4)/50)/3-8,\"#\")))","v":"blood"}]
[]
[]
[]
[]
[null,{"$f":"E609","v":"Index of Textbook: Adjective"},null,null,{"$f":"B609","v":"Chapter 20: Verb  "}]
[null,{"$f":"INDIRECT( \"FlashCards!\"&IF(MOD(INT((ROW(B660)-4)/50),2)=0,\"CE\"&TEXT((ROW(B660)/6)+10/3-INT((ROW(B660)-4)/50)/3,\"#\"),\"CD\"&TEXT((ROW(B660)/6)+10/3-INT((ROW(B660)-4)/50)/3,\"#\")))","v":"unclean, impure"},null,null,{"$f":"INDIRECT( \"FlashCards!\"&IF(MOD(INT((ROW(B660)-4)/50),2)=0,\"CE\"&TEXT((ROW(B660)/6)+10/3-INT((ROW(B660)-4)/50)/3-8,\"#\"),\"CD\"&TEXT((ROW(B660)/6)+10/3-INT((ROW(B660)-4)/50)/3-8,\"#\")))","v":"I raise, I take up, I take away"}]
[]
[]
[]
[]
[null,{"$f":"E615","v":"Chapter 38: Noun  "},null,null,{"$f":"B615","v":"Chapter 25: Verb  "}]
[null,{"$f":"INDIRECT( \"FlashCards!\"&IF(MOD(INT((ROW(B666)-4)/50),2)=0,\"CE\"&TEXT((ROW(B666)/6)+10/3-INT((ROW(B666)-4)/50)/3,\"#\"),\"CD\"&TEXT((ROW(B666)/6)+10/3-INT((ROW(B666)-4)/50)/3,\"#\")))","v":"thorn, thorny plant"},null,null,{"$f":"INDIRECT( \"FlashCards!\"&IF(MOD(INT((ROW(B666)-4)/50),2)=0,\"CE\"&TEXT((ROW(B666)/6)+10/3-INT((ROW(B666)-4)/50)/3-8,\"#\"),\"CD\"&TEXT((ROW(B666)/6)+10/3-INT((ROW(B666)-4)/50)/3-8,\"#\")))","v":"I ask, I demand"}]
[]
[]
[]
[]
[null,{"$f":"E621","v":"Index of Textbook: Noun  "},null,null,{"$f":"B621","v":"Chapter 38: Noun  "}]
[null,{"$f":"INDIRECT( \"FlashCards!\"&IF(MOD(INT((ROW(B672)-4)/50),2)=0,\"CE\"&TEXT((ROW(B672)/6)+10/3-INT((ROW(B672)-4)/50)/3,\"#\"),\"CD\"&TEXT((ROW(B672)/6)+10/3-INT((ROW(B672)-4)/50)/3,\"#\")))","v":"hearing, report"},null,null,{"$f":"INDIRECT( \"FlashCards!\"&IF(MOD(INT((ROW(B672)-4)/50),2)=0,\"CE\"&TEXT((ROW(B672)/6)+10/3-INT((ROW(B672)-4)/50)/3-8,\"#\"),\"CD\"&TEXT((ROW(B672)/6)+10/3-INT((ROW(B672)-4)/50)/3-8,\"#\")))","v":"cause, guilt, charge, accusation"}]
[]
[]
[]
[]
[null,{"$f":"E627","v":"Chapter 21: Verb  "},null,null,{"$f":"B627","v":"Chapter 12: Noun  "}]
[null,{"$f":"INDIRECT( \"FlashCards!\"&IF(MOD(INT((ROW(B678)-4)/50),2)=0,\"CE\"&TEXT((ROW(B678)/6)+10/3-INT((ROW(B678)-4)/50)/3,\"#\"),\"CD\"&TEXT((ROW(B678)/6)+10/3-INT((ROW(B678)-4)/50)/3,\"#\")))","v":"I follow, I accompany"},null,null,{"$f":"INDIRECT( \"FlashCards!\"&IF(MOD(INT((ROW(B678)-4)/50),2)=0,\"CE\"&TEXT((ROW(B678)/6)+10/3-INT((ROW(B678)-4)/50)/3-8,\"#\"),\"CD\"&TEXT((ROW(B678)/6)+10/3-INT((ROW(B678)-4)/50)/3-8,\"#\")))","v":"age, eternity"}]
[]
[]
[]
[]
[null,{"$f":"E633","v":"Chapter 16: Verb  "},null,null,{"$f":"B633","v":"Chapter 12: Idiom"}]
[null,{"$f":"INDIRECT( \"FlashCards!\"&IF(MOD(INT((ROW(B684)-4)/50),2)=0,\"CE\"&TEXT((ROW(B684)/6)+10/3-INT((ROW(B684)-4)/50)/3,\"#\"),\"CD\"&TEXT((ROW(B684)/6)+10/3-INT((ROW(B684)-4)/50)/3,\"#\")))","v":"I hear, I learn, I obey, I understand"},null,null,{"$f":"INDIRECT( \"FlashCards!\"&IF(MOD(INT((ROW(B684)-4)/50),2)=0,\"CE\"&TEXT((ROW(B684)/6)+10/3-INT((ROW(B684)-4)/50)/3-8,\"#\"),\"CD\"&TEXT((ROW(B684)/6)+10/3-INT((ROW(B684)-4)/50)/3-8,\"#\")))","v":"forever"}]
[]
[]
[]
[]
[null,{"$f":"E639","v":"Index of Textbook: Noun  "},null,null,{"$f":"B639","v":"Chapter 12: Idiom"}]
[null,{"$f":"INDIRECT( \"FlashCards!\"&IF(MOD(INT((ROW(B690)-4)/50),2)=0,\"CE\"&TEXT((ROW(B690)/6)+10/3-INT((ROW(B690)-4)/50)/3,\"#\"),\"CD\"&TEXT((ROW(B690)/6)+10/3-INT((ROW(B690)-4)/50)/3,\"#\")))","v":"uncircumcision"},null,null,{"$f":"INDIRECT( \"FlashCards!\"&IF(MOD(INT((ROW(B690)-4)/50),2)=0,\"CE\"&TEXT((ROW(B690)/6)+10/3-INT((ROW(B690)-4)/50)/3-8,\"#\"),\"CD\"&TEXT((ROW(B690)/6)+10/3-INT((ROW(B690)-4)/50)/3-8,\"#\")))","v":"forever"}]
[]
[]
[]
[]
[null,{"$f":"E645","v":"Index of Textbook: Noun  "},null,null,{"$f":"B645","v":"Chapter 09: Adjective"}]
[null,{"$f":"INDIRECT( \"FlashCards!\"&IF(MOD(INT((ROW(B696)-4)/50),2)=0,\"CE\"&TEXT((ROW(B696)/6)+10/3-INT((ROW(B696)-4)/50)/3,\"#\"),\"CD\"&TEXT((ROW(B696)/6)+10/3-INT((ROW(B696)-4)/50)/3,\"#\")))","v":"rooster"},null,null,{"$f":"INDIRECT( \"FlashCards!\"&IF(MOD(INT((ROW(B696)-4)/50),2)=0,\"CE\"&TEXT((ROW(B696)/6)+10/3-INT((ROW(B696)-4)/50)/3-8,\"#\"),\"CD\"&TEXT((ROW(B696)/6)+10/3-INT((ROW(B696)-4)/50)/3-8,\"#\")))","v":"eternal"}]
[]
[]
[]
[]
[]
[]
[null,{"$f":"INDIRECT( \"FlashCards!\"&IF(MOD(INT((ROW(B704)-4)/50),2)=0,\"CF\"&TEXT((ROW(B704)/6)+10/3-INT((ROW(B704)-4)/50)/3,\"#\"),\"CF\"&TEXT((ROW(B704)/6)+10/3-INT((ROW(B704)-4)/50)/3,\"#\")))","v":"Chapter 14: Noun  "},null,null,{"$f":"INDIRECT( \"FlashCards!\"&IF(MOD(INT((ROW(B704)-4)/50),2)=0,\"CF\"&TEXT((ROW(B704)/6)+10/3-INT((ROW(B704)-4)/50)/3+8,\"#\"),\"CF\"&TEXT((ROW(B704)/6)+10/3-INT((ROW(B704)-4)/50)/3+8,\"#\")))","v":"Chapter 38: Noun  "}]
[null,{"$f":"INDIRECT( \"FlashCards!\"&IF(MOD(INT((ROW(B704)-4)/50),2)=0,\"CE\"&TEXT((ROW(B704)/6)+10/3-INT((ROW(B704)-4)/50)/3,\"#\"),\"CD\"&TEXT((ROW(B704)/6)+10/3-INT((ROW(B704)-4)/50)/3,\"#\")))","v":"ἡ ἀλήθεια"},null,null,{"$f":"INDIRECT( \"FlashCards!\"&IF(MOD(INT((ROW(B704)-4)/50),2)=0,\"CE\"&TEXT((ROW(B704)/6)+10/3-INT((ROW(B704)-4)/50)/3+8,\"#\"),\"CD\"&TEXT((ROW(B704)/6)+10/3-INT((ROW(B704)-4)/50)/3+8,\"#\")))","v":"ἡ ἅλυσις"}]
[]
[null,{"$f":"INDIRECT( \"FlashCards!\"&IF(MOD(INT((ROW(B704)-4)/50),2)=0,\"CC\"&TEXT((ROW(B704)/6)+10/3-INT((ROW(B704)-4)/50)/3,\"#\"),\"\"))","v":"ah-LAY-thee-ah"},null,null,{"$f":"INDIRECT( \"FlashCards!\"&IF(MOD(INT((ROW(B704)-4)/50),2)=0,\"CC\"&TEXT((ROW(B704)/6)+10/3-INT((ROW(B704)-4)/50)/3+8,\"#\"),\"CC\"&TEXT((ROW(B704)/6)+10/3-INT((ROW(B704)-4)/50)/3+8,\"#\")))","v":"HAH-loo-sis"}]
[]
[]
[null,{"$f":"INDIRECT( \"FlashCards!\"&IF(MOD(INT((ROW(B710)-4)/50),2)=0,\"CF\"&TEXT((ROW(B710)/6)+10/3-INT((ROW(B710)-4)/50)/3,\"#\"),\"CF\"&TEXT((ROW(B710)/6)+10/3-INT((ROW(B710)-4)/50)/3,\"#\")))","v":"Index of Textbook: Adjective"},null,null,{"$f":"INDIRECT( \"FlashCards!\"&IF(MOD(INT((ROW(B710)-4)/50),2)=0,\"CF\"&TEXT((ROW(B710)/6)+10/3-INT((ROW(B710)-4)/50)/3+8,\"#\"),\"CF\"&TEXT((ROW(B710)/6)+10/3-INT((ROW(B710)-4)/50)/3+8,\"#\")))","v":"Index of Textbook: Preposition"}]
[null,{"$f":"INDIRECT( \"FlashCards!\"&IF(MOD(INT((ROW(B710)-4)/50),2)=0,\"CE\"&TEXT((ROW(B710)/6)+10/3-INT((ROW(B710)-4)/50)/3,\"#\"),\"CD\"&TEXT((ROW(B710)/6)+10/3-INT((ROW(B710)-4)/50)/3,\"#\")))","v":"ἀληθής"},null,null,{"$f":"INDIRECT( \"FlashCards!\"&IF(MOD(INT((ROW(B710)-4)/50),2)=0,\"CE\"&TEXT((ROW(B710)/6)+10/3-INT((ROW(B710)-4)/50)/3+8,\"#\"),\"CD\"&TEXT((ROW(B710)/6)+10/3-INT((ROW(B710)-4)/50)/3+8,\"#\")))","v":"ἅμα"}]
[]
[null,{"$f":"INDIRECT( \"FlashCards!\"&IF(MOD(INT((ROW(B710)-4)/50),2)=0,\"CC\"&TEXT((ROW(B710)/6)+10/3-INT((ROW(B710)-4)/50)/3,\"#\"),\"\"))","v":"ah-lay-THACE"},null,null,{"$f":"INDIRECT( \"FlashCards!\"&IF(MOD(INT((ROW(B710)-4)/50),2)=0,\"CC\"&TEXT((ROW(B710)/6)+10/3-INT((ROW(B710)-4)/50)/3+8,\"#\"),\"CC\"&TEXT((ROW(B710)/6)+10/3-INT((ROW(B710)-4)/50)/3+8,\"#\")))","v":"HA-mah"}]
[]
[]
[null,{"$f":"INDIRECT( \"FlashCards!\"&IF(MOD(INT((ROW(B716)-4)/50),2)=0,\"CF\"&TEXT((ROW(B716)/6)+10/3-INT((ROW(B716)-4)/50)/3,\"#\"),\"CF\"&TEXT((ROW(B716)/6)+10/3-INT((ROW(B716)-4)/50)/3,\"#\")))","v":"Index of Textbook: Adjective"},null,null,{"$f":"INDIRECT( \"FlashCards!\"&IF(MOD(INT((ROW(B716)-4)/50),2)=0,\"CF\"&TEXT((ROW(B716)/6)+10/3-INT((ROW(B716)-4)/50)/3+8,\"#\"),\"CF\"&TEXT((ROW(B716)/6)+10/3-INT((ROW(B716)-4)/50)/3+8,\"#\")))","v":"Index of Textbook: Adverb"}]
[null,{"$f":"INDIRECT( \"FlashCards!\"&IF(MOD(INT((ROW(B716)-4)/50),2)=0,\"CE\"&TEXT((ROW(B716)/6)+10/3-INT((ROW(B716)-4)/50)/3,\"#\"),\"CD\"&TEXT((ROW(B716)/6)+10/3-INT((ROW(B716)-4)/50)/3,\"#\")))","v":"ἀληθινός"},null,null,{"$f":"INDIRECT( \"FlashCards!\"&IF(MOD(INT((ROW(B716)-4)/50),2)=0,\"CE\"&TEXT((ROW(B716)/6)+10/3-INT((ROW(B716)-4)/50)/3+8,\"#\"),\"CD\"&TEXT((ROW(B716)/6)+10/3-INT((ROW(B716)-4)/50)/3+8,\"#\")))","v":"ἅμα"}]
[]
[null,{"$f":"INDIRECT( \"FlashCards!\"&IF(MOD(INT((ROW(B716)-4)/50),2)=0,\"CC\"&TEXT((ROW(B716)/6)+10/3-INT((ROW(B716)-4)/50)/3,\"#\"),\"\"))","v":"ah-lay-thin-OSS"},null,null,{"$f":"INDIRECT( \"FlashCards!\"&IF(MOD(INT((ROW(B716)-4)/50),2)=0,\"CC\"&TEXT((ROW(B716)/6)+10/3-INT((ROW(B716)-4)/50)/3+8,\"#\"),\"CC\"&TEXT((ROW(B716)/6)+10/3-INT((ROW(B716)-4)/50)/3+8,\"#\")))","v":"HA-mah"}]
[]
[]
[null,{"$f":"INDIRECT( \"FlashCards!\"&IF(MOD(INT((ROW(B722)-4)/50),2)=0,\"CF\"&TEXT((ROW(B722)/6)+10/3-INT((ROW(B722)-4)/50)/3,\"#\"),\"CF\"&TEXT((ROW(B722)/6)+10/3-INT((ROW(B722)-4)/50)/3,\"#\")))","v":"Index of Textbook: Adverb"},null,null,{"$f":"INDIRECT( \"FlashCards!\"&IF(MOD(INT((ROW(B722)-4)/50),2)=0,\"CF\"&TEXT((ROW(B722)/6)+10/3-INT((ROW(B722)-4)/50)/3+8,\"#\"),\"CF\"&TEXT((ROW(B722)/6)+10/3-INT((ROW(B722)-4)/50)/3+8,\"#\")))","v":"Chapter 35: Verb  "}]
[null,{"$f":"INDIRECT( \"FlashCards!\"&IF(MOD(INT((ROW(B722)-4)/50),2)=0,\"CE\"&TEXT((ROW(B722)/6)+10/3-INT((ROW(B722)-4)/50)/3,\"#\"),\"CD\"&TEXT((ROW(B722)/6)+10/3-INT((ROW(B722)-4)/50)/3,\"#\")))","v":"ἀληθῶς"},null,null,{"$f":"INDIRECT( \"FlashCards!\"&IF(MOD(INT((ROW(B722)-4)/50),2)=0,\"CE\"&TEXT((ROW(B722)/6)+10/3-INT((ROW(B722)-4)/50)/3+8,\"#\"),\"CD\"&TEXT((ROW(B722)/6)+10/3-INT((ROW(B722)-4)/50)/3+8,\"#\")))","v":"ἁμαρτάνω"}]
[]
[null,{"$f":"INDIRECT( \"FlashCards!\"&IF(MOD(INT((ROW(B722)-4)/50),2)=0,\"CC\"&TEXT((ROW(B722)/6)+10/3-INT((ROW(B722)-4)/50)/3,\"#\"),\"\"))","v":"ah-lay-THOCE"},null,null,{"$f":"INDIRECT( \"FlashCards!\"&IF(MOD(INT((ROW(B722)-4)/50),2)=0,\"CC\"&TEXT((ROW(B722)/6)+10/3-INT((ROW(B722)-4)/50)/3+8,\"#\"),\"CC\"&TEXT((ROW(B722)/6)+10/3-INT((ROW(B722)-4)/50)/3+8,\"#\")))","v":"ham-art-AH-noe"}]
[]
[]
[null,{"$f":"INDIRECT( \"FlashCards!\"&IF(MOD(INT((ROW(B728)-4)/50),2)=0,\"CF\"&TEXT((ROW(B728)/6)+10/3-INT((ROW(B728)-4)/50)/3,\"#\"),\"CF\"&TEXT((ROW(B728)/6)+10/3-INT((ROW(B728)-4)/50)/3,\"#\")))","v":"Chapter 08: Conjunction"},null,null,{"$f":"INDIRECT( \"FlashCards!\"&IF(MOD(INT((ROW(B728)-4)/50),2)=0,\"CF\"&TEXT((ROW(B728)/6)+10/3-INT((ROW(B728)-4)/50)/3+8,\"#\"),\"CF\"&TEXT((ROW(B728)/6)+10/3-INT((ROW(B728)-4)/50)/3+8,\"#\")))","v":"Chapter 07: Noun  "}]
[null,{"$f":"INDIRECT( \"FlashCards!\"&IF(MOD(INT((ROW(B728)-4)/50),2)=0,\"CE\"&TEXT((ROW(B728)/6)+10/3-INT((ROW(B728)-4)/50)/3,\"#\"),\"CD\"&TEXT((ROW(B728)/6)+10/3-INT((ROW(B728)-4)/50)/3,\"#\")))","v":"ἀλλά"},null,null,{"$f":"INDIRECT( \"FlashCards!\"&IF(MOD(INT((ROW(B728)-4)/50),2)=0,\"CE\"&TEXT((ROW(B728)/6)+10/3-INT((ROW(B728)-4)/50)/3+8,\"#\"),\"CD\"&TEXT((ROW(B728)/6)+10/3-INT((ROW(B728)-4)/50)/3+8,\"#\")))","v":"ἡ ἁμαρτία"}]
[]
[null,{"$f":"INDIRECT( \"FlashCards!\"&IF(MOD(INT((ROW(B728)-4)/50),2)=0,\"CC\"&TEXT((ROW(B728)/6)+10/3-INT((ROW(B728)-4)/50)/3,\"#\"),\"\"))","v":"ahl-LAH"},null,null,{"$f":"INDIRECT( \"FlashCards!\"&IF(MOD(INT((ROW(B728)-4)/50),2)=0,\"CC\"&TEXT((ROW(B728)/6)+10/3-INT((ROW(B728)-4)/50)/3+8,\"#\"),\"CC\"&TEXT((ROW(B728)/6)+10/3-INT((ROW(B728)-4)/50)/3+8,\"#\")))","v":"ha-mar-TEE-ah"}]
[]
[]
[null,{"$f":"INDIRECT( \"FlashCards!\"&IF(MOD(INT((ROW(B734)-4)/50),2)=0,\"CF\"&TEXT((ROW(B734)/6)+10/3-INT((ROW(B734)-4)/50)/3,\"#\"),\"CF\"&TEXT((ROW(B734)/6)+10/3-INT((ROW(B734)-4)/50)/3,\"#\")))","v":"Chapter 09: Noun  "},null,null,{"$f":"INDIRECT( \"FlashCards!\"&IF(MOD(INT((ROW(B734)-4)/50),2)=0,\"CF\"&TEXT((ROW(B734)/6)+10/3-INT((ROW(B734)-4)/50)/3+8,\"#\"),\"CF\"&TEXT((ROW(B734)/6)+10/3-INT((ROW(B734)-4)/50)/3+8,\"#\")))","v":"Chapter 35: Noun  "}]
[null,{"$f":"INDIRECT( \"FlashCards!\"&IF(MOD(INT((ROW(B734)-4)/50),2)=0,\"CE\"&TEXT((ROW(B734)/6)+10/3-INT((ROW(B734)-4)/50)/3,\"#\"),\"CD\"&TEXT((ROW(B734)/6)+10/3-INT((ROW(B734)-4)/50)/3,\"#\")))","v":"ἡ ἀλλήλωη"},null,null,{"$f":"INDIRECT( \"FlashCards!\"&IF(MOD(INT((ROW(B734)-4)/50),2)=0,\"CE\"&TEXT((ROW(B734)/6)+10/3-INT((ROW(B734)-4)/50)/3+8,\"#\"),\"CD\"&TEXT((ROW(B734)/6)+10/3-INT((ROW(B734)-4)/50)/3+8,\"#\")))","v":"ὁ ἁμαρτωλός [noun]"}]
[]
[null,{"$f":"INDIRECT( \"FlashCards!\"&IF(MOD(INT((ROW(B734)-4)/50),2)=0,\"CC\"&TEXT((ROW(B734)/6)+10/3-INT((ROW(B734)-4)/50)/3,\"#\"),\"\"))","v":"ahl-LAY-low-ay"},null,null,{"$f":"INDIRECT( \"FlashCards!\"&IF(MOD(INT((ROW(B734)-4)/50),2)=0,\"CC\"&TEXT((ROW(B734)/6)+10/3-INT((ROW(B734)-4)/50)/3+8,\"#\"),\"CC\"&TEXT((ROW(B734)/6)+10/3-INT((ROW(B734)-4)/50)/3+8,\"#\")))","v":"ham-arr-toe-LOSS"}]
[]
[]
[null,{"$f":"INDIRECT( \"FlashCards!\"&IF(MOD(INT((ROW(B740)-4)/50),2)=0,\"CF\"&TEXT((ROW(B740)/6)+10/3-INT((ROW(B740)-4)/50)/3,\"#\"),\"CF\"&TEXT((ROW(B740)/6)+10/3-INT((ROW(B740)-4)/50)/3,\"#\")))","v":"Chapter 06: Pronoun"},null,null,{"$f":"INDIRECT( \"FlashCards!\"&IF(MOD(INT((ROW(B740)-4)/50),2)=0,\"CF\"&TEXT((ROW(B740)/6)+10/3-INT((ROW(B740)-4)/50)/3+8,\"#\"),\"CF\"&TEXT((ROW(B740)/6)+10/3-INT((ROW(B740)-4)/50)/3+8,\"#\")))","v":"Chapter 35: Adjective"}]
[null,{"$f":"INDIRECT( \"FlashCards!\"&IF(MOD(INT((ROW(B740)-4)/50),2)=0,\"CE\"&TEXT((ROW(B740)/6)+10/3-INT((ROW(B740)-4)/50)/3,\"#\"),\"CD\"&TEXT((ROW(B740)/6)+10/3-INT((ROW(B740)-4)/50)/3,\"#\")))","v":"ἄλλος"},null,null,{"$f":"INDIRECT( \"FlashCards!\"&IF(MOD(INT((ROW(B740)-4)/50),2)=0,\"CE\"&TEXT((ROW(B740)/6)+10/3-INT((ROW(B740)-4)/50)/3+8,\"#\"),\"CD\"&TEXT((ROW(B740)/6)+10/3-INT((ROW(B740)-4)/50)/3+8,\"#\")))","v":"ἁμαρτωλός [adjective]"}]
[]
[null,{"$f":"INDIRECT( \"FlashCards!\"&IF(MOD(INT((ROW(B740)-4)/50),2)=0,\"CC\"&TEXT((ROW(B740)/6)+10/3-INT((ROW(B740)-4)/50)/3,\"#\"),\"\"))","v":"ALL-oss"},null,null,{"$f":"INDIRECT( \"FlashCards!\"&IF(MOD(INT((ROW(B740)-4)/50),2)=0,\"CC\"&TEXT((ROW(B740)/6)+10/3-INT((ROW(B740)-4)/50)/3+8,\"#\"),\"CC\"&TEXT((ROW(B740)/6)+10/3-INT((ROW(B740)-4)/50)/3+8,\"#\")))","v":"ham-arr-toe-LOSS"}]
[]
[]
[null,{"$f":"INDIRECT( \"FlashCards!\"&IF(MOD(INT((ROW(B746)-4)/50),2)=0,\"CF\"&TEXT((ROW(B746)/6)+10/3-INT((ROW(B746)-4)/50)/3,\"#\"),\"CF\"&TEXT((ROW(B746)/6)+10/3-INT((ROW(B746)-4)/50)/3,\"#\")))","v":"Chapter 38: Adjective"},null,null,{"$f":"INDIRECT( \"FlashCards!\"&IF(MOD(INT((ROW(B746)-4)/50),2)=0,\"CF\"&TEXT((ROW(B746)/6)+10/3-INT((ROW(B746)-4)/50)/3+8,\"#\"),\"CF\"&TEXT((ROW(B746)/6)+10/3-INT((ROW(B746)-4)/50)/3+8,\"#\")))","v":"Chapter 04: Adverb"}]
[null,{"$f":"INDIRECT( \"FlashCards!\"&IF(MOD(INT((ROW(B746)-4)/50),2)=0,\"CE\"&TEXT((ROW(B746)/6)+10/3-INT((ROW(B746)-4)/50)/3,\"#\"),\"CD\"&TEXT((ROW(B746)/6)+10/3-INT((ROW(B746)-4)/50)/3,\"#\")))","v":"ἀλλότριος"},null,null,{"$f":"INDIRECT( \"FlashCards!\"&IF(MOD(INT((ROW(B746)-4)/50),2)=0,\"CE\"&TEXT((ROW(B746)/6)+10/3-INT((ROW(B746)-4)/50)/3+8,\"#\"),\"CD\"&TEXT((ROW(B746)/6)+10/3-INT((ROW(B746)-4)/50)/3+8,\"#\")))","v":"ἀμῄν"}]
[]
[null,{"$f":"INDIRECT( \"FlashCards!\"&IF(MOD(INT((ROW(B746)-4)/50),2)=0,\"CC\"&TEXT((ROW(B746)/6)+10/3-INT((ROW(B746)-4)/50)/3,\"#\"),\"\"))","v":"ahl-LOT-ree-oss"},null,null,{"$f":"INDIRECT( \"FlashCards!\"&IF(MOD(INT((ROW(B746)-4)/50),2)=0,\"CC\"&TEXT((ROW(B746)/6)+10/3-INT((ROW(B746)-4)/50)/3+8,\"#\"),\"CC\"&TEXT((ROW(B746)/6)+10/3-INT((ROW(B746)-4)/50)/3+8,\"#\")))","v":"ah-MANE"}]
[]
[]
[]
[]
[null,{"$f":"E703","v":"Chapter 38: Noun  "},null,null,{"$f":"B703","v":"Chapter 14: Noun  "}]
[null,{"$f":"INDIRECT( \"FlashCards!\"&IF(MOD(INT((ROW(B754)-4)/50),2)=0,\"CE\"&TEXT((ROW(B754)/6)+10/3-INT((ROW(B754)-4)/50)/3,\"#\"),\"CD\"&TEXT((ROW(B754)/6)+10/3-INT((ROW(B754)-4)/50)/3,\"#\")))","v":"chain"},null,null,{"$f":"INDIRECT( \"FlashCards!\"&IF(MOD(INT((ROW(B754)-4)/50),2)=0,\"CE\"&TEXT((ROW(B754)/6)+10/3-INT((ROW(B754)-4)/50)/3-8,\"#\"),\"CD\"&TEXT((ROW(B754)/6)+10/3-INT((ROW(B754)-4)/50)/3-8,\"#\")))","v":"truth"}]
[]
[]
[]
[]
[null,{"$f":"E709","v":"Index of Textbook: Preposition"},null,null,{"$f":"B709","v":"Index of Textbook: Adjective"}]
[null,{"$f":"INDIRECT( \"FlashCards!\"&IF(MOD(INT((ROW(B760)-4)/50),2)=0,\"CE\"&TEXT((ROW(B760)/6)+10/3-INT((ROW(B760)-4)/50)/3,\"#\"),\"CD\"&TEXT((ROW(B760)/6)+10/3-INT((ROW(B760)-4)/50)/3,\"#\")))","v":"together with [dative]"},null,null,{"$f":"INDIRECT( \"FlashCards!\"&IF(MOD(INT((ROW(B760)-4)/50),2)=0,\"CE\"&TEXT((ROW(B760)/6)+10/3-INT((ROW(B760)-4)/50)/3-8,\"#\"),\"CD\"&TEXT((ROW(B760)/6)+10/3-INT((ROW(B760)-4)/50)/3-8,\"#\")))","v":"true, truthful"}]
[]
[]
[]
[]
[null,{"$f":"E715","v":"Index of Textbook: Adverb"},null,null,{"$f":"B715","v":"Index of Textbook: Adjective"}]
[null,{"$f":"INDIRECT( \"FlashCards!\"&IF(MOD(INT((ROW(B766)-4)/50),2)=0,\"CE\"&TEXT((ROW(B766)/6)+10/3-INT((ROW(B766)-4)/50)/3,\"#\"),\"CD\"&TEXT((ROW(B766)/6)+10/3-INT((ROW(B766)-4)/50)/3,\"#\")))","v":"at the same time"},null,null,{"$f":"INDIRECT( \"FlashCards!\"&IF(MOD(INT((ROW(B766)-4)/50),2)=0,\"CE\"&TEXT((ROW(B766)/6)+10/3-INT((ROW(B766)-4)/50)/3-8,\"#\"),\"CD\"&TEXT((ROW(B766)/6)+10/3-INT((ROW(B766)-4)/50)/3-8,\"#\")))","v":"true, genuine"}]
[]
[]
[]
[]
[null,{"$f":"E721","v":"Chapter 35: Verb  "},null,null,{"$f":"B721","v":"Index of Textbook: Adverb"}]
[null,{"$f":"INDIRECT( \"FlashCards!\"&IF(MOD(INT((ROW(B772)-4)/50),2)=0,\"CE\"&TEXT((ROW(B772)/6)+10/3-INT((ROW(B772)-4)/50)/3,\"#\"),\"CD\"&TEXT((ROW(B772)/6)+10/3-INT((ROW(B772)-4)/50)/3,\"#\")))","v":"I sin"},null,null,{"$f":"INDIRECT( \"FlashCards!\"&IF(MOD(INT((ROW(B772)-4)/50),2)=0,\"CE\"&TEXT((ROW(B772)/6)+10/3-INT((ROW(B772)-4)/50)/3-8,\"#\"),\"CD\"&TEXT((ROW(B772)/6)+10/3-INT((ROW(B772)-4)/50)/3-8,\"#\")))","v":"truly"}]
[]
[]
[]
[]
[null,{"$f":"E727","v":"Chapter 07: Noun  "},null,null,{"$f":"B727","v":"Chapter 08: Conjunction"}]
[null,{"$f":"INDIRECT( \"FlashCards!\"&IF(MOD(INT((ROW(B778)-4)/50),2)=0,\"CE\"&TEXT((ROW(B778)/6)+10/3-INT((ROW(B778)-4)/50)/3,\"#\"),\"CD\"&TEXT((ROW(B778)/6)+10/3-INT((ROW(B778)-4)/50)/3,\"#\")))","v":"sin"},null,null,{"$f":"INDIRECT( \"FlashCards!\"&IF(MOD(INT((ROW(B778)-4)/50),2)=0,\"CE\"&TEXT((ROW(B778)/6)+10/3-INT((ROW(B778)-4)/50)/3-8,\"#\"),\"CD\"&TEXT((ROW(B778)/6)+10/3-INT((ROW(B778)-4)/50)/3-8,\"#\")))","v":"but, yet, rather (particle)"}]
[]
[]
[]
[]
[null,{"$f":"E733","v":"Chapter 35: Noun  "},null,null,{"$f":"B733","v":"Chapter 09: Noun  "}]
[null,{"$f":"INDIRECT( \"FlashCards!\"&IF(MOD(INT((ROW(B784)-4)/50),2)=0,\"CE\"&TEXT((ROW(B784)/6)+10/3-INT((ROW(B784)-4)/50)/3,\"#\"),\"CD\"&TEXT((ROW(B784)/6)+10/3-INT((ROW(B784)-4)/50)/3,\"#\")))","v":"sinner"},null,null,{"$f":"INDIRECT( \"FlashCards!\"&IF(MOD(INT((ROW(B784)-4)/50),2)=0,\"CE\"&TEXT((ROW(B784)/6)+10/3-INT((ROW(B784)-4)/50)/3-8,\"#\"),\"CD\"&TEXT((ROW(B784)/6)+10/3-INT((ROW(B784)-4)/50)/3-8,\"#\")))","v":"one another [genitive plural…]"}]
[]
[]
[]
[]
[null,{"$f":"E739","v":"Chapter 35: Adjective"},null,null,{"$f":"B739","v":"Chapter 06: Pronoun"}]
[null,{"$f":"INDIRECT( \"FlashCards!\"&IF(MOD(INT((ROW(B790)-4)/50),2)=0,\"CE\"&TEXT((ROW(B790)/6)+10/3-INT((ROW(B790)-4)/50)/3,\"#\"),\"CD\"&TEXT((ROW(B790)/6)+10/3-INT((ROW(B790)-4)/50)/3,\"#\")))","v":"sinful"},null,null,{"$f":"INDIRECT( \"FlashCards!\"&IF(MOD(INT((ROW(B790)-4)/50),2)=0,\"CE\"&TEXT((ROW(B790)/6)+10/3-INT((ROW(B790)-4)/50)/3-8,\"#\"),\"CD\"&TEXT((ROW(B790)/6)+10/3-INT((ROW(B790)-4)/50)/3-8,\"#\")))","v":"other, another"}]
[]
[]
[]
[]
[null,{"$f":"E745","v":"Chapter 04: Adverb"},null,null,{"$f":"B745","v":"Chapter 38: Adjective"}]
[null,{"$f":"INDIRECT( \"FlashCards!\"&IF(MOD(INT((ROW(B796)-4)/50),2)=0,\"CE\"&TEXT((ROW(B796)/6)+10/3-INT((ROW(B796)-4)/50)/3,\"#\"),\"CD\"&TEXT((ROW(B796)/6)+10/3-INT((ROW(B796)-4)/50)/3,\"#\")))","v":"truly, amen, let it be so"},null,null,{"$f":"INDIRECT( \"FlashCards!\"&IF(MOD(INT((ROW(B796)-4)/50),2)=0,\"CE\"&TEXT((ROW(B796)/6)+10/3-INT((ROW(B796)-4)/50)/3-8,\"#\"),\"CD\"&TEXT((ROW(B796)/6)+10/3-INT((ROW(B796)-4)/50)/3-8,\"#\")))","v":"strange, not one's own"}]
[]
[]
[]
[]
[]
[]
[null,{"$f":"INDIRECT( \"FlashCards!\"&IF(MOD(INT((ROW(B804)-4)/50),2)=0,\"CF\"&TEXT((ROW(B804)/6)+10/3-INT((ROW(B804)-4)/50)/3,\"#\"),\"CF\"&TEXT((ROW(B804)/6)+10/3-INT((ROW(B804)-4)/50)/3,\"#\")))","v":"Index of Textbook: Noun  "},null,null,{"$f":"INDIRECT( \"FlashCards!\"&IF(MOD(INT((ROW(B804)-4)/50),2)=0,\"CF\"&TEXT((ROW(B804)/6)+10/3-INT((ROW(B804)-4)/50)/3+8,\"#\"),\"CF\"&TEXT((ROW(B804)/6)+10/3-INT((ROW(B804)-4)/50)/3+8,\"#\")))","v":"Index of Textbook: Verb  "}]
[null,{"$f":"INDIRECT( \"FlashCards!\"&IF(MOD(INT((ROW(B804)-4)/50),2)=0,\"CE\"&TEXT((ROW(B804)/6)+10/3-INT((ROW(B804)-4)/50)/3,\"#\"),\"CD\"&TEXT((ROW(B804)/6)+10/3-INT((ROW(B804)-4)/50)/3,\"#\")))","v":"ὁ ἀμπελών"},null,null,{"$f":"INDIRECT( \"FlashCards!\"&IF(MOD(INT((ROW(B804)-4)/50),2)=0,\"CE\"&TEXT((ROW(B804)/6)+10/3-INT((ROW(B804)-4)/50)/3+8,\"#\"),\"CD\"&TEXT((ROW(B804)/6)+10/3-INT((ROW(B804)-4)/50)/3+8,\"#\")))","v":"ἀναγινώσκω"}]
[]
[null,{"$f":"INDIRECT( \"FlashCards!\"&IF(MOD(INT((ROW(B804)-4)/50),2)=0,\"CC\"&TEXT((ROW(B804)/6)+10/3-INT((ROW(B804)-4)/50)/3,\"#\"),\"\"))","v":"ahm-pell-OWN"},null,null,{"$f":"INDIRECT( \"FlashCards!\"&IF(MOD(INT((ROW(B804)-4)/50),2)=0,\"CC\"&TEXT((ROW(B804)/6)+10/3-INT((ROW(B804)-4)/50)/3+8,\"#\"),\"CC\"&TEXT((ROW(B804)/6)+10/3-INT((ROW(B804)-4)/50)/3+8,\"#\")))","v":"ah-nah-giin-OSE-koe"}]
[]
[]
[null,{"$f":"INDIRECT( \"FlashCards!\"&IF(MOD(INT((ROW(B810)-4)/50),2)=0,\"CF\"&TEXT((ROW(B810)/6)+10/3-INT((ROW(B810)-4)/50)/3,\"#\"),\"CF\"&TEXT((ROW(B810)/6)+10/3-INT((ROW(B810)-4)/50)/3,\"#\")))","v":"Index of Textbook: Adjective"},null,null,{"$f":"INDIRECT( \"FlashCards!\"&IF(MOD(INT((ROW(B810)-4)/50),2)=0,\"CF\"&TEXT((ROW(B810)/6)+10/3-INT((ROW(B810)-4)/50)/3+8,\"#\"),\"CF\"&TEXT((ROW(B810)/6)+10/3-INT((ROW(B810)-4)/50)/3+8,\"#\")))","v":"Index of Textbook: Noun  "}]
[null,{"$f":"INDIRECT( \"FlashCards!\"&IF(MOD(INT((ROW(B810)-4)/50),2)=0,\"CE\"&TEXT((ROW(B810)/6)+10/3-INT((ROW(B810)-4)/50)/3,\"#\"),\"CD\"&TEXT((ROW(B810)/6)+10/3-INT((ROW(B810)-4)/50)/3,\"#\")))","v":"ἀμφότεροι"},null,null,{"$f":"INDIRECT( \"FlashCards!\"&IF(MOD(INT((ROW(B810)-4)/50),2)=0,\"CE\"&TEXT((ROW(B810)/6)+10/3-INT((ROW(B810)-4)/50)/3+8,\"#\"),\"CD\"&TEXT((ROW(B810)/6)+10/3-INT((ROW(B810)-4)/50)/3+8,\"#\")))","v":"ἡ ἀνάγκη"}]
[]
[null,{"$f":"INDIRECT( \"FlashCards!\"&IF(MOD(INT((ROW(B810)-4)/50),2)=0,\"CC\"&TEXT((ROW(B810)/6)+10/3-INT((ROW(B810)-4)/50)/3,\"#\"),\"\"))","v":"ahm-FOT-er-oy"},null,null,{"$f":"INDIRECT( \"FlashCards!\"&IF(MOD(INT((ROW(B810)-4)/50),2)=0,\"CC\"&TEXT((ROW(B810)/6)+10/3-INT((ROW(B810)-4)/50)/3+8,\"#\"),\"CC\"&TEXT((ROW(B810)/6)+10/3-INT((ROW(B810)-4)/50)/3+8,\"#\")))","v":"ah-NANG-kay"}]
[]
[]
[null,{"$f":"INDIRECT( \"FlashCards!\"&IF(MOD(INT((ROW(B816)-4)/50),2)=0,\"CF\"&TEXT((ROW(B816)/6)+10/3-INT((ROW(B816)-4)/50)/3,\"#\"),\"CF\"&TEXT((ROW(B816)/6)+10/3-INT((ROW(B816)-4)/50)/3,\"#\")))","v":"Chapter 14: Pronoun"},null,null,{"$f":"INDIRECT( \"FlashCards!\"&IF(MOD(INT((ROW(B816)-4)/50),2)=0,\"CF\"&TEXT((ROW(B816)/6)+10/3-INT((ROW(B816)-4)/50)/3+8,\"#\"),\"CF\"&TEXT((ROW(B816)/6)+10/3-INT((ROW(B816)-4)/50)/3+8,\"#\")))","v":"Index of Textbook: Verb  "}]
[null,{"$f":"INDIRECT( \"FlashCards!\"&IF(MOD(INT((ROW(B816)-4)/50),2)=0,\"CE\"&TEXT((ROW(B816)/6)+10/3-INT((ROW(B816)-4)/50)/3,\"#\"),\"CD\"&TEXT((ROW(B816)/6)+10/3-INT((ROW(B816)-4)/50)/3,\"#\")))","v":"ἄν"},null,null,{"$f":"INDIRECT( \"FlashCards!\"&IF(MOD(INT((ROW(B816)-4)/50),2)=0,\"CE\"&TEXT((ROW(B816)/6)+10/3-INT((ROW(B816)-4)/50)/3+8,\"#\"),\"CD\"&TEXT((ROW(B816)/6)+10/3-INT((ROW(B816)-4)/50)/3+8,\"#\")))","v":"ἀνάγω"}]
[]
[null,{"$f":"INDIRECT( \"FlashCards!\"&IF(MOD(INT((ROW(B816)-4)/50),2)=0,\"CC\"&TEXT((ROW(B816)/6)+10/3-INT((ROW(B816)-4)/50)/3,\"#\"),\"\"))","v":"AHN"},null,null,{"$f":"INDIRECT( \"FlashCards!\"&IF(MOD(INT((ROW(B816)-4)/50),2)=0,\"CC\"&TEXT((ROW(B816)/6)+10/3-INT((ROW(B816)-4)/50)/3+8,\"#\"),\"CC\"&TEXT((ROW(B816)/6)+10/3-INT((ROW(B816)-4)/50)/3+8,\"#\")))","v":"Ah-NAH-go"}]
[]
[]
[null,{"$f":"INDIRECT( \"FlashCards!\"&IF(MOD(INT((ROW(B822)-4)/50),2)=0,\"CF\"&TEXT((ROW(B822)/6)+10/3-INT((ROW(B822)-4)/50)/3,\"#\"),\"CF\"&TEXT((ROW(B822)/6)+10/3-INT((ROW(B822)-4)/50)/3,\"#\")))","v":"Chapter 11: Noun Ending"},null,null,{"$f":"INDIRECT( \"FlashCards!\"&IF(MOD(INT((ROW(B822)-4)/50),2)=0,\"CF\"&TEXT((ROW(B822)/6)+10/3-INT((ROW(B822)-4)/50)/3+8,\"#\"),\"CF\"&TEXT((ROW(B822)/6)+10/3-INT((ROW(B822)-4)/50)/3+8,\"#\")))","v":"Index of Textbook: Verb  "}]
[null,{"$f":"INDIRECT( \"FlashCards!\"&IF(MOD(INT((ROW(B822)-4)/50),2)=0,\"CE\"&TEXT((ROW(B822)/6)+10/3-INT((ROW(B822)-4)/50)/3,\"#\"),\"CD\"&TEXT((ROW(B822)/6)+10/3-INT((ROW(B822)-4)/50)/3,\"#\")))","v":"-ἄν"},null,null,{"$f":"INDIRECT( \"FlashCards!\"&IF(MOD(INT((ROW(B822)-4)/50),2)=0,\"CE\"&TEXT((ROW(B822)/6)+10/3-INT((ROW(B822)-4)/50)/3+8,\"#\"),\"CD\"&TEXT((ROW(B822)/6)+10/3-INT((ROW(B822)-4)/50)/3+8,\"#\")))","v":"ἀναιρέω"}]
[]
[null,{"$f":"INDIRECT( \"FlashCards!\"&IF(MOD(INT((ROW(B822)-4)/50),2)=0,\"CC\"&TEXT((ROW(B822)/6)+10/3-INT((ROW(B822)-4)/50)/3,\"#\"),\"\"))","v":"AHN"},null,null,{"$f":"INDIRECT( \"FlashCards!\"&IF(MOD(INT((ROW(B822)-4)/50),2)=0,\"CC\"&TEXT((ROW(B822)/6)+10/3-INT((ROW(B822)-4)/50)/3+8,\"#\"),\"CC\"&TEXT((ROW(B822)/6)+10/3-INT((ROW(B822)-4)/50)/3+8,\"#\")))","v":"ahn-eye-REH-owe"}]
[]
[]
[null,{"$f":"INDIRECT( \"FlashCards!\"&IF(MOD(INT((ROW(B828)-4)/50),2)=0,\"CF\"&TEXT((ROW(B828)/6)+10/3-INT((ROW(B828)-4)/50)/3,\"#\"),\"CF\"&TEXT((ROW(B828)/6)+10/3-INT((ROW(B828)-4)/50)/3,\"#\")))","v":"Index of Textbook: Preposition"},null,null,{"$f":"INDIRECT( \"FlashCards!\"&IF(MOD(INT((ROW(B828)-4)/50),2)=0,\"CF\"&TEXT((ROW(B828)/6)+10/3-INT((ROW(B828)-4)/50)/3+8,\"#\"),\"CF\"&TEXT((ROW(B828)/6)+10/3-INT((ROW(B828)-4)/50)/3+8,\"#\")))","v":"Index of Textbook: Verb  "}]
[null,{"$f":"INDIRECT( \"FlashCards!\"&IF(MOD(INT((ROW(B828)-4)/50),2)=0,\"CE\"&TEXT((ROW(B828)/6)+10/3-INT((ROW(B828)-4)/50)/3,\"#\"),\"CD\"&TEXT((ROW(B828)/6)+10/3-INT((ROW(B828)-4)/50)/3,\"#\")))","v":"ἀνά"},null,null,{"$f":"INDIRECT( \"FlashCards!\"&IF(MOD(INT((ROW(B828)-4)/50),2)=0,\"CE\"&TEXT((ROW(B828)/6)+10/3-INT((ROW(B828)-4)/50)/3+8,\"#\"),\"CD\"&TEXT((ROW(B828)/6)+10/3-INT((ROW(B828)-4)/50)/3+8,\"#\")))","v":"ἀνάκειμαι"}]
[]
[null,{"$f":"INDIRECT( \"FlashCards!\"&IF(MOD(INT((ROW(B828)-4)/50),2)=0,\"CC\"&TEXT((ROW(B828)/6)+10/3-INT((ROW(B828)-4)/50)/3,\"#\"),\"\"))","v":"ah-NA"},null,null,{"$f":"INDIRECT( \"FlashCards!\"&IF(MOD(INT((ROW(B828)-4)/50),2)=0,\"CC\"&TEXT((ROW(B828)/6)+10/3-INT((ROW(B828)-4)/50)/3+8,\"#\"),\"CC\"&TEXT((ROW(B828)/6)+10/3-INT((ROW(B828)-4)/50)/3+8,\"#\")))","v":"ah-NAH-kay-my"}]
[]
[]
[null,{"$f":"INDIRECT( \"FlashCards!\"&IF(MOD(INT((ROW(B834)-4)/50),2)=0,\"CF\"&TEXT((ROW(B834)/6)+10/3-INT((ROW(B834)-4)/50)/3,\"#\"),\"CF\"&TEXT((ROW(B834)/6)+10/3-INT((ROW(B834)-4)/50)/3,\"#\")))","v":"Chapter 27: Verb  "},null,null,{"$f":"INDIRECT( \"FlashCards!\"&IF(MOD(INT((ROW(B834)-4)/50),2)=0,\"CF\"&TEXT((ROW(B834)/6)+10/3-INT((ROW(B834)-4)/50)/3+8,\"#\"),\"CF\"&TEXT((ROW(B834)/6)+10/3-INT((ROW(B834)-4)/50)/3+8,\"#\")))","v":"Index of Textbook: Verb  "}]
[null,{"$f":"INDIRECT( \"FlashCards!\"&IF(MOD(INT((ROW(B834)-4)/50),2)=0,\"CE\"&TEXT((ROW(B834)/6)+10/3-INT((ROW(B834)-4)/50)/3,\"#\"),\"CD\"&TEXT((ROW(B834)/6)+10/3-INT((ROW(B834)-4)/50)/3,\"#\")))","v":"ἀναβαίνω"},null,null,{"$f":"INDIRECT( \"FlashCards!\"&IF(MOD(INT((ROW(B834)-4)/50),2)=0,\"CE\"&TEXT((ROW(B834)/6)+10/3-INT((ROW(B834)-4)/50)/3+8,\"#\"),\"CD\"&TEXT((ROW(B834)/6)+10/3-INT((ROW(B834)-4)/50)/3+8,\"#\")))","v":"ἀνακρίνω"}]
[]
[null,{"$f":"INDIRECT( \"FlashCards!\"&IF(MOD(INT((ROW(B834)-4)/50),2)=0,\"CC\"&TEXT((ROW(B834)/6)+10/3-INT((ROW(B834)-4)/50)/3,\"#\"),\"\"))","v":"ah-nah-BYE-noe"},null,null,{"$f":"INDIRECT( \"FlashCards!\"&IF(MOD(INT((ROW(B834)-4)/50),2)=0,\"CC\"&TEXT((ROW(B834)/6)+10/3-INT((ROW(B834)-4)/50)/3+8,\"#\"),\"CC\"&TEXT((ROW(B834)/6)+10/3-INT((ROW(B834)-4)/50)/3+8,\"#\")))","v":"ah-nah-KREE-no"}]
[]
[]
[null,{"$f":"INDIRECT( \"FlashCards!\"&IF(MOD(INT((ROW(B840)-4)/50),2)=0,\"CF\"&TEXT((ROW(B840)/6)+10/3-INT((ROW(B840)-4)/50)/3,\"#\"),\"CF\"&TEXT((ROW(B840)/6)+10/3-INT((ROW(B840)-4)/50)/3,\"#\")))","v":"Index of Textbook: Verb  "},null,null,{"$f":"INDIRECT( \"FlashCards!\"&IF(MOD(INT((ROW(B840)-4)/50),2)=0,\"CF\"&TEXT((ROW(B840)/6)+10/3-INT((ROW(B840)-4)/50)/3+8,\"#\"),\"CF\"&TEXT((ROW(B840)/6)+10/3-INT((ROW(B840)-4)/50)/3+8,\"#\")))","v":"Chapter 38: Verb  "}]
[null,{"$f":"INDIRECT( \"FlashCards!\"&IF(MOD(INT((ROW(B840)-4)/50),2)=0,\"CE\"&TEXT((ROW(B840)/6)+10/3-INT((ROW(B840)-4)/50)/3,\"#\"),\"CD\"&TEXT((ROW(B840)/6)+10/3-INT((ROW(B840)-4)/50)/3,\"#\")))","v":"ἀναβλέπω"},null,null,{"$f":"INDIRECT( \"FlashCards!\"&IF(MOD(INT((ROW(B840)-4)/50),2)=0,\"CE\"&TEXT((ROW(B840)/6)+10/3-INT((ROW(B840)-4)/50)/3+8,\"#\"),\"CD\"&TEXT((ROW(B840)/6)+10/3-INT((ROW(B840)-4)/50)/3+8,\"#\")))","v":"ἀναλαμβάνω"}]
[]
[null,{"$f":"INDIRECT( \"FlashCards!\"&IF(MOD(INT((ROW(B840)-4)/50),2)=0,\"CC\"&TEXT((ROW(B840)/6)+10/3-INT((ROW(B840)-4)/50)/3,\"#\"),\"\"))","v":"ah-NA-BLEPP-owe"},null,null,{"$f":"INDIRECT( \"FlashCards!\"&IF(MOD(INT((ROW(B840)-4)/50),2)=0,\"CC\"&TEXT((ROW(B840)/6)+10/3-INT((ROW(B840)-4)/50)/3+8,\"#\"),\"CC\"&TEXT((ROW(B840)/6)+10/3-INT((ROW(B840)-4)/50)/3+8,\"#\")))","v":"ahn-ah-lahm-BAHN-owe"}]
[]
[]
[null,{"$f":"INDIRECT( \"FlashCards!\"&IF(MOD(INT((ROW(B846)-4)/50),2)=0,\"CF\"&TEXT((ROW(B846)/6)+10/3-INT((ROW(B846)-4)/50)/3,\"#\"),\"CF\"&TEXT((ROW(B846)/6)+10/3-INT((ROW(B846)-4)/50)/3,\"#\")))","v":"Chapter 38: Verb  "},null,null,{"$f":"INDIRECT( \"FlashCards!\"&IF(MOD(INT((ROW(B846)-4)/50),2)=0,\"CF\"&TEXT((ROW(B846)/6)+10/3-INT((ROW(B846)-4)/50)/3+8,\"#\"),\"CF\"&TEXT((ROW(B846)/6)+10/3-INT((ROW(B846)-4)/50)/3+8,\"#\")))","v":"Chapter 38: Proper Noun"}]
[null,{"$f":"INDIRECT( \"FlashCards!\"&IF(MOD(INT((ROW(B846)-4)/50),2)=0,\"CE\"&TEXT((ROW(B846)/6)+10/3-INT((ROW(B846)-4)/50)/3,\"#\"),\"CD\"&TEXT((ROW(B846)/6)+10/3-INT((ROW(B846)-4)/50)/3,\"#\")))","v":"ἀναγγέλλω"},null,null,{"$f":"INDIRECT( \"FlashCards!\"&IF(MOD(INT((ROW(B846)-4)/50),2)=0,\"CE\"&TEXT((ROW(B846)/6)+10/3-INT((ROW(B846)-4)/50)/3+8,\"#\"),\"CD\"&TEXT((ROW(B846)/6)+10/3-INT((ROW(B846)-4)/50)/3+8,\"#\")))","v":"ὁ Ἁνανίας"}]
[]
[null,{"$f":"INDIRECT( \"FlashCards!\"&IF(MOD(INT((ROW(B846)-4)/50),2)=0,\"CC\"&TEXT((ROW(B846)/6)+10/3-INT((ROW(B846)-4)/50)/3,\"#\"),\"\"))","v":"ah-nang-ELL-owe"},null,null,{"$f":"INDIRECT( \"FlashCards!\"&IF(MOD(INT((ROW(B846)-4)/50),2)=0,\"CC\"&TEXT((ROW(B846)/6)+10/3-INT((ROW(B846)-4)/50)/3+8,\"#\"),\"CC\"&TEXT((ROW(B846)/6)+10/3-INT((ROW(B846)-4)/50)/3+8,\"#\")))","v":"hah-nah-NEE-ahss"}]
[]
[]
[]
[]
[null,{"$f":"E803","v":"Index of Textbook: Verb  "},null,null,{"$f":"B803","v":"Index of Textbook: Noun  "}]
[null,{"$f":"INDIRECT( \"FlashCards!\"&IF(MOD(INT((ROW(B854)-4)/50),2)=0,\"CE\"&TEXT((ROW(B854)/6)+10/3-INT((ROW(B854)-4)/50)/3,\"#\"),\"CD\"&TEXT((ROW(B854)/6)+10/3-INT((ROW(B854)-4)/50)/3,\"#\")))","v":"I read"},null,null,{"$f":"INDIRECT( \"FlashCards!\"&IF(MOD(INT((ROW(B854)-4)/50),2)=0,\"CE\"&TEXT((ROW(B854)/6)+10/3-INT((ROW(B854)-4)/50)/3-8,\"#\"),\"CD\"&TEXT((ROW(B854)/6)+10/3-INT((ROW(B854)-4)/50)/3-8,\"#\")))","v":"vineyard"}]
[]
[]
[]
[]
[null,{"$f":"E809","v":"Index of Textbook: Noun  "},null,null,{"$f":"B809","v":"Index of Textbook: Adjective"}]
[null,{"$f":"INDIRECT( \"FlashCards!\"&IF(MOD(INT((ROW(B860)-4)/50),2)=0,\"CE\"&TEXT((ROW(B860)/6)+10/3-INT((ROW(B860)-4)/50)/3,\"#\"),\"CD\"&TEXT((ROW(B860)/6)+10/3-INT((ROW(B860)-4)/50)/3,\"#\")))","v":"necessity, pressure, distress"},null,null,{"$f":"INDIRECT( \"FlashCards!\"&IF(MOD(INT((ROW(B860)-4)/50),2)=0,\"CE\"&TEXT((ROW(B860)/6)+10/3-INT((ROW(B860)-4)/50)/3-8,\"#\"),\"CD\"&TEXT((ROW(B860)/6)+10/3-INT((ROW(B860)-4)/50)/3-8,\"#\")))","v":"both"}]
[]
[]
[]
[]
[null,{"$f":"E815","v":"Index of Textbook: Verb  "},null,null,{"$f":"B815","v":"Chapter 14: Pronoun"}]
[null,{"$f":"INDIRECT( \"FlashCards!\"&IF(MOD(INT((ROW(B866)-4)/50),2)=0,\"CE\"&TEXT((ROW(B866)/6)+10/3-INT((ROW(B866)-4)/50)/3,\"#\"),\"CD\"&TEXT((ROW(B866)/6)+10/3-INT((ROW(B866)-4)/50)/3,\"#\")))","v":"I lead up; (middle) I put out to sea"},null,null,{"$f":"INDIRECT( \"FlashCards!\"&IF(MOD(INT((ROW(B866)-4)/50),2)=0,\"CE\"&TEXT((ROW(B866)/6)+10/3-INT((ROW(B866)-4)/50)/3-8,\"#\"),\"CD\"&TEXT((ROW(B866)/6)+10/3-INT((ROW(B866)-4)/50)/3-8,\"#\")))","v":"modifies relative pronoun (\"who\" becomes \"whoever\") (particle)"}]
[]
[]
[]
[]
[null,{"$f":"E821","v":"Index of Textbook: Verb  "},null,null,{"$f":"B821","v":"Chapter 11: Noun Ending"}]
[null,{"$f":"INDIRECT( \"FlashCards!\"&IF(MOD(INT((ROW(B872)-4)/50),2)=0,\"CE\"&TEXT((ROW(B872)/6)+10/3-INT((ROW(B872)-4)/50)/3,\"#\"),\"CD\"&TEXT((ROW(B872)/6)+10/3-INT((ROW(B872)-4)/50)/3,\"#\")))","v":"I destroy, I slay, I make an end"},null,null,{"$f":"INDIRECT( \"FlashCards!\"&IF(MOD(INT((ROW(B872)-4)/50),2)=0,\"CE\"&TEXT((ROW(B872)/6)+10/3-INT((ROW(B872)-4)/50)/3-8,\"#\"),\"CD\"&TEXT((ROW(B872)/6)+10/3-INT((ROW(B872)-4)/50)/3-8,\"#\")))","v":"ending that changes \"what\" to \"whatever\""}]
[]
[]
[]
[]
[null,{"$f":"E827","v":"Index of Textbook: Verb  "},null,null,{"$f":"B827","v":"Index of Textbook: Preposition"}]
[null,{"$f":"INDIRECT( \"FlashCards!\"&IF(MOD(INT((ROW(B878)-4)/50),2)=0,\"CE\"&TEXT((ROW(B878)/6)+10/3-INT((ROW(B878)-4)/50)/3,\"#\"),\"CD\"&TEXT((ROW(B878)/6)+10/3-INT((ROW(B878)-4)/50)/3,\"#\")))","v":"I recline"},null,null,{"$f":"INDIRECT( \"FlashCards!\"&IF(MOD(INT((ROW(B878)-4)/50),2)=0,\"CE\"&TEXT((ROW(B878)/6)+10/3-INT((ROW(B878)-4)/50)/3-8,\"#\"),\"CD\"&TEXT((ROW(B878)/6)+10/3-INT((ROW(B878)-4)/50)/3-8,\"#\")))","v":"among, between, each"}]
[]
[]
[]
[]
[null,{"$f":"E833","v":"Index of Textbook: Verb  "},null,null,{"$f":"B833","v":"Chapter 27: Verb  "}]
[null,{"$f":"INDIRECT( \"FlashCards!\"&IF(MOD(INT((ROW(B884)-4)/50),2)=0,\"CE\"&TEXT((ROW(B884)/6)+10/3-INT((ROW(B884)-4)/50)/3,\"#\"),\"CD\"&TEXT((ROW(B884)/6)+10/3-INT((ROW(B884)-4)/50)/3,\"#\")))","v":"I question, I examine"},null,null,{"$f":"INDIRECT( \"FlashCards!\"&IF(MOD(INT((ROW(B884)-4)/50),2)=0,\"CE\"&TEXT((ROW(B884)/6)+10/3-INT((ROW(B884)-4)/50)/3-8,\"#\"),\"CD\"&TEXT((ROW(B884)/6)+10/3-INT((ROW(B884)-4)/50)/3-8,\"#\")))","v":"I go up"}]
[]
[]
[]
[]
[null,{"$f":"E839","v":"Chapter 38: Verb  "},null,null,{"$f":"B839","v":"Index of Textbook: Verb  "}]
[null,{"$f":"INDIRECT( \"FlashCards!\"&IF(MOD(INT((ROW(B890)-4)/50),2)=0,\"CE\"&TEXT((ROW(B890)/6)+10/3-INT((ROW(B890)-4)/50)/3,\"#\"),\"CD\"&TEXT((ROW(B890)/6)+10/3-INT((ROW(B890)-4)/50)/3,\"#\")))","v":"I take up"},null,null,{"$f":"INDIRECT( \"FlashCards!\"&IF(MOD(INT((ROW(B890)-4)/50),2)=0,\"CE\"&TEXT((ROW(B890)/6)+10/3-INT((ROW(B890)-4)/50)/3-8,\"#\"),\"CD\"&TEXT((ROW(B890)/6)+10/3-INT((ROW(B890)-4)/50)/3-8,\"#\")))","v":"I look up, I receive sight"}]
[]
[]
[]
[]
[null,{"$f":"E845","v":"Chapter 38: Proper Noun"},null,null,{"$f":"B845","v":"Chapter 38: Verb  "}]
[null,{"$f":"INDIRECT( \"FlashCards!\"&IF(MOD(INT((ROW(B896)-4)/50),2)=0,\"CE\"&TEXT((ROW(B896)/6)+10/3-INT((ROW(B896)-4)/50)/3,\"#\"),\"CD\"&TEXT((ROW(B896)/6)+10/3-INT((ROW(B896)-4)/50)/3,\"#\")))","v":"Ananias"},null,null,{"$f":"INDIRECT( \"FlashCards!\"&IF(MOD(INT((ROW(B896)-4)/50),2)=0,\"CE\"&TEXT((ROW(B896)/6)+10/3-INT((ROW(B896)-4)/50)/3-8,\"#\"),\"CD\"&TEXT((ROW(B896)/6)+10/3-INT((ROW(B896)-4)/50)/3-8,\"#\")))","v":"I proclaim, I announce, I report"}]
[]
[]
[]
[]
[]
[]
[null,{"$f":"INDIRECT( \"FlashCards!\"&IF(MOD(INT((ROW(B904)-4)/50),2)=0,\"CF\"&TEXT((ROW(B904)/6)+10/3-INT((ROW(B904)-4)/50)/3,\"#\"),\"CF\"&TEXT((ROW(B904)/6)+10/3-INT((ROW(B904)-4)/50)/3,\"#\")))","v":"Chapter 38: Verb  "},null,null,{"$f":"INDIRECT( \"FlashCards!\"&IF(MOD(INT((ROW(B904)-4)/50),2)=0,\"CF\"&TEXT((ROW(B904)/6)+10/3-INT((ROW(B904)-4)/50)/3+8,\"#\"),\"CF\"&TEXT((ROW(B904)/6)+10/3-INT((ROW(B904)-4)/50)/3+8,\"#\")))","v":"Chapter 38: Noun  "}]
[null,{"$f":"INDIRECT( \"FlashCards!\"&IF(MOD(INT((ROW(B904)-4)/50),2)=0,\"CE\"&TEXT((ROW(B904)/6)+10/3-INT((ROW(B904)-4)/50)/3,\"#\"),\"CD\"&TEXT((ROW(B904)/6)+10/3-INT((ROW(B904)-4)/50)/3,\"#\")))","v":"ἀναπαύω"},null,null,{"$f":"INDIRECT( \"FlashCards!\"&IF(MOD(INT((ROW(B904)-4)/50),2)=0,\"CE\"&TEXT((ROW(B904)/6)+10/3-INT((ROW(B904)-4)/50)/3+8,\"#\"),\"CD\"&TEXT((ROW(B904)/6)+10/3-INT((ROW(B904)-4)/50)/3+8,\"#\")))","v":"ὁ ἄνεμος"}]
[]
[null,{"$f":"INDIRECT( \"FlashCards!\"&IF(MOD(INT((ROW(B904)-4)/50),2)=0,\"CC\"&TEXT((ROW(B904)/6)+10/3-INT((ROW(B904)-4)/50)/3,\"#\"),\"\"))","v":"ah-nah-POW-owe"},null,null,{"$f":"INDIRECT( \"FlashCards!\"&IF(MOD(INT((ROW(B904)-4)/50),2)=0,\"CC\"&TEXT((ROW(B904)/6)+10/3-INT((ROW(B904)-4)/50)/3+8,\"#\"),\"CC\"&TEXT((ROW(B904)/6)+10/3-INT((ROW(B904)-4)/50)/3+8,\"#\")))","v":"AH-nemm-oss"}]
[]
[]
[null,{"$f":"INDIRECT( \"FlashCards!\"&IF(MOD(INT((ROW(B910)-4)/50),2)=0,\"CF\"&TEXT((ROW(B910)/6)+10/3-INT((ROW(B910)-4)/50)/3,\"#\"),\"CF\"&TEXT((ROW(B910)/6)+10/3-INT((ROW(B910)-4)/50)/3,\"#\")))","v":"Chapter 38: Verb  "},null,null,{"$f":"INDIRECT( \"FlashCards!\"&IF(MOD(INT((ROW(B910)-4)/50),2)=0,\"CF\"&TEXT((ROW(B910)/6)+10/3-INT((ROW(B910)-4)/50)/3+8,\"#\"),\"CF\"&TEXT((ROW(B910)/6)+10/3-INT((ROW(B910)-4)/50)/3+8,\"#\")))","v":"Chapter 38: Verb  "}]
[null,{"$f":"INDIRECT( \"FlashCards!\"&IF(MOD(INT((ROW(B910)-4)/50),2)=0,\"CE\"&TEXT((ROW(B910)/6)+10/3-INT((ROW(B910)-4)/50)/3,\"#\"),\"CD\"&TEXT((ROW(B910)/6)+10/3-INT((ROW(B910)-4)/50)/3,\"#\")))","v":"ἀναπίπτω"},null,null,{"$f":"INDIRECT( \"FlashCards!\"&IF(MOD(INT((ROW(B910)-4)/50),2)=0,\"CE\"&TEXT((ROW(B910)/6)+10/3-INT((ROW(B910)-4)/50)/3+8,\"#\"),\"CD\"&TEXT((ROW(B910)/6)+10/3-INT((ROW(B910)-4)/50)/3+8,\"#\")))","v":"ἀνέχομαι"}]
[]
[null,{"$f":"INDIRECT( \"FlashCards!\"&IF(MOD(INT((ROW(B910)-4)/50),2)=0,\"CC\"&TEXT((ROW(B910)/6)+10/3-INT((ROW(B910)-4)/50)/3,\"#\"),\"\"))","v":"ah-nah-PIP-toe"},null,null,{"$f":"INDIRECT( \"FlashCards!\"&IF(MOD(INT((ROW(B910)-4)/50),2)=0,\"CC\"&TEXT((ROW(B910)/6)+10/3-INT((ROW(B910)-4)/50)/3+8,\"#\"),\"CC\"&TEXT((ROW(B910)/6)+10/3-INT((ROW(B910)-4)/50)/3+8,\"#\")))","v":"ah-NECK-omm-eye"}]
[]
[]
[null,{"$f":"INDIRECT( \"FlashCards!\"&IF(MOD(INT((ROW(B916)-4)/50),2)=0,\"CF\"&TEXT((ROW(B916)/6)+10/3-INT((ROW(B916)-4)/50)/3,\"#\"),\"CF\"&TEXT((ROW(B916)/6)+10/3-INT((ROW(B916)-4)/50)/3,\"#\")))","v":"Chapter 35: Noun  "},null,null,{"$f":"INDIRECT( \"FlashCards!\"&IF(MOD(INT((ROW(B916)-4)/50),2)=0,\"CF\"&TEXT((ROW(B916)/6)+10/3-INT((ROW(B916)-4)/50)/3+8,\"#\"),\"CF\"&TEXT((ROW(B916)/6)+10/3-INT((ROW(B916)-4)/50)/3+8,\"#\")))","v":"Chapter 11: Noun  "}]
[null,{"$f":"INDIRECT( \"FlashCards!\"&IF(MOD(INT((ROW(B916)-4)/50),2)=0,\"CE\"&TEXT((ROW(B916)/6)+10/3-INT((ROW(B916)-4)/50)/3,\"#\"),\"CD\"&TEXT((ROW(B916)/6)+10/3-INT((ROW(B916)-4)/50)/3,\"#\")))","v":"ἡ ἀνάστασις"},null,null,{"$f":"INDIRECT( \"FlashCards!\"&IF(MOD(INT((ROW(B916)-4)/50),2)=0,\"CE\"&TEXT((ROW(B916)/6)+10/3-INT((ROW(B916)-4)/50)/3+8,\"#\"),\"CD\"&TEXT((ROW(B916)/6)+10/3-INT((ROW(B916)-4)/50)/3+8,\"#\")))","v":"ὁ ἀνήρ"}]
[]
[null,{"$f":"INDIRECT( \"FlashCards!\"&IF(MOD(INT((ROW(B916)-4)/50),2)=0,\"CC\"&TEXT((ROW(B916)/6)+10/3-INT((ROW(B916)-4)/50)/3,\"#\"),\"\"))","v":"ahn-AH-stahss-iss"},null,null,{"$f":"INDIRECT( \"FlashCards!\"&IF(MOD(INT((ROW(B916)-4)/50),2)=0,\"CC\"&TEXT((ROW(B916)/6)+10/3-INT((ROW(B916)-4)/50)/3+8,\"#\"),\"CC\"&TEXT((ROW(B916)/6)+10/3-INT((ROW(B916)-4)/50)/3+8,\"#\")))","v":"ah-NAIR"}]
[]
[]
[null,{"$f":"INDIRECT( \"FlashCards!\"&IF(MOD(INT((ROW(B922)-4)/50),2)=0,\"CF\"&TEXT((ROW(B922)/6)+10/3-INT((ROW(B922)-4)/50)/3,\"#\"),\"CF\"&TEXT((ROW(B922)/6)+10/3-INT((ROW(B922)-4)/50)/3,\"#\")))","v":"Chapter 38: Noun  "},null,null,{"$f":"INDIRECT( \"FlashCards!\"&IF(MOD(INT((ROW(B922)-4)/50),2)=0,\"CF\"&TEXT((ROW(B922)/6)+10/3-INT((ROW(B922)-4)/50)/3+8,\"#\"),\"CF\"&TEXT((ROW(B922)/6)+10/3-INT((ROW(B922)-4)/50)/3+8,\"#\")))","v":"Chapter 11: Noun  "}]
[null,{"$f":"INDIRECT( \"FlashCards!\"&IF(MOD(INT((ROW(B922)-4)/50),2)=0,\"CE\"&TEXT((ROW(B922)/6)+10/3-INT((ROW(B922)-4)/50)/3,\"#\"),\"CD\"&TEXT((ROW(B922)/6)+10/3-INT((ROW(B922)-4)/50)/3,\"#\")))","v":"ἡ ἀναστροφή"},null,null,{"$f":"INDIRECT( \"FlashCards!\"&IF(MOD(INT((ROW(B922)-4)/50),2)=0,\"CE\"&TEXT((ROW(B922)/6)+10/3-INT((ROW(B922)-4)/50)/3+8,\"#\"),\"CD\"&TEXT((ROW(B922)/6)+10/3-INT((ROW(B922)-4)/50)/3+8,\"#\")))","v":"ὁ ἀνδρός"}]
[]
[null,{"$f":"INDIRECT( \"FlashCards!\"&IF(MOD(INT((ROW(B922)-4)/50),2)=0,\"CC\"&TEXT((ROW(B922)/6)+10/3-INT((ROW(B922)-4)/50)/3,\"#\"),\"\"))","v":"ah-nah-stroff-AY"},null,null,{"$f":"INDIRECT( \"FlashCards!\"&IF(MOD(INT((ROW(B922)-4)/50),2)=0,\"CC\"&TEXT((ROW(B922)/6)+10/3-INT((ROW(B922)-4)/50)/3+8,\"#\"),\"CC\"&TEXT((ROW(B922)/6)+10/3-INT((ROW(B922)-4)/50)/3+8,\"#\")))","v":"ahn-DROSS"}]
[]
[]
[null,{"$f":"INDIRECT( \"FlashCards!\"&IF(MOD(INT((ROW(B928)-4)/50),2)=0,\"CF\"&TEXT((ROW(B928)/6)+10/3-INT((ROW(B928)-4)/50)/3,\"#\"),\"CF\"&TEXT((ROW(B928)/6)+10/3-INT((ROW(B928)-4)/50)/3,\"#\")))","v":"Chapter 38: Noun  "},null,null,{"$f":"INDIRECT( \"FlashCards!\"&IF(MOD(INT((ROW(B928)-4)/50),2)=0,\"CF\"&TEXT((ROW(B928)/6)+10/3-INT((ROW(B928)-4)/50)/3+8,\"#\"),\"CF\"&TEXT((ROW(B928)/6)+10/3-INT((ROW(B928)-4)/50)/3+8,\"#\")))","v":"Index of Textbook: Verb  "}]
[null,{"$f":"INDIRECT( \"FlashCards!\"&IF(MOD(INT((ROW(B928)-4)/50),2)=0,\"CE\"&TEXT((ROW(B928)/6)+10/3-INT((ROW(B928)-4)/50)/3,\"#\"),\"CD\"&TEXT((ROW(B928)/6)+10/3-INT((ROW(B928)-4)/50)/3,\"#\")))","v":"ἡ ἀνατολή"},null,null,{"$f":"INDIRECT( \"FlashCards!\"&IF(MOD(INT((ROW(B928)-4)/50),2)=0,\"CE\"&TEXT((ROW(B928)/6)+10/3-INT((ROW(B928)-4)/50)/3+8,\"#\"),\"CD\"&TEXT((ROW(B928)/6)+10/3-INT((ROW(B928)-4)/50)/3+8,\"#\")))","v":"ἀνθίστημι"}]
[]
[null,{"$f":"INDIRECT( \"FlashCards!\"&IF(MOD(INT((ROW(B928)-4)/50),2)=0,\"CC\"&TEXT((ROW(B928)/6)+10/3-INT((ROW(B928)-4)/50)/3,\"#\"),\"\"))","v":"ah-nah-toll-AY"},null,null,{"$f":"INDIRECT( \"FlashCards!\"&IF(MOD(INT((ROW(B928)-4)/50),2)=0,\"CC\"&TEXT((ROW(B928)/6)+10/3-INT((ROW(B928)-4)/50)/3+8,\"#\"),\"CC\"&TEXT((ROW(B928)/6)+10/3-INT((ROW(B928)-4)/50)/3+8,\"#\")))","v":"ahnth-EE-stay-mee"}]
[]
[]
[null,{"$f":"INDIRECT( \"FlashCards!\"&IF(MOD(INT((ROW(B934)-4)/50),2)=0,\"CF\"&TEXT((ROW(B934)/6)+10/3-INT((ROW(B934)-4)/50)/3,\"#\"),\"CF\"&TEXT((ROW(B934)/6)+10/3-INT((ROW(B934)-4)/50)/3,\"#\")))","v":"Chapter 38: Verb  "},null,null,{"$f":"INDIRECT( \"FlashCards!\"&IF(MOD(INT((ROW(B934)-4)/50),2)=0,\"CF\"&TEXT((ROW(B934)/6)+10/3-INT((ROW(B934)-4)/50)/3+8,\"#\"),\"CF\"&TEXT((ROW(B934)/6)+10/3-INT((ROW(B934)-4)/50)/3+8,\"#\")))","v":"Chapter 04: Noun  "}]
[null,{"$f":"INDIRECT( \"FlashCards!\"&IF(MOD(INT((ROW(B934)-4)/50),2)=0,\"CE\"&TEXT((ROW(B934)/6)+10/3-INT((ROW(B934)-4)/50)/3,\"#\"),\"CD\"&TEXT((ROW(B934)/6)+10/3-INT((ROW(B934)-4)/50)/3,\"#\")))","v":"ἀναφέρω"},null,null,{"$f":"INDIRECT( \"FlashCards!\"&IF(MOD(INT((ROW(B934)-4)/50),2)=0,\"CE\"&TEXT((ROW(B934)/6)+10/3-INT((ROW(B934)-4)/50)/3+8,\"#\"),\"CD\"&TEXT((ROW(B934)/6)+10/3-INT((ROW(B934)-4)/50)/3+8,\"#\")))","v":"ὁ ἄνθρωπος"}]
[]
[null,{"$f":"INDIRECT( \"FlashCards!\"&IF(MOD(INT((ROW(B934)-4)/50),2)=0,\"CC\"&TEXT((ROW(B934)/6)+10/3-INT((ROW(B934)-4)/50)/3,\"#\"),\"\"))","v":"ah-nah-FERR-owe"},null,null,{"$f":"INDIRECT( \"FlashCards!\"&IF(MOD(INT((ROW(B934)-4)/50),2)=0,\"CC\"&TEXT((ROW(B934)/6)+10/3-INT((ROW(B934)-4)/50)/3+8,\"#\"),\"CC\"&TEXT((ROW(B934)/6)+10/3-INT((ROW(B934)-4)/50)/3+8,\"#\")))","v":"AHN-throw-poss"}]
[]
[]
[null,{"$f":"INDIRECT( \"FlashCards!\"&IF(MOD(INT((ROW(B940)-4)/50),2)=0,\"CF\"&TEXT((ROW(B940)/6)+10/3-INT((ROW(B940)-4)/50)/3,\"#\"),\"CF\"&TEXT((ROW(B940)/6)+10/3-INT((ROW(B940)-4)/50)/3,\"#\")))","v":"Index of Textbook: Verb  "},null,null,{"$f":"INDIRECT( \"FlashCards!\"&IF(MOD(INT((ROW(B940)-4)/50),2)=0,\"CF\"&TEXT((ROW(B940)/6)+10/3-INT((ROW(B940)-4)/50)/3+8,\"#\"),\"CF\"&TEXT((ROW(B940)/6)+10/3-INT((ROW(B940)-4)/50)/3+8,\"#\")))","v":"Chapter 36: Verb  "}]
[null,{"$f":"INDIRECT( \"FlashCards!\"&IF(MOD(INT((ROW(B940)-4)/50),2)=0,\"CE\"&TEXT((ROW(B940)/6)+10/3-INT((ROW(B940)-4)/50)/3,\"#\"),\"CD\"&TEXT((ROW(B940)/6)+10/3-INT((ROW(B940)-4)/50)/3,\"#\")))","v":"ἀναχωρέω"},null,null,{"$f":"INDIRECT( \"FlashCards!\"&IF(MOD(INT((ROW(B940)-4)/50),2)=0,\"CE\"&TEXT((ROW(B940)/6)+10/3-INT((ROW(B940)-4)/50)/3+8,\"#\"),\"CD\"&TEXT((ROW(B940)/6)+10/3-INT((ROW(B940)-4)/50)/3+8,\"#\")))","v":"ἀνίστημι"}]
[]
[null,{"$f":"INDIRECT( \"FlashCards!\"&IF(MOD(INT((ROW(B940)-4)/50),2)=0,\"CC\"&TEXT((ROW(B940)/6)+10/3-INT((ROW(B940)-4)/50)/3,\"#\"),\"\"))","v":"ah-nahk-owe-RAY-owe"},null,null,{"$f":"INDIRECT( \"FlashCards!\"&IF(MOD(INT((ROW(B940)-4)/50),2)=0,\"CC\"&TEXT((ROW(B940)/6)+10/3-INT((ROW(B940)-4)/50)/3+8,\"#\"),\"CC\"&TEXT((ROW(B940)/6)+10/3-INT((ROW(B940)-4)/50)/3+8,\"#\")))","v":"ahn-ISS-tay-mee"}]
[]
[]
[null,{"$f":"INDIRECT( \"FlashCards!\"&IF(MOD(INT((ROW(B946)-4)/50),2)=0,\"CF\"&TEXT((ROW(B946)/6)+10/3-INT((ROW(B946)-4)/50)/3,\"#\"),\"CF\"&TEXT((ROW(B946)/6)+10/3-INT((ROW(B946)-4)/50)/3,\"#\")))","v":"Chapter 38: Proper Noun"},null,null,{"$f":"INDIRECT( \"FlashCards!\"&IF(MOD(INT((ROW(B946)-4)/50),2)=0,\"CF\"&TEXT((ROW(B946)/6)+10/3-INT((ROW(B946)-4)/50)/3+8,\"#\"),\"CF\"&TEXT((ROW(B946)/6)+10/3-INT((ROW(B946)-4)/50)/3+8,\"#\")))","v":"Chapter 36: Verb  "}]
[null,{"$f":"INDIRECT( \"FlashCards!\"&IF(MOD(INT((ROW(B946)-4)/50),2)=0,\"CE\"&TEXT((ROW(B946)/6)+10/3-INT((ROW(B946)-4)/50)/3,\"#\"),\"CD\"&TEXT((ROW(B946)/6)+10/3-INT((ROW(B946)-4)/50)/3,\"#\")))","v":"ὁ Ἀνδρέας"},null,null,{"$f":"INDIRECT( \"FlashCards!\"&IF(MOD(INT((ROW(B946)-4)/50),2)=0,\"CE\"&TEXT((ROW(B946)/6)+10/3-INT((ROW(B946)-4)/50)/3+8,\"#\"),\"CD\"&TEXT((ROW(B946)/6)+10/3-INT((ROW(B946)-4)/50)/3+8,\"#\")))","v":"ἀνοίγω"}]
[]
[null,{"$f":"INDIRECT( \"FlashCards!\"&IF(MOD(INT((ROW(B946)-4)/50),2)=0,\"CC\"&TEXT((ROW(B946)/6)+10/3-INT((ROW(B946)-4)/50)/3,\"#\"),\"\"))","v":"ahn-DREH-ahss"},null,null,{"$f":"INDIRECT( \"FlashCards!\"&IF(MOD(INT((ROW(B946)-4)/50),2)=0,\"CC\"&TEXT((ROW(B946)/6)+10/3-INT((ROW(B946)-4)/50)/3+8,\"#\"),\"CC\"&TEXT((ROW(B946)/6)+10/3-INT((ROW(B946)-4)/50)/3+8,\"#\")))","v":"ahn-OY-goe"}]
[]
[]
[]
[]
[null,{"$f":"E903","v":"Chapter 38: Noun  "},null,null,{"$f":"B903","v":"Chapter 38: Verb  "}]
[null,{"$f":"INDIRECT( \"FlashCards!\"&IF(MOD(INT((ROW(B954)-4)/50),2)=0,\"CE\"&TEXT((ROW(B954)/6)+10/3-INT((ROW(B954)-4)/50)/3,\"#\"),\"CD\"&TEXT((ROW(B954)/6)+10/3-INT((ROW(B954)-4)/50)/3,\"#\")))","v":"wind"},null,null,{"$f":"INDIRECT( \"FlashCards!\"&IF(MOD(INT((ROW(B954)-4)/50),2)=0,\"CE\"&TEXT((ROW(B954)/6)+10/3-INT((ROW(B954)-4)/50)/3-8,\"#\"),\"CD\"&TEXT((ROW(B954)/6)+10/3-INT((ROW(B954)-4)/50)/3-8,\"#\")))","v":"I give rest, I refresh, I take a rest"}]
[]
[]
[]
[]
[null,{"$f":"E909","v":"Chapter 38: Verb  "},null,null,{"$f":"B909","v":"Chapter 38: Verb  "}]
[null,{"$f":"INDIRECT( \"FlashCards!\"&IF(MOD(INT((ROW(B960)-4)/50),2)=0,\"CE\"&TEXT((ROW(B960)/6)+10/3-INT((ROW(B960)-4)/50)/3,\"#\"),\"CD\"&TEXT((ROW(B960)/6)+10/3-INT((ROW(B960)-4)/50)/3,\"#\")))","v":"I endure"},null,null,{"$f":"INDIRECT( \"FlashCards!\"&IF(MOD(INT((ROW(B960)-4)/50),2)=0,\"CE\"&TEXT((ROW(B960)/6)+10/3-INT((ROW(B960)-4)/50)/3-8,\"#\"),\"CD\"&TEXT((ROW(B960)/6)+10/3-INT((ROW(B960)-4)/50)/3-8,\"#\")))","v":"I lie down, I recline"}]
[]
[]
[]
[]
[null,{"$f":"E915","v":"Chapter 11: Noun  "},null,null,{"$f":"B915","v":"Chapter 35: Noun  "}]
[null,{"$f":"INDIRECT( \"FlashCards!\"&IF(MOD(INT((ROW(B966)-4)/50),2)=0,\"CE\"&TEXT((ROW(B966)/6)+10/3-INT((ROW(B966)-4)/50)/3,\"#\"),\"CD\"&TEXT((ROW(B966)/6)+10/3-INT((ROW(B966)-4)/50)/3,\"#\")))","v":"husband, male, man"},null,null,{"$f":"INDIRECT( \"FlashCards!\"&IF(MOD(INT((ROW(B966)-4)/50),2)=0,\"CE\"&TEXT((ROW(B966)/6)+10/3-INT((ROW(B966)-4)/50)/3-8,\"#\"),\"CD\"&TEXT((ROW(B966)/6)+10/3-INT((ROW(B966)-4)/50)/3-8,\"#\")))","v":"resurrection"}]
[]
[]
[]
[]
[null,{"$f":"E921","v":"Chapter 11: Noun  "},null,null,{"$f":"B921","v":"Chapter 38: Noun  "}]
[null,{"$f":"INDIRECT( \"FlashCards!\"&IF(MOD(INT((ROW(B972)-4)/50),2)=0,\"CE\"&TEXT((ROW(B972)/6)+10/3-INT((ROW(B972)-4)/50)/3,\"#\"),\"CD\"&TEXT((ROW(B972)/6)+10/3-INT((ROW(B972)-4)/50)/3,\"#\")))","v":"husband, male, man"},null,null,{"$f":"INDIRECT( \"FlashCards!\"&IF(MOD(INT((ROW(B972)-4)/50),2)=0,\"CE\"&TEXT((ROW(B972)/6)+10/3-INT((ROW(B972)-4)/50)/3-8,\"#\"),\"CD\"&TEXT((ROW(B972)/6)+10/3-INT((ROW(B972)-4)/50)/3-8,\"#\")))","v":"way of life, conduct, behavior"}]
[]
[]
[]
[]
[null,{"$f":"E927","v":"Index of Textbook: Verb  "},null,null,{"$f":"B927","v":"Chapter 38: Noun  "}]
[null,{"$f":"INDIRECT( \"FlashCards!\"&IF(MOD(INT((ROW(B978)-4)/50),2)=0,\"CE\"&TEXT((ROW(B978)/6)+10/3-INT((ROW(B978)-4)/50)/3,\"#\"),\"CD\"&TEXT((ROW(B978)/6)+10/3-INT((ROW(B978)-4)/50)/3,\"#\")))","v":"I oppose"},null,null,{"$f":"INDIRECT( \"FlashCards!\"&IF(MOD(INT((ROW(B978)-4)/50),2)=0,\"CE\"&TEXT((ROW(B978)/6)+10/3-INT((ROW(B978)-4)/50)/3-8,\"#\"),\"CD\"&TEXT((ROW(B978)/6)+10/3-INT((ROW(B978)-4)/50)/3-8,\"#\")))","v":"east"}]
[]
[]
[]
[]
[null,{"$f":"E933","v":"Chapter 04: Noun  "},null,null,{"$f":"B933","v":"Chapter 38: Verb  "}]
[null,{"$f":"INDIRECT( \"FlashCards!\"&IF(MOD(INT((ROW(B984)-4)/50),2)=0,\"CE\"&TEXT((ROW(B984)/6)+10/3-INT((ROW(B984)-4)/50)/3,\"#\"),\"CD\"&TEXT((ROW(B984)/6)+10/3-INT((ROW(B984)-4)/50)/3,\"#\")))","v":"man, person, mankind, human"},null,null,{"$f":"INDIRECT( \"FlashCards!\"&IF(MOD(INT((ROW(B984)-4)/50),2)=0,\"CE\"&TEXT((ROW(B984)/6)+10/3-INT((ROW(B984)-4)/50)/3-8,\"#\"),\"CD\"&TEXT((ROW(B984)/6)+10/3-INT((ROW(B984)-4)/50)/3-8,\"#\")))","v":"I offer up, I bring up"}]
[]
[]
[]
[]
[null,{"$f":"E939","v":"Chapter 36: Verb  "},null,null,{"$f":"B939","v":"Index of Textbook: Verb  "}]
[null,{"$f":"INDIRECT( \"FlashCards!\"&IF(MOD(INT((ROW(B990)-4)/50),2)=0,\"CE\"&TEXT((ROW(B990)/6)+10/3-INT((ROW(B990)-4)/50)/3,\"#\"),\"CD\"&TEXT((ROW(B990)/6)+10/3-INT((ROW(B990)-4)/50)/3,\"#\")))","v":"I rise, I get up, I raise (another)"},null,null,{"$f":"INDIRECT( \"FlashCards!\"&IF(MOD(INT((ROW(B990)-4)/50),2)=0,\"CE\"&TEXT((ROW(B990)/6)+10/3-INT((ROW(B990)-4)/50)/3-8,\"#\"),\"CD\"&TEXT((ROW(B990)/6)+10/3-INT((ROW(B990)-4)/50)/3-8,\"#\")))","v":"I withdraw"}]
[]
[]
[]
[]
[null,{"$f":"E945","v":"Chapter 36: Verb  "},null,null,{"$f":"B945","v":"Chapter 38: Proper Noun"}]
[null,{"$f":"INDIRECT( \"FlashCards!\"&IF(MOD(INT((ROW(B996)-4)/50),2)=0,\"CE\"&TEXT((ROW(B996)/6)+10/3-INT((ROW(B996)-4)/50)/3,\"#\"),\"CD\"&TEXT((ROW(B996)/6)+10/3-INT((ROW(B996)-4)/50)/3,\"#\")))","v":"I open"},null,null,{"$f":"INDIRECT( \"FlashCards!\"&IF(MOD(INT((ROW(B996)-4)/50),2)=0,\"CE\"&TEXT((ROW(B996)/6)+10/3-INT((ROW(B996)-4)/50)/3-8,\"#\"),\"CD\"&TEXT((ROW(B996)/6)+10/3-INT((ROW(B996)-4)/50)/3-8,\"#\")))","v":"Andrew"}]

{"sheet":"Index","index":3,"n_rows":2002,"n_cols":30,"rows_kept":2002,"cut":false,"hidden":false,"merged":[[12,2,14,2],[12,3,14,3],[12,4,14,4],[20,7,24,8]]}
[]
[null,null,"Lexical","English Definition","Strongs",null,null,null,null,null,null,null,null,null,null,null,null,null,"tot","offset",{"$f":"B14","v":1504},"max?","min?","all strong","number","Plus?","Comma?","cleaned","err^2","all i"]
[null,"▲ -10",{"$f":"VLOOKUP(S3,FlashCards!$AE$4:$AQ$2003,3,TRUE)","v":"ᾁδης"},{"$f":"VLOOKUP(S3,FlashCards!$AE$4:$AQ$2003,5,TRUE)","v":"Hades or hades (\"the unseen place\"; not a proper noun as used in the New Testament)"},{"$f":"VLOOKUP(S3,FlashCards!$AE$4:$AQ$2003,13,TRUE)","v":"86"},null,null,null,null,null,null,null,null,null,null,null,null,null,{"$f":"W3","v":90},-10,{"$f":"$H$10+T3","v":90},{"$f":"IF(U3>$U$2,U3-$U$2,U3)","v":90},{"$f":"IF(V3<=0,V3+$U$2,V3)","v":90},{"$f":"FlashCards!AQ4","v":"0"},{"$f":"VALUE(X3)","v":0},{"$f":"IF(ISERR(FIND(\"+\",X3,1)),0,FIND(\"+\",X3,1))","v":0},{"$f":"IF(ISERR(FIND(\",\",X3,1)),0,FIND(\",\",X3,1))","v":0},{"$f":"IF(Z3>0,VALUE(LEFT(X3,Z3-1)),IF(AA3>0,VALUE(LEFT(X3,AA3-1)),IF(ISERR(Y3),VALUE(LEFT(X3,LEN(X3)-1)),Y3)))","v":0},{"$f":"(AB3-U$28)^2","v":19749136},{"$f":"FlashCards!AE4","v":1}]
[null,"▲ -  9",{"$f":"VLOOKUP(S4,FlashCards!$AE$4:$AQ$2003,3,TRUE)","v":"ἀδικέω"},{"$f":"VLOOKUP(S4,FlashCards!$AE$4:$AQ$2003,5,TRUE)","v":"I injure, I do wrong"},{"$f":"VLOOKUP(S4,FlashCards!$AE$4:$AQ$2003,13,TRUE)","v":"91"},null,null,null,null,null,null,null,null,null,null,null,null,null,91,-9,91,91,{"$f":"IF(V4<=0,V4+$U$2,V4)","v":91},{"$f":"FlashCards!AQ5","v":"0"},{"$f":"VALUE(X4)","v":0},{"$f":"IF(ISERR(FIND(\"+\",X4,1)),0,FIND(\"+\",X4,1))","v":0},{"$f":"IF(ISERR(FIND(\",\",X4,1)),0,FIND(\",\",X4,1))","v":0},{"$f":"IF(Z4>0,VALUE(LEFT(X4,Z4-1)),IF(AA4>0,VALUE(LEFT(X4,AA4-1)),IF(ISERR(Y4),VALUE(LEFT(X4,LEN(X4)-1)),Y4)))","v":0},{"$f":"(AB4-U$28)^2","v":19749136},{"$f":"FlashCards!AE5","v":2}]
[null,"▲ -  8",{"$f":"VLOOKUP(S5,FlashCards!$AE$4:$AQ$2003,3,TRUE)","v":"ἀδικία"},{"$f":"VLOOKUP(S5,FlashCards!$AE$4:$AQ$2003,5,TRUE)","v":"unrighteousness"},{"$f":"VLOOKUP(S5,FlashCards!$AE$4:$AQ$2003,13,TRUE)","v":"93"},null,null,null,null,null,null,null,null,null,null,null,null,null,92,-8,92,92,92,{"$f":"FlashCards!AQ6","v":"0"},0,0,0,0,19749136,{"$f":"FlashCards!AE6","v":3}]
[null,"▲ -  7",{"$f":"VLOOKUP(S6,FlashCards!$AE$4:$AQ$2003,3,TRUE)","v":"ἂδικος"},{"$f":"VLOOKUP(S6,FlashCards!$AE$4:$AQ$2003,5,TRUE)","v":"unjust"},{"$f":"VLOOKUP(S6,FlashCards!$AE$4:$AQ$2003,13,TRUE)","v":"94"},null,"Jump to Index:",100,{"$f":"\"  (1 to \"&TEXT(FlashCards!BJ2,\"#\")&\")\"","v":"  (1 to 1504)"},null,null,null,null,null,null,null,null,null,93,-7,93,93,93,{"$f":"FlashCards!AQ7","v":"0"},0,0,0,0,19749136,{"$f":"FlashCards!AE7","v":4}]
[null,"▲ -  6",{"$f":"VLOOKUP(S7,FlashCards!$AE$4:$AQ$2003,3,TRUE)","v":"ἀδύνατος"},{"$f":"VLOOKUP(S7,FlashCards!$AE$4:$AQ$2003,5,TRUE)","v":"impossible"},{"$f":"VLOOKUP(S7,FlashCards!$AE$4:$AQ$2003,13,TRUE)","v":"102"},null,null,null,null,null,null,null,null,null,null,null,null,null,94,-6,94,94,94,{"$f":"FlashCards!AQ8","v":"0"},0,0,0,0,19749136,{"$f":"FlashCards!AE8","v":5}]
[null,"▲ -  5",{"$f":"VLOOKUP(S8,FlashCards!$AE$4:$AQ$2003,3,TRUE)","v":"ἀθετέω"},{"$f":"VLOOKUP(S8,FlashCards!$AE$4:$AQ$2003,5,TRUE)","v":"I nullify, I reject"},{"$f":"VLOOKUP(S8,FlashCards!$AE$4:$AQ$2003,13,TRUE)","v":"114"},null,"Jump to Strongs:","4444",null,null,null,null,null,null,null,null,null,null,95,-5,95,95,95,{"$f":"FlashCards!AQ9","v":"0"},0,0,0,0,19749136,{"$f":"FlashCards!AE9","v":6}]
[null,"▲ -  4",{"$f":"VLOOKUP(S9,FlashCards!$AE$4:$AQ$2003,3,TRUE)","v":"Αἴγυπτος"},{"$f":"VLOOKUP(S9,FlashCards!$AE$4:$AQ$2003,5,TRUE)","v":"Egypt"},{"$f":"VLOOKUP(S9,FlashCards!$AE$4:$AQ$2003,13,TRUE)","v":"125"},null,null,null,null,null,null,null,null,null,null,null,null,null,96,-4,96,96,96,{"$f":"FlashCards!AQ10","v":"0"},0,0,0,0,19749136,{"$f":"FlashCards!AE10","v":7}]
[null,"▲ -  3",{"$f":"VLOOKUP(S10,FlashCards!$AE$4:$AQ$2003,3,TRUE)","v":"αἷμα"},{"$f":"VLOOKUP(S10,FlashCards!$AE$4:$AQ$2003,5,TRUE)","v":"blood"},{"$f":"VLOOKUP(S10,FlashCards!$AE$4:$AQ$2003,13,TRUE)","v":"129"},null,"Index:",{"$f":"VLOOKUP($B$13,FlashCards!$AE$4:$AQ$2003,1,TRUE)","v":100},null,null,null,null,null,null,null,null,null,null,97,-3,97,97,97,{"$f":"FlashCards!AQ11","v":"0"},0,0,0,0,19749136,{"$f":"FlashCards!AE11","v":8}]
[null,"▲ -  2",{"$f":"VLOOKUP(S11,FlashCards!$AE$4:$AQ$2003,3,TRUE)","v":"αἴρω"},{"$f":"VLOOKUP(S11,FlashCards!$AE$4:$AQ$2003,5,TRUE)","v":"I raise, I take up, I take away"},{"$f":"VLOOKUP(S11,FlashCards!$AE$4:$AQ$2003,13,TRUE)","v":"142"},null,"Strongs:",{"$f":"E13","v":"156"},null,null,null,null,null,null,null,null,null,null,98,-2,98,98,98,{"$f":"FlashCards!AQ12","v":"0"},0,0,0,0,19749136,{"$f":"FlashCards!AE12","v":9}]
[null,"▲ -  1",{"$f":"VLOOKUP(S12,FlashCards!$AE$4:$AQ$2003,3,TRUE)","v":"αἰτέω"},{"$f":"VLOOKUP(S12,FlashCards!$AE$4:$AQ$2003,5,TRUE)","v":"I ask, I demand"},{"$f":"VLOOKUP(S12,FlashCards!$AE$4:$AQ$2003,13,TRUE)","v":"154"},null,"Lexical:",{"$f":"C13","v":"αἰτία"},null,null,null,null,null,null,null,null,null,null,99,-1,99,99,99,{"$f":"FlashCards!AQ13","v":"0"},0,0,0,0,19749136,{"$f":"FlashCards!AE13","v":10}]
[null,100,{"$f":"VLOOKUP($B$13,FlashCards!$AE$4:$AQ$2003,3,TRUE)","v":"αἰτία"},{"$f":"VLOOKUP($B$13,FlashCards!$AE$4:$AQ$2003,5,TRUE)","v":"cause, guilt, charge, accusation"},{"$f":"VLOOKUP($B$13,FlashCards!$AE$4:$AQ$2003,13,TRUE)","v":"156"},null,"Pronunciation:",{"$f":"VLOOKUP($B$13,FlashCards!$AE$4:$AQ$2003,6,TRUE)","v":"ay-TEE-ah"},null,null,null,null,null,null,null,null,null,null,100,0,100,100,100,{"$f":"FlashCards!AQ14","v":"0"},0,0,0,0,19749136,{"$f":"FlashCards!AE14","v":11}]
[null,{"$f":"FlashCards!BJ2","v":1504},null,null,null,null,"Chapter:",{"$f":"VLOOKUP($B$13,FlashCards!$AE$4:$AQ$2003,2,TRUE)","v":"38"},null,null,null,null,null,null,null,null,null,null,100,0,100,{"$f":"IF(U14>$U$2,U14-$U$2,U14)","v":100},100,{"$f":"FlashCards!AQ15","v":"0"},0,0,0,0,19749136,{"$f":"FlashCards!AE15","v":12}]
[null,null,null,null,null,null,"Root:",{"$f":"VLOOKUP($B$13,FlashCards!$AE$4:$AQ$2003,4,TRUE)","v":" "},null,null,null,null,null,null,null,null,null,null,100,0,100,{"$f":"IF(U15>$U$2,U15-$U$2,U15)","v":100},100,{"$f":"FlashCards!AQ16","v":"0"},0,0,0,0,19749136,{"$f":"FlashCards!AE16","v":13}]
[null,"▼ +  1",{"$f":"VLOOKUP(S16,FlashCards!$AE$4:$AQ$2003,3,TRUE)","v":"αἰών"},{"$f":"VLOOKUP(S16,FlashCards!$AE$4:$AQ$2003,5,TRUE)","v":"age, eternity"},{"$f":"VLOOKUP(S16,FlashCards!$AE$4:$AQ$2003,13,TRUE)","v":"165"},null,"Part of Speech:",{"$f":"VLOOKUP($B$13,FlashCards!$AE$4:$AQ$2003,7,TRUE)","v":"Noun  "},null,null,null,null,null,null,null,null,null,null,101,1,101,101,101,{"$f":"FlashCards!AQ17","v":"0"},0,0,0,0,19749136,{"$f":"FlashCards!AE17","v":14}]
[null,"▼ +  2",{"$f":"VLOOKUP(S17,FlashCards!$AE$4:$AQ$2003,3,TRUE)","v":"εἰς τὸν αἰῶνα"},{"$f":"VLOOKUP(S17,FlashCards!$AE$4:$AQ$2003,5,TRUE)","v":"forever"},{"$f":"VLOOKUP(S17,FlashCards!$AE$4:$AQ$2003,13,TRUE)","v":"1519, 165"},null,"Article:",{"$f":"VLOOKUP($B$13,FlashCards!$AE$4:$AQ$2003,8,TRUE)","v":"ἡ"},null,null,null,null,null,null,null,null,null,null,102,2,102,102,102,{"$f":"FlashCards!AQ18","v":"0"},0,0,0,0,19749136,{"$f":"FlashCards!AE18","v":15}]
[null,"▼ +  3",{"$f":"VLOOKUP(S18,FlashCards!$AE$4:$AQ$2003,3,TRUE)","v":"εἰς τοὺς αἰώνας"},{"$f":"VLOOKUP(S18,FlashCards!$AE$4:$AQ$2003,5,TRUE)","v":"forever"},{"$f":"VLOOKUP(S18,FlashCards!$AE$4:$AQ$2003,13,TRUE)","v":"1519, 165"},null,"Imperfect:",{"$f":"VLOOKUP($B$13,FlashCards!$AE$4:$AQ$2003,9,TRUE)","v":" "},null,null,null,null,null,null,null,null,null,null,103,3,103,103,103,{"$f":"FlashCards!AQ19","v":"0"},0,0,0,0,19749136,{"$f":"FlashCards!AE19","v":16}]
[null,"▼ +  4",{"$f":"VLOOKUP(S19,FlashCards!$AE$4:$AQ$2003,3,TRUE)","v":"αἰώνιος"},{"$f":"VLOOKUP(S19,FlashCards!$AE$4:$AQ$2003,5,TRUE)","v":"eternal"},{"$f":"VLOOKUP(S19,FlashCards!$AE$4:$AQ$2003,13,TRUE)","v":"166"},null,"Future:",{"$f":"VLOOKUP($B$13,FlashCards!$AE$4:$AQ$2003,10,TRUE)","v":" "},null,null,null,null,null,null,null,null,null,null,104,4,104,104,104,{"$f":"FlashCards!AQ20","v":"0"},0,0,0,0,19749136,{"$f":"FlashCards!AE20","v":17}]
[null,"▼ +  5",{"$f":"VLOOKUP(S20,FlashCards!$AE$4:$AQ$2003,3,TRUE)","v":"ἀκαθαρσία"},{"$f":"VLOOKUP(S20,FlashCards!$AE$4:$AQ$2003,5,TRUE)","v":"immorality, uncleanness"},{"$f":"VLOOKUP(S20,FlashCards!$AE$4:$AQ$2003,13,TRUE)","v":"167"},null,"Aorist:",{"$f":"VLOOKUP($B$13,FlashCards!$AE$4:$AQ$2003,11,TRUE)","v":"  "},null,null,null,null,null,null,null,null,null,null,105,5,105,105,105,{"$f":"FlashCards!AQ21","v":"0"},0,0,0,0,19749136,{"$f":"FlashCards!AE21","v":18}]
[null,"▼ +  6",{"$f":"VLOOKUP(S21,FlashCards!$AE$4:$AQ$2003,3,TRUE)","v":"ἀκαθαρτος"},{"$f":"VLOOKUP(S21,FlashCards!$AE$4:$AQ$2003,5,TRUE)","v":"unclean, impure"},{"$f":"VLOOKUP(S21,FlashCards!$AE$4:$AQ$2003,13,TRUE)","v":"169"},null,"Definition:",{"$f":"D13","v":"cause, guilt, charge, accusation"},null,null,null,null,null,null,null,null,null,null,106,6,106,106,106,{"$f":"FlashCards!AQ22","v":"0"},0,0,0,0,19749136,{"$f":"FlashCards!AE22","v":19}]
[null,"▼ +  7",{"$f":"VLOOKUP(S22,FlashCards!$AE$4:$AQ$2003,3,TRUE)","v":"ἄκανθα"},{"$f":"VLOOKUP(S22,FlashCards!$AE$4:$AQ$2003,5,TRUE)","v":"thorn, thorny plant"},{"$f":"VLOOKUP(S22,FlashCards!$AE$4:$AQ$2003,13,TRUE)","v":"173"},null,null,null,null,null,null,null,null,null,null,null,null,null,107,7,107,107,107,{"$f":"FlashCards!AQ23","v":"0"},0,0,0,0,19749136,{"$f":"FlashCards!AE23","v":20}]
[null,"▼ +  8",{"$f":"VLOOKUP(S23,FlashCards!$AE$4:$AQ$2003,3,TRUE)","v":"ἀκοή"},{"$f":"VLOOKUP(S23,FlashCards!$AE$4:$AQ$2003,5,TRUE)","v":"hearing, report"},{"$f":"VLOOKUP(S23,FlashCards!$AE$4:$AQ$2003,13,TRUE)","v":"189"},null,null,null,null,null,null,null,null,null,null,null,null,null,108,8,108,108,108,{"$f":"FlashCards!AQ24","v":"0"},0,0,0,0,19749136,{"$f":"FlashCards!AE24","v":21}]
[null,"▼ +  9",{"$f":"VLOOKUP(S24,FlashCards!$AE$4:$AQ$2003,3,TRUE)","v":"ἀκολουθέω"},{"$f":"VLOOKUP(S24,FlashCards!$AE$4:$AQ$2003,5,TRUE)","v":"I follow, I accompany"},{"$f":"VLOOKUP(S24,FlashCards!$AE$4:$AQ$2003,13,TRUE)","v":"190"},null,null,null,null,null,null,null,null,null,null,null,null,null,109,9,109,109,109,{"$f":"FlashCards!AQ25","v":"0"},0,0,0,0,19749136,{"$f":"FlashCards!AE25","v":22}]
[null,"▼ +10",{"$f":"VLOOKUP(S25,FlashCards!$AE$4:$AQ$2003,3,TRUE)","v":"ἀκούω"},{"$f":"VLOOKUP(S25,FlashCards!$AE$4:$AQ$2003,5,TRUE)","v":"I hear, I learn, I obey, I understand"},{"$f":"VLOOKUP(S25,FlashCards!$AE$4:$AQ$2003,13,TRUE)","v":"191"},null,null,null,null,null,null,null,null,null,null,null,null,null,{"$f":"W25","v":110},10,110,110,110,{"$f":"FlashCards!AQ26","v":"0"},0,0,0,0,19749136,{"$f":"FlashCards!AE26","v":23}]
[null,null,null,null,null,null,null,null,null,null,null,null,null,null,null,null,null,null,null,null,null,null,null,{"$f":"FlashCards!AQ27","v":"0"},0,0,0,0,19749136,{"$f":"FlashCards!AE27","v":24}]
[null,null,null,null,null,null,null,null,null,null,null,null,null,null,null,null,null,null,"Strong","Number","Cleaned","Index",null,{"$f":"FlashCards!AQ28","v":"0"},0,0,0,0,19749136,{"$f":"FlashCards!AE28","v":25}]
[null,null,null,null,null,null,null,null,null,null,null,null,null,null,null,null,null,null,{"$f":"H8","v":"4444"},{"$f":"VALUE(S28)","v":4444},{"$f":"IF(ISERR(T28),VALUE(LEFT(S28,LEN(S28)-1)),T28)","v":4444},{"$f":"VLOOKUP(S31,AC3:AD2002,2, FALSE)","v":1222},null,{"$f":"FlashCards!AQ29","v":"0"},0,0,0,0,19749136,{"$f":"FlashCards!AE29","v":26}]
[null,null,null,null,null,null,null,null,null,null,null,null,null,null,null,null,null,null,null,null,null,null,null,{"$f":"FlashCards!AQ30","v":"0"},0,0,0,0,19749136,{"$f":"FlashCards!AE30","v":27}]
[null,null,null,null,null,null,null,null,null,null,null,null,null,null,null,null,null,null,"Min err",null,null,null,null,{"$f":"FlashCards!AQ31","v":"0"},0,0,0,0,19749136,{"$f":"FlashCards!AE31","v":28}]
[null,null,null,null,null,null,null,null,null,null,null,null,null,null,null,null,null,null,{"$f":"MIN(AC3:AC2002)","v":4},null,null,null,null,{"$f":"FlashCards!AQ32","v":"0"},0,0,0,0,19749136,{"$f":"FlashCards!AE32","v":29}]
[null,null,null,null,null,null,null,null,null,null,null,null,null,null,null,null,null,null,null,null,null,null,null,{"$f":"FlashCards!AQ33","v":"0"},0,0,0,0,19749136,{"$f":"FlashCards!AE33","v":30}]
[null,null,null,null,null,null,null,null,null,null,null,null,null,null,null,null,null,null,null,null,null,null,null,{"$f":"FlashCards!AQ34","v":"0"},0,0,0,0,19749136,{"$f":"FlashCards!AE34","v":31}]
[null,null,null,null,null,null,null,null,null,null,null,null,null,null,null,null,null,null,"Progress Bar:",null,{"$f":"H10*100/FlashCards!BJ2","v":6.6489361702127656},"%",null,{"$f":"FlashCards!AQ35","v":"0"},0,0,0,0,19749136,{"$f":"FlashCards!AE35","v":32}]
[null,null,null,null,null,null,null,null,null,null,null,null,null,null,"% from 2 to 98",null,null,null,0,{"$f":"S35/S$88*U$34","v":0},{"$f":"2+0.96*T35","v":2},0.1,null,{"$f":"FlashCards!AQ36","v":"0"},0,0,0,0,19749136,{"$f":"FlashCards!AE36","v":33}]
[null,null,null,null,null,null,null,null,null,null,null,null,null,null,null,null,null,null,1,{"$f":"S36/S$88*U$34","v":0.12545162585307104},{"$f":"2+0.96*T36","v":2.1204335608189484},0.1,null,{"$f":"FlashCards!AQ37","v":"0"},0,0,0,0,19749136,{"$f":"FlashCards!AE37","v":34}]
[null,null,null,null,null,null,null,null,null,null,null,null,null,null,null,null,null,null,2,0.25090325170614208,2.2408671216378964,0.1,null,{"$f":"FlashCards!AQ38","v":"0"},0,0,0,0,19749136,{"$f":"FlashCards!AE38","v":35}]
[null,null,null,null,null,null,null,null,null,null,null,null,null,null,null,null,null,null,3,0.37635487755921315,2.3613006824568448,0.1,null,{"$f":"FlashCards!AQ39","v":"0"},0,0,0,0,19749136,{"$f":"FlashCards!AE39","v":36}]
[null,null,null,null,null,null,null,null,null,null,null,null,null,null,null,null,null,null,4,0.50180650341228417,2.4817342432757927,0.1,null,{"$f":"FlashCards!AQ40","v":"0"},0,0,0,0,19749136,{"$f":"FlashCards!AE40","v":37}]
[null,null,null,null,null,null,null,null,null,null,null,null,null,null,null,null,null,null,5,0.62725812926535529,2.6021678040947411,0.1,null,{"$f":"FlashCards!AQ41","v":"0"},0,0,0,0,19749136,{"$f":"FlashCards!AE41","v":38}]
[null,null,null,null,null,null,null,null,null,null,null,null,null,null,null,null,null,null,6,0.7527097551184263,2.7226013649136891,0.1,null,{"$f":"FlashCards!AQ42","v":"0"},0,0,0,0,19749136,{"$f":"FlashCards!AE42","v":39}]
[null,null,null,null,null,null,null,null,null,null,null,null,null,null,null,null,null,null,7,0.87816138097149732,2.8430349257326375,0.1,null,{"$f":"FlashCards!AQ43","v":"0"},0,0,0,0,19749136,{"$f":"FlashCards!AE43","v":40}]
[null,null,null,null,null,null,null,null,null,null,null,null,null,null,null,null,null,null,8,1.0036130068245683,2.9634684865515855,0.1,null,{"$f":"FlashCards!AQ44","v":"0"},0,0,0,0,19749136,{"$f":"FlashCards!AE44","v":41}]
[null,null,null,null,null,null,null,null,null,null,null,null,null,null,null,null,null,null,9,1.1290646326776395,3.0839020473705339,0.1,null,{"$f":"FlashCards!AQ45","v":"0"},0,0,0,0,19749136,{"$f":"FlashCards!AE45","v":42}]
[null,null,null,null,null,null,null,null,null,null,null,null,null,null,null,null,null,null,10,1.2545162585307106,3.2043356081894823,0.1,null,{"$f":"FlashCards!AQ46","v":"0"},0,0,0,0,19749136,{"$f":"FlashCards!AE46","v":43}]
[null,null,null,null,null,null,null,null,null,null,null,null,null,null,null,null,null,null,11,1.3799678843837817,3.3247691690084302,0.1,null,{"$f":"FlashCards!AQ47","v":"0"},0,0,0,0,19749136,{"$f":"FlashCards!AE47","v":44}]
[null,null,null,null,null,null,null,null,null,null,null,null,null,null,null,null,null,null,12,1.5054195102368526,3.4452027298273782,0.1,null,{"$f":"FlashCards!AQ48","v":"0"},0,0,0,0,19749136,{"$f":"FlashCards!AE48","v":45}]
[null,null,null,null,null,null,null,null,null,null,null,null,null,null,null,null,null,null,13,1.6308711360899237,3.565636290646327,0.1,null,{"$f":"FlashCards!AQ49","v":"0"},0,0,0,0,19749136,{"$f":"FlashCards!AE49","v":46}]
[null,null,null,null,null,null,null,null,null,null,null,null,null,null,null,null,null,null,14,1.7563227619429946,3.686069851465275,0.1,null,{"$f":"FlashCards!AQ50","v":"0"},0,0,0,0,19749136,{"$f":"FlashCards!AE50","v":47}]
[null,null,null,null,null,null,null,null,null,null,null,null,null,null,null,null,null,null,15,1.8817743877960658,3.806503412284223,0.1,null,{"$f":"FlashCards!AQ51","v":"0"},0,0,0,0,19749136,{"$f":"FlashCards!AE51","v":48}]
[null,null,null,null,null,null,null,null,null,null,null,null,null,null,null,null,null,null,16,2.0072260136491367,3.9269369731031709,0.1,null,{"$f":"FlashCards!AQ52","v":"0"},0,0,0,0,19749136,{"$f":"FlashCards!AE52","v":49}]
[null,null,null,null,null,null,null,null,null,null,null,null,null,null,null,null,null,null,17,2.1326776395022078,4.0473705339221198,0.1,null,{"$f":"FlashCards!AQ53","v":"0"},0,0,0,0,19749136,{"$f":"FlashCards!AE53","v":50}]
[null,null,null,null,null,null,null,null,null,null,null,null,null,null,null,null,null,null,18,2.2581292653552789,4.1678040947410677,0.1,null,{"$f":"FlashCards!AQ54","v":"0"},0,0,0,0,19749136,{"$f":"FlashCards!AE54","v":51}]
[null,null,null,null,null,null,null,null,null,null,null,null,null,null,null,null,null,null,19,2.3835808912083496,4.2882376555600157,0.1,null,{"$f":"FlashCards!AQ55","v":"0"},0,0,0,0,19749136,{"$f":"FlashCards!AE55","v":52}]
[null,null,null,null,null,null,null,null,null,null,null,null,null,null,null,null,null,null,20,2.5090325170614212,4.4086712163789645,0.1,null,{"$f":"FlashCards!AQ56","v":"0"},0,0,0,0,19749136,{"$f":"FlashCards!AE56","v":53}]
[null,null,null,null,null,null,null,null,null,null,null,null,null,null,null,null,null,null,21,2.6344841429144923,4.5291047771979125,0.1,null,{"$f":"FlashCards!AQ57","v":"0"},0,0,0,0,19749136,{"$f":"FlashCards!AE57","v":54}]
[null,null,null,null,null,null,null,null,null,null,null,null,null,null,null,null,null,null,22,2.7599357687675634,4.6495383380168605,0.1,null,{"$f":"FlashCards!AQ58","v":"0"},0,0,0,0,19749136,{"$f":"FlashCards!AE58","v":55}]
[null,null,null,null,null,null,null,null,null,null,null,null,null,null,null,null,null,null,23,2.8853873946206341,4.7699718988358084,0.1,null,{"$f":"FlashCards!AQ59","v":"0"},0,0,0,0,19749136,{"$f":"FlashCards!AE59","v":56}]
[null,null,null,null,null,null,null,null,null,null,null,null,null,null,null,null,null,null,24,3.0108390204737052,4.8904054596547564,0.1,null,{"$f":"FlashCards!AQ60","v":"0"},0,0,0,0,19749136,{"$f":"FlashCards!AE60","v":57}]
[null,null,null,null,null,null,null,null,null,null,null,null,null,null,null,null,null,null,25,3.1362906463267763,5.0108390204737052,0.1,null,{"$f":"FlashCards!AQ61","v":"0"},0,0,0,0,19749136,{"$f":"FlashCards!AE61","v":58}]
[null,null,null,null,null,null,null,null,null,null,null,null,null,null,null,null,null,null,26,3.2617422721798475,5.1312725812926541,0.1,null,{"$f":"FlashCards!AQ62","v":"0"},0,0,0,0,19749136,{"$f":"FlashCards!AE62","v":59}]
[null,null,null,null,null,null,null,null,null,null,null,null,null,null,null,null,null,null,27,3.3871938980329181,5.2517061421116011,0.1,null,{"$f":"FlashCards!AQ63","v":"0"},0,0,0,0,19749136,{"$f":"FlashCards!AE63","v":60}]
[null,null,null,null,null,null,null,null,null,null,null,null,null,null,null,null,null,null,28,3.5126455238859893,5.37213970293055,0.1,null,{"$f":"FlashCards!AQ64","v":"0"},0,0,0,0,19749136,{"$f":"FlashCards!AE64","v":61}]
[null,null,null,null,null,null,null,null,null,null,null,null,null,null,null,null,null,null,29,3.6380971497390604,5.4925732637494979,0.1,null,{"$f":"FlashCards!AQ65","v":"0"},0,0,0,0,19749136,{"$f":"FlashCards!AE65","v":62}]
[null,null,null,null,null,null,null,null,null,null,null,null,null,null,null,null,null,null,30,3.7635487755921315,5.6130068245684459,0.1,null,{"$f":"FlashCards!AQ66","v":"0"},0,0,0,0,19749136,{"$f":"FlashCards!AE66","v":63}]
[null,null,null,null,null,null,null,null,null,null,null,null,null,null,null,null,null,null,31,3.8890004014452022,5.7334403853873939,0.1,null,{"$f":"FlashCards!AQ67","v":"0"},0,0,0,0,19749136,{"$f":"FlashCards!AE67","v":64}]
[null,null,null,null,null,null,null,null,null,null,null,null,null,null,null,null,null,null,32,4.0144520272982733,5.8538739462063418,0.1,null,{"$f":"FlashCards!AQ68","v":"0"},0,0,0,0,19749136,{"$f":"FlashCards!AE68","v":65}]
[null,null,null,null,null,null,null,null,null,null,null,null,null,null,null,null,null,null,33,4.139903653151344,5.9743075070252907,0.1,null,{"$f":"FlashCards!AQ69","v":"0"},{"$f":"VALUE(X68)","v":0},{"$f":"IF(ISERR(FIND(\"+\",X68,1)),0,FIND(\"+\",X68,1))","v":0},{"$f":"IF(ISERR(FIND(\",\",X68,1)),0,FIND(\",\",X68,1))","v":0},{"$f":"IF(Z68>0,VALUE(LEFT(X68,Z68-1)),IF(AA68>0,VALUE(LEFT(X68,AA68-1)),IF(ISERR(Y68),VALUE(LEFT(X68,LEN(X68)-1)),Y68)))","v":0},{"$f":"(AB68-U$28)^2","v":19749136},{"$f":"FlashCards!AE69","v":66}]
[null,null,null,null,null,null,null,null,null,null,null,null,null,null,null,null,null,null,34,4.2653552790044156,6.0947410678442386,0.1,null,{"$f":"FlashCards!AQ70","v":"0"},0,0,0,0,19749136,{"$f":"FlashCards!AE70","v":67}]
[null,null,null,null,null,null,null,null,null,null,null,null,null,null,null,null,null,null,35,4.3908069048574863,6.2151746286631866,0.1,null,{"$f":"FlashCards!AQ71","v":"0"},0,0,0,0,19749136,{"$f":"FlashCards!AE71","v":68}]
[null,null,null,null,null,null,null,null,null,null,null,null,null,null,null,null,null,null,36,4.5162585307105578,6.3356081894821354,0.1,null,{"$f":"FlashCards!AQ72","v":"0"},0,0,0,0,19749136,{"$f":"FlashCards!AE72","v":69}]
[null,null,null,null,null,null,null,null,null,null,null,null,null,null,null,null,null,null,37,4.6417101565636285,6.4560417503010834,0.1,null,{"$f":"FlashCards!AQ73","v":"11"},11,0,0,11,19651489,{"$f":"FlashCards!AE73","v":70}]
[null,null,null,null,null,null,null,null,null,null,null,null,null,null,null,null,null,null,38,4.7671617824166992,6.5764753111200314,0.1,null,{"$f":"FlashCards!AQ74","v":"18"},18,0,0,18,19589476,{"$f":"FlashCards!AE74","v":71}]
[null,null,null,null,null,null,null,null,null,null,null,null,null,null,null,null,null,null,39,4.8926134082697708,6.6969088719389793,0.1,null,{"$f":"FlashCards!AQ75","v":"21"},21,0,0,21,19562929,{"$f":"FlashCards!AE75","v":72}]
[null,null,null,null,null,null,null,null,null,null,null,null,null,null,null,null,null,null,40,5.0180650341228423,6.8173424327579282,0.1,null,{"$f":"FlashCards!AQ76","v":"25"},25,0,0,25,19527561,{"$f":"FlashCards!AE76","v":73}]
[null,null,null,null,null,null,null,null,null,null,null,null,null,null,null,null,null,null,41,5.143516659975913,6.9377759935768761,0.1,null,{"$f":"FlashCards!AQ77","v":"26"},26,0,0,26,19518724,{"$f":"FlashCards!AE77","v":74}]
[null,null,null,null,null,null,null,null,null,null,null,null,null,null,null,null,null,null,42,5.2689682858289846,7.058209554395825,0.1,null,{"$f":"FlashCards!AQ78","v":"27"},27,0,0,27,19509889,{"$f":"FlashCards!AE78","v":75}]
[null,null,null,null,null,null,null,null,null,null,null,null,null,null,null,null,null,null,43,5.3944199116820553,7.1786431152147729,0.1,null,{"$f":"FlashCards!AQ79","v":"31a"},{"$error":"#VALUE!"},0,0,31,19474569,{"$f":"FlashCards!AE79","v":76}]
[null,null,null,null,null,null,null,null,null,null,null,null,null,null,null,null,null,null,44,5.5198715375351268,7.2990766760337218,0.1,null,{"$f":"FlashCards!AQ80","v":"32a"},{"$error":"#VALUE!"},0,0,32,19465744,{"$f":"FlashCards!AE80","v":77}]
[null,null,null,null,null,null,null,null,null,null,null,null,null,null,null,null,null,null,45,5.6453231633881975,7.4195102368526697,0.1,null,{"$f":"FlashCards!AQ81","v":"37"},37,0,0,37,19421649,{"$f":"FlashCards!AE81","v":78}]
[null,null,null,null,null,null,null,null,null,null,null,null,null,null,null,null,null,null,46,5.7707747892412682,7.5399437976716168,0.1,null,{"$f":"FlashCards!AQ82","v":"38"},38,0,0,38,19412836,{"$f":"FlashCards!AE82","v":79}]
[null,null,null,null,null,null,null,null,null,null,null,null,null,null,null,null,null,null,47,5.8962264150943398,7.6603773584905657,0.1,null,{"$f":"FlashCards!AQ83","v":"40"},40,0,0,40,19395216,{"$f":"FlashCards!AE83","v":80}]
[null,null,null,null,null,null,null,null,null,null,null,null,null,null,null,null,null,null,48,6.0216780409474104,7.7808109193095136,0.1,null,{"$f":"FlashCards!AQ84","v":"40"},40,0,0,40,19395216,{"$f":"FlashCards!AE84","v":81}]
[null,null,null,null,null,null,null,null,null,null,null,null,null,null,null,null,null,null,49,6.1471296668004811,7.9012444801284616,0.1,null,{"$f":"FlashCards!AQ85","v":"50"},50,0,0,50,19307236,{"$f":"FlashCards!AE85","v":82}]
[null,null,null,null,null,null,null,null,null,null,null,null,null,null,null,null,null,null,50,6.2725812926535527,8.0216780409474104,0.1,null,{"$f":"FlashCards!AQ86","v":"58"},58,0,0,58,19236996,{"$f":"FlashCards!AE86","v":83}]
[null,null,null,null,null,null,null,null,null,null,null,null,null,null,null,null,null,null,51,6.3980329185066234,8.1421116017663593,0.1,null,{"$f":"FlashCards!AQ87","v":"59"},59,0,0,59,19228225,{"$f":"FlashCards!AE87","v":84}]
[null,null,null,null,null,null,null,null,null,null,null,null,null,null,null,null,null,null,52,6.5234845443596949,8.2625451625853081,0.1,null,{"$f":"FlashCards!AQ88","v":"67"},67,0,0,67,19158129,{"$f":"FlashCards!AE88","v":85}]
[null,null,null,null,null,null,null,null,null,null,null,null,null,null,null,null,null,null,53,6.6489361702127656,8.3829787234042534,0.1,null,{"$f":"FlashCards!AQ89","v":"68"},68,0,0,68,19149376,{"$f":"FlashCards!AE89","v":86}]
[null,null,null,null,null,null,null,null,null,null,null,null,null,null,null,null,null,null,null,null,null,null,null,{"$f":"FlashCards!AQ90","v":"71"},71,0,0,71,19123129,{"$f":"FlashCards!AE90","v":87}]
[null,null,null,null,null,null,null,null,null,null,null,null,null,null,null,null,null,null,null,null,null,null,null,{"$f":"FlashCards!AQ91","v":"79"},79,0,0,79,19053225,{"$f":"FlashCards!AE91","v":88}]
[null,null,null,null,null,null,null,null,null,null,null,null,null,null,null,null,null,null,null,null,null,null,null,{"$f":"FlashCards!AQ92","v":"80"},80,0,0,80,19044496,{"$f":"FlashCards!AE92","v":89}]
[null,null,null,null,null,null,null,null,null,null,null,null,null,null,null,null,null,null,null,null,null,null,null,{"$f":"FlashCards!AQ93","v":"86"},86,0,0,86,18992164,{"$f":"FlashCards!AE93","v":90}]
[null,null,null,null,null,null,null,null,null,null,null,null,null,null,null,null,null,null,null,null,null,null,null,{"$f":"FlashCards!AQ94","v":"91"},91,0,0,91,18948609,{"$f":"FlashCards!AE94","v":91}]
[null,null,null,null,null,null,null,null,null,null,null,null,null,null,null,null,null,null,null,null,null,null,null,{"$f":"FlashCards!AQ95","v":"93"},93,0,0,93,18931201,{"$f":"FlashCards!AE95","v":92}]
[null,null,null,null,null,null,null,null,null,null,null,null,null,null,null,null,null,null,null,null,null,null,null,{"$f":"FlashCards!AQ96","v":"94"},94,0,0,94,18922500,{"$f":"FlashCards!AE96","v":93}]
[null,null,null,null,null,null,null,null,null,null,null,null,null,null,null,null,null,null,null,null,null,null,null,{"$f":"FlashCards!AQ97","v":"102"},102,0,0,102,18852964,{"$f":"FlashCards!AE97","v":94}]
[null,null,null,null,null,null,null,null,null,null,null,null,null,null,null,null,null,null,null,null,null,null,null,{"$f":"FlashCards!AQ98","v":"114"},114,0,0,114,18748900,{"$f":"FlashCards!AE98","v":95}]
[null,null,null,null,null,null,null,null,null,null,null,null,null,null,null,null,null,null,null,null,null,null,null,{"$f":"FlashCards!AQ99","v":"125"},125,0,0,125,18653761,{"$f":"FlashCards!AE99","v":96}]
[null,null,null,null,null,null,null,null,null,null,null,null,null,null,null,null,null,null,null,null,null,null,null,{"$f":"FlashCards!AQ100","v":"129"},129,0,0,129,18619225,{"$f":"FlashCards!AE100","v":97}]
[null,null,null,null,null,null,null,null,null,null,null,null,null,null,null,null,null,null,null,null,null,null,null,{"$f":"FlashCards!AQ101","v":"142"},142,0,0,142,18507204,{"$f":"FlashCards!AE101","v":98}]
[null,null,null,null,null,null,null,null,null,null,null,null,null,null,null,null,null,null,null,null,null,null,null,{"$f":"FlashCards!AQ102","v":"154"},154,0,0,154,18404100,{"$f":"FlashCards!AE102","v":99}]
[null,null,null,null,null,null,null,null,null,null,null,null,null,null,null,null,null,null,null,null,null,null,null,{"$f":"FlashCards!AQ103","v":"156"},156,0,0,156,18386944,{"$f":"FlashCards!AE103","v":100}]
[null,null,null,null,null,null,null,null,null,null,null,null,null,null,null,null,null,null,null,null,null,null,null,{"$f":"FlashCards!AQ104","v":"165"},165,0,0,165,18309841,{"$f":"FlashCards!AE104","v":101}]
[null,null,null,null,null,null,null,null,null,null,null,null,null,null,null,null,null,null,null,null,null,null,null,{"$f":"FlashCards!AQ105","v":"1519, 165"},{"$error":"#VALUE!"},0,5,1519,8555625,{"$f":"FlashCards!AE105","v":102}]
[null,null,null,null,null,null,null,null,null,null,null,null,null,null,null,null,null,null,null,null,null,null,null,{"$f":"FlashCards!AQ106","v":"1519, 165"},{"$error":"#VALUE!"},0,5,1519,8555625,{"$f":"FlashCards!AE106","v":103}]
[null,null,null,null,null,null,null,null,null,null,null,null,null,null,null,null,null,null,null,null,null,null,null,{"$f":"FlashCards!AQ107","v":"166"},166,0,0,166,18301284,{"$f":"FlashCards!AE107","v":104}]
[null,null,null,null,null,null,null,null,null,null,null,null,null,null,null,null,null,null,null,null,null,null,null,{"$f":"FlashCards!AQ108","v":"167"},167,0,0,167,18292729,{"$f":"FlashCards!AE108","v":105}]
[null,null,null,null,null,null,null,null,null,null,null,null,null,null,null,null,null,null,null,null,null,null,null,{"$f":"FlashCards!AQ109","v":"169"},169,0,0,169,18275625,{"$f":"FlashCards!AE109","v":106}]
[null,null,null,null,null,null,null,null,null,null,null,null,null,null,null,null,null,null,null,null,null,null,null,{"$f":"FlashCards!AQ110","v":"173"},173,0,0,173,18241441,{"$f":"FlashCards!AE110","v":107}]
[null,null,null,null,null,null,null,null,null,null,null,null,null,null,null,null,null,null,null,null,null,null,null,{"$f":"FlashCards!AQ111","v":"189"},189,0,0,189,18105025,{"$f":"FlashCards!AE111","v":108}]
[null,null,null,null,null,null,null,null,null,null,null,null,null,null,null,null,null,null,null,null,null,null,null,{"$f":"FlashCards!AQ112","v":"190"},190,0,0,190,18096516,{"$f":"FlashCards!AE112","v":109}]
[null,null,null,null,null,null,null,null,null,null,null,null,null,null,null,null,null,null,null,null,null,null,null,{"$f":"FlashCards!AQ113","v":"191"},191,0,0,191,18088009,{"$f":"FlashCards!AE113","v":110}]
[null,null,null,null,null,null,null,null,null,null,null,null,null,null,null,null,null,null,null,null,null,null,null,{"$f":"FlashCards!AQ114","v":"203"},203,0,0,203,17986081,{"$f":"FlashCards!AE114","v":111}]
[null,null,null,null,null,null,null,null,null,null,null,null,null,null,null,null,null,null,null,null,null,null,null,{"$f":"FlashCards!AQ115","v":"220"},220,0,0,220,17842176,{"$f":"FlashCards!AE115","v":112}]
[null,null,null,null,null,null,null,null,null,null,null,null,null,null,null,null,null,null,null,null,null,null,null,{"$f":"FlashCards!AQ116","v":"225"},225,0,0,225,17799961,{"$f":"FlashCards!AE116","v":113}]
[null,null,null,null,null,null,null,null,null,null,null,null,null,null,null,null,null,null,null,null,null,null,null,{"$f":"FlashCards!AQ117","v":"227"},227,0,0,227,17783089,{"$f":"FlashCards!AE117","v":114}]
[null,null,null,null,null,null,null,null,null,null,null,null,null,null,null,null,null,null,null,null,null,null,null,{"$f":"FlashCards!AQ118","v":"228"},228,0,0,228,17774656,{"$f":"FlashCards!AE118","v":115}]
[null,null,null,null,null,null,null,null,null,null,null,null,null,null,null,null,null,null,null,null,null,null,null,{"$f":"FlashCards!AQ119","v":"230"},230,0,0,230,17757796,{"$f":"FlashCards!AE119","v":116}]
[null,null,null,null,null,null,null,null,null,null,null,null,null,null,null,null,null,null,null,null,null,null,null,{"$f":"FlashCards!AQ120","v":"235"},235,0,0,235,17715681,{"$f":"FlashCards!AE120","v":117}]
[null,null,null,null,null,null,null,null,null,null,null,null,null,null,null,null,null,null,null,null,null,null,null,{"$f":"FlashCards!AQ121","v":"240"},240,0,0,240,17673616,{"$f":"FlashCards!AE121","v":118}]
[null,null,null,null,null,null,null,null,null,null,null,null,null,null,null,null,null,null,null,null,null,null,null,{"$f":"FlashCards!AQ122","v":"243"},243,0,0,243,17648401,{"$f":"FlashCards!AE122","v":119}]
[null,null,null,null,null,null,null,null,null,null,null,null,null,null,null,null,null,null,null,null,null,null,null,{"$f":"FlashCards!AQ123","v":"245"},245,0,0,245,17631601,{"$f":"FlashCards!AE123","v":120}]
[null,null,null,null,null,null,null,null,null,null,null,null,null,null,null,null,null,null,null,null,null,null,null,{"$f":"FlashCards!AQ124","v":"254"},254,0,0,254,17556100,{"$f":"FlashCards!AE124","v":121}]
[null,null,null,null,null,null,null,null,null,null,null,null,null,null,null,null,null,null,null,null,null,null,null,{"$f":"FlashCards!AQ125","v":"260"},260,0,0,260,17505856,{"$f":"FlashCards!AE125","v":122}]
[null,null,null,null,null,null,null,null,null,null,null,null,null,null,null,null,null,null,null,null,null,null,null,{"$f":"FlashCards!AQ126","v":"260"},260,0,0,260,17505856,{"$f":"FlashCards!AE126","v":123}]
[null,null,null,null,null,null,null,null,null,null,null,null,null,null,null,null,null,null,null,null,null,null,null,{"$f":"FlashCards!AQ127","v":"264"},264,0,0,264,17472400,{"$f":"FlashCards!AE127","v":124}]
[null,null,null,null,null,null,null,null,null,null,null,null,null,null,null,null,null,null,null,null,null,null,null,{"$f":"FlashCards!AQ128","v":"266"},266,0,0,266,17455684,{"$f":"FlashCards!AE128","v":125}]
[null,null,null,null,null,null,null,null,null,null,null,null,null,null,null,null,null,null,null,null,null,null,null,{"$f":"FlashCards!AQ129","v":"268"},268,0,0,268,17438976,{"$f":"FlashCards!AE129","v":126}]
[null,null,null,null,null,null,null,null,null,null,null,null,null,null,null,null,null,null,null,null,null,null,null,{"$f":"FlashCards!AQ130","v":"268"},268,0,0,268,17438976,{"$f":"FlashCards!AE130","v":127}]
[null,null,null,null,null,null,null,null,null,null,null,null,null,null,null,null,null,null,null,null,null,null,null,{"$f":"FlashCards!AQ131","v":"281"},281,0,0,281,17330569,{"$f":"FlashCards!AE131","v":128}]
[null,null,null,null,null,null,null,null,null,null,null,null,null,null,null,null,null,null,null,null,null,null,null,{"$f":"FlashCards!AQ132","v":"290"},290,0,0,290,17255716,{"$f":"FlashCards!AE132","v":129}]
[null,null,null,null,null,null,null,null,null,null,null,null,null,null,null,null,null,null,null,null,null,null,null,{"$f":"FlashCards!AQ133","v":"297"},{"$f":"VALUE(X132)","v":297},{"$f":"IF(ISERR(FIND(\"+\",X132,1)),0,FIND(\"+\",X132,1))","v":0},{"$f":"IF(ISERR(FIND(\",\",X132,1)),0,FIND(\",\",X132,1))","v":0},{"$f":"IF(Z132>0,VALUE(LEFT(X132,Z132-1)),IF(AA132>0,VALUE(LEFT(X132,AA132-1)),IF(ISERR(Y132),VALUE(LEFT(X132,LEN(X132)-1)),Y132)))","v":297},{"$f":"(AB132-U$28)^2","v":17197609},{"$f":"FlashCards!AE133","v":130}]
[null,null,null,null,null,null,null,null,null,null,null,null,null,null,null,null,null,null,null,null,null,null,null,{"$f":"FlashCards!AQ134","v":"302"},302,0,0,302,17156164,{"$f":"FlashCards!AE134","v":131}]
[null,null,null,null,null,null,null,null,null,null,null,null,null,null,null,null,null,null,null,null,null,null,null,{"$f":"FlashCards!AQ135","v":"302"},302,0,0,302,17156164,{"$f":"FlashCards!AE135","v":132}]
[null,null,null,null,null,null,null,null,null,null,null,null,null,null,null,null,null,null,null,null,null,null,null,{"$f":"FlashCards!AQ136","v":"303"},303,0,0,303,17147881,{"$f":"FlashCards!AE136","v":133}]
[null,null,null,null,null,null,null,null,null,null,null,null,null,null,null,null,null,null,null,null,null,null,null,{"$f":"FlashCards!AQ137","v":"305"},305,0,0,305,17131321,{"$f":"FlashCards!AE137","v":134}]
[null,null,null,null,null,null,null,null,null,null,null,null,null,null,null,null,null,null,null,null,null,null,null,{"$f":"FlashCards!AQ138","v":"308"},308,0,0,308,17106496,{"$f":"FlashCards!AE138","v":135}]
[null,null,null,null,null,null,null,null,null,null,null,null,null,null,null,null,null,null,null,null,null,null,null,{"$f":"FlashCards!AQ139","v":"312"},312,0,0,312,17073424,{"$f":"FlashCards!AE139","v":136}]
[null,null,null,null,null,null,null,null,null,null,null,null,null,null,null,null,null,null,null,null,null,null,null,{"$f":"FlashCards!AQ140","v":"314"},314,0,0,314,17056900,{"$f":"FlashCards!AE140","v":137}]
[null,null,null,null,null,null,null,null,null,null,null,null,null,null,null,null,null,null,null,null,null,null,null,{"$f":"FlashCards!AQ141","v":"318"},318,0,0,318,17023876,{"$f":"FlashCards!AE141","v":138}]
[null,null,null,null,null,null,null,null,null,null,null,null,null,null,null,null,null,null,null,null,null,null,null,{"$f":"FlashCards!AQ142","v":"321"},321,0,0,321,16999129,{"$f":"FlashCards!AE142","v":139}]
[null,null,null,null,null,null,null,null,null,null,null,null,null,null,null,null,null,null,null,null,null,null,null,{"$f":"FlashCards!AQ143","v":"337"},337,0,0,337,16867449,{"$f":"FlashCards!AE143","v":140}]
[null,null,null,null,null,null,null,null,null,null,null,null,null,null,null,null,null,null,null,null,null,null,null,{"$f":"FlashCards!AQ144","v":"345"},345,0,0,345,16801801,{"$f":"FlashCards!AE144","v":141}]
[null,null,null,null,null,null,null,null,null,null,null,null,null,null,null,null,null,null,null,null,null,null,null,{"$f":"FlashCards!AQ145","v":"350"},350,0,0,350,16760836,{"$f":"FlashCards!AE145","v":142}]
[null,null,null,null,null,null,null,null,null,null,null,null,null,null,null,null,null,null,null,null,null,null,null,{"$f":"FlashCards!AQ146","v":"353"},353,0,0,353,16736281,{"$f":"FlashCards!AE146","v":143}]
[null,null,null,null,null,null,null,null,null,null,null,null,null,null,null,null,null,null,null,null,null,null,null,{"$f":"FlashCards!AQ147","v":"367"},367,0,0,367,16621929,{"$f":"FlashCards!AE147","v":144}]
[null,null,null,null,null,null,null,null,null,null,null,null,null,null,null,null,null,null,null,null,null,null,null,{"$f":"FlashCards!AQ148","v":"373"},373,0,0,373,16573041,{"$f":"FlashCards!AE148","v":145}]
[null,null,null,null,null,null,null,null,null,null,null,null,null,null,null,null,null,null,null,null,null,null,null,{"$f":"FlashCards!AQ149","v":"377"},377,0,0,377,16540489,{"$f":"FlashCards!AE149","v":146}]
[null,null,null,null,null,null,null,null,null,null,null,null,null,null,null,null,null,null,null,null,null,null,null,{"$f":"FlashCards!AQ150","v":"386"},386,0,0,386,16467364,{"$f":"FlashCards!AE150","v":147}]
[null,null,null,null,null,null,null,null,null,null,null,null,null,null,null,null,null,null,null,null,null,null,null,{"$f":"FlashCards!AQ151","v":"391"},391,0,0,391,16426809,{"$f":"FlashCards!AE151","v":148}]
[null,null,null,null,null,null,null,null,null,null,null,null,null,null,null,null,null,null,null,null,null,null,null,{"$f":"FlashCards!AQ152","v":"395"},395,0,0,395,16394401,{"$f":"FlashCards!AE152","v":149}]
[null,null,null,null,null,null,null,null,null,null,null,null,null,null,null,null,null,null,null,null,null,null,null,{"$f":"FlashCards!AQ153","v":"399"},399,0,0,399,16362025,{"$f":"FlashCards!AE153","v":150}]
[null,null,null,null,null,null,null,null,null,null,null,null,null,null,null,null,null,null,null,null,null,null,null,{"$f":"FlashCards!AQ154","v":"402"},402,0,0,402,16337764,{"$f":"FlashCards!AE154","v":151}]
[null,null,null,null,null,null,null,null,null,null,null,null,null,null,null,null,null,null,null,null,null,null,null,{"$f":"FlashCards!AQ155","v":"406"},406,0,0,406,16305444,{"$f":"FlashCards!AE155","v":152}]
[null,null,null,null,null,null,null,null,null,null,null,null,null,null,null,null,null,null,null,null,null,null,null,{"$f":"FlashCards!AQ156","v":"417"},417,0,0,417,16216729,{"$f":"FlashCards!AE156","v":153}]
[null,null,null,null,null,null,null,null,null,null,null,null,null,null,null,null,null,null,null,null,null,null,null,{"$f":"FlashCards!AQ157","v":"430"},430,0,0,430,16112196,{"$f":"FlashCards!AE157","v":154}]
[null,null,null,null,null,null,null,null,null,null,null,null,null,null,null,null,null,null,null,null,null,null,null,{"$f":"FlashCards!AQ158","v":"435"},435,0,0,435,16072081,{"$f":"FlashCards!AE158","v":155}]
[null,null,null,null,null,null,null,null,null,null,null,null,null,null,null,null,null,null,null,null,null,null,null,{"$f":"FlashCards!AQ159","v":"435"},435,0,0,435,16072081,{"$f":"FlashCards!AE159","v":156}]
[null,null,null,null,null,null,null,null,null,null,null,null,null,null,null,null,null,null,null,null,null,null,null,{"$f":"FlashCards!AQ160","v":"436"},436,0,0,436,16064064,{"$f":"FlashCards!AE160","v":157}]
[null,null,null,null,null,null,null,null,null,null,null,null,null,null,null,null,null,null,null,null,null,null,null,{"$f":"FlashCards!AQ161","v":"444"},444,0,0,444,16000000,{"$f":"FlashCards!AE161","v":158}]
[null,null,null,null,null,null,null,null,null,null,null,null,null,null,null,null,null,null,null,null,null,null,null,{"$f":"FlashCards!AQ162","v":"450"},450,0,0,450,15952036,{"$f":"FlashCards!AE162","v":159}]
[null,null,null,null,null,null,null,null,null,null,null,null,null,null,null,null,null,null,null,null,null,null,null,{"$f":"FlashCards!AQ163","v":"455"},455,0,0,455,15912121,{"$f":"FlashCards!AE163","v":160}]
[null,null,null,null,null,null,null,null,null,null,null,null,null,null,null,null,null,null,null,null,null,null,null,{"$f":"FlashCards!AQ164","v":"458"},458,0,0,458,15888196,{"$f":"FlashCards!AE164","v":161}]
[null,null,null,null,null,null,null,null,null,null,null,null,null,null,null,null,null,null,null,null,null,null,null,{"$f":"FlashCards!AQ165","v":"473"},473,0,0,473,15768841,{"$f":"FlashCards!AE165","v":162}]
[null,null,null,null,null,null,null,null,null,null,null,null,null,null,null,null,null,null,null,null,null,null,null,{"$f":"FlashCards!AQ166","v":"474"},474,0,0,474,15760900,{"$f":"FlashCards!AE166","v":163}]
[null,null,null,null,null,null,null,null,null,null,null,null,null,null,null,null,null,null,null,null,null,null,null,{"$f":"FlashCards!AQ167","v":"490"},490,0,0,490,15634116,{"$f":"FlashCards!AE167","v":164}]
[null,null,null,null,null,null,null,null,null,null,null,null,null,null,null,null,null,null,null,null,null,null,null,{"$f":"FlashCards!AQ168","v":"509"},509,0,0,509,15484225,{"$f":"FlashCards!AE168","v":165}]
[null,null,null,null,null,null,null,null,null,null,null,null,null,null,null,null,null,null,null,null,null,null,null,{"$f":"FlashCards!AQ169","v":"514"},514,0,0,514,15444900,{"$f":"FlashCards!AE169","v":166}]
[null,null,null,null,null,null,null,null,null,null,null,null,null,null,null,null,null,null,null,null,null,null,null,{"$f":"FlashCards!AQ170","v":"518"},518,0,0,518,15413476,{"$f":"FlashCards!AE170","v":167}]
[null,null,null,null,null,null,null,null,null,null,null,null,null,null,null,null,null,null,null,null,null,null,null,{"$f":"FlashCards!AQ171","v":"520"},520,0,0,520,15397776,{"$f":"FlashCards!AE171","v":168}]
[null,null,null,null,null,null,null,null,null,null,null,null,null,null,null,null,null,null,null,null,null,null,null,{"$f":"FlashCards!AQ172","v":"530"},530,0,0,530,15319396,{"$f":"FlashCards!AE172","v":169}]
[null,null,null,null,null,null,null,null,null,null,null,null,null,null,null,null,null,null,null,null,null,null,null,{"$f":"FlashCards!AQ173","v":"533"},533,0,0,533,15295921,{"$f":"FlashCards!AE173","v":170}]
[null,null,null,null,null,null,null,null,null,null,null,null,null,null,null,null,null,null,null,null,null,null,null,{"$f":"FlashCards!AQ174","v":"537a"},{"$error":"#VALUE!"},0,0,537,15264649,{"$f":"FlashCards!AE174","v":171}]
[null,null,null,null,null,null,null,null,null,null,null,null,null,null,null,null,null,null,null,null,null,null,null,{"$f":"FlashCards!AQ175","v":"544"},544,0,0,544,15210000,{"$f":"FlashCards!AE175","v":172}]
[null,null,null,null,null,null,null,null,null,null,null,null,null,null,null,null,null,null,null,null,null,null,null,{"$f":"FlashCards!AQ176","v":"565"},565,0,0,565,15046641,{"$f":"FlashCards!AE176","v":173}]
[null,null,null,null,null,null,null,null,null,null,null,null,null,null,null,null,null,null,null,null,null,null,null,{"$f":"FlashCards!AQ177","v":"568"},568,0,0,568,15023376,{"$f":"FlashCards!AE177","v":174}]
[null,null,null,null,null,null,null,null,null,null,null,null,null,null,null,null,null,null,null,null,null,null,null,{"$f":"FlashCards!AQ178","v":"570"},570,0,0,570,15007876,{"$f":"FlashCards!AE178","v":175}]
[null,null,null,null,null,null,null,null,null,null,null,null,null,null,null,null,null,null,null,null,null,null,null,{"$f":"FlashCards!AQ179","v":"571"},571,0,0,571,15000129,{"$f":"FlashCards!AE179","v":176}]
[null,null,null,null,null,null,null,null,null,null,null,null,null,null,null,null,null,null,null,null,null,null,null,{"$f":"FlashCards!AQ180","v":"575"},575,0,0,575,14969161,{"$f":"FlashCards!AE180","v":177}]
[null,null,null,null,null,null,null,null,null,null,null,null,null,null,null,null,null,null,null,null,null,null,null,{"$f":"FlashCards!AQ181","v":"591"},591,0,0,591,14845609,{"$f":"FlashCards!AE181","v":178}]
[null,null,null,null,null,null,null,null,null,null,null,null,null,null,null,null,null,null,null,null,null,null,null,{"$f":"FlashCards!AQ182","v":"599"},599,0,0,599,14784025,{"$f":"FlashCards!AE182","v":179}]
[null,null,null,null,null,null,null,null,null,null,null,null,null,null,null,null,null,null,null,null,null,null,null,{"$f":"FlashCards!AQ183","v":"600"},600,0,0,600,14776336,{"$f":"FlashCards!AE183","v":180}]
[null,null,null,null,null,null,null,null,null,null,null,null,null,null,null,null,null,null,null,null,null,null,null,{"$f":"FlashCards!AQ184","v":"601"},601,0,0,601,14768649,{"$f":"FlashCards!AE184","v":181}]
[null,null,null,null,null,null,null,null,null,null,null,null,null,null,null,null,null,null,null,null,null,null,null,{"$f":"FlashCards!AQ185","v":"602"},602,0,0,602,14760964,{"$f":"FlashCards!AE185","v":182}]
[null,null,null,null,null,null,null,null,null,null,null,null,null,null,null,null,null,null,null,null,null,null,null,{"$f":"FlashCards!AQ186","v":"611"},611,0,0,611,14691889,{"$f":"FlashCards!AE186","v":183}]
[null,null,null,null,null,null,null,null,null,null,null,null,null,null,null,null,null,null,null,null,null,null,null,{"$f":"FlashCards!AQ187","v":"611"},611,0,0,611,14691889,{"$f":"FlashCards!AE187","v":184}]
[null,null,null,null,null,null,null,null,null,null,null,null,null,null,null,null,null,null,null,null,null,null,null,{"$f":"FlashCards!AQ188","v":"615"},615,0,0,615,14661241,{"$f":"FlashCards!AE188","v":185}]
[null,null,null,null,null,null,null,null,null,null,null,null,null,null,null,null,null,null,null,null,null,null,null,{"$f":"FlashCards!AQ189","v":"618"},618,0,0,618,14638276,{"$f":"FlashCards!AE189","v":186}]
[null,null,null,null,null,null,null,null,null,null,null,null,null,null,null,null,null,null,null,null,null,null,null,{"$f":"FlashCards!AQ190","v":"622"},622,0,0,622,14607684,{"$f":"FlashCards!AE190","v":187}]
[null,null,null,null,null,null,null,null,null,null,null,null,null,null,null,null,null,null,null,null,null,null,null,{"$f":"FlashCards!AQ191","v":"622"},622,0,0,622,14607684,{"$f":"FlashCards!AE191","v":188}]
[null,null,null,null,null,null,null,null,null,null,null,null,null,null,null,null,null,null,null,null,null,null,null,{"$f":"FlashCards!AQ192","v":"625"},625,0,0,625,14584761,{"$f":"FlashCards!AE192","v":189}]
[null,null,null,null,null,null,null,null,null,null,null,null,null,null,null,null,null,null,null,null,null,null,null,{"$f":"FlashCards!AQ193","v":"626"},626,0,0,626,14577124,{"$f":"FlashCards!AE193","v":190}]
[null,null,null,null,null,null,null,null,null,null,null,null,null,null,null,null,null,null,null,null,null,null,null,{"$f":"FlashCards!AQ194","v":"627"},627,0,0,627,14569489,{"$f":"FlashCards!AE194","v":191}]
[null,null,null,null,null,null,null,null,null,null,null,null,null,null,null,null,null,null,null,null,null,null,null,{"$f":"FlashCards!AQ195","v":"629"},629,0,0,629,14554225,{"$f":"FlashCards!AE195","v":192}]
[null,null,null,null,null,null,null,null,null,null,null,null,null,null,null,null,null,null,null,null,null,null,null,{"$f":"FlashCards!AQ196","v":"630"},630,0,0,630,14546596,{"$f":"FlashCards!AE196","v":193}]
[null,null,null,null,null,null,null,null,null,null,null,null,null,null,null,null,null,null,null,null,null,null,null,{"$f":"FlashCards!AQ197","v":"639"},{"$f":"VALUE(X196)","v":639},{"$f":"IF(ISERR(FIND(\"+\",X196,1)),0,FIND(\"+\",X196,1))","v":0},{"$f":"IF(ISERR(FIND(\",\",X196,1)),0,FIND(\",\",X196,1))","v":0},{"$f":"IF(Z196>0,VALUE(LEFT(X196,Z196-1)),IF(AA196>0,VALUE(LEFT(X196,AA196-1)),IF(ISERR(Y196),VALUE(LEFT(X196,LEN(X196)-1)),Y196)))","v":639},{"$f":"(AB196-U$28)^2","v":14478025},{"$f":"FlashCards!AE197","v":194}]
[null,null,null,null,null,null,null,null,null,null,null,null,null,null,null,null,null,null,null,null,null,null,null,{"$f":"FlashCards!AQ198","v":"649"},649,0,0,649,14402025,{"$f":"FlashCards!AE198","v":195}]
[null,null,null,null,null,null,null,null,null,null,null,null,null,null,null,null,null,null,null,null,null,null,null,{"$f":"FlashCards!AQ199","v":"652"},652,0,0,652,14379264,{"$f":"FlashCards!AE199","v":196}]
[null,null,null,null,null,null,null,null,null,null,null,null,null,null,null,null,null,null,null,null,null,null,null,{"$f":"FlashCards!AQ200","v":"681"},681,0,0,681,14160169,{"$f":"FlashCards!AE200","v":197}]
[null,null,null,null,null,null,null,null,null,null,null,null,null,null,null,null,null,null,null,null,null,null,null,{"$f":"FlashCards!AQ201","v":"684"},684,0,0,684,14137600,{"$f":"FlashCards!AE201","v":198}]
[null,null,null,null,null,null,null,null,null,null,null,null,null,null,null,null,null,null,null,null,null,null,null,{"$f":"FlashCards!AQ202","v":"686"},686,0,0,686,14122564,{"$f":"FlashCards!AE202","v":199}]
[null,null,null,null,null,null,null,null,null,null,null,null,null,null,null,null,null,null,null,null,null,null,null,{"$f":"FlashCards!AQ203","v":"686+1065"},{"$error":"#VALUE!"},4,0,686,14122564,{"$f":"FlashCards!AE203","v":200}]
[null,null,null,null,null,null,null,null,null,null,null,null,null,null,null,null,null,null,null,null,null,null,null,{"$f":"FlashCards!AQ204","v":"687"},687,0,0,687,14115049,{"$f":"FlashCards!AE204","v":201}]
[null,null,null,null,null,null,null,null,null,null,null,null,null,null,null,null,null,null,null,null,null,null,null,{"$f":"FlashCards!AQ205","v":"694"},694,0,0,694,14062500,{"$f":"FlashCards!AE205","v":202}]
[null,null,null,null,null,null,null,null,null,null,null,null,null,null,null,null,null,null,null,null,null,null,null,{"$f":"FlashCards!AQ206","v":"700"},700,0,0,700,14017536,{"$f":"FlashCards!AE206","v":203}]
[null,null,null,null,null,null,null,null,null,null,null,null,null,null,null,null,null,null,null,null,null,null,null,{"$f":"FlashCards!AQ207","v":"706"},706,0,0,706,13972644,{"$f":"FlashCards!AE207","v":204}]
[null,null,null,null,null,null,null,null,null,null,null,null,null,null,null,null,null,null,null,null,null,null,null,{"$f":"FlashCards!AQ208","v":"720"},720,0,0,720,13868176,{"$f":"FlashCards!AE208","v":205}]
[null,null,null,null,null,null,null,null,null,null,null,null,null,null,null,null,null,null,null,null,null,null,null,{"$f":"FlashCards!AQ209","v":"721b"},{"$error":"#VALUE!"},0,0,721,13860729,{"$f":"FlashCards!AE209","v":206}]
[null,null,null,null,null,null,null,null,null,null,null,null,null,null,null,null,null,null,null,null,null,null,null,{"$f":"FlashCards!AQ210","v":"726"},726,0,0,726,13823524,{"$f":"FlashCards!AE210","v":207}]
[null,null,null,null,null,null,null,null,null,null,null,null,null,null,null,null,null,null,null,null,null,null,null,{"$f":"FlashCards!AQ211","v":"737"},737,0,0,737,13741849,{"$f":"FlashCards!AE211","v":208}]
[null,null,null,null,null,null,null,null,null,null,null,null,null,null,null,null,null,null,null,null,null,null,null,{"$f":"FlashCards!AQ212","v":"740"},740,0,0,740,13719616,{"$f":"FlashCards!AE212","v":209}]
[null,null,null,null,null,null,null,null,null,null,null,null,null,null,null,null,null,null,null,null,null,null,null,{"$f":"FlashCards!AQ213","v":"744"},744,0,0,744,13690000,{"$f":"FlashCards!AE213","v":210}]
[null,null,null,null,null,null,null,null,null,null,null,null,null,null,null,null,null,null,null,null,null,null,null,{"$f":"FlashCards!AQ214","v":"746"},746,0,0,746,13675204,{"$f":"FlashCards!AE214","v":211}]
[null,null,null,null,null,null,null,null,null,null,null,null,null,null,null,null,null,null,null,null,null,null,null,{"$f":"FlashCards!AQ215","v":"749"},749,0,0,749,13653025,{"$f":"FlashCards!AE215","v":212}]
[null,null,null,null,null,null,null,null,null,null,null,null,null,null,null,null,null,null,null,null,null,null,null,{"$f":"FlashCards!AQ216","v":"756, 757"},{"$error":"#VALUE!"},0,4,756,13601344,{"$f":"FlashCards!AE216","v":213}]
[null,null,null,null,null,null,null,null,null,null,null,null,null,null,null,null,null,null,null,null,null,null,null,{"$f":"FlashCards!AQ217","v":"758"},758,0,0,758,13586596,{"$f":"FlashCards!AE217","v":214}]
[null,null,null,null,null,null,null,null,null,null,null,null,null,null,null,null,null,null,null,null,null,null,null,{"$f":"FlashCards!AQ218","v":"766"},766,0,0,766,13527684,{"$f":"FlashCards!AE218","v":215}]
[null,null,null,null,null,null,null,null,null,null,null,null,null,null,null,null,null,null,null,null,null,null,null,{"$f":"FlashCards!AQ219","v":"769"},769,0,0,769,13505625,{"$f":"FlashCards!AE219","v":216}]
[null,null,null,null,null,null,null,null,null,null,null,null,null,null,null,null,null,null,null,null,null,null,null,{"$f":"FlashCards!AQ220","v":"770"},770,0,0,770,13498276,{"$f":"FlashCards!AE220","v":217}]
[null,null,null,null,null,null,null,null,null,null,null,null,null,null,null,null,null,null,null,null,null,null,null,{"$f":"FlashCards!AQ221","v":"772"},772,0,0,772,13483584,{"$f":"FlashCards!AE221","v":218}]
[null,null,null,null,null,null,null,null,null,null,null,null,null,null,null,null,null,null,null,null,null,null,null,{"$f":"FlashCards!AQ222","v":"773"},773,0,0,773,13476241,{"$f":"FlashCards!AE222","v":219}]
[null,null,null,null,null,null,null,null,null,null,null,null,null,null,null,null,null,null,null,null,null,null,null,{"$f":"FlashCards!AQ223","v":"779"},779,0,0,779,13432225,{"$f":"FlashCards!AE223","v":220}]
[null,null,null,null,null,null,null,null,null,null,null,null,null,null,null,null,null,null,null,null,null,null,null,{"$f":"FlashCards!AQ224","v":"782"},782,0,0,782,13410244,{"$f":"FlashCards!AE224","v":221}]
[null,null,null,null,null,null,null,null,null,null,null,null,null,null,null,null,null,null,null,null,null,null,null,{"$f":"FlashCards!AQ225","v":"783"},783,0,0,783,13402921,{"$f":"FlashCards!AE225","v":222}]
[null,null,null,null,null,null,null,null,null,null,null,null,null,null,null,null,null,null,null,null,null,null,null,{"$f":"FlashCards!AQ226","v":"792"},792,0,0,792,13337104,{"$f":"FlashCards!AE226","v":223}]
[null,null,null,null,null,null,null,null,null,null,null,null,null,null,null,null,null,null,null,null,null,null,null,{"$f":"FlashCards!AQ227","v":"797"},797,0,0,797,13300609,{"$f":"FlashCards!AE227","v":224}]
[null,null,null,null,null,null,null,null,null,null,null,null,null,null,null,null,null,null,null,null,null,null,null,{"$f":"FlashCards!AQ228","v":"800a"},{"$error":"#VALUE!"},0,0,800,13278736,{"$f":"FlashCards!AE228","v":225}]
[null,null,null,null,null,null,null,null,null,null,null,null,null,null,null,null,null,null,null,null,null,null,null,{"$f":"FlashCards!AQ229","v":"816"},816,0,0,816,13162384,{"$f":"FlashCards!AE229","v":226}]
[null,null,null,null,null,null,null,null,null,null,null,null,null,null,null,null,null,null,null,null,null,null,null,{"$f":"FlashCards!AQ230","v":"833"},833,0,0,833,13039321,{"$f":"FlashCards!AE230","v":227}]
[null,null,null,null,null,null,null,null,null,null,null,null,null,null,null,null,null,null,null,null,null,null,null,{"$f":"FlashCards!AQ231","v":"837"},837,0,0,837,13010449,{"$f":"FlashCards!AE231","v":228}]
[null,null,null,null,null,null,null,null,null,null,null,null,null,null,null,null,null,null,null,null,null,null,null,{"$f":"FlashCards!AQ232","v":"839"},839,0,0,839,12996025,{"$f":"FlashCards!AE232","v":229}]
[null,null,null,null,null,null,null,null,null,null,null,null,null,null,null,null,null,null,null,null,null,null,null,{"$f":"FlashCards!AQ233","v":"846"},846,0,0,846,12945604,{"$f":"FlashCards!AE233","v":230}]
[null,null,null,null,null,null,null,null,null,null,null,null,null,null,null,null,null,null,null,null,null,null,null,{"$f":"FlashCards!AQ234","v":"846"},846,0,0,846,12945604,{"$f":"FlashCards!AE234","v":231}]
[null,null,null,null,null,null,null,null,null,null,null,null,null,null,null,null,null,null,null,null,null,null,null,{"$f":"FlashCards!AQ235","v":"846"},846,0,0,846,12945604,{"$f":"FlashCards!AE235","v":232}]
[null,null,null,null,null,null,null,null,null,null,null,null,null,null,null,null,null,null,null,null,null,null,null,{"$f":"FlashCards!AQ236","v":"846"},846,0,0,846,12945604,{"$f":"FlashCards!AE236","v":233}]
[null,null,null,null,null,null,null,null,null,null,null,null,null,null,null,null,null,null,null,null,null,null,null,{"$f":"FlashCards!AQ237","v":"846"},846,0,0,846,12945604,{"$f":"FlashCards!AE237","v":234}]
[null,null,null,null,null,null,null,null,null,null,null,null,null,null,null,null,null,null,null,null,null,null,null,{"$f":"FlashCards!AQ238","v":"846"},846,0,0,846,12945604,{"$f":"FlashCards!AE238","v":235}]
[null,null,null,null,null,null,null,null,null,null,null,null,null,null,null,null,null,null,null,null,null,null,null,{"$f":"FlashCards!AQ239","v":"846"},846,0,0,846,12945604,{"$f":"FlashCards!AE239","v":236}]
[null,null,null,null,null,null,null,null,null,null,null,null,null,null,null,null,null,null,null,null,null,null,null,{"$f":"FlashCards!AQ240","v":"846"},846,0,0,846,12945604,{"$f":"FlashCards!AE240","v":237}]
[null,null,null,null,null,null,null,null,null,null,null,null,null,null,null,null,null,null,null,null,null,null,null,{"$f":"FlashCards!AQ241","v":"846"},846,0,0,846,12945604,{"$f":"FlashCards!AE241","v":238}]
[null,null,null,null,null,null,null,null,null,null,null,null,null,null,null,null,null,null,null,null,null,null,null,{"$f":"FlashCards!AQ242","v":"846"},846,0,0,846,12945604,{"$f":"FlashCards!AE242","v":239}]
[null,null,null,null,null,null,null,null,null,null,null,null,null,null,null,null,null,null,null,null,null,null,null,{"$f":"FlashCards!AQ243","v":"846"},846,0,0,846,12945604,{"$f":"FlashCards!AE243","v":240}]
[null,null,null,null,null,null,null,null,null,null,null,null,null,null,null,null,null,null,null,null,null,null,null,{"$f":"FlashCards!AQ244","v":"846"},846,0,0,846,12945604,{"$f":"FlashCards!AE244","v":241}]
[null,null,null,null,null,null,null,null,null,null,null,null,null,null,null,null,null,null,null,null,null,null,null,{"$f":"FlashCards!AQ245","v":"846"},846,0,0,846,12945604,{"$f":"FlashCards!AE245","v":242}]
[null,null,null,null,null,null,null,null,null,null,null,null,null,null,null,null,null,null,null,null,null,null,null,{"$f":"FlashCards!AQ246","v":"846"},846,0,0,846,12945604,{"$f":"FlashCards!AE246","v":243}]
[null,null,null,null,null,null,null,null,null,null,null,null,null,null,null,null,null,null,null,null,null,null,null,{"$f":"FlashCards!AQ247","v":"846"},846,0,0,846,12945604,{"$f":"FlashCards!AE247","v":244}]
[null,null,null,null,null,null,null,null,null,null,null,null,null,null,null,null,null,null,null,null,null,null,null,{"$f":"FlashCards!AQ248","v":"846"},846,0,0,846,12945604,{"$f":"FlashCards!AE248","v":245}]
[null,null,null,null,null,null,null,null,null,null,null,null,null,null,null,null,null,null,null,null,null,null,null,{"$f":"FlashCards!AQ249","v":"846"},846,0,0,846,12945604,{"$f":"FlashCards!AE249","v":246}]
[null,null,null,null,null,null,null,null,null,null,null,null,null,null,null,null,null,null,null,null,null,null,null,{"$f":"FlashCards!AQ250","v":"851"},851,0,0,851,12909649,{"$f":"FlashCards!AE250","v":247}]
[null,null,null,null,null,null,null,null,null,null,null,null,null,null,null,null,null,null,null,null,null,null,null,{"$f":"FlashCards!AQ251","v":"859"},859,0,0,859,12852225,{"$f":"FlashCards!AE251","v":248}]
[null,null,null,null,null,null,null,null,null,null,null,null,null,null,null,null,null,null,null,null,null,null,null,{"$f":"FlashCards!AQ252","v":"863"},863,0,0,863,12823561,{"$f":"FlashCards!AE252","v":249}]
[null,null,null,null,null,null,null,null,null,null,null,null,null,null,null,null,null,null,null,null,null,null,null,{"$f":"FlashCards!AQ253","v":"868"},868,0,0,868,12787776,{"$f":"FlashCards!AE253","v":250}]
[null,null,null,null,null,null,null,null,null,null,null,null,null,null,null,null,null,null,null,null,null,null,null,{"$f":"FlashCards!AQ254","v":"873"},873,0,0,873,12752041,{"$f":"FlashCards!AE254","v":251}]
[null,null,null,null,null,null,null,null,null,null,null,null,null,null,null,null,null,null,null,null,null,null,null,{"$f":"FlashCards!AQ255","v":"878"},878,0,0,878,12716356,{"$f":"FlashCards!AE255","v":252}]
[null,null,null,null,null,null,null,null,null,null,null,null,null,null,null,null,null,null,null,null,null,null,null,{"$f":"FlashCards!AQ256","v":"882"},882,0,0,882,12687844,{"$f":"FlashCards!AE256","v":253}]
[null,null,null,null,null,null,null,null,null,null,null,null,null,null,null,null,null,null,null,null,null,null,null,{"$f":"FlashCards!AQ257","v":"891"},891,0,0,891,12623809,{"$f":"FlashCards!AE257","v":254}]
[null,null,null,null,null,null,null,null,null,null,null,null,null,null,null,null,null,null,null,null,null,null,null,{"$f":"FlashCards!AQ258","v":"897"},897,0,0,897,12581209,{"$f":"FlashCards!AE258","v":255}]
[null,null,null,null,null,null,null,null,null,null,null,null,null,null,null,null,null,null,null,null,null,null,null,{"$f":"FlashCards!AQ259","v":"901"},901,0,0,901,12552849,{"$f":"FlashCards!AE259","v":256}]
[null,null,null,null,null,null,null,null,null,null,null,null,null,null,null,null,null,null,null,null,null,null,null,{"$f":"FlashCards!AQ260","v":"906"},906,0,0,906,12517444,{"$f":"FlashCards!AE260","v":257}]
[null,null,null,null,null,null,null,null,null,null,null,null,null,null,null,null,null,null,null,null,null,null,null,{"$f":"FlashCards!AQ261","v":"907"},{"$f":"VALUE(X260)","v":907},{"$f":"IF(ISERR(FIND(\"+\",X260,1)),0,FIND(\"+\",X260,1))","v":0},{"$f":"IF(ISERR(FIND(\",\",X260,1)),0,FIND(\",\",X260,1))","v":0},{"$f":"IF(Z260>0,VALUE(LEFT(X260,Z260-1)),IF(AA260>0,VALUE(LEFT(X260,AA260-1)),IF(ISERR(Y260),VALUE(LEFT(X260,LEN(X260)-1)),Y260)))","v":907},{"$f":"(AB260-U$28)^2","v":12510369},{"$f":"FlashCards!AE261","v":258}]
[null,null,null,null,null,null,null,null,null,null,null,null,null,null,null,null,null,null,null,null,null,null,null,{"$f":"FlashCards!AQ262","v":"908"},908,0,0,908,12503296,{"$f":"FlashCards!AE262","v":259}]
[null,null,null,null,null,null,null,null,null,null,null,null,null,null,null,null,null,null,null,null,null,null,null,{"$f":"FlashCards!AQ263","v":"910"},910,0,0,910,12489156,{"$f":"FlashCards!AE263","v":260}]
[null,null,null,null,null,null,null,null,null,null,null,null,null,null,null,null,null,null,null,null,null,null,null,{"$f":"FlashCards!AQ264","v":"912"},912,0,0,912,12475024,{"$f":"FlashCards!AE264","v":261}]
[null,null,null,null,null,null,null,null,null,null,null,null,null,null,null,null,null,null,null,null,null,null,null,{"$f":"FlashCards!AQ265","v":"921"},921,0,0,921,12411529,{"$f":"FlashCards!AE265","v":262}]
[null,null,null,null,null,null,null,null,null,null,null,null,null,null,null,null,null,null,null,null,null,null,null,{"$f":"FlashCards!AQ266","v":"928"},928,0,0,928,12362256,{"$f":"FlashCards!AE266","v":263}]
[null,null,null,null,null,null,null,null,null,null,null,null,null,null,null,null,null,null,null,null,null,null,null,{"$f":"FlashCards!AQ267","v":"932"},932,0,0,932,12334144,{"$f":"FlashCards!AE267","v":264}]
[null,null,null,null,null,null,null,null,null,null,null,null,null,null,null,null,null,null,null,null,null,null,null,{"$f":"FlashCards!AQ268","v":"935"},935,0,0,935,12313081,{"$f":"FlashCards!AE268","v":265}]
[null,null,null,null,null,null,null,null,null,null,null,null,null,null,null,null,null,null,null,null,null,null,null,{"$f":"FlashCards!AQ269","v":"936"},936,0,0,936,12306064,{"$f":"FlashCards!AE269","v":266}]
[null,null,null,null,null,null,null,null,null,null,null,null,null,null,null,null,null,null,null,null,null,null,null,{"$f":"FlashCards!AQ270","v":"941"},941,0,0,941,12271009,{"$f":"FlashCards!AE270","v":267}]
[null,null,null,null,null,null,null,null,null,null,null,null,null,null,null,null,null,null,null,null,null,null,null,{"$f":"FlashCards!AQ271","v":"963"},963,0,0,963,12117361,{"$f":"FlashCards!AE271","v":268}]
[null,null,null,null,null,null,null,null,null,null,null,null,null,null,null,null,null,null,null,null,null,null,null,{"$f":"FlashCards!AQ272","v":"968"},968,0,0,968,12082576,{"$f":"FlashCards!AE272","v":269}]
[null,null,null,null,null,null,null,null,null,null,null,null,null,null,null,null,null,null,null,null,null,null,null,{"$f":"FlashCards!AQ273","v":"975"},975,0,0,975,12033961,{"$f":"FlashCards!AE273","v":270}]
[null,null,null,null,null,null,null,null,null,null,null,null,null,null,null,null,null,null,null,null,null,null,null,{"$f":"FlashCards!AQ274","v":"976"},976,0,0,976,12027024,{"$f":"FlashCards!AE274","v":271}]
[null,null,null,null,null,null,null,null,null,null,null,null,null,null,null,null,null,null,null,null,null,null,null,{"$f":"FlashCards!AQ275","v":"979"},979,0,0,979,12006225,{"$f":"FlashCards!AE275","v":272}]
[null,null,null,null,null,null,null,null,null,null,null,null,null,null,null,null,null,null,null,null,null,null,null,{"$f":"FlashCards!AQ276","v":"987"},987,0,0,987,11950849,{"$f":"FlashCards!AE276","v":273}]
[null,null,null,null,null,null,null,null,null,null,null,null,null,null,null,null,null,null,null,null,null,null,null,{"$f":"FlashCards!AQ277","v":"988"},988,0,0,988,11943936,{"$f":"FlashCards!AE277","v":274}]
[null,null,null,null,null,null,null,null,null,null,null,null,null,null,null,null,null,null,null,null,null,null,null,{"$f":"FlashCards!AQ278","v":"991"},991,0,0,991,11923209,{"$f":"FlashCards!AE278","v":275}]
[null,null,null,null,null,null,null,null,null,null,null,null,null,null,null,null,null,null,null,null,null,null,null,{"$f":"FlashCards!AQ279","v":"994"},994,0,0,994,11902500,{"$f":"FlashCards!AE279","v":276}]
[null,null,null,null,null,null,null,null,null,null,null,null,null,null,null,null,null,null,null,null,null,null,null,{"$f":"FlashCards!AQ280","v":"1012"},1012,0,0,1012,11778624,{"$f":"FlashCards!AE280","v":277}]
[null,null,null,null,null,null,null,null,null,null,null,null,null,null,null,null,null,null,null,null,null,null,null,{"$f":"FlashCards!AQ281","v":"1014"},1014,0,0,1014,11764900,{"$f":"FlashCards!AE281","v":278}]
[null,null,null,null,null,null,null,null,null,null,null,null,null,null,null,null,null,null,null,null,null,null,null,{"$f":"FlashCards!AQ282","v":"1027"},1027,0,0,1027,11675889,{"$f":"FlashCards!AE282","v":279}]
[null,null,null,null,null,null,null,null,null,null,null,null,null,null,null,null,null,null,null,null,null,null,null,{"$f":"FlashCards!AQ283","v":"1033"},1033,0,0,1033,11634921,{"$f":"FlashCards!AE283","v":280}]
[null,null,null,null,null,null,null,null,null,null,null,null,null,null,null,null,null,null,null,null,null,null,null,{"$f":"FlashCards!AQ284","v":"1035"},1035,0,0,1035,11621281,{"$f":"FlashCards!AE284","v":281}]
[null,null,null,null,null,null,null,null,null,null,null,null,null,null,null,null,null,null,null,null,null,null,null,{"$f":"FlashCards!AQ285","v":"1056"},1056,0,0,1056,11478544,{"$f":"FlashCards!AE285","v":282}]
[null,null,null,null,null,null,null,null,null,null,null,null,null,null,null,null,null,null,null,null,null,null,null,{"$f":"FlashCards!AQ286","v":"1057"},1057,0,0,1057,11471769,{"$f":"FlashCards!AE286","v":283}]
[null,null,null,null,null,null,null,null,null,null,null,null,null,null,null,null,null,null,null,null,null,null,null,{"$f":"FlashCards!AQ287","v":"1060"},1060,0,0,1060,11451456,{"$f":"FlashCards!AE287","v":284}]
[null,null,null,null,null,null,null,null,null,null,null,null,null,null,null,null,null,null,null,null,null,null,null,{"$f":"FlashCards!AQ288","v":"1062"},1062,0,0,1062,11437924,{"$f":"FlashCards!AE288","v":285}]
[null,null,null,null,null,null,null,null,null,null,null,null,null,null,null,null,null,null,null,null,null,null,null,{"$f":"FlashCards!AQ289","v":"1063"},1063,0,0,1063,11431161,{"$f":"FlashCards!AE289","v":286}]
[null,null,null,null,null,null,null,null,null,null,null,null,null,null,null,null,null,null,null,null,null,null,null,{"$f":"FlashCards!AQ290","v":"1065"},1065,0,0,1065,11417641,{"$f":"FlashCards!AE290","v":287}]
[null,null,null,null,null,null,null,null,null,null,null,null,null,null,null,null,null,null,null,null,null,null,null,{"$f":"FlashCards!AQ291","v":"1067"},1067,0,0,1067,11404129,{"$f":"FlashCards!AE291","v":288}]
[null,null,null,null,null,null,null,null,null,null,null,null,null,null,null,null,null,null,null,null,null,null,null,{"$f":"FlashCards!AQ292","v":"1073"},1073,0,0,1073,11363641,{"$f":"FlashCards!AE292","v":289}]
[null,null,null,null,null,null,null,null,null,null,null,null,null,null,null,null,null,null,null,null,null,null,null,{"$f":"FlashCards!AQ293","v":"1074"},1074,0,0,1074,11356900,{"$f":"FlashCards!AE293","v":290}]
[null,null,null,null,null,null,null,null,null,null,null,null,null,null,null,null,null,null,null,null,null,null,null,{"$f":"FlashCards!AQ294","v":"1080"},1080,0,0,1080,11316496,{"$f":"FlashCards!AE294","v":291}]
[null,null,null,null,null,null,null,null,null,null,null,null,null,null,null,null,null,null,null,null,null,null,null,{"$f":"FlashCards!AQ295","v":"1085"},1085,0,0,1085,11282881,{"$f":"FlashCards!AE295","v":292}]
[null,null,null,null,null,null,null,null,null,null,null,null,null,null,null,null,null,null,null,null,null,null,null,{"$f":"FlashCards!AQ296","v":"1089"},1089,0,0,1089,11256025,{"$f":"FlashCards!AE296","v":293}]
[null,null,null,null,null,null,null,null,null,null,null,null,null,null,null,null,null,null,null,null,null,null,null,{"$f":"FlashCards!AQ297","v":"1092"},1092,0,0,1092,11235904,{"$f":"FlashCards!AE297","v":294}]
[null,null,null,null,null,null,null,null,null,null,null,null,null,null,null,null,null,null,null,null,null,null,null,{"$f":"FlashCards!AQ298","v":"1093"},1093,0,0,1093,11229201,{"$f":"FlashCards!AE298","v":295}]
[null,null,null,null,null,null,null,null,null,null,null,null,null,null,null,null,null,null,null,null,null,null,null,{"$f":"FlashCards!AQ299","v":"1096"},1096,0,0,1096,11209104,{"$f":"FlashCards!AE299","v":296}]
[null,null,null,null,null,null,null,null,null,null,null,null,null,null,null,null,null,null,null,null,null,null,null,{"$f":"FlashCards!AQ300","v":"1097"},1097,0,0,1097,11202409,{"$f":"FlashCards!AE300","v":297}]
[null,null,null,null,null,null,null,null,null,null,null,null,null,null,null,null,null,null,null,null,null,null,null,{"$f":"FlashCards!AQ301","v":"1100"},1100,0,0,1100,11182336,{"$f":"FlashCards!AE301","v":298}]
[null,null,null,null,null,null,null,null,null,null,null,null,null,null,null,null,null,null,null,null,null,null,null,{"$f":"FlashCards!AQ302","v":"1107"},1107,0,0,1107,11135569,{"$f":"FlashCards!AE302","v":299}]
[null,null,null,null,null,null,null,null,null,null,null,null,null,null,null,null,null,null,null,null,null,null,null,{"$f":"FlashCards!AQ303","v":"1108"},1108,0,0,1108,11128896,{"$f":"FlashCards!AE303","v":300}]
[null,null,null,null,null,null,null,null,null,null,null,null,null,null,null,null,null,null,null,null,null,null,null,{"$f":"FlashCards!AQ304","v":"1110"},1110,0,0,1110,11115556,{"$f":"FlashCards!AE304","v":301}]
[null,null,null,null,null,null,null,null,null,null,null,null,null,null,null,null,null,null,null,null,null,null,null,{"$f":"FlashCards!AQ305","v":"1110"},1110,0,0,1110,11115556,{"$f":"FlashCards!AE305","v":302}]
[null,null,null,null,null,null,null,null,null,null,null,null,null,null,null,null,null,null,null,null,null,null,null,{"$f":"FlashCards!AQ306","v":"1118"},1118,0,0,1118,11062276,{"$f":"FlashCards!AE306","v":303}]
[null,null,null,null,null,null,null,null,null,null,null,null,null,null,null,null,null,null,null,null,null,null,null,{"$f":"FlashCards!AQ307","v":"1119"},1119,0,0,1119,11055625,{"$f":"FlashCards!AE307","v":304}]
[null,null,null,null,null,null,null,null,null,null,null,null,null,null,null,null,null,null,null,null,null,null,null,{"$f":"FlashCards!AQ308","v":"1121"},1121,0,0,1121,11042329,{"$f":"FlashCards!AE308","v":305}]
[null,null,null,null,null,null,null,null,null,null,null,null,null,null,null,null,null,null,null,null,null,null,null,{"$f":"FlashCards!AQ309","v":"1122"},1122,0,0,1122,11035684,{"$f":"FlashCards!AE309","v":306}]
[null,null,null,null,null,null,null,null,null,null,null,null,null,null,null,null,null,null,null,null,null,null,null,{"$f":"FlashCards!AQ310","v":"1124"},1124,0,0,1124,11022400,{"$f":"FlashCards!AE310","v":307}]
[null,null,null,null,null,null,null,null,null,null,null,null,null,null,null,null,null,null,null,null,null,null,null,{"$f":"FlashCards!AQ311","v":"1125"},1125,0,0,1125,11015761,{"$f":"FlashCards!AE311","v":308}]
[null,null,null,null,null,null,null,null,null,null,null,null,null,null,null,null,null,null,null,null,null,null,null,{"$f":"FlashCards!AQ312","v":"1127"},1127,0,0,1127,11002489,{"$f":"FlashCards!AE312","v":309}]
[null,null,null,null,null,null,null,null,null,null,null,null,null,null,null,null,null,null,null,null,null,null,null,{"$f":"FlashCards!AQ313","v":"1131"},1131,0,0,1131,10975969,{"$f":"FlashCards!AE313","v":310}]
[null,null,null,null,null,null,null,null,null,null,null,null,null,null,null,null,null,null,null,null,null,null,null,{"$f":"FlashCards!AQ314","v":"1135"},1135,0,0,1135,10949481,{"$f":"FlashCards!AE314","v":311}]
[null,null,null,null,null,null,null,null,null,null,null,null,null,null,null,null,null,null,null,null,null,null,null,{"$f":"FlashCards!AQ315","v":"1138"},1138,0,0,1138,10929636,{"$f":"FlashCards!AE315","v":312}]
[null,null,null,null,null,null,null,null,null,null,null,null,null,null,null,null,null,null,null,null,null,null,null,{"$f":"FlashCards!AQ316","v":"1139"},1139,0,0,1139,10923025,{"$f":"FlashCards!AE316","v":313}]
[null,null,null,null,null,null,null,null,null,null,null,null,null,null,null,null,null,null,null,null,null,null,null,{"$f":"FlashCards!AQ317","v":"1140"},1140,0,0,1140,10916416,{"$f":"FlashCards!AE317","v":314}]
[null,null,null,null,null,null,null,null,null,null,null,null,null,null,null,null,null,null,null,null,null,null,null,{"$f":"FlashCards!AQ318","v":"1144"},1144,0,0,1144,10890000,{"$f":"FlashCards!AE318","v":315}]
[null,null,null,null,null,null,null,null,null,null,null,null,null,null,null,null,null,null,null,null,null,null,null,{"$f":"FlashCards!AQ319","v":"1154"},1154,0,0,1154,10824100,{"$f":"FlashCards!AE319","v":316}]
[null,null,null,null,null,null,null,null,null,null,null,null,null,null,null,null,null,null,null,null,null,null,null,{"$f":"FlashCards!AQ320","v":"1161"},1161,0,0,1161,10778089,{"$f":"FlashCards!AE320","v":317}]
[null,null,null,null,null,null,null,null,null,null,null,null,null,null,null,null,null,null,null,null,null,null,null,{"$f":"FlashCards!AQ321","v":"3588+1161"},{"$error":"#VALUE!"},5,0,3588,732736,{"$f":"FlashCards!AE321","v":318}]
[null,null,null,null,null,null,null,null,null,null,null,null,null,null,null,null,null,null,null,null,null,null,null,{"$f":"FlashCards!AQ322","v":"1162"},1162,0,0,1162,10771524,{"$f":"FlashCards!AE322","v":319}]
[null,null,null,null,null,null,null,null,null,null,null,null,null,null,null,null,null,null,null,null,null,null,null,{"$f":"FlashCards!AQ323","v":"1163"},1163,0,0,1163,10764961,{"$f":"FlashCards!AE323","v":320}]
[null,null,null,null,null,null,null,null,null,null,null,null,null,null,null,null,null,null,null,null,null,null,null,{"$f":"FlashCards!AQ324","v":"1166"},1166,0,0,1166,10745284,{"$f":"FlashCards!AE324","v":321}]
[null,null,null,null,null,null,null,null,null,null,null,null,null,null,null,null,null,null,null,null,null,null,null,{"$f":"FlashCards!AQ325","v":"1173"},{"$f":"VALUE(X324)","v":1173},{"$f":"IF(ISERR(FIND(\"+\",X324,1)),0,FIND(\"+\",X324,1))","v":0},{"$f":"IF(ISERR(FIND(\",\",X324,1)),0,FIND(\",\",X324,1))","v":0},{"$f":"IF(Z324>0,VALUE(LEFT(X324,Z324-1)),IF(AA324>0,VALUE(LEFT(X324,AA324-1)),IF(ISERR(Y324),VALUE(LEFT(X324,LEN(X324)-1)),Y324)))","v":1173},{"$f":"(AB324-U$28)^2","v":10699441},{"$f":"FlashCards!AE325","v":322}]
[null,null,null,null,null,null,null,null,null,null,null,null,null,null,null,null,null,null,null,null,null,null,null,{"$f":"FlashCards!AQ326","v":"1176"},1176,0,0,1176,10679824,{"$f":"FlashCards!AE326","v":323}]
[null,null,null,null,null,null,null,null,null,null,null,null,null,null,null,null,null,null,null,null,null,null,null,{"$f":"FlashCards!AQ327","v":"1186"},1186,0,0,1186,10614564,{"$f":"FlashCards!AE327","v":324}]
[null,null,null,null,null,null,null,null,null,null,null,null,null,null,null,null,null,null,null,null,null,null,null,{"$f":"FlashCards!AQ328","v":"1188"},1188,0,0,1188,10601536,{"$f":"FlashCards!AE328","v":325}]
[null,null,null,null,null,null,null,null,null,null,null,null,null,null,null,null,null,null,null,null,null,null,null,{"$f":"FlashCards!AQ329","v":"1189"},1189,0,0,1189,10595025,{"$f":"FlashCards!AE329","v":326}]
[null,null,null,null,null,null,null,null,null,null,null,null,null,null,null,null,null,null,null,null,null,null,null,{"$f":"FlashCards!AQ330","v":"1194"},1194,0,0,1194,10562500,{"$f":"FlashCards!AE330","v":327}]
[null,null,null,null,null,null,null,null,null,null,null,null,null,null,null,null,null,null,null,null,null,null,null,{"$f":"FlashCards!AQ331","v":"1198"},1198,0,0,1198,10536516,{"$f":"FlashCards!AE331","v":328}]
[null,null,null,null,null,null,null,null,null,null,null,null,null,null,null,null,null,null,null,null,null,null,null,{"$f":"FlashCards!AQ332","v":"1199"},1199,0,0,1199,10530025,{"$f":"FlashCards!AE332","v":329}]
[null,null,null,null,null,null,null,null,null,null,null,null,null,null,null,null,null,null,null,null,null,null,null,{"$f":"FlashCards!AQ333","v":"1203"},1203,0,0,1203,10504081,{"$f":"FlashCards!AE333","v":330}]
[null,null,null,null,null,null,null,null,null,null,null,null,null,null,null,null,null,null,null,null,null,null,null,{"$f":"FlashCards!AQ334","v":"1205"},1205,0,0,1205,10491121,{"$f":"FlashCards!AE334","v":331}]
[null,null,null,null,null,null,null,null,null,null,null,null,null,null,null,null,null,null,null,null,null,null,null,{"$f":"FlashCards!AQ335","v":"1208"},1208,0,0,1208,10471696,{"$f":"FlashCards!AE335","v":332}]
[null,null,null,null,null,null,null,null,null,null,null,null,null,null,null,null,null,null,null,null,null,null,null,{"$f":"FlashCards!AQ336","v":"1209"},1209,0,0,1209,10465225,{"$f":"FlashCards!AE336","v":333}]
[null,null,null,null,null,null,null,null,null,null,null,null,null,null,null,null,null,null,null,null,null,null,null,{"$f":"FlashCards!AQ337","v":"1210"},1210,0,0,1210,10458756,{"$f":"FlashCards!AE337","v":334}]
[null,null,null,null,null,null,null,null,null,null,null,null,null,null,null,null,null,null,null,null,null,null,null,{"$f":"FlashCards!AQ338","v":"1211"},1211,0,0,1211,10452289,{"$f":"FlashCards!AE338","v":335}]
[null,null,null,null,null,null,null,null,null,null,null,null,null,null,null,null,null,null,null,null,null,null,null,{"$f":"FlashCards!AQ339","v":"1220"},1220,0,0,1220,10394176,{"$f":"FlashCards!AE339","v":336}]
[null,null,null,null,null,null,null,null,null,null,null,null,null,null,null,null,null,null,null,null,null,null,null,{"$f":"FlashCards!AQ340","v":"1223"},1223,0,0,1223,10374841,{"$f":"FlashCards!AE340","v":337}]
[null,null,null,null,null,null,null,null,null,null,null,null,null,null,null,null,null,null,null,null,null,null,null,{"$f":"FlashCards!AQ341","v":"1223"},1223,0,0,1223,10374841,{"$f":"FlashCards!AE341","v":338}]
[null,null,null,null,null,null,null,null,null,null,null,null,null,null,null,null,null,null,null,null,null,null,null,{"$f":"FlashCards!AQ342","v":"1223+3956"},{"$error":"#VALUE!"},5,0,1223,10374841,{"$f":"FlashCards!AE342","v":339}]
[null,null,null,null,null,null,null,null,null,null,null,null,null,null,null,null,null,null,null,null,null,null,null,{"$f":"FlashCards!AQ343","v":"1223+5101"},{"$error":"#VALUE!"},5,0,1223,10374841,{"$f":"FlashCards!AE343","v":340}]
[null,null,null,null,null,null,null,null,null,null,null,null,null,null,null,null,null,null,null,null,null,null,null,{"$f":"FlashCards!AQ344","v":"1223+3778"},{"$error":"#VALUE!"},5,0,1223,10374841,{"$f":"FlashCards!AE344","v":341}]
[null,null,null,null,null,null,null,null,null,null,null,null,null,null,null,null,null,null,null,null,null,null,null,{"$f":"FlashCards!AQ345","v":"1228"},1228,0,0,1228,10342656,{"$f":"FlashCards!AE345","v":342}]
[null,null,null,null,null,null,null,null,null,null,null,null,null,null,null,null,null,null,null,null,null,null,null,{"$f":"FlashCards!AQ346","v":"1228"},1228,0,0,1228,10342656,{"$f":"FlashCards!AE346","v":343}]
[null,null,null,null,null,null,null,null,null,null,null,null,null,null,null,null,null,null,null,null,null,null,null,{"$f":"FlashCards!AQ347","v":"1242"},1242,0,0,1242,10252804,{"$f":"FlashCards!AE347","v":344}]
[null,null,null,null,null,null,null,null,null,null,null,null,null,null,null,null,null,null,null,null,null,null,null,{"$f":"FlashCards!AQ348","v":"1243"},1243,0,0,1243,10246401,{"$f":"FlashCards!AE348","v":345}]
[null,null,null,null,null,null,null,null,null,null,null,null,null,null,null,null,null,null,null,null,null,null,null,{"$f":"FlashCards!AQ349","v":"1247"},1247,0,0,1247,10220809,{"$f":"FlashCards!AE349","v":346}]
[null,null,null,null,null,null,null,null,null,null,null,null,null,null,null,null,null,null,null,null,null,null,null,{"$f":"FlashCards!AQ350","v":"1248"},1248,0,0,1248,10214416,{"$f":"FlashCards!AE350","v":347}]
[null,null,null,null,null,null,null,null,null,null,null,null,null,null,null,null,null,null,null,null,null,null,null,{"$f":"FlashCards!AQ351","v":"1249"},1249,0,0,1249,10208025,{"$f":"FlashCards!AE351","v":348}]
[null,null,null,null,null,null,null,null,null,null,null,null,null,null,null,null,null,null,null,null,null,null,null,{"$f":"FlashCards!AQ352","v":"1252"},1252,0,0,1252,10188864,{"$f":"FlashCards!AE352","v":349}]
[null,null,null,null,null,null,null,null,null,null,null,null,null,null,null,null,null,null,null,null,null,null,null,{"$f":"FlashCards!AQ353","v":"1256"},1256,0,0,1256,10163344,{"$f":"FlashCards!AE353","v":350}]
[null,null,null,null,null,null,null,null,null,null,null,null,null,null,null,null,null,null,null,null,null,null,null,{"$f":"FlashCards!AQ354","v":"1260"},1260,0,0,1260,10137856,{"$f":"FlashCards!AE354","v":351}]
[null,null,null,null,null,null,null,null,null,null,null,null,null,null,null,null,null,null,null,null,null,null,null,{"$f":"FlashCards!AQ355","v":"1261"},1261,0,0,1261,10131489,{"$f":"FlashCards!AE355","v":352}]
[null,null,null,null,null,null,null,null,null,null,null,null,null,null,null,null,null,null,null,null,null,null,null,{"$f":"FlashCards!AQ356","v":"1263"},1263,0,0,1263,10118761,{"$f":"FlashCards!AE356","v":353}]
[null,null,null,null,null,null,null,null,null,null,null,null,null,null,null,null,null,null,null,null,null,null,null,{"$f":"FlashCards!AQ357","v":"1266"},1266,0,0,1266,10099684,{"$f":"FlashCards!AE357","v":354}]
[null,null,null,null,null,null,null,null,null,null,null,null,null,null,null,null,null,null,null,null,null,null,null,{"$f":"FlashCards!AQ358","v":"1271"},1271,0,0,1271,10067929,{"$f":"FlashCards!AE358","v":355}]
[null,null,null,null,null,null,null,null,null,null,null,null,null,null,null,null,null,null,null,null,null,null,null,{"$f":"FlashCards!AQ359","v":"1299"},1299,0,0,1299,9891025,{"$f":"FlashCards!AE359","v":356}]
[null,null,null,null,null,null,null,null,null,null,null,null,null,null,null,null,null,null,null,null,null,null,null,{"$f":"FlashCards!AQ360","v":"1308"},1308,0,0,1308,9834496,{"$f":"FlashCards!AE360","v":357}]
[null,null,null,null,null,null,null,null,null,null,null,null,null,null,null,null,null,null,null,null,null,null,null,{"$f":"FlashCards!AQ361","v":"1313"},1313,0,0,1313,9803161,{"$f":"FlashCards!AE361","v":358}]
[null,null,null,null,null,null,null,null,null,null,null,null,null,null,null,null,null,null,null,null,null,null,null,{"$f":"FlashCards!AQ362","v":"1313"},1313,0,0,1313,9803161,{"$f":"FlashCards!AE362","v":359}]
[null,null,null,null,null,null,null,null,null,null,null,null,null,null,null,null,null,null,null,null,null,null,null,{"$f":"FlashCards!AQ363","v":"1319"},1319,0,0,1319,9765625,{"$f":"FlashCards!AE363","v":360}]
[null,null,null,null,null,null,null,null,null,null,null,null,null,null,null,null,null,null,null,null,null,null,null,{"$f":"FlashCards!AQ364","v":"1320"},1320,0,0,1320,9759376,{"$f":"FlashCards!AE364","v":361}]
[null,null,null,null,null,null,null,null,null,null,null,null,null,null,null,null,null,null,null,null,null,null,null,{"$f":"FlashCards!AQ365","v":"1321"},1321,0,0,1321,9753129,{"$f":"FlashCards!AE365","v":362}]
[null,null,null,null,null,null,null,null,null,null,null,null,null,null,null,null,null,null,null,null,null,null,null,{"$f":"FlashCards!AQ366","v":"1322"},1322,0,0,1322,9746884,{"$f":"FlashCards!AE366","v":363}]
[null,null,null,null,null,null,null,null,null,null,null,null,null,null,null,null,null,null,null,null,null,null,null,{"$f":"FlashCards!AQ367","v":"1325"},1325,0,0,1325,9728161,{"$f":"FlashCards!AE367","v":364}]
[null,null,null,null,null,null,null,null,null,null,null,null,null,null,null,null,null,null,null,null,null,null,null,{"$f":"FlashCards!AQ368","v":"1330"},1330,0,0,1330,9696996,{"$f":"FlashCards!AE368","v":365}]
[null,null,null,null,null,null,null,null,null,null,null,null,null,null,null,null,null,null,null,null,null,null,null,{"$f":"FlashCards!AQ369","v":"1342"},1342,0,0,1342,9622404,{"$f":"FlashCards!AE369","v":366}]
[null,null,null,null,null,null,null,null,null,null,null,null,null,null,null,null,null,null,null,null,null,null,null,{"$f":"FlashCards!AQ370","v":"1343"},1343,0,0,1343,9616201,{"$f":"FlashCards!AE370","v":367}]
[null,null,null,null,null,null,null,null,null,null,null,null,null,null,null,null,null,null,null,null,null,null,null,{"$f":"FlashCards!AQ371","v":"1344"},1344,0,0,1344,9610000,{"$f":"FlashCards!AE371","v":368}]
[null,null,null,null,null,null,null,null,null,null,null,null,null,null,null,null,null,null,null,null,null,null,null,{"$f":"FlashCards!AQ372","v":"1345"},1345,0,0,1345,9603801,{"$f":"FlashCards!AE372","v":369}]
[null,null,null,null,null,null,null,null,null,null,null,null,null,null,null,null,null,null,null,null,null,null,null,{"$f":"FlashCards!AQ373","v":"1350"},1350,0,0,1350,9572836,{"$f":"FlashCards!AE373","v":370}]
[null,null,null,null,null,null,null,null,null,null,null,null,null,null,null,null,null,null,null,null,null,null,null,{"$f":"FlashCards!AQ374","v":"1352"},1352,0,0,1352,9560464,{"$f":"FlashCards!AE374","v":371}]
[null,null,null,null,null,null,null,null,null,null,null,null,null,null,null,null,null,null,null,null,null,null,null,{"$f":"FlashCards!AQ375","v":"1360"},1360,0,0,1360,9511056,{"$f":"FlashCards!AE375","v":372}]
[null,null,null,null,null,null,null,null,null,null,null,null,null,null,null,null,null,null,null,null,null,null,null,{"$f":"FlashCards!AQ376","v":"1372"},1372,0,0,1372,9437184,{"$f":"FlashCards!AE376","v":373}]
[null,null,null,null,null,null,null,null,null,null,null,null,null,null,null,null,null,null,null,null,null,null,null,{"$f":"FlashCards!AQ377","v":"1375"},1375,0,0,1375,9418761,{"$f":"FlashCards!AE377","v":374}]
[null,null,null,null,null,null,null,null,null,null,null,null,null,null,null,null,null,null,null,null,null,null,null,{"$f":"FlashCards!AQ378","v":"1377"},1377,0,0,1377,9406489,{"$f":"FlashCards!AE378","v":375}]
[null,null,null,null,null,null,null,null,null,null,null,null,null,null,null,null,null,null,null,null,null,null,null,{"$f":"FlashCards!AQ379","v":"1378"},1378,0,0,1378,9400356,{"$f":"FlashCards!AE379","v":376}]
[null,null,null,null,null,null,null,null,null,null,null,null,null,null,null,null,null,null,null,null,null,null,null,{"$f":"FlashCards!AQ380","v":"1380"},1380,0,0,1380,9388096,{"$f":"FlashCards!AE380","v":377}]
[null,null,null,null,null,null,null,null,null,null,null,null,null,null,null,null,null,null,null,null,null,null,null,{"$f":"FlashCards!AQ381","v":"1381"},1381,0,0,1381,9381969,{"$f":"FlashCards!AE381","v":378}]
[null,null,null,null,null,null,null,null,null,null,null,null,null,null,null,null,null,null,null,null,null,null,null,{"$f":"FlashCards!AQ382","v":"1388"},1388,0,0,1388,9339136,{"$f":"FlashCards!AE382","v":379}]
[null,null,null,null,null,null,null,null,null,null,null,null,null,null,null,null,null,null,null,null,null,null,null,{"$f":"FlashCards!AQ383","v":"1391"},1391,0,0,1391,9320809,{"$f":"FlashCards!AE383","v":380}]
[null,null,null,null,null,null,null,null,null,null,null,null,null,null,null,null,null,null,null,null,null,null,null,{"$f":"FlashCards!AQ384","v":"1392"},1392,0,0,1392,9314704,{"$f":"FlashCards!AE384","v":381}]
[null,null,null,null,null,null,null,null,null,null,null,null,null,null,null,null,null,null,null,null,null,null,null,{"$f":"FlashCards!AQ385","v":"1398"},1398,0,0,1398,9278116,{"$f":"FlashCards!AE385","v":382}]
[null,null,null,null,null,null,null,null,null,null,null,null,null,null,null,null,null,null,null,null,null,null,null,{"$f":"FlashCards!AQ386","v":"1401"},1401,0,0,1401,9259849,{"$f":"FlashCards!AE386","v":383}]
[null,null,null,null,null,null,null,null,null,null,null,null,null,null,null,null,null,null,null,null,null,null,null,{"$f":"FlashCards!AQ387","v":"1404"},1404,0,0,1404,9241600,{"$f":"FlashCards!AE387","v":384}]
[null,null,null,null,null,null,null,null,null,null,null,null,null,null,null,null,null,null,null,null,null,null,null,{"$f":"FlashCards!AQ388","v":"1410"},1410,0,0,1410,9205156,{"$f":"FlashCards!AE388","v":385}]
[null,null,null,null,null,null,null,null,null,null,null,null,null,null,null,null,null,null,null,null,null,null,null,{"$f":"FlashCards!AQ389","v":"1411"},{"$f":"VALUE(X388)","v":1411},{"$f":"IF(ISERR(FIND(\"+\",X388,1)),0,FIND(\"+\",X388,1))","v":0},{"$f":"IF(ISERR(FIND(\",\",X388,1)),0,FIND(\",\",X388,1))","v":0},{"$f":"IF(Z388>0,VALUE(LEFT(X388,Z388-1)),IF(AA388>0,VALUE(LEFT(X388,AA388-1)),IF(ISERR(Y388),VALUE(LEFT(X388,LEN(X388)-1)),Y388)))","v":1411},{"$f":"(AB388-U$28)^2","v":9199089},{"$f":"FlashCards!AE389","v":386}]
[null,null,null,null,null,null,null,null,null,null,null,null,null,null,null,null,null,null,null,null,null,null,null,{"$f":"FlashCards!AQ390","v":"1415"},1415,0,0,1415,9174841,{"$f":"FlashCards!AE390","v":387}]
[null,null,null,null,null,null,null,null,null,null,null,null,null,null,null,null,null,null,null,null,null,null,null,{"$f":"FlashCards!AQ391","v":"1417"},1417,0,0,1417,9162729,{"$f":"FlashCards!AE391","v":388}]
[null,null,null,null,null,null,null,null,null,null,null,null,null,null,null,null,null,null,null,null,null,null,null,{"$f":"FlashCards!AQ392","v":"1427"},1427,0,0,1427,9102289,{"$f":"FlashCards!AE392","v":389}]
[null,null,null,null,null,null,null,null,null,null,null,null,null,null,null,null,null,null,null,null,null,null,null,{"$f":"FlashCards!AQ393","v":"1431"},1431,0,0,1431,9078169,{"$f":"FlashCards!AE393","v":390}]
[null,null,null,null,null,null,null,null,null,null,null,null,null,null,null,null,null,null,null,null,null,null,null,{"$f":"FlashCards!AQ394","v":"1435"},1435,0,0,1435,9054081,{"$f":"FlashCards!AE394","v":391}]
[null,null,null,null,null,null,null,null,null,null,null,null,null,null,null,null,null,null,null,null,null,null,null,{"$f":"FlashCards!AQ395","v":"1437"},1437,0,0,1437,9042049,{"$f":"FlashCards!AE395","v":392}]
[null,null,null,null,null,null,null,null,null,null,null,null,null,null,null,null,null,null,null,null,null,null,null,{"$f":"FlashCards!AQ396","v":"1438"},1438,0,0,1438,9036036,{"$f":"FlashCards!AE396","v":393}]
[null,null,null,null,null,null,null,null,null,null,null,null,null,null,null,null,null,null,null,null,null,null,null,{"$f":"FlashCards!AQ397","v":"1438"},1438,0,0,1438,9036036,{"$f":"FlashCards!AE397","v":394}]
[null,null,null,null,null,null,null,null,null,null,null,null,null,null,null,null,null,null,null,null,null,null,null,{"$f":"FlashCards!AQ398","v":"1438"},1438,0,0,1438,9036036,{"$f":"FlashCards!AE398","v":395}]
[null,null,null,null,null,null,null,null,null,null,null,null,null,null,null,null,null,null,null,null,null,null,null,{"$f":"FlashCards!AQ399","v":"1438"},1438,0,0,1438,9036036,{"$f":"FlashCards!AE399","v":396}]
[null,null,null,null,null,null,null,null,null,null,null,null,null,null,null,null,null,null,null,null,null,null,null,{"$f":"FlashCards!AQ400","v":"1438"},1438,0,0,1438,9036036,{"$f":"FlashCards!AE400","v":397}]
[null,null,null,null,null,null,null,null,null,null,null,null,null,null,null,null,null,null,null,null,null,null,null,{"$f":"FlashCards!AQ401","v":"1438"},1438,0,0,1438,9036036,{"$f":"FlashCards!AE401","v":398}]
[null,null,null,null,null,null,null,null,null,null,null,null,null,null,null,null,null,null,null,null,null,null,null,{"$f":"FlashCards!AQ402","v":"1438"},1438,0,0,1438,9036036,{"$f":"FlashCards!AE402","v":399}]
[null,null,null,null,null,null,null,null,null,null,null,null,null,null,null,null,null,null,null,null,null,null,null,{"$f":"FlashCards!AQ403","v":"1438"},1438,0,0,1438,9036036,{"$f":"FlashCards!AE403","v":400}]
[null,null,null,null,null,null,null,null,null,null,null,null,null,null,null,null,null,null,null,null,null,null,null,{"$f":"FlashCards!AQ404","v":"1438"},1438,0,0,1438,9036036,{"$f":"FlashCards!AE404","v":401}]
[null,null,null,null,null,null,null,null,null,null,null,null,null,null,null,null,null,null,null,null,null,null,null,{"$f":"FlashCards!AQ405","v":"1438"},1438,0,0,1438,9036036,{"$f":"FlashCards!AE405","v":402}]
[null,null,null,null,null,null,null,null,null,null,null,null,null,null,null,null,null,null,null,null,null,null,null,{"$f":"FlashCards!AQ406","v":"1438"},1438,0,0,1438,9036036,{"$f":"FlashCards!AE406","v":403}]
[null,null,null,null,null,null,null,null,null,null,null,null,null,null,null,null,null,null,null,null,null,null,null,{"$f":"FlashCards!AQ407","v":"1438"},1438,0,0,1438,9036036,{"$f":"FlashCards!AE407","v":404}]
[null,null,null,null,null,null,null,null,null,null,null,null,null,null,null,null,null,null,null,null,null,null,null,{"$f":"FlashCards!AQ408","v":"1438"},1438,0,0,1438,9036036,{"$f":"FlashCards!AE408","v":405}]
[null,null,null,null,null,null,null,null,null,null,null,null,null,null,null,null,null,null,null,null,null,null,null,{"$f":"FlashCards!AQ409","v":"1439"},1439,0,0,1439,9030025,{"$f":"FlashCards!AE409","v":406}]
[null,null,null,null,null,null,null,null,null,null,null,null,null,null,null,null,null,null,null,null,null,null,null,{"$f":"FlashCards!AQ410","v":"1448"},1448,0,0,1448,8976016,{"$f":"FlashCards!AE410","v":407}]
[null,null,null,null,null,null,null,null,null,null,null,null,null,null,null,null,null,null,null,null,null,null,null,{"$f":"FlashCards!AQ411","v":"1451"},1451,0,0,1451,8958049,{"$f":"FlashCards!AE411","v":408}]
[null,null,null,null,null,null,null,null,null,null,null,null,null,null,null,null,null,null,null,null,null,null,null,{"$f":"FlashCards!AQ412","v":"1453"},1453,0,0,1453,8946081,{"$f":"FlashCards!AE412","v":409}]
[null,null,null,null,null,null,null,null,null,null,null,null,null,null,null,null,null,null,null,null,null,null,null,{"$f":"FlashCards!AQ413","v":"1459"},1459,0,0,1459,8910225,{"$f":"FlashCards!AE413","v":410}]
[null,null,null,null,null,null,null,null,null,null,null,null,null,null,null,null,null,null,null,null,null,null,null,{"$f":"FlashCards!AQ414","v":"1473"},1473,0,0,1473,8826841,{"$f":"FlashCards!AE414","v":411}]
[null,null,null,null,null,null,null,null,null,null,null,null,null,null,null,null,null,null,null,null,null,null,null,{"$f":"FlashCards!AQ415","v":"1473"},1473,0,0,1473,8826841,{"$f":"FlashCards!AE415","v":412}]
[null,null,null,null,null,null,null,null,null,null,null,null,null,null,null,null,null,null,null,null,null,null,null,{"$f":"FlashCards!AQ416","v":"1473"},1473,0,0,1473,8826841,{"$f":"FlashCards!AE416","v":413}]
[null,null,null,null,null,null,null,null,null,null,null,null,null,null,null,null,null,null,null,null,null,null,null,{"$f":"FlashCards!AQ417","v":"1473"},1473,0,0,1473,8826841,{"$f":"FlashCards!AE417","v":414}]
[null,null,null,null,null,null,null,null,null,null,null,null,null,null,null,null,null,null,null,null,null,null,null,{"$f":"FlashCards!AQ418","v":"1473"},1473,0,0,1473,8826841,{"$f":"FlashCards!AE418","v":415}]
[null,null,null,null,null,null,null,null,null,null,null,null,null,null,null,null,null,null,null,null,null,null,null,{"$f":"FlashCards!AQ419","v":"1475z"},{"$error":"#VALUE!"},0,0,1475,8814961,{"$f":"FlashCards!AE419","v":416}]
[null,null,null,null,null,null,null,null,null,null,null,null,null,null,null,null,null,null,null,null,null,null,null,{"$f":"FlashCards!AQ420","v":"1484"},1484,0,0,1484,8761600,{"$f":"FlashCards!AE420","v":417}]
[null,null,null,null,null,null,null,null,null,null,null,null,null,null,null,null,null,null,null,null,null,null,null,{"$f":"FlashCards!AQ421","v":"1485"},1485,0,0,1485,8755681,{"$f":"FlashCards!AE421","v":418}]
[null,null,null,null,null,null,null,null,null,null,null,null,null,null,null,null,null,null,null,null,null,null,null,{"$f":"FlashCards!AQ422","v":"1487"},1487,0,0,1487,8743849,{"$f":"FlashCards!AE422","v":419}]
[null,null,null,null,null,null,null,null,null,null,null,null,null,null,null,null,null,null,null,null,null,null,null,{"$f":"FlashCards!AQ423","v":"1487+3361"},{"$error":"#VALUE!"},5,0,1487,8743849,{"$f":"FlashCards!AE423","v":420}]
[null,null,null,null,null,null,null,null,null,null,null,null,null,null,null,null,null,null,null,null,null,null,null,{"$f":"FlashCards!AQ424","v":"1487+3361"},{"$error":"#VALUE!"},5,0,1487,8743849,{"$f":"FlashCards!AE424","v":421}]
[null,null,null,null,null,null,null,null,null,null,null,null,null,null,null,null,null,null,null,null,null,null,null,{"$f":"FlashCards!AQ425","v":"1488"},1488,0,0,1488,8737936,{"$f":"FlashCards!AE425","v":422}]
[null,null,null,null,null,null,null,null,null,null,null,null,null,null,null,null,null,null,null,null,null,null,null,{"$f":"FlashCards!AQ426","v":"1492"},1492,0,0,1492,8714304,{"$f":"FlashCards!AE426","v":423}]
[null,null,null,null,null,null,null,null,null,null,null,null,null,null,null,null,null,null,null,null,null,null,null,{"$f":"FlashCards!AQ427","v":"1497"},1497,0,0,1497,8684809,{"$f":"FlashCards!AE427","v":424}]
[null,null,null,null,null,null,null,null,null,null,null,null,null,null,null,null,null,null,null,null,null,null,null,{"$f":"FlashCards!AQ428","v":"1501"},1501,0,0,1501,8661249,{"$f":"FlashCards!AE428","v":425}]
[null,null,null,null,null,null,null,null,null,null,null,null,null,null,null,null,null,null,null,null,null,null,null,{"$f":"FlashCards!AQ429","v":"1504"},1504,0,0,1504,8643600,{"$f":"FlashCards!AE429","v":426}]
[null,null,null,null,null,null,null,null,null,null,null,null,null,null,null,null,null,null,null,null,null,null,null,{"$f":"FlashCards!AQ430","v":"1510"},1510,0,0,1510,8608356,{"$f":"FlashCards!AE430","v":427}]
[null,null,null,null,null,null,null,null,null,null,null,null,null,null,null,null,null,null,null,null,null,null,null,{"$f":"FlashCards!AQ431","v":"1510, 2258"},{"$error":"#VALUE!"},0,5,1510,8608356,{"$f":"FlashCards!AE431","v":428}]
[null,null,null,null,null,null,null,null,null,null,null,null,null,null,null,null,null,null,null,null,null,null,null,{"$f":"FlashCards!AQ432","v":"1515"},1515,0,0,1515,8579041,{"$f":"FlashCards!AE432","v":429}]
[null,null,null,null,null,null,null,null,null,null,null,null,null,null,null,null,null,null,null,null,null,null,null,{"$f":"FlashCards!AQ433","v":"1519"},1519,0,0,1519,8555625,{"$f":"FlashCards!AE433","v":430}]
[null,null,null,null,null,null,null,null,null,null,null,null,null,null,null,null,null,null,null,null,null,null,null,{"$f":"FlashCards!AQ434","v":"1520"},1520,0,0,1520,8549776,{"$f":"FlashCards!AE434","v":431}]
[null,null,null,null,null,null,null,null,null,null,null,null,null,null,null,null,null,null,null,null,null,null,null,{"$f":"FlashCards!AQ435","v":"1520"},1520,0,0,1520,8549776,{"$f":"FlashCards!AE435","v":432}]
[null,null,null,null,null,null,null,null,null,null,null,null,null,null,null,null,null,null,null,null,null,null,null,{"$f":"FlashCards!AQ436","v":"1520"},1520,0,0,1520,8549776,{"$f":"FlashCards!AE436","v":433}]
[null,null,null,null,null,null,null,null,null,null,null,null,null,null,null,null,null,null,null,null,null,null,null,{"$f":"FlashCards!AQ437","v":"1520"},1520,0,0,1520,8549776,{"$f":"FlashCards!AE437","v":434}]
[null,null,null,null,null,null,null,null,null,null,null,null,null,null,null,null,null,null,null,null,null,null,null,{"$f":"FlashCards!AQ438","v":"1520"},1520,0,0,1520,8549776,{"$f":"FlashCards!AE438","v":435}]
[null,null,null,null,null,null,null,null,null,null,null,null,null,null,null,null,null,null,null,null,null,null,null,{"$f":"FlashCards!AQ439","v":"1520"},1520,0,0,1520,8549776,{"$f":"FlashCards!AE439","v":436}]
[null,null,null,null,null,null,null,null,null,null,null,null,null,null,null,null,null,null,null,null,null,null,null,{"$f":"FlashCards!AQ440","v":"1520"},1520,0,0,1520,8549776,{"$f":"FlashCards!AE440","v":437}]
[null,null,null,null,null,null,null,null,null,null,null,null,null,null,null,null,null,null,null,null,null,null,null,{"$f":"FlashCards!AQ441","v":"1520"},1520,0,0,1520,8549776,{"$f":"FlashCards!AE441","v":438}]
[null,null,null,null,null,null,null,null,null,null,null,null,null,null,null,null,null,null,null,null,null,null,null,{"$f":"FlashCards!AQ442","v":"1520"},1520,0,0,1520,8549776,{"$f":"FlashCards!AE442","v":439}]
[null,null,null,null,null,null,null,null,null,null,null,null,null,null,null,null,null,null,null,null,null,null,null,{"$f":"FlashCards!AQ443","v":"1521"},1521,0,0,1521,8543929,{"$f":"FlashCards!AE443","v":440}]
[null,null,null,null,null,null,null,null,null,null,null,null,null,null,null,null,null,null,null,null,null,null,null,{"$f":"FlashCards!AQ444","v":"1525"},1525,0,0,1525,8520561,{"$f":"FlashCards!AE444","v":441}]
[null,null,null,null,null,null,null,null,null,null,null,null,null,null,null,null,null,null,null,null,null,null,null,{"$f":"FlashCards!AQ445","v":"1526, 1510"},{"$error":"#VALUE!"},0,5,1526,8514724,{"$f":"FlashCards!AE445","v":442}]
[null,null,null,null,null,null,null,null,null,null,null,null,null,null,null,null,null,null,null,null,null,null,null,{"$f":"FlashCards!AQ446","v":"1531"},1531,0,0,1531,8485569,{"$f":"FlashCards!AE446","v":443}]
[null,null,null,null,null,null,null,null,null,null,null,null,null,null,null,null,null,null,null,null,null,null,null,{"$f":"FlashCards!AQ447","v":"1534"},1534,0,0,1534,8468100,{"$f":"FlashCards!AE447","v":444}]
[null,null,null,null,null,null,null,null,null,null,null,null,null,null,null,null,null,null,null,null,null,null,null,{"$f":"FlashCards!AQ448","v":"1535"},1535,0,0,1535,8462281,{"$f":"FlashCards!AE448","v":445}]
[null,null,null,null,null,null,null,null,null,null,null,null,null,null,null,null,null,null,null,null,null,null,null,{"$f":"FlashCards!AQ449","v":"1537"},1537,0,0,1537,8450649,{"$f":"FlashCards!AE449","v":446}]
[null,null,null,null,null,null,null,null,null,null,null,null,null,null,null,null,null,null,null,null,null,null,null,{"$f":"FlashCards!AQ450","v":"1538"},1538,0,0,1538,8444836,{"$f":"FlashCards!AE450","v":447}]
[null,null,null,null,null,null,null,null,null,null,null,null,null,null,null,null,null,null,null,null,null,null,null,{"$f":"FlashCards!AQ451","v":"1540"},1540,0,0,1540,8433216,{"$f":"FlashCards!AE451","v":448}]
[null,null,null,null,null,null,null,null,null,null,null,null,null,null,null,null,null,null,null,null,null,null,null,{"$f":"FlashCards!AQ452","v":"1543"},1543,0,0,1543,8415801,{"$f":"FlashCards!AE452","v":449}]
[null,null,null,null,null,null,null,null,null,null,null,null,null,null,null,null,null,null,null,null,null,null,null,{"$f":"FlashCards!AQ453","v":"1544"},{"$f":"VALUE(X452)","v":1544},{"$f":"IF(ISERR(FIND(\"+\",X452,1)),0,FIND(\"+\",X452,1))","v":0},{"$f":"IF(ISERR(FIND(\",\",X452,1)),0,FIND(\",\",X452,1))","v":0},{"$f":"IF(Z452>0,VALUE(LEFT(X452,Z452-1)),IF(AA452>0,VALUE(LEFT(X452,AA452-1)),IF(ISERR(Y452),VALUE(LEFT(X452,LEN(X452)-1)),Y452)))","v":1544},{"$f":"(AB452-U$28)^2","v":8410000},{"$f":"FlashCards!AE453","v":450}]
[null,null,null,null,null,null,null,null,null,null,null,null,null,null,null,null,null,null,null,null,null,null,null,{"$f":"FlashCards!AQ454","v":"1563"},1563,0,0,1563,8300161,{"$f":"FlashCards!AE454","v":451}]
[null,null,null,null,null,null,null,null,null,null,null,null,null,null,null,null,null,null,null,null,null,null,null,{"$f":"FlashCards!AQ455","v":"1564"},1564,0,0,1564,8294400,{"$f":"FlashCards!AE455","v":452}]
[null,null,null,null,null,null,null,null,null,null,null,null,null,null,null,null,null,null,null,null,null,null,null,{"$f":"FlashCards!AQ456","v":"1565"},1565,0,0,1565,8288641,{"$f":"FlashCards!AE456","v":453}]
[null,null,null,null,null,null,null,null,null,null,null,null,null,null,null,null,null,null,null,null,null,null,null,{"$f":"FlashCards!AQ457","v":"1565"},1565,0,0,1565,8288641,{"$f":"FlashCards!AE457","v":454}]
[null,null,null,null,null,null,null,null,null,null,null,null,null,null,null,null,null,null,null,null,null,null,null,{"$f":"FlashCards!AQ458","v":"1565"},1565,0,0,1565,8288641,{"$f":"FlashCards!AE458","v":455}]
[null,null,null,null,null,null,null,null,null,null,null,null,null,null,null,null,null,null,null,null,null,null,null,{"$f":"FlashCards!AQ459","v":"1565"},1565,0,0,1565,8288641,{"$f":"FlashCards!AE459","v":456}]
[null,null,null,null,null,null,null,null,null,null,null,null,null,null,null,null,null,null,null,null,null,null,null,{"$f":"FlashCards!AQ460","v":"1565"},1565,0,0,1565,8288641,{"$f":"FlashCards!AE460","v":457}]
[null,null,null,null,null,null,null,null,null,null,null,null,null,null,null,null,null,null,null,null,null,null,null,{"$f":"FlashCards!AQ461","v":"1565"},1565,0,0,1565,8288641,{"$f":"FlashCards!AE461","v":458}]
[null,null,null,null,null,null,null,null,null,null,null,null,null,null,null,null,null,null,null,null,null,null,null,{"$f":"FlashCards!AQ462","v":"1565"},1565,0,0,1565,8288641,{"$f":"FlashCards!AE462","v":459}]
[null,null,null,null,null,null,null,null,null,null,null,null,null,null,null,null,null,null,null,null,null,null,null,{"$f":"FlashCards!AQ463","v":"1565"},1565,0,0,1565,8288641,{"$f":"FlashCards!AE463","v":460}]
[null,null,null,null,null,null,null,null,null,null,null,null,null,null,null,null,null,null,null,null,null,null,null,{"$f":"FlashCards!AQ464","v":"1565"},1565,0,0,1565,8288641,{"$f":"FlashCards!AE464","v":461}]
[null,null,null,null,null,null,null,null,null,null,null,null,null,null,null,null,null,null,null,null,null,null,null,{"$f":"FlashCards!AQ465","v":"1565"},1565,0,0,1565,8288641,{"$f":"FlashCards!AE465","v":462}]
[null,null,null,null,null,null,null,null,null,null,null,null,null,null,null,null,null,null,null,null,null,null,null,{"$f":"FlashCards!AQ466","v":"1565"},1565,0,0,1565,8288641,{"$f":"FlashCards!AE466","v":463}]
[null,null,null,null,null,null,null,null,null,null,null,null,null,null,null,null,null,null,null,null,null,null,null,{"$f":"FlashCards!AQ467","v":"1565"},1565,0,0,1565,8288641,{"$f":"FlashCards!AE467","v":464}]
[null,null,null,null,null,null,null,null,null,null,null,null,null,null,null,null,null,null,null,null,null,null,null,{"$f":"FlashCards!AQ468","v":"1565"},1565,0,0,1565,8288641,{"$f":"FlashCards!AE468","v":465}]
[null,null,null,null,null,null,null,null,null,null,null,null,null,null,null,null,null,null,null,null,null,null,null,{"$f":"FlashCards!AQ469","v":"1565"},1565,0,0,1565,8288641,{"$f":"FlashCards!AE469","v":466}]
[null,null,null,null,null,null,null,null,null,null,null,null,null,null,null,null,null,null,null,null,null,null,null,{"$f":"FlashCards!AQ470","v":"1565"},1565,0,0,1565,8288641,{"$f":"FlashCards!AE470","v":467}]
[null,null,null,null,null,null,null,null,null,null,null,null,null,null,null,null,null,null,null,null,null,null,null,{"$f":"FlashCards!AQ471","v":"1565"},1565,0,0,1565,8288641,{"$f":"FlashCards!AE471","v":468}]
[null,null,null,null,null,null,null,null,null,null,null,null,null,null,null,null,null,null,null,null,null,null,null,{"$f":"FlashCards!AQ472","v":"1565"},1565,0,0,1565,8288641,{"$f":"FlashCards!AE472","v":469}]
[null,null,null,null,null,null,null,null,null,null,null,null,null,null,null,null,null,null,null,null,null,null,null,{"$f":"FlashCards!AQ473","v":"1565"},1565,0,0,1565,8288641,{"$f":"FlashCards!AE473","v":470}]
[null,null,null,null,null,null,null,null,null,null,null,null,null,null,null,null,null,null,null,null,null,null,null,{"$f":"FlashCards!AQ474","v":"1577"},1577,0,0,1577,8219689,{"$f":"FlashCards!AE474","v":471}]
[null,null,null,null,null,null,null,null,null,null,null,null,null,null,null,null,null,null,null,null,null,null,null,{"$f":"FlashCards!AQ475","v":"1581"},1581,0,0,1581,8196769,{"$f":"FlashCards!AE475","v":472}]
[null,null,null,null,null,null,null,null,null,null,null,null,null,null,null,null,null,null,null,null,null,null,null,{"$f":"FlashCards!AQ476","v":"1586"},1586,0,0,1586,8168164,{"$f":"FlashCards!AE476","v":473}]
[null,null,null,null,null,null,null,null,null,null,null,null,null,null,null,null,null,null,null,null,null,null,null,{"$f":"FlashCards!AQ477","v":"1588"},1588,0,0,1588,8156736,{"$f":"FlashCards!AE477","v":474}]
[null,null,null,null,null,null,null,null,null,null,null,null,null,null,null,null,null,null,null,null,null,null,null,{"$f":"FlashCards!AQ478","v":"1601"},1601,0,0,1601,8082649,{"$f":"FlashCards!AE478","v":475}]
[null,null,null,null,null,null,null,null,null,null,null,null,null,null,null,null,null,null,null,null,null,null,null,{"$f":"FlashCards!AQ479","v":"1605"},1605,0,0,1605,8059921,{"$f":"FlashCards!AE479","v":476}]
[null,null,null,null,null,null,null,null,null,null,null,null,null,null,null,null,null,null,null,null,null,null,null,{"$f":"FlashCards!AQ480","v":"1607"},1607,0,0,1607,8048569,{"$f":"FlashCards!AE480","v":477}]
[null,null,null,null,null,null,null,null,null,null,null,null,null,null,null,null,null,null,null,null,null,null,null,{"$f":"FlashCards!AQ481","v":"1614"},1614,0,0,1614,8008900,{"$f":"FlashCards!AE481","v":478}]
[null,null,null,null,null,null,null,null,null,null,null,null,null,null,null,null,null,null,null,null,null,null,null,{"$f":"FlashCards!AQ482","v":"1623"},1623,0,0,1623,7958041,{"$f":"FlashCards!AE482","v":479}]
[null,null,null,null,null,null,null,null,null,null,null,null,null,null,null,null,null,null,null,null,null,null,null,{"$f":"FlashCards!AQ483","v":"1632"},1632,0,0,1632,7907344,{"$f":"FlashCards!AE483","v":480}]
[null,null,null,null,null,null,null,null,null,null,null,null,null,null,null,null,null,null,null,null,null,null,null,{"$f":"FlashCards!AQ484","v":"1632"},1632,0,0,1632,7907344,{"$f":"FlashCards!AE484","v":481}]
[null,null,null,null,null,null,null,null,null,null,null,null,null,null,null,null,null,null,null,null,null,null,null,{"$f":"FlashCards!AQ485","v":"1636"},1636,0,0,1636,7884864,{"$f":"FlashCards!AE485","v":482}]
[null,null,null,null,null,null,null,null,null,null,null,null,null,null,null,null,null,null,null,null,null,null,null,{"$f":"FlashCards!AQ486","v":"1637"},1637,0,0,1637,7879249,{"$f":"FlashCards!AE486","v":483}]
[null,null,null,null,null,null,null,null,null,null,null,null,null,null,null,null,null,null,null,null,null,null,null,{"$f":"FlashCards!AQ487","v":"1646"},1646,0,0,1646,7828804,{"$f":"FlashCards!AE487","v":484}]
[null,null,null,null,null,null,null,null,null,null,null,null,null,null,null,null,null,null,null,null,null,null,null,{"$f":"FlashCards!AQ488","v":"1651"},1651,0,0,1651,7800849,{"$f":"FlashCards!AE488","v":485}]
[null,null,null,null,null,null,null,null,null,null,null,null,null,null,null,null,null,null,null,null,null,null,null,{"$f":"FlashCards!AQ489","v":"1653"},1653,0,0,1653,7789681,{"$f":"FlashCards!AE489","v":486}]
[null,null,null,null,null,null,null,null,null,null,null,null,null,null,null,null,null,null,null,null,null,null,null,{"$f":"FlashCards!AQ490","v":"1654"},1654,0,0,1654,7784100,{"$f":"FlashCards!AE490","v":487}]
[null,null,null,null,null,null,null,null,null,null,null,null,null,null,null,null,null,null,null,null,null,null,null,{"$f":"FlashCards!AQ491","v":"1656"},1656,0,0,1656,7772944,{"$f":"FlashCards!AE491","v":488}]
[null,null,null,null,null,null,null,null,null,null,null,null,null,null,null,null,null,null,null,null,null,null,null,{"$f":"FlashCards!AQ492","v":"1657"},1657,0,0,1657,7767369,{"$f":"FlashCards!AE492","v":489}]
[null,null,null,null,null,null,null,null,null,null,null,null,null,null,null,null,null,null,null,null,null,null,null,{"$f":"FlashCards!AQ493","v":"1658"},1658,0,0,1658,7761796,{"$f":"FlashCards!AE493","v":490}]
[null,null,null,null,null,null,null,null,null,null,null,null,null,null,null,null,null,null,null,null,null,null,null,{"$f":"FlashCards!AQ494","v":"1672"},1672,0,0,1672,7683984,{"$f":"FlashCards!AE494","v":491}]
[null,null,null,null,null,null,null,null,null,null,null,null,null,null,null,null,null,null,null,null,null,null,null,{"$f":"FlashCards!AQ495","v":"1679"},1679,0,0,1679,7645225,{"$f":"FlashCards!AE495","v":492}]
[null,null,null,null,null,null,null,null,null,null,null,null,null,null,null,null,null,null,null,null,null,null,null,{"$f":"FlashCards!AQ496","v":"1680"},1680,0,0,1680,7639696,{"$f":"FlashCards!AE496","v":493}]
[null,null,null,null,null,null,null,null,null,null,null,null,null,null,null,null,null,null,null,null,null,null,null,{"$f":"FlashCards!AQ497","v":"1683"},1683,0,0,1683,7623121,{"$f":"FlashCards!AE497","v":494}]
[null,null,null,null,null,null,null,null,null,null,null,null,null,null,null,null,null,null,null,null,null,null,null,{"$f":"FlashCards!AQ498","v":"1684"},1684,0,0,1684,7617600,{"$f":"FlashCards!AE498","v":495}]
[null,null,null,null,null,null,null,null,null,null,null,null,null,null,null,null,null,null,null,null,null,null,null,{"$f":"FlashCards!AQ499","v":"1689"},1689,0,0,1689,7590025,{"$f":"FlashCards!AE499","v":496}]
[null,null,null,null,null,null,null,null,null,null,null,null,null,null,null,null,null,null,null,null,null,null,null,{"$f":"FlashCards!AQ500","v":"1698"},1698,0,0,1698,7540516,{"$f":"FlashCards!AE500","v":497}]
[null,null,null,null,null,null,null,null,null,null,null,null,null,null,null,null,null,null,null,null,null,null,null,{"$f":"FlashCards!AQ501","v":"1699"},1699,0,0,1699,7535025,{"$f":"FlashCards!AE501","v":498}]
[null,null,null,null,null,null,null,null,null,null,null,null,null,null,null,null,null,null,null,null,null,null,null,{"$f":"FlashCards!AQ502","v":"1699"},1699,0,0,1699,7535025,{"$f":"FlashCards!AE502","v":499}]
[null,null,null,null,null,null,null,null,null,null,null,null,null,null,null,null,null,null,null,null,null,null,null,{"$f":"FlashCards!AQ503","v":"1699"},1699,0,0,1699,7535025,{"$f":"FlashCards!AE503","v":500}]
[null,null,null,null,null,null,null,null,null,null,null,null,null,null,null,null,null,null,null,null,null,null,null,{"$f":"FlashCards!AQ504","v":"1700"},1700,0,0,1700,7529536,{"$f":"FlashCards!AE504","v":501}]
[null,null,null,null,null,null,null,null,null,null,null,null,null,null,null,null,null,null,null,null,null,null,null,{"$f":"FlashCards!AQ505","v":"1700"},1700,0,0,1700,7529536,{"$f":"FlashCards!AE505","v":502}]
[null,null,null,null,null,null,null,null,null,null,null,null,null,null,null,null,null,null,null,null,null,null,null,{"$f":"FlashCards!AQ506","v":"1702"},1702,0,0,1702,7518564,{"$f":"FlashCards!AE506","v":503}]
[null,null,null,null,null,null,null,null,null,null,null,null,null,null,null,null,null,null,null,null,null,null,null,{"$f":"FlashCards!AQ507","v":"1715"},1715,0,0,1715,7447441,{"$f":"FlashCards!AE507","v":504}]
[null,null,null,null,null,null,null,null,null,null,null,null,null,null,null,null,null,null,null,null,null,null,null,{"$f":"FlashCards!AQ508","v":"1718"},1718,0,0,1718,7431076,{"$f":"FlashCards!AE508","v":505}]
[null,null,null,null,null,null,null,null,null,null,null,null,null,null,null,null,null,null,null,null,null,null,null,{"$f":"FlashCards!AQ509","v":"1722"},1722,0,0,1722,7409284,{"$f":"FlashCards!AE509","v":506}]
[null,null,null,null,null,null,null,null,null,null,null,null,null,null,null,null,null,null,null,null,null,null,null,{"$f":"FlashCards!AQ510","v":"1726"},1726,0,0,1726,7387524,{"$f":"FlashCards!AE510","v":507}]
[null,null,null,null,null,null,null,null,null,null,null,null,null,null,null,null,null,null,null,null,null,null,null,{"$f":"FlashCards!AQ511","v":"1731"},1731,0,0,1731,7360369,{"$f":"FlashCards!AE511","v":508}]
[null,null,null,null,null,null,null,null,null,null,null,null,null,null,null,null,null,null,null,null,null,null,null,{"$f":"FlashCards!AQ512","v":"1733"},1733,0,0,1733,7349521,{"$f":"FlashCards!AE512","v":509}]
[null,null,null,null,null,null,null,null,null,null,null,null,null,null,null,null,null,null,null,null,null,null,null,{"$f":"FlashCards!AQ513","v":"1746"},1746,0,0,1746,7279204,{"$f":"FlashCards!AE513","v":510}]
[null,null,null,null,null,null,null,null,null,null,null,null,null,null,null,null,null,null,null,null,null,null,null,{"$f":"FlashCards!AQ514","v":"1752"},1752,0,0,1752,7246864,{"$f":"FlashCards!AE514","v":511}]
[null,null,null,null,null,null,null,null,null,null,null,null,null,null,null,null,null,null,null,null,null,null,null,{"$f":"FlashCards!AQ515","v":"1752"},1752,0,0,1752,7246864,{"$f":"FlashCards!AE515","v":512}]
[null,null,null,null,null,null,null,null,null,null,null,null,null,null,null,null,null,null,null,null,null,null,null,{"$f":"FlashCards!AQ516","v":"1754"},1754,0,0,1754,7236100,{"$f":"FlashCards!AE516","v":513}]
[null,null,null,null,null,null,null,null,null,null,null,null,null,null,null,null,null,null,null,null,null,null,null,{"$f":"FlashCards!AQ517","v":"1755"},{"$f":"VALUE(X516)","v":1755},{"$f":"IF(ISERR(FIND(\"+\",X516,1)),0,FIND(\"+\",X516,1))","v":0},{"$f":"IF(ISERR(FIND(\",\",X516,1)),0,FIND(\",\",X516,1))","v":0},{"$f":"IF(Z516>0,VALUE(LEFT(X516,Z516-1)),IF(AA516>0,VALUE(LEFT(X516,AA516-1)),IF(ISERR(Y516),VALUE(LEFT(X516,LEN(X516)-1)),Y516)))","v":1755},{"$f":"(AB516-U$28)^2","v":7230721},{"$f":"FlashCards!AE517","v":514}]
[null,null,null,null,null,null,null,null,null,null,null,null,null,null,null,null,null,null,null,null,null,null,null,{"$f":"FlashCards!AQ518","v":"1762"},1762,0,0,1762,7193124,{"$f":"FlashCards!AE518","v":515}]
[null,null,null,null,null,null,null,null,null,null,null,null,null,null,null,null,null,null,null,null,null,null,null,{"$f":"FlashCards!AQ519","v":"1763"},1763,0,0,1763,7187761,{"$f":"FlashCards!AE519","v":516}]
[null,null,null,null,null,null,null,null,null,null,null,null,null,null,null,null,null,null,null,null,null,null,null,{"$f":"FlashCards!AQ520","v":"1766"},1766,0,0,1766,7171684,{"$f":"FlashCards!AE520","v":517}]
[null,null,null,null,null,null,null,null,null,null,null,null,null,null,null,null,null,null,null,null,null,null,null,{"$f":"FlashCards!AQ521","v":"1777"},1777,0,0,1777,7112889,{"$f":"FlashCards!AE521","v":518}]
[null,null,null,null,null,null,null,null,null,null,null,null,null,null,null,null,null,null,null,null,null,null,null,{"$f":"FlashCards!AQ522","v":"1781"},1781,0,0,1781,7091569,{"$f":"FlashCards!AE522","v":519}]
[null,null,null,null,null,null,null,null,null,null,null,null,null,null,null,null,null,null,null,null,null,null,null,{"$f":"FlashCards!AQ523","v":"1782"},1782,0,0,1782,7086244,{"$f":"FlashCards!AE523","v":520}]
[null,null,null,null,null,null,null,null,null,null,null,null,null,null,null,null,null,null,null,null,null,null,null,{"$f":"FlashCards!AQ524","v":"1785"},1785,0,0,1785,7070281,{"$f":"FlashCards!AE524","v":521}]
[null,null,null,null,null,null,null,null,null,null,null,null,null,null,null,null,null,null,null,null,null,null,null,{"$f":"FlashCards!AQ525","v":"1799"},1799,0,0,1799,6996025,{"$f":"FlashCards!AE525","v":522}]
[null,null,null,null,null,null,null,null,null,null,null,null,null,null,null,null,null,null,null,null,null,null,null,{"$f":"FlashCards!AQ526","v":"1803"},1803,0,0,1803,6974881,{"$f":"FlashCards!AE526","v":523}]
[null,null,null,null,null,null,null,null,null,null,null,null,null,null,null,null,null,null,null,null,null,null,null,{"$f":"FlashCards!AQ527","v":"1806"},1806,0,0,1806,6959044,{"$f":"FlashCards!AE527","v":524}]
[null,null,null,null,null,null,null,null,null,null,null,null,null,null,null,null,null,null,null,null,null,null,null,{"$f":"FlashCards!AQ528","v":"1821"},1821,0,0,1821,6880129,{"$f":"FlashCards!AE528","v":525}]
[null,null,null,null,null,null,null,null,null,null,null,null,null,null,null,null,null,null,null,null,null,null,null,{"$f":"FlashCards!AQ529","v":"1831"},1831,0,0,1831,6827769,{"$f":"FlashCards!AE529","v":526}]
[null,null,null,null,null,null,null,null,null,null,null,null,null,null,null,null,null,null,null,null,null,null,null,{"$f":"FlashCards!AQ530","v":"1832"},1832,0,0,1832,6822544,{"$f":"FlashCards!AE530","v":527}]
[null,null,null,null,null,null,null,null,null,null,null,null,null,null,null,null,null,null,null,null,null,null,null,{"$f":"FlashCards!AQ531","v":"1835"},1835,0,0,1835,6806881,{"$f":"FlashCards!AE531","v":528}]
[null,null,null,null,null,null,null,null,null,null,null,null,null,null,null,null,null,null,null,null,null,null,null,{"$f":"FlashCards!AQ532","v":"1839"},1839,0,0,1839,6786025,{"$f":"FlashCards!AE532","v":529}]
[null,null,null,null,null,null,null,null,null,null,null,null,null,null,null,null,null,null,null,null,null,null,null,{"$f":"FlashCards!AQ533","v":"1843"},1843,0,0,1843,6765201,{"$f":"FlashCards!AE533","v":530}]
[null,null,null,null,null,null,null,null,null,null,null,null,null,null,null,null,null,null,null,null,null,null,null,{"$f":"FlashCards!AQ534","v":"1848"},1848,0,0,1848,6739216,{"$f":"FlashCards!AE534","v":531}]
[null,null,null,null,null,null,null,null,null,null,null,null,null,null,null,null,null,null,null,null,null,null,null,{"$f":"FlashCards!AQ535","v":"1849"},1849,0,0,1849,6734025,{"$f":"FlashCards!AE535","v":532}]
[null,null,null,null,null,null,null,null,null,null,null,null,null,null,null,null,null,null,null,null,null,null,null,{"$f":"FlashCards!AQ536","v":"1854"},1854,0,0,1854,6708100,{"$f":"FlashCards!AE536","v":533}]
[null,null,null,null,null,null,null,null,null,null,null,null,null,null,null,null,null,null,null,null,null,null,null,{"$f":"FlashCards!AQ537","v":"1854"},1854,0,0,1854,6708100,{"$f":"FlashCards!AE537","v":534}]
[null,null,null,null,null,null,null,null,null,null,null,null,null,null,null,null,null,null,null,null,null,null,null,{"$f":"FlashCards!AQ538","v":"1855"},1855,0,0,1855,6702921,{"$f":"FlashCards!AE538","v":535}]
[null,null,null,null,null,null,null,null,null,null,null,null,null,null,null,null,null,null,null,null,null,null,null,{"$f":"FlashCards!AQ539","v":"1859"},1859,0,0,1859,6682225,{"$f":"FlashCards!AE539","v":536}]
[null,null,null,null,null,null,null,null,null,null,null,null,null,null,null,null,null,null,null,null,null,null,null,{"$f":"FlashCards!AQ540","v":"1860"},1860,0,0,1860,6677056,{"$f":"FlashCards!AE540","v":537}]
[null,null,null,null,null,null,null,null,null,null,null,null,null,null,null,null,null,null,null,null,null,null,null,{"$f":"FlashCards!AQ541","v":"1861"},1861,0,0,1861,6671889,{"$f":"FlashCards!AE541","v":538}]
[null,null,null,null,null,null,null,null,null,null,null,null,null,null,null,null,null,null,null,null,null,null,null,{"$f":"FlashCards!AQ542","v":"1868"},1868,0,0,1868,6635776,{"$f":"FlashCards!AE542","v":539}]
[null,null,null,null,null,null,null,null,null,null,null,null,null,null,null,null,null,null,null,null,null,null,null,{"$f":"FlashCards!AQ543","v":"1869"},1869,0,0,1869,6630625,{"$f":"FlashCards!AE543","v":540}]
[null,null,null,null,null,null,null,null,null,null,null,null,null,null,null,null,null,null,null,null,null,null,null,{"$f":"FlashCards!AQ544","v":"1870"},1870,0,0,1870,6625476,{"$f":"FlashCards!AE544","v":541}]
[null,null,null,null,null,null,null,null,null,null,null,null,null,null,null,null,null,null,null,null,null,null,null,{"$f":"FlashCards!AQ545","v":"1883"},1883,0,0,1883,6558721,{"$f":"FlashCards!AE545","v":542}]
[null,null,null,null,null,null,null,null,null,null,null,null,null,null,null,null,null,null,null,null,null,null,null,{"$f":"FlashCards!AQ546","v":"1883"},1883,0,0,1883,6558721,{"$f":"FlashCards!AE546","v":543}]
[null,null,null,null,null,null,null,null,null,null,null,null,null,null,null,null,null,null,null,null,null,null,null,{"$f":"FlashCards!AQ547","v":"1887"},1887,0,0,1887,6538249,{"$f":"FlashCards!AE547","v":544}]
[null,null,null,null,null,null,null,null,null,null,null,null,null,null,null,null,null,null,null,null,null,null,null,{"$f":"FlashCards!AQ548","v":"1893"},1893,0,0,1893,6507601,{"$f":"FlashCards!AE548","v":545}]
[null,null,null,null,null,null,null,null,null,null,null,null,null,null,null,null,null,null,null,null,null,null,null,{"$f":"FlashCards!AQ549","v":"1894"},1894,0,0,1894,6502500,{"$f":"FlashCards!AE549","v":546}]
[null,null,null,null,null,null,null,null,null,null,null,null,null,null,null,null,null,null,null,null,null,null,null,{"$f":"FlashCards!AQ550","v":"1899"},1899,0,0,1899,6477025,{"$f":"FlashCards!AE550","v":547}]
[null,null,null,null,null,null,null,null,null,null,null,null,null,null,null,null,null,null,null,null,null,null,null,{"$f":"FlashCards!AQ551","v":"1904"},1904,0,0,1904,6451600,{"$f":"FlashCards!AE551","v":548}]
[null,null,null,null,null,null,null,null,null,null,null,null,null,null,null,null,null,null,null,null,null,null,null,{"$f":"FlashCards!AQ552","v":"1905"},1905,0,0,1905,6446521,{"$f":"FlashCards!AE552","v":549}]
[null,null,null,null,null,null,null,null,null,null,null,null,null,null,null,null,null,null,null,null,null,null,null,{"$f":"FlashCards!AQ553","v":"1909"},1909,0,0,1909,6426225,{"$f":"FlashCards!AE553","v":550}]
[null,null,null,null,null,null,null,null,null,null,null,null,null,null,null,null,null,null,null,null,null,null,null,{"$f":"FlashCards!AQ554","v":"1909"},1909,0,0,1909,6426225,{"$f":"FlashCards!AE554","v":551}]
[null,null,null,null,null,null,null,null,null,null,null,null,null,null,null,null,null,null,null,null,null,null,null,{"$f":"FlashCards!AQ555","v":"1909"},1909,0,0,1909,6426225,{"$f":"FlashCards!AE555","v":552}]
[null,null,null,null,null,null,null,null,null,null,null,null,null,null,null,null,null,null,null,null,null,null,null,{"$f":"FlashCards!AQ556","v":"1911"},1911,0,0,1911,6416089,{"$f":"FlashCards!AE556","v":553}]
[null,null,null,null,null,null,null,null,null,null,null,null,null,null,null,null,null,null,null,null,null,null,null,{"$f":"FlashCards!AQ557","v":"1921"},1921,0,0,1921,6365529,{"$f":"FlashCards!AE557","v":554}]
[null,null,null,null,null,null,null,null,null,null,null,null,null,null,null,null,null,null,null,null,null,null,null,{"$f":"FlashCards!AQ558","v":"1922"},1922,0,0,1922,6360484,{"$f":"FlashCards!AE558","v":555}]
[null,null,null,null,null,null,null,null,null,null,null,null,null,null,null,null,null,null,null,null,null,null,null,{"$f":"FlashCards!AQ559","v":"1934"},1934,0,0,1934,6300100,{"$f":"FlashCards!AE559","v":556}]
[null,null,null,null,null,null,null,null,null,null,null,null,null,null,null,null,null,null,null,null,null,null,null,{"$f":"FlashCards!AQ560","v":"1937"},1937,0,0,1937,6285049,{"$f":"FlashCards!AE560","v":557}]
[null,null,null,null,null,null,null,null,null,null,null,null,null,null,null,null,null,null,null,null,null,null,null,{"$f":"FlashCards!AQ561","v":"1939"},1939,0,0,1939,6275025,{"$f":"FlashCards!AE561","v":558}]
[null,null,null,null,null,null,null,null,null,null,null,null,null,null,null,null,null,null,null,null,null,null,null,{"$f":"FlashCards!AQ562","v":"1941"},1941,0,0,1941,6265009,{"$f":"FlashCards!AE562","v":559}]
[null,null,null,null,null,null,null,null,null,null,null,null,null,null,null,null,null,null,null,null,null,null,null,{"$f":"FlashCards!AQ563","v":"1949"},1949,0,0,1949,6225025,{"$f":"FlashCards!AE563","v":560}]
[null,null,null,null,null,null,null,null,null,null,null,null,null,null,null,null,null,null,null,null,null,null,null,{"$f":"FlashCards!AQ564","v":"1961"},1961,0,0,1961,6165289,{"$f":"FlashCards!AE564","v":561}]
[null,null,null,null,null,null,null,null,null,null,null,null,null,null,null,null,null,null,null,null,null,null,null,{"$f":"FlashCards!AQ565","v":"1968"},1968,0,0,1968,6130576,{"$f":"FlashCards!AE565","v":562}]
[null,null,null,null,null,null,null,null,null,null,null,null,null,null,null,null,null,null,null,null,null,null,null,{"$f":"FlashCards!AQ566","v":"1980"},1980,0,0,1980,6071296,{"$f":"FlashCards!AE566","v":563}]
[null,null,null,null,null,null,null,null,null,null,null,null,null,null,null,null,null,null,null,null,null,null,null,{"$f":"FlashCards!AQ567","v":"1987"},1987,0,0,1987,6036849,{"$f":"FlashCards!AE567","v":564}]
[null,null,null,null,null,null,null,null,null,null,null,null,null,null,null,null,null,null,null,null,null,null,null,{"$f":"FlashCards!AQ568","v":"1992"},1992,0,0,1992,6012304,{"$f":"FlashCards!AE568","v":565}]
[null,null,null,null,null,null,null,null,null,null,null,null,null,null,null,null,null,null,null,null,null,null,null,{"$f":"FlashCards!AQ569","v":"1994"},1994,0,0,1994,6002500,{"$f":"FlashCards!AE569","v":566}]
[null,null,null,null,null,null,null,null,null,null,null,null,null,null,null,null,null,null,null,null,null,null,null,{"$f":"FlashCards!AQ570","v":"2004"},2004,0,0,2004,5953600,{"$f":"FlashCards!AE570","v":567}]
[null,null,null,null,null,null,null,null,null,null,null,null,null,null,null,null,null,null,null,null,null,null,null,{"$f":"FlashCards!AQ571","v":"2005"},2005,0,0,2005,5948721,{"$f":"FlashCards!AE571","v":568}]
[null,null,null,null,null,null,null,null,null,null,null,null,null,null,null,null,null,null,null,null,null,null,null,{"$f":"FlashCards!AQ572","v":"2007"},2007,0,0,2007,5938969,{"$f":"FlashCards!AE572","v":569}]
[null,null,null,null,null,null,null,null,null,null,null,null,null,null,null,null,null,null,null,null,null,null,null,{"$f":"FlashCards!AQ573","v":"2008"},2008,0,0,2008,5934096,{"$f":"FlashCards!AE573","v":570}]
[null,null,null,null,null,null,null,null,null,null,null,null,null,null,null,null,null,null,null,null,null,null,null,{"$f":"FlashCards!AQ574","v":"2010"},2010,0,0,2010,5924356,{"$f":"FlashCards!AE574","v":571}]
[null,null,null,null,null,null,null,null,null,null,null,null,null,null,null,null,null,null,null,null,null,null,null,{"$f":"FlashCards!AQ575","v":"2032"},2032,0,0,2032,5817744,{"$f":"FlashCards!AE575","v":572}]
[null,null,null,null,null,null,null,null,null,null,null,null,null,null,null,null,null,null,null,null,null,null,null,{"$f":"FlashCards!AQ576","v":"2033"},2033,0,0,2033,5812921,{"$f":"FlashCards!AE576","v":573}]
[null,null,null,null,null,null,null,null,null,null,null,null,null,null,null,null,null,null,null,null,null,null,null,{"$f":"FlashCards!AQ577","v":"2038"},2038,0,0,2038,5788836,{"$f":"FlashCards!AE577","v":574}]
[null,null,null,null,null,null,null,null,null,null,null,null,null,null,null,null,null,null,null,null,null,null,null,{"$f":"FlashCards!AQ578","v":"2040"},2040,0,0,2040,5779216,{"$f":"FlashCards!AE578","v":575}]
[null,null,null,null,null,null,null,null,null,null,null,null,null,null,null,null,null,null,null,null,null,null,null,{"$f":"FlashCards!AQ579","v":"2041"},2041,0,0,2041,5774409,{"$f":"FlashCards!AE579","v":576}]
[null,null,null,null,null,null,null,null,null,null,null,null,null,null,null,null,null,null,null,null,null,null,null,{"$f":"FlashCards!AQ580","v":"2048"},2048,0,0,2048,5740816,{"$f":"FlashCards!AE580","v":577}]
[null,null,null,null,null,null,null,null,null,null,null,null,null,null,null,null,null,null,null,null,null,null,null,{"$f":"FlashCards!AQ581","v":"2048"},{"$f":"VALUE(X580)","v":2048},{"$f":"IF(ISERR(FIND(\"+\",X580,1)),0,FIND(\"+\",X580,1))","v":0},{"$f":"IF(ISERR(FIND(\",\",X580,1)),0,FIND(\",\",X580,1))","v":0},{"$f":"IF(Z580>0,VALUE(LEFT(X580,Z580-1)),IF(AA580>0,VALUE(LEFT(X580,AA580-1)),IF(ISERR(Y580),VALUE(LEFT(X580,LEN(X580)-1)),Y580)))","v":2048},{"$f":"(AB580-U$28)^2","v":5740816},{"$f":"FlashCards!AE581","v":578}]
[null,null,null,null,null,null,null,null,null,null,null,null,null,null,null,null,null,null,null,null,null,null,null,{"$f":"FlashCards!AQ582","v":"2064"},2064,0,0,2064,5664400,{"$f":"FlashCards!AE582","v":579}]
[null,null,null,null,null,null,null,null,null,null,null,null,null,null,null,null,null,null,null,null,null,null,null,{"$f":"FlashCards!AQ583","v":"2065"},2065,0,0,2065,5659641,{"$f":"FlashCards!AE583","v":580}]
[null,null,null,null,null,null,null,null,null,null,null,null,null,null,null,null,null,null,null,null,null,null,null,{"$f":"FlashCards!AQ584","v":"2066"},2066,0,0,2066,5654884,{"$f":"FlashCards!AE584","v":581}]
[null,null,null,null,null,null,null,null,null,null,null,null,null,null,null,null,null,null,null,null,null,null,null,{"$f":"FlashCards!AQ585","v":"2068"},2068,0,0,2068,5645376,{"$f":"FlashCards!AE585","v":582}]
[null,null,null,null,null,null,null,null,null,null,null,null,null,null,null,null,null,null,null,null,null,null,null,{"$f":"FlashCards!AQ586","v":"2070, 1510"},{"$error":"#VALUE!"},0,5,2070,5635876,{"$f":"FlashCards!AE586","v":583}]
[null,null,null,null,null,null,null,null,null,null,null,null,null,null,null,null,null,null,null,null,null,null,null,{"$f":"FlashCards!AQ587","v":"2071, 1510"},{"$error":"#VALUE!"},0,5,2071,5631129,{"$f":"FlashCards!AE587","v":584}]
[null,null,null,null,null,null,null,null,null,null,null,null,null,null,null,null,null,null,null,null,null,null,null,{"$f":"FlashCards!AQ588","v":"2071, 1510"},{"$error":"#VALUE!"},0,5,2071,5631129,{"$f":"FlashCards!AE588","v":585}]
[null,null,null,null,null,null,null,null,null,null,null,null,null,null,null,null,null,null,null,null,null,null,null,{"$f":"FlashCards!AQ589","v":"2071, 1510"},{"$error":"#VALUE!"},0,5,2071,5631129,{"$f":"FlashCards!AE589","v":586}]
[null,null,null,null,null,null,null,null,null,null,null,null,null,null,null,null,null,null,null,null,null,null,null,{"$f":"FlashCards!AQ590","v":"2071, 1510"},{"$error":"#VALUE!"},0,5,2071,5631129,{"$f":"FlashCards!AE590","v":587}]
[null,null,null,null,null,null,null,null,null,null,null,null,null,null,null,null,null,null,null,null,null,null,null,{"$f":"FlashCards!AQ591","v":"2071, 1510"},{"$error":"#VALUE!"},0,5,2071,5631129,{"$f":"FlashCards!AE591","v":588}]
[null,null,null,null,null,null,null,null,null,null,null,null,null,null,null,null,null,null,null,null,null,null,null,{"$f":"FlashCards!AQ592","v":"2071, 1510"},{"$error":"#VALUE!"},0,5,2071,5631129,{"$f":"FlashCards!AE592","v":589}]
[null,null,null,null,null,null,null,null,null,null,null,null,null,null,null,null,null,null,null,null,null,null,null,{"$f":"FlashCards!AQ593","v":"2075, 1510"},{"$error":"#VALUE!"},0,5,2075,5612161,{"$f":"FlashCards!AE593","v":590}]
[null,null,null,null,null,null,null,null,null,null,null,null,null,null,null,null,null,null,null,null,null,null,null,{"$f":"FlashCards!AQ594","v":"2076, 1510"},{"$error":"#VALUE!"},0,5,2076,5607424,{"$f":"FlashCards!AE594","v":591}]
[null,null,null,null,null,null,null,null,null,null,null,null,null,null,null,null,null,null,null,null,null,null,null,{"$f":"FlashCards!AQ595","v":"2078"},2078,0,0,2078,5597956,{"$f":"FlashCards!AE595","v":592}]
[null,null,null,null,null,null,null,null,null,null,null,null,null,null,null,null,null,null,null,null,null,null,null,{"$f":"FlashCards!AQ596","v":"2081"},2081,0,0,2081,5583769,{"$f":"FlashCards!AE596","v":593}]
[null,null,null,null,null,null,null,null,null,null,null,null,null,null,null,null,null,null,null,null,null,null,null,{"$f":"FlashCards!AQ597","v":"2087"},2087,0,0,2087,5555449,{"$f":"FlashCards!AE597","v":594}]
[null,null,null,null,null,null,null,null,null,null,null,null,null,null,null,null,null,null,null,null,null,null,null,{"$f":"FlashCards!AQ598","v":"2089"},2089,0,0,2089,5546025,{"$f":"FlashCards!AE598","v":595}]
[null,null,null,null,null,null,null,null,null,null,null,null,null,null,null,null,null,null,null,null,null,null,null,{"$f":"FlashCards!AQ599","v":"2090"},2090,0,0,2090,5541316,{"$f":"FlashCards!AE599","v":596}]
[null,null,null,null,null,null,null,null,null,null,null,null,null,null,null,null,null,null,null,null,null,null,null,{"$f":"FlashCards!AQ600","v":"2092"},2092,0,0,2092,5531904,{"$f":"FlashCards!AE600","v":597}]
[null,null,null,null,null,null,null,null,null,null,null,null,null,null,null,null,null,null,null,null,null,null,null,{"$f":"FlashCards!AQ601","v":"2094"},2094,0,0,2094,5522500,{"$f":"FlashCards!AE601","v":598}]
[null,null,null,null,null,null,null,null,null,null,null,null,null,null,null,null,null,null,null,null,null,null,null,{"$f":"FlashCards!AQ602","v":"2097"},2097,0,0,2097,5508409,{"$f":"FlashCards!AE602","v":599}]
[null,null,null,null,null,null,null,null,null,null,null,null,null,null,null,null,null,null,null,null,null,null,null,{"$f":"FlashCards!AQ603","v":"2098"},2098,0,0,2098,5503716,{"$f":"FlashCards!AE603","v":600}]
[null,null,null,null,null,null,null,null,null,null,null,null,null,null,null,null,null,null,null,null,null,null,null,{"$f":"FlashCards!AQ604","v":"2106"},2106,0,0,2106,5466244,{"$f":"FlashCards!AE604","v":601}]
[null,null,null,null,null,null,null,null,null,null,null,null,null,null,null,null,null,null,null,null,null,null,null,{"$f":"FlashCards!AQ605","v":"2112"},2112,0,0,2112,5438224,{"$f":"FlashCards!AE605","v":602}]
[null,null,null,null,null,null,null,null,null,null,null,null,null,null,null,null,null,null,null,null,null,null,null,{"$f":"FlashCards!AQ606","v":"2117"},2117,0,0,2117,5414929,{"$f":"FlashCards!AE606","v":603}]
[null,null,null,null,null,null,null,null,null,null,null,null,null,null,null,null,null,null,null,null,null,null,null,{"$f":"FlashCards!AQ607","v":"2117"},2117,0,0,2117,5414929,{"$f":"FlashCards!AE607","v":604}]
[null,null,null,null,null,null,null,null,null,null,null,null,null,null,null,null,null,null,null,null,null,null,null,{"$f":"FlashCards!AQ608","v":"2127"},2127,0,0,2127,5368489,{"$f":"FlashCards!AE608","v":605}]
[null,null,null,null,null,null,null,null,null,null,null,null,null,null,null,null,null,null,null,null,null,null,null,{"$f":"FlashCards!AQ609","v":"2128"},2128,0,0,2128,5363856,{"$f":"FlashCards!AE609","v":606}]
[null,null,null,null,null,null,null,null,null,null,null,null,null,null,null,null,null,null,null,null,null,null,null,{"$f":"FlashCards!AQ610","v":"2129"},2129,0,0,2129,5359225,{"$f":"FlashCards!AE610","v":607}]
[null,null,null,null,null,null,null,null,null,null,null,null,null,null,null,null,null,null,null,null,null,null,null,{"$f":"FlashCards!AQ611","v":"2147"},2147,0,0,2147,5276209,{"$f":"FlashCards!AE611","v":608}]
[null,null,null,null,null,null,null,null,null,null,null,null,null,null,null,null,null,null,null,null,null,null,null,{"$f":"FlashCards!AQ612","v":"2150"},2150,0,0,2150,5262436,{"$f":"FlashCards!AE612","v":609}]
[null,null,null,null,null,null,null,null,null,null,null,null,null,null,null,null,null,null,null,null,null,null,null,{"$f":"FlashCards!AQ613","v":"2165"},2165,0,0,2165,5193841,{"$f":"FlashCards!AE613","v":610}]
[null,null,null,null,null,null,null,null,null,null,null,null,null,null,null,null,null,null,null,null,null,null,null,{"$f":"FlashCards!AQ614","v":"2168"},2168,0,0,2168,5180176,{"$f":"FlashCards!AE614","v":611}]
[null,null,null,null,null,null,null,null,null,null,null,null,null,null,null,null,null,null,null,null,null,null,null,{"$f":"FlashCards!AQ615","v":"2169"},2169,0,0,2169,5175625,{"$f":"FlashCards!AE615","v":612}]
[null,null,null,null,null,null,null,null,null,null,null,null,null,null,null,null,null,null,null,null,null,null,null,{"$f":"FlashCards!AQ616","v":"2181"},2181,0,0,2181,5121169,{"$f":"FlashCards!AE616","v":613}]
[null,null,null,null,null,null,null,null,null,null,null,null,null,null,null,null,null,null,null,null,null,null,null,{"$f":"FlashCards!AQ617","v":"2186"},2186,0,0,2186,5098564,{"$f":"FlashCards!AE617","v":614}]
[null,null,null,null,null,null,null,null,null,null,null,null,null,null,null,null,null,null,null,null,null,null,null,{"$f":"FlashCards!AQ618","v":"2190"},2190,0,0,2190,5080516,{"$f":"FlashCards!AE618","v":615}]
[null,null,null,null,null,null,null,null,null,null,null,null,null,null,null,null,null,null,null,null,null,null,null,{"$f":"FlashCards!AQ619","v":"2190"},2190,0,0,2190,5080516,{"$f":"FlashCards!AE619","v":616}]
[null,null,null,null,null,null,null,null,null,null,null,null,null,null,null,null,null,null,null,null,null,null,null,{"$f":"FlashCards!AQ620","v":"2192"},2192,0,0,2192,5071504,{"$f":"FlashCards!AE620","v":617}]
[null,null,null,null,null,null,null,null,null,null,null,null,null,null,null,null,null,null,null,null,null,null,null,{"$f":"FlashCards!AQ621","v":"3588+2192"},{"$error":"#VALUE!"},5,0,3588,732736,{"$f":"FlashCards!AE621","v":618}]
[null,null,null,null,null,null,null,null,null,null,null,null,null,null,null,null,null,null,null,null,null,null,null,{"$f":"FlashCards!AQ622","v":"2193"},2193,0,0,2193,5067001,{"$f":"FlashCards!AE622","v":619}]
[null,null,null,null,null,null,null,null,null,null,null,null,null,null,null,null,null,null,null,null,null,null,null,{"$f":"FlashCards!AQ623","v":"2193"},2193,0,0,2193,5067001,{"$f":"FlashCards!AE623","v":620}]
[null,null,null,null,null,null,null,null,null,null,null,null,null,null,null,null,null,null,null,null,null,null,null,{"$f":"FlashCards!AQ624","v":"2197"},2197,0,0,2197,5049009,{"$f":"FlashCards!AE624","v":621}]
[null,null,null,null,null,null,null,null,null,null,null,null,null,null,null,null,null,null,null,null,null,null,null,{"$f":"FlashCards!AQ625","v":"2198"},2198,0,0,2198,5044516,{"$f":"FlashCards!AE625","v":622}]
[null,null,null,null,null,null,null,null,null,null,null,null,null,null,null,null,null,null,null,null,null,null,null,{"$f":"FlashCards!AQ626","v":"3588+2198"},{"$error":"#VALUE!"},5,0,3588,732736,{"$f":"FlashCards!AE626","v":623}]
[null,null,null,null,null,null,null,null,null,null,null,null,null,null,null,null,null,null,null,null,null,null,null,{"$f":"FlashCards!AQ627","v":"2199"},2199,0,0,2199,5040025,{"$f":"FlashCards!AE627","v":624}]
[null,null,null,null,null,null,null,null,null,null,null,null,null,null,null,null,null,null,null,null,null,null,null,{"$f":"FlashCards!AQ628","v":"2205"},2205,0,0,2205,5013121,{"$f":"FlashCards!AE628","v":625}]
[null,null,null,null,null,null,null,null,null,null,null,null,null,null,null,null,null,null,null,null,null,null,null,{"$f":"FlashCards!AQ629","v":"2206"},2206,0,0,2206,5008644,{"$f":"FlashCards!AE629","v":626}]
[null,null,null,null,null,null,null,null,null,null,null,null,null,null,null,null,null,null,null,null,null,null,null,{"$f":"FlashCards!AQ630","v":"2212"},2212,0,0,2212,4981824,{"$f":"FlashCards!AE630","v":627}]
[null,null,null,null,null,null,null,null,null,null,null,null,null,null,null,null,null,null,null,null,null,null,null,{"$f":"FlashCards!AQ631","v":"2219"},2219,0,0,2219,4950625,{"$f":"FlashCards!AE631","v":628}]
[null,null,null,null,null,null,null,null,null,null,null,null,null,null,null,null,null,null,null,null,null,null,null,{"$f":"FlashCards!AQ632","v":"2222"},2222,0,0,2222,4937284,{"$f":"FlashCards!AE632","v":629}]
[null,null,null,null,null,null,null,null,null,null,null,null,null,null,null,null,null,null,null,null,null,null,null,{"$f":"FlashCards!AQ633","v":"2226"},2226,0,0,2226,4919524,{"$f":"FlashCards!AE633","v":630}]
[null,null,null,null,null,null,null,null,null,null,null,null,null,null,null,null,null,null,null,null,null,null,null,{"$f":"FlashCards!AQ634","v":"2227"},2227,0,0,2227,4915089,{"$f":"FlashCards!AE634","v":631}]
[null,null,null,null,null,null,null,null,null,null,null,null,null,null,null,null,null,null,null,null,null,null,null,{"$f":"FlashCards!AQ635","v":"2228"},2228,0,0,2228,4910656,{"$f":"FlashCards!AE635","v":632}]
[null,null,null,null,null,null,null,null,null,null,null,null,null,null,null,null,null,null,null,null,null,null,null,{"$f":"FlashCards!AQ636","v":"2232"},2232,0,0,2232,4892944,{"$f":"FlashCards!AE636","v":633}]
[null,null,null,null,null,null,null,null,null,null,null,null,null,null,null,null,null,null,null,null,null,null,null,{"$f":"FlashCards!AQ637","v":"2233"},2233,0,0,2233,4888521,{"$f":"FlashCards!AE637","v":634}]
[null,null,null,null,null,null,null,null,null,null,null,null,null,null,null,null,null,null,null,null,null,null,null,{"$f":"FlashCards!AQ638","v":"2235"},2235,0,0,2235,4879681,{"$f":"FlashCards!AE638","v":635}]
[null,null,null,null,null,null,null,null,null,null,null,null,null,null,null,null,null,null,null,null,null,null,null,{"$f":"FlashCards!AQ639","v":"2240"},2240,0,0,2240,4857616,{"$f":"FlashCards!AE639","v":636}]
[null,null,null,null,null,null,null,null,null,null,null,null,null,null,null,null,null,null,null,null,null,null,null,{"$f":"FlashCards!AQ640","v":"2243"},2243,0,0,2243,4844401,{"$f":"FlashCards!AE640","v":637}]
[null,null,null,null,null,null,null,null,null,null,null,null,null,null,null,null,null,null,null,null,null,null,null,{"$f":"FlashCards!AQ641","v":"2244"},2244,0,0,2244,4840000,{"$f":"FlashCards!AE641","v":638}]
[null,null,null,null,null,null,null,null,null,null,null,null,null,null,null,null,null,null,null,null,null,null,null,{"$f":"FlashCards!AQ642","v":"2246"},2246,0,0,2246,4831204,{"$f":"FlashCards!AE642","v":639}]
[null,null,null,null,null,null,null,null,null,null,null,null,null,null,null,null,null,null,null,null,null,null,null,{"$f":"FlashCards!AQ643","v":"2248"},2248,0,0,2248,4822416,{"$f":"FlashCards!AE643","v":640}]
[null,null,null,null,null,null,null,null,null,null,null,null,null,null,null,null,null,null,null,null,null,null,null,{"$f":"FlashCards!AQ644","v":"2250"},2250,0,0,2250,4813636,{"$f":"FlashCards!AE644","v":641}]
[null,null,null,null,null,null,null,null,null,null,null,null,null,null,null,null,null,null,null,null,null,null,null,{"$f":"FlashCards!AQ645","v":"2251"},{"$f":"VALUE(X644)","v":2251},{"$f":"IF(ISERR(FIND(\"+\",X644,1)),0,FIND(\"+\",X644,1))","v":0},{"$f":"IF(ISERR(FIND(\",\",X644,1)),0,FIND(\",\",X644,1))","v":0},{"$f":"IF(Z644>0,VALUE(LEFT(X644,Z644-1)),IF(AA644>0,VALUE(LEFT(X644,AA644-1)),IF(ISERR(Y644),VALUE(LEFT(X644,LEN(X644)-1)),Y644)))","v":2251},{"$f":"(AB644-U$28)^2","v":4809249},{"$f":"FlashCards!AE645","v":642}]
[null,null,null,null,null,null,null,null,null,null,null,null,null,null,null,null,null,null,null,null,null,null,null,{"$f":"FlashCards!AQ646","v":"2254"},2254,0,0,2254,4796100,{"$f":"FlashCards!AE646","v":643}]
[null,null,null,null,null,null,null,null,null,null,null,null,null,null,null,null,null,null,null,null,null,null,null,{"$f":"FlashCards!AQ647","v":"2257"},2257,0,0,2257,4782969,{"$f":"FlashCards!AE647","v":644}]
[null,null,null,null,null,null,null,null,null,null,null,null,null,null,null,null,null,null,null,null,null,null,null,{"$f":"FlashCards!AQ648","v":"2264"},2264,0,0,2264,4752400,{"$f":"FlashCards!AE648","v":645}]
[null,null,null,null,null,null,null,null,null,null,null,null,null,null,null,null,null,null,null,null,null,null,null,{"$f":"FlashCards!AQ649","v":"2268"},2268,0,0,2268,4734976,{"$f":"FlashCards!AE649","v":646}]
[null,null,null,null,null,null,null,null,null,null,null,null,null,null,null,null,null,null,null,null,null,null,null,{"$f":"FlashCards!AQ650","v":"2273"},2273,0,0,2273,4713241,{"$f":"FlashCards!AE650","v":647}]
[null,null,null,null,null,null,null,null,null,null,null,null,null,null,null,null,null,null,null,null,null,null,null,{"$f":"FlashCards!AQ651","v":"2281"},2281,0,0,2281,4678569,{"$f":"FlashCards!AE651","v":648}]
[null,null,null,null,null,null,null,null,null,null,null,null,null,null,null,null,null,null,null,null,null,null,null,{"$f":"FlashCards!AQ652","v":"2288"},2288,0,0,2288,4648336,{"$f":"FlashCards!AE652","v":649}]
[null,null,null,null,null,null,null,null,null,null,null,null,null,null,null,null,null,null,null,null,null,null,null,{"$f":"FlashCards!AQ653","v":"2289"},2289,0,0,2289,4644025,{"$f":"FlashCards!AE653","v":650}]
[null,null,null,null,null,null,null,null,null,null,null,null,null,null,null,null,null,null,null,null,null,null,null,{"$f":"FlashCards!AQ654","v":"2290"},2290,0,0,2290,4639716,{"$f":"FlashCards!AE654","v":651}]
[null,null,null,null,null,null,null,null,null,null,null,null,null,null,null,null,null,null,null,null,null,null,null,{"$f":"FlashCards!AQ655","v":"2296"},2296,0,0,2296,4613904,{"$f":"FlashCards!AE655","v":652}]
[null,null,null,null,null,null,null,null,null,null,null,null,null,null,null,null,null,null,null,null,null,null,null,{"$f":"FlashCards!AQ656","v":"2300"},2300,0,0,2300,4596736,{"$f":"FlashCards!AE656","v":653}]
[null,null,null,null,null,null,null,null,null,null,null,null,null,null,null,null,null,null,null,null,null,null,null,{"$f":"FlashCards!AQ657","v":"2307"},2307,0,0,2307,4566769,{"$f":"FlashCards!AE657","v":654}]
[null,null,null,null,null,null,null,null,null,null,null,null,null,null,null,null,null,null,null,null,null,null,null,{"$f":"FlashCards!AQ658","v":"2309"},2309,0,0,2309,4558225,{"$f":"FlashCards!AE658","v":655}]
[null,null,null,null,null,null,null,null,null,null,null,null,null,null,null,null,null,null,null,null,null,null,null,{"$f":"FlashCards!AQ659","v":"2310"},2310,0,0,2310,4553956,{"$f":"FlashCards!AE659","v":656}]
[null,null,null,null,null,null,null,null,null,null,null,null,null,null,null,null,null,null,null,null,null,null,null,{"$f":"FlashCards!AQ660","v":"2316"},2316,0,0,2316,4528384,{"$f":"FlashCards!AE660","v":657}]
[null,null,null,null,null,null,null,null,null,null,null,null,null,null,null,null,null,null,null,null,null,null,null,{"$f":"FlashCards!AQ661","v":"2323"},2323,0,0,2323,4498641,{"$f":"FlashCards!AE661","v":658}]
[null,null,null,null,null,null,null,null,null,null,null,null,null,null,null,null,null,null,null,null,null,null,null,{"$f":"FlashCards!AQ662","v":"2325"},2325,0,0,2325,4490161,{"$f":"FlashCards!AE662","v":659}]
[null,null,null,null,null,null,null,null,null,null,null,null,null,null,null,null,null,null,null,null,null,null,null,{"$f":"FlashCards!AQ663","v":"2326"},2326,0,0,2326,4485924,{"$f":"FlashCards!AE663","v":660}]
[null,null,null,null,null,null,null,null,null,null,null,null,null,null,null,null,null,null,null,null,null,null,null,{"$f":"FlashCards!AQ664","v":"2334"},2334,0,0,2334,4452100,{"$f":"FlashCards!AE664","v":661}]
[null,null,null,null,null,null,null,null,null,null,null,null,null,null,null,null,null,null,null,null,null,null,null,{"$f":"FlashCards!AQ665","v":"2342"},2342,0,0,2342,4418404,{"$f":"FlashCards!AE665","v":662}]
[null,null,null,null,null,null,null,null,null,null,null,null,null,null,null,null,null,null,null,null,null,null,null,{"$f":"FlashCards!AQ666","v":"2344"},2344,0,0,2344,4410000,{"$f":"FlashCards!AE666","v":663}]
[null,null,null,null,null,null,null,null,null,null,null,null,null,null,null,null,null,null,null,null,null,null,null,{"$f":"FlashCards!AQ667","v":"2346"},2346,0,0,2346,4401604,{"$f":"FlashCards!AE667","v":664}]
[null,null,null,null,null,null,null,null,null,null,null,null,null,null,null,null,null,null,null,null,null,null,null,{"$f":"FlashCards!AQ668","v":"2347"},2347,0,0,2347,4397409,{"$f":"FlashCards!AE668","v":665}]
[null,null,null,null,null,null,null,null,null,null,null,null,null,null,null,null,null,null,null,null,null,null,null,{"$f":"FlashCards!AQ669","v":"2359"},2359,0,0,2359,4347225,{"$f":"FlashCards!AE669","v":666}]
[null,null,null,null,null,null,null,null,null,null,null,null,null,null,null,null,null,null,null,null,null,null,null,{"$f":"FlashCards!AQ670","v":"2359"},2359,0,0,2359,4347225,{"$f":"FlashCards!AE670","v":667}]
[null,null,null,null,null,null,null,null,null,null,null,null,null,null,null,null,null,null,null,null,null,null,null,{"$f":"FlashCards!AQ671","v":"2362"},2362,0,0,2362,4334724,{"$f":"FlashCards!AE671","v":668}]
[null,null,null,null,null,null,null,null,null,null,null,null,null,null,null,null,null,null,null,null,null,null,null,{"$f":"FlashCards!AQ672","v":"2364"},2364,0,0,2364,4326400,{"$f":"FlashCards!AE672","v":669}]
[null,null,null,null,null,null,null,null,null,null,null,null,null,null,null,null,null,null,null,null,null,null,null,{"$f":"FlashCards!AQ673","v":"2372"},2372,0,0,2372,4293184,{"$f":"FlashCards!AE673","v":670}]
[null,null,null,null,null,null,null,null,null,null,null,null,null,null,null,null,null,null,null,null,null,null,null,{"$f":"FlashCards!AQ674","v":"2374"},2374,0,0,2374,4284900,{"$f":"FlashCards!AE674","v":671}]
[null,null,null,null,null,null,null,null,null,null,null,null,null,null,null,null,null,null,null,null,null,null,null,{"$f":"FlashCards!AQ675","v":"2378"},2378,0,0,2378,4268356,{"$f":"FlashCards!AE675","v":672}]
[null,null,null,null,null,null,null,null,null,null,null,null,null,null,null,null,null,null,null,null,null,null,null,{"$f":"FlashCards!AQ676","v":"2379"},2379,0,0,2379,4264225,{"$f":"FlashCards!AE676","v":673}]
[null,null,null,null,null,null,null,null,null,null,null,null,null,null,null,null,null,null,null,null,null,null,null,{"$f":"FlashCards!AQ677","v":"2380"},2380,0,0,2380,4260096,{"$f":"FlashCards!AE677","v":674}]
[null,null,null,null,null,null,null,null,null,null,null,null,null,null,null,null,null,null,null,null,null,null,null,{"$f":"FlashCards!AQ678","v":"2381"},2381,0,0,2381,4255969,{"$f":"FlashCards!AE678","v":675}]
[null,null,null,null,null,null,null,null,null,null,null,null,null,null,null,null,null,null,null,null,null,null,null,{"$f":"FlashCards!AQ679","v":"2384"},2384,0,0,2384,4243600,{"$f":"FlashCards!AE679","v":676}]
[null,null,null,null,null,null,null,null,null,null,null,null,null,null,null,null,null,null,null,null,null,null,null,{"$f":"FlashCards!AQ680","v":"2385"},2385,0,0,2385,4239481,{"$f":"FlashCards!AE680","v":677}]
[null,null,null,null,null,null,null,null,null,null,null,null,null,null,null,null,null,null,null,null,null,null,null,{"$f":"FlashCards!AQ681","v":"2390"},2390,0,0,2390,4218916,{"$f":"FlashCards!AE681","v":678}]
[null,null,null,null,null,null,null,null,null,null,null,null,null,null,null,null,null,null,null,null,null,null,null,{"$f":"FlashCards!AQ682","v":"2396"},2396,0,0,2396,4194304,{"$f":"FlashCards!AE682","v":679}]
[null,null,null,null,null,null,null,null,null,null,null,null,null,null,null,null,null,null,null,null,null,null,null,{"$f":"FlashCards!AQ683","v":"2398"},2398,0,0,2398,4186116,{"$f":"FlashCards!AE683","v":680}]
[null,null,null,null,null,null,null,null,null,null,null,null,null,null,null,null,null,null,null,null,null,null,null,{"$f":"FlashCards!AQ684","v":"2398"},2398,0,0,2398,4186116,{"$f":"FlashCards!AE684","v":681}]
[null,null,null,null,null,null,null,null,null,null,null,null,null,null,null,null,null,null,null,null,null,null,null,{"$f":"FlashCards!AQ685","v":"2398"},2398,0,0,2398,4186116,{"$f":"FlashCards!AE685","v":682}]
[null,null,null,null,null,null,null,null,null,null,null,null,null,null,null,null,null,null,null,null,null,null,null,{"$f":"FlashCards!AQ686","v":"2400"},2400,0,0,2400,4177936,{"$f":"FlashCards!AE686","v":683}]
[null,null,null,null,null,null,null,null,null,null,null,null,null,null,null,null,null,null,null,null,null,null,null,{"$f":"FlashCards!AQ687","v":"2409"},2409,0,0,2409,4141225,{"$f":"FlashCards!AE687","v":684}]
[null,null,null,null,null,null,null,null,null,null,null,null,null,null,null,null,null,null,null,null,null,null,null,{"$f":"FlashCards!AQ688","v":"2411"},2411,0,0,2411,4133089,{"$f":"FlashCards!AE688","v":685}]
[null,null,null,null,null,null,null,null,null,null,null,null,null,null,null,null,null,null,null,null,null,null,null,{"$f":"FlashCards!AQ689","v":"2414"},2414,0,0,2414,4120900,{"$f":"FlashCards!AE689","v":686}]
[null,null,null,null,null,null,null,null,null,null,null,null,null,null,null,null,null,null,null,null,null,null,null,{"$f":"FlashCards!AQ690","v":"2419"},2419,0,0,2419,4100625,{"$f":"FlashCards!AE690","v":687}]
[null,null,null,null,null,null,null,null,null,null,null,null,null,null,null,null,null,null,null,null,null,null,null,{"$f":"FlashCards!AQ691","v":"2424"},2424,0,0,2424,4080400,{"$f":"FlashCards!AE691","v":688}]
[null,null,null,null,null,null,null,null,null,null,null,null,null,null,null,null,null,null,null,null,null,null,null,{"$f":"FlashCards!AQ692","v":"2425"},2425,0,0,2425,4076361,{"$f":"FlashCards!AE692","v":689}]
[null,null,null,null,null,null,null,null,null,null,null,null,null,null,null,null,null,null,null,null,null,null,null,{"$f":"FlashCards!AQ693","v":"2434"},2434,0,0,2434,4040100,{"$f":"FlashCards!AE693","v":690}]
[null,null,null,null,null,null,null,null,null,null,null,null,null,null,null,null,null,null,null,null,null,null,null,{"$f":"FlashCards!AQ694","v":"2435"},2435,0,0,2435,4036081,{"$f":"FlashCards!AE694","v":691}]
[null,null,null,null,null,null,null,null,null,null,null,null,null,null,null,null,null,null,null,null,null,null,null,{"$f":"FlashCards!AQ695","v":"2440"},2440,0,0,2440,4016016,{"$f":"FlashCards!AE695","v":692}]
[null,null,null,null,null,null,null,null,null,null,null,null,null,null,null,null,null,null,null,null,null,null,null,{"$f":"FlashCards!AQ696","v":"2443"},2443,0,0,2443,4004001,{"$f":"FlashCards!AE696","v":693}]
[null,null,null,null,null,null,null,null,null,null,null,null,null,null,null,null,null,null,null,null,null,null,null,{"$f":"FlashCards!AQ697","v":"2445"},2445,0,0,2445,3996001,{"$f":"FlashCards!AE697","v":694}]
[null,null,null,null,null,null,null,null,null,null,null,null,null,null,null,null,null,null,null,null,null,null,null,{"$f":"FlashCards!AQ698","v":"2446"},2446,0,0,2446,3992004,{"$f":"FlashCards!AE698","v":695}]
[null,null,null,null,null,null,null,null,null,null,null,null,null,null,null,null,null,null,null,null,null,null,null,{"$f":"FlashCards!AQ699","v":"2449"},2449,0,0,2449,3980025,{"$f":"FlashCards!AE699","v":696}]
[null,null,null,null,null,null,null,null,null,null,null,null,null,null,null,null,null,null,null,null,null,null,null,{"$f":"FlashCards!AQ700","v":"2453"},2453,0,0,2453,3964081,{"$f":"FlashCards!AE700","v":697}]
[null,null,null,null,null,null,null,null,null,null,null,null,null,null,null,null,null,null,null,null,null,null,null,{"$f":"FlashCards!AQ701","v":"2453"},2453,0,0,2453,3964081,{"$f":"FlashCards!AE701","v":698}]
[null,null,null,null,null,null,null,null,null,null,null,null,null,null,null,null,null,null,null,null,null,null,null,{"$f":"FlashCards!AQ702","v":"2455"},2455,0,0,2455,3956121,{"$f":"FlashCards!AE702","v":699}]
[null,null,null,null,null,null,null,null,null,null,null,null,null,null,null,null,null,null,null,null,null,null,null,{"$f":"FlashCards!AQ703","v":"2462"},2462,0,0,2462,3928324,{"$f":"FlashCards!AE703","v":700}]
[null,null,null,null,null,null,null,null,null,null,null,null,null,null,null,null,null,null,null,null,null,null,null,{"$f":"FlashCards!AQ704","v":"2464"},2464,0,0,2464,3920400,{"$f":"FlashCards!AE704","v":701}]
[null,null,null,null,null,null,null,null,null,null,null,null,null,null,null,null,null,null,null,null,null,null,null,{"$f":"FlashCards!AQ705","v":"2474"},2474,0,0,2474,3880900,{"$f":"FlashCards!AE705","v":702}]
[null,null,null,null,null,null,null,null,null,null,null,null,null,null,null,null,null,null,null,null,null,null,null,{"$f":"FlashCards!AQ706","v":"2476"},2476,0,0,2476,3873024,{"$f":"FlashCards!AE706","v":703}]
[null,null,null,null,null,null,null,null,null,null,null,null,null,null,null,null,null,null,null,null,null,null,null,{"$f":"FlashCards!AQ707","v":"2478"},2478,0,0,2478,3865156,{"$f":"FlashCards!AE707","v":704}]
[null,null,null,null,null,null,null,null,null,null,null,null,null,null,null,null,null,null,null,null,null,null,null,{"$f":"FlashCards!AQ708","v":"2479"},2479,0,0,2479,3861225,{"$f":"FlashCards!AE708","v":705}]
[null,null,null,null,null,null,null,null,null,null,null,null,null,null,null,null,null,null,null,null,null,null,null,{"$f":"FlashCards!AQ709","v":"2480"},{"$f":"VALUE(X708)","v":2480},{"$f":"IF(ISERR(FIND(\"+\",X708,1)),0,FIND(\"+\",X708,1))","v":0},{"$f":"IF(ISERR(FIND(\",\",X708,1)),0,FIND(\",\",X708,1))","v":0},{"$f":"IF(Z708>0,VALUE(LEFT(X708,Z708-1)),IF(AA708>0,VALUE(LEFT(X708,AA708-1)),IF(ISERR(Y708),VALUE(LEFT(X708,LEN(X708)-1)),Y708)))","v":2480},{"$f":"(AB708-U$28)^2","v":3857296},{"$f":"FlashCards!AE709","v":706}]
[null,null,null,null,null,null,null,null,null,null,null,null,null,null,null,null,null,null,null,null,null,null,null,{"$f":"FlashCards!AQ710","v":"2486"},2486,0,0,2486,3833764,{"$f":"FlashCards!AE710","v":707}]
[null,null,null,null,null,null,null,null,null,null,null,null,null,null,null,null,null,null,null,null,null,null,null,{"$f":"FlashCards!AQ711","v":"2491"},2491,0,0,2491,3814209,{"$f":"FlashCards!AE711","v":708}]
[null,null,null,null,null,null,null,null,null,null,null,null,null,null,null,null,null,null,null,null,null,null,null,{"$f":"FlashCards!AQ712","v":"2501"},2501,0,0,2501,3775249,{"$f":"FlashCards!AE712","v":709}]
[null,null,null,null,null,null,null,null,null,null,null,null,null,null,null,null,null,null,null,null,null,null,null,{"$f":"FlashCards!AQ713","v":"2504"},2504,0,0,2504,3763600,{"$f":"FlashCards!AE713","v":710}]
[null,null,null,null,null,null,null,null,null,null,null,null,null,null,null,null,null,null,null,null,null,null,null,{"$f":"FlashCards!AQ714","v":"2509"},2509,0,0,2509,3744225,{"$f":"FlashCards!AE714","v":711}]
[null,null,null,null,null,null,null,null,null,null,null,null,null,null,null,null,null,null,null,null,null,null,null,{"$f":"FlashCards!AQ715","v":"2511"},2511,0,0,2511,3736489,{"$f":"FlashCards!AE715","v":712}]
[null,null,null,null,null,null,null,null,null,null,null,null,null,null,null,null,null,null,null,null,null,null,null,{"$f":"FlashCards!AQ716","v":"2513"},2513,0,0,2513,3728761,{"$f":"FlashCards!AE716","v":713}]
[null,null,null,null,null,null,null,null,null,null,null,null,null,null,null,null,null,null,null,null,null,null,null,{"$f":"FlashCards!AQ717","v":"2518"},2518,0,0,2518,3709476,{"$f":"FlashCards!AE717","v":714}]
[null,null,null,null,null,null,null,null,null,null,null,null,null,null,null,null,null,null,null,null,null,null,null,{"$f":"FlashCards!AQ718","v":"2521"},2521,0,0,2521,3697929,{"$f":"FlashCards!AE718","v":715}]
[null,null,null,null,null,null,null,null,null,null,null,null,null,null,null,null,null,null,null,null,null,null,null,{"$f":"FlashCards!AQ719","v":"2523"},2523,0,0,2523,3690241,{"$f":"FlashCards!AE719","v":716}]
[null,null,null,null,null,null,null,null,null,null,null,null,null,null,null,null,null,null,null,null,null,null,null,{"$f":"FlashCards!AQ720","v":"2525"},2525,0,0,2525,3682561,{"$f":"FlashCards!AE720","v":717}]
[null,null,null,null,null,null,null,null,null,null,null,null,null,null,null,null,null,null,null,null,null,null,null,{"$f":"FlashCards!AQ721","v":"2531"},2531,0,0,2531,3659569,{"$f":"FlashCards!AE721","v":718}]
[null,null,null,null,null,null,null,null,null,null,null,null,null,null,null,null,null,null,null,null,null,null,null,{"$f":"FlashCards!AQ722","v":"2532"},2532,0,0,2532,3655744,{"$f":"FlashCards!AE722","v":719}]
[null,null,null,null,null,null,null,null,null,null,null,null,null,null,null,null,null,null,null,null,null,null,null,{"$f":"FlashCards!AQ723","v":"2532+3375"},{"$error":"#VALUE!"},5,0,2532,3655744,{"$f":"FlashCards!AE723","v":720}]
[null,null,null,null,null,null,null,null,null,null,null,null,null,null,null,null,null,null,null,null,null,null,null,{"$f":"FlashCards!AQ724","v":"2537"},2537,0,0,2537,3636649,{"$f":"FlashCards!AE724","v":721}]
[null,null,null,null,null,null,null,null,null,null,null,null,null,null,null,null,null,null,null,null,null,null,null,{"$f":"FlashCards!AQ725","v":"2539"},2539,0,0,2539,3629025,{"$f":"FlashCards!AE725","v":722}]
[null,null,null,null,null,null,null,null,null,null,null,null,null,null,null,null,null,null,null,null,null,null,null,{"$f":"FlashCards!AQ726","v":"2540"},2540,0,0,2540,3625216,{"$f":"FlashCards!AE726","v":723}]
[null,null,null,null,null,null,null,null,null,null,null,null,null,null,null,null,null,null,null,null,null,null,null,{"$f":"FlashCards!AQ727","v":"2541"},2541,0,0,2541,3621409,{"$f":"FlashCards!AE727","v":724}]
[null,null,null,null,null,null,null,null,null,null,null,null,null,null,null,null,null,null,null,null,null,null,null,{"$f":"FlashCards!AQ728","v":"2542"},2542,0,0,2542,3617604,{"$f":"FlashCards!AE728","v":725}]
[null,null,null,null,null,null,null,null,null,null,null,null,null,null,null,null,null,null,null,null,null,null,null,{"$f":"FlashCards!AQ729","v":"2545"},2545,0,0,2545,3606201,{"$f":"FlashCards!AE729","v":726}]
[null,null,null,null,null,null,null,null,null,null,null,null,null,null,null,null,null,null,null,null,null,null,null,{"$f":"FlashCards!AQ730","v":"2546"},2546,0,0,2546,3602404,{"$f":"FlashCards!AE730","v":727}]
[null,null,null,null,null,null,null,null,null,null,null,null,null,null,null,null,null,null,null,null,null,null,null,{"$f":"FlashCards!AQ731","v":"2547"},2547,0,0,2547,3598609,{"$f":"FlashCards!AE731","v":728}]
[null,null,null,null,null,null,null,null,null,null,null,null,null,null,null,null,null,null,null,null,null,null,null,{"$f":"FlashCards!AQ732","v":"2548"},2548,0,0,2548,3594816,{"$f":"FlashCards!AE732","v":729}]
[null,null,null,null,null,null,null,null,null,null,null,null,null,null,null,null,null,null,null,null,null,null,null,{"$f":"FlashCards!AQ733","v":"2549"},2549,0,0,2549,3591025,{"$f":"FlashCards!AE733","v":730}]
[null,null,null,null,null,null,null,null,null,null,null,null,null,null,null,null,null,null,null,null,null,null,null,{"$f":"FlashCards!AQ734","v":"2556"},2556,0,0,2556,3564544,{"$f":"FlashCards!AE734","v":731}]
[null,null,null,null,null,null,null,null,null,null,null,null,null,null,null,null,null,null,null,null,null,null,null,{"$f":"FlashCards!AQ735","v":"2560"},2560,0,0,2560,3549456,{"$f":"FlashCards!AE735","v":732}]
[null,null,null,null,null,null,null,null,null,null,null,null,null,null,null,null,null,null,null,null,null,null,null,{"$f":"FlashCards!AQ736","v":"2563"},2563,0,0,2563,3538161,{"$f":"FlashCards!AE736","v":733}]
[null,null,null,null,null,null,null,null,null,null,null,null,null,null,null,null,null,null,null,null,null,null,null,{"$f":"FlashCards!AQ737","v":"2564"},2564,0,0,2564,3534400,{"$f":"FlashCards!AE737","v":734}]
[null,null,null,null,null,null,null,null,null,null,null,null,null,null,null,null,null,null,null,null,null,null,null,{"$f":"FlashCards!AQ738","v":"2570"},2570,0,0,2570,3511876,{"$f":"FlashCards!AE738","v":735}]
[null,null,null,null,null,null,null,null,null,null,null,null,null,null,null,null,null,null,null,null,null,null,null,{"$f":"FlashCards!AQ739","v":"2573"},2573,0,0,2573,3500641,{"$f":"FlashCards!AE739","v":736}]
[null,null,null,null,null,null,null,null,null,null,null,null,null,null,null,null,null,null,null,null,null,null,null,{"$f":"FlashCards!AQ740","v":"2579"},2579,0,0,2579,3478225,{"$f":"FlashCards!AE740","v":737}]
[null,null,null,null,null,null,null,null,null,null,null,null,null,null,null,null,null,null,null,null,null,null,null,{"$f":"FlashCards!AQ741","v":"2584"},2584,0,0,2584,3459600,{"$f":"FlashCards!AE741","v":738}]
[null,null,null,null,null,null,null,null,null,null,null,null,null,null,null,null,null,null,null,null,null,null,null,{"$f":"FlashCards!AQ742","v":"2586"},2586,0,0,2586,3452164,{"$f":"FlashCards!AE742","v":739}]
[null,null,null,null,null,null,null,null,null,null,null,null,null,null,null,null,null,null,null,null,null,null,null,{"$f":"FlashCards!AQ743","v":"2588"},2588,0,0,2588,3444736,{"$f":"FlashCards!AE743","v":740}]
[null,null,null,null,null,null,null,null,null,null,null,null,null,null,null,null,null,null,null,null,null,null,null,{"$f":"FlashCards!AQ744","v":"2590"},2590,0,0,2590,3437316,{"$f":"FlashCards!AE744","v":741}]
[null,null,null,null,null,null,null,null,null,null,null,null,null,null,null,null,null,null,null,null,null,null,null,{"$f":"FlashCards!AQ745","v":"2596"},2596,0,0,2596,3415104,{"$f":"FlashCards!AE745","v":742}]
[null,null,null,null,null,null,null,null,null,null,null,null,null,null,null,null,null,null,null,null,null,null,null,{"$f":"FlashCards!AQ746","v":"2596"},2596,0,0,2596,3415104,{"$f":"FlashCards!AE746","v":743}]
[null,null,null,null,null,null,null,null,null,null,null,null,null,null,null,null,null,null,null,null,null,null,null,{"$f":"FlashCards!AQ747","v":"2597"},2597,0,0,2597,3411409,{"$f":"FlashCards!AE747","v":744}]
[null,null,null,null,null,null,null,null,null,null,null,null,null,null,null,null,null,null,null,null,null,null,null,{"$f":"FlashCards!AQ748","v":"2602"},2602,0,0,2602,3392964,{"$f":"FlashCards!AE748","v":745}]
[null,null,null,null,null,null,null,null,null,null,null,null,null,null,null,null,null,null,null,null,null,null,null,{"$f":"FlashCards!AQ749","v":"2605"},2605,0,0,2605,3381921,{"$f":"FlashCards!AE749","v":746}]
[null,null,null,null,null,null,null,null,null,null,null,null,null,null,null,null,null,null,null,null,null,null,null,{"$f":"FlashCards!AQ750","v":"2617"},2617,0,0,2617,3337929,{"$f":"FlashCards!AE750","v":747}]
[null,null,null,null,null,null,null,null,null,null,null,null,null,null,null,null,null,null,null,null,null,null,null,{"$f":"FlashCards!AQ751","v":"2618"},2618,0,0,2618,3334276,{"$f":"FlashCards!AE751","v":748}]
[null,null,null,null,null,null,null,null,null,null,null,null,null,null,null,null,null,null,null,null,null,null,null,{"$f":"FlashCards!AQ752","v":"2621"},2621,0,0,2621,3323329,{"$f":"FlashCards!AE752","v":749}]
[null,null,null,null,null,null,null,null,null,null,null,null,null,null,null,null,null,null,null,null,null,null,null,{"$f":"FlashCards!AQ753","v":"2632"},2632,0,0,2632,3283344,{"$f":"FlashCards!AE753","v":750}]
[null,null,null,null,null,null,null,null,null,null,null,null,null,null,null,null,null,null,null,null,null,null,null,{"$f":"FlashCards!AQ754","v":"2638"},2638,0,0,2638,3261636,{"$f":"FlashCards!AE754","v":751}]
[null,null,null,null,null,null,null,null,null,null,null,null,null,null,null,null,null,null,null,null,null,null,null,{"$f":"FlashCards!AQ755","v":"2641"},2641,0,0,2641,3250809,{"$f":"FlashCards!AE755","v":752}]
[null,null,null,null,null,null,null,null,null,null,null,null,null,null,null,null,null,null,null,null,null,null,null,{"$f":"FlashCards!AQ756","v":"2647"},2647,0,0,2647,3229209,{"$f":"FlashCards!AE756","v":753}]
[null,null,null,null,null,null,null,null,null,null,null,null,null,null,null,null,null,null,null,null,null,null,null,{"$f":"FlashCards!AQ757","v":"2657"},2657,0,0,2657,3193369,{"$f":"FlashCards!AE757","v":754}]
[null,null,null,null,null,null,null,null,null,null,null,null,null,null,null,null,null,null,null,null,null,null,null,{"$f":"FlashCards!AQ758","v":"2658"},2658,0,0,2658,3189796,{"$f":"FlashCards!AE758","v":755}]
[null,null,null,null,null,null,null,null,null,null,null,null,null,null,null,null,null,null,null,null,null,null,null,{"$f":"FlashCards!AQ759","v":"2673"},2673,0,0,2673,3136441,{"$f":"FlashCards!AE759","v":756}]
[null,null,null,null,null,null,null,null,null,null,null,null,null,null,null,null,null,null,null,null,null,null,null,{"$f":"FlashCards!AQ760","v":"2675"},2675,0,0,2675,3129361,{"$f":"FlashCards!AE760","v":757}]
[null,null,null,null,null,null,null,null,null,null,null,null,null,null,null,null,null,null,null,null,null,null,null,{"$f":"FlashCards!AQ761","v":"2680"},2680,0,0,2680,3111696,{"$f":"FlashCards!AE761","v":758}]
[null,null,null,null,null,null,null,null,null,null,null,null,null,null,null,null,null,null,null,null,null,null,null,{"$f":"FlashCards!AQ762","v":"2716"},2716,0,0,2716,2985984,{"$f":"FlashCards!AE762","v":759}]
[null,null,null,null,null,null,null,null,null,null,null,null,null,null,null,null,null,null,null,null,null,null,null,{"$f":"FlashCards!AQ763","v":"2718"},2718,0,0,2718,2979076,{"$f":"FlashCards!AE763","v":760}]
[null,null,null,null,null,null,null,null,null,null,null,null,null,null,null,null,null,null,null,null,null,null,null,{"$f":"FlashCards!AQ764","v":"2719"},2719,0,0,2719,2975625,{"$f":"FlashCards!AE764","v":761}]
[null,null,null,null,null,null,null,null,null,null,null,null,null,null,null,null,null,null,null,null,null,null,null,{"$f":"FlashCards!AQ765","v":"2722"},2722,0,0,2722,2965284,{"$f":"FlashCards!AE765","v":762}]
[null,null,null,null,null,null,null,null,null,null,null,null,null,null,null,null,null,null,null,null,null,null,null,{"$f":"FlashCards!AQ766","v":"2723"},2723,0,0,2723,2961841,{"$f":"FlashCards!AE766","v":763}]
[null,null,null,null,null,null,null,null,null,null,null,null,null,null,null,null,null,null,null,null,null,null,null,{"$f":"FlashCards!AQ767","v":"2730"},2730,0,0,2730,2937796,{"$f":"FlashCards!AE767","v":764}]
[null,null,null,null,null,null,null,null,null,null,null,null,null,null,null,null,null,null,null,null,null,null,null,{"$f":"FlashCards!AQ768","v":"2744"},2744,0,0,2744,2890000,{"$f":"FlashCards!AE768","v":765}]
[null,null,null,null,null,null,null,null,null,null,null,null,null,null,null,null,null,null,null,null,null,null,null,{"$f":"FlashCards!AQ769","v":"2745"},2745,0,0,2745,2886601,{"$f":"FlashCards!AE769","v":766}]
[null,null,null,null,null,null,null,null,null,null,null,null,null,null,null,null,null,null,null,null,null,null,null,{"$f":"FlashCards!AQ770","v":"2746"},2746,0,0,2746,2883204,{"$f":"FlashCards!AE770","v":767}]
[null,null,null,null,null,null,null,null,null,null,null,null,null,null,null,null,null,null,null,null,null,null,null,{"$f":"FlashCards!AQ771","v":"2749"},2749,0,0,2749,2873025,{"$f":"FlashCards!AE771","v":768}]
[null,null,null,null,null,null,null,null,null,null,null,null,null,null,null,null,null,null,null,null,null,null,null,{"$f":"FlashCards!AQ772","v":"2753"},2753,0,0,2753,2859481,{"$f":"FlashCards!AE772","v":769}]
[null,null,null,null,null,null,null,null,null,null,null,null,null,null,null,null,null,null,null,null,null,null,null,{"$f":"FlashCards!AQ773","v":"2756"},{"$f":"VALUE(X772)","v":2756},{"$f":"IF(ISERR(FIND(\"+\",X772,1)),0,FIND(\"+\",X772,1))","v":0},{"$f":"IF(ISERR(FIND(\",\",X772,1)),0,FIND(\",\",X772,1))","v":0},{"$f":"IF(Z772>0,VALUE(LEFT(X772,Z772-1)),IF(AA772>0,VALUE(LEFT(X772,AA772-1)),IF(ISERR(Y772),VALUE(LEFT(X772,LEN(X772)-1)),Y772)))","v":2756},{"$f":"(AB772-U$28)^2","v":2849344},{"$f":"FlashCards!AE773","v":770}]
[null,null,null,null,null,null,null,null,null,null,null,null,null,null,null,null,null,null,null,null,null,null,null,{"$f":"FlashCards!AQ774","v":"2768"},2768,0,0,2768,2808976,{"$f":"FlashCards!AE774","v":771}]
[null,null,null,null,null,null,null,null,null,null,null,null,null,null,null,null,null,null,null,null,null,null,null,{"$f":"FlashCards!AQ775","v":"2770"},2770,0,0,2770,2802276,{"$f":"FlashCards!AE775","v":772}]
[null,null,null,null,null,null,null,null,null,null,null,null,null,null,null,null,null,null,null,null,null,null,null,{"$f":"FlashCards!AQ776","v":"2776"},2776,0,0,2776,2782224,{"$f":"FlashCards!AE776","v":773}]
[null,null,null,null,null,null,null,null,null,null,null,null,null,null,null,null,null,null,null,null,null,null,null,{"$f":"FlashCards!AQ777","v":"2784"},2784,0,0,2784,2755600,{"$f":"FlashCards!AE777","v":774}]
[null,null,null,null,null,null,null,null,null,null,null,null,null,null,null,null,null,null,null,null,null,null,null,{"$f":"FlashCards!AQ778","v":"2798"},2798,0,0,2798,2709316,{"$f":"FlashCards!AE778","v":775}]
[null,null,null,null,null,null,null,null,null,null,null,null,null,null,null,null,null,null,null,null,null,null,null,{"$f":"FlashCards!AQ779","v":"2799"},2799,0,0,2799,2706025,{"$f":"FlashCards!AE779","v":776}]
[null,null,null,null,null,null,null,null,null,null,null,null,null,null,null,null,null,null,null,null,null,null,null,{"$f":"FlashCards!AQ780","v":"2806"},2806,0,0,2806,2683044,{"$f":"FlashCards!AE780","v":777}]
[null,null,null,null,null,null,null,null,null,null,null,null,null,null,null,null,null,null,null,null,null,null,null,{"$f":"FlashCards!AQ781","v":"2808"},2808,0,0,2808,2676496,{"$f":"FlashCards!AE781","v":778}]
[null,null,null,null,null,null,null,null,null,null,null,null,null,null,null,null,null,null,null,null,null,null,null,{"$f":"FlashCards!AQ782","v":"2812"},2812,0,0,2812,2663424,{"$f":"FlashCards!AE782","v":779}]
[null,null,null,null,null,null,null,null,null,null,null,null,null,null,null,null,null,null,null,null,null,null,null,{"$f":"FlashCards!AQ783","v":"2813"},2813,0,0,2813,2660161,{"$f":"FlashCards!AE783","v":780}]
[null,null,null,null,null,null,null,null,null,null,null,null,null,null,null,null,null,null,null,null,null,null,null,{"$f":"FlashCards!AQ784","v":"2816"},2816,0,0,2816,2650384,{"$f":"FlashCards!AE784","v":781}]
[null,null,null,null,null,null,null,null,null,null,null,null,null,null,null,null,null,null,null,null,null,null,null,{"$f":"FlashCards!AQ785","v":"2817"},2817,0,0,2817,2647129,{"$f":"FlashCards!AE785","v":782}]
[null,null,null,null,null,null,null,null,null,null,null,null,null,null,null,null,null,null,null,null,null,null,null,{"$f":"FlashCards!AQ786","v":"2818"},2818,0,0,2818,2643876,{"$f":"FlashCards!AE786","v":783}]
[null,null,null,null,null,null,null,null,null,null,null,null,null,null,null,null,null,null,null,null,null,null,null,{"$f":"FlashCards!AQ787","v":"2819"},2819,0,0,2819,2640625,{"$f":"FlashCards!AE787","v":784}]
[null,null,null,null,null,null,null,null,null,null,null,null,null,null,null,null,null,null,null,null,null,null,null,{"$f":"FlashCards!AQ788","v":"2821"},2821,0,0,2821,2634129,{"$f":"FlashCards!AE788","v":785}]
[null,null,null,null,null,null,null,null,null,null,null,null,null,null,null,null,null,null,null,null,null,null,null,{"$f":"FlashCards!AQ789","v":"2822"},2822,0,0,2822,2630884,{"$f":"FlashCards!AE789","v":786}]
[null,null,null,null,null,null,null,null,null,null,null,null,null,null,null,null,null,null,null,null,null,null,null,{"$f":"FlashCards!AQ790","v":"2827"},2827,0,0,2827,2614689,{"$f":"FlashCards!AE790","v":787}]
[null,null,null,null,null,null,null,null,null,null,null,null,null,null,null,null,null,null,null,null,null,null,null,{"$f":"FlashCards!AQ791","v":"2836"},2836,0,0,2836,2585664,{"$f":"FlashCards!AE791","v":788}]
[null,null,null,null,null,null,null,null,null,null,null,null,null,null,null,null,null,null,null,null,null,null,null,{"$f":"FlashCards!AQ792","v":"2837"},2837,0,0,2837,2582449,{"$f":"FlashCards!AE792","v":789}]
[null,null,null,null,null,null,null,null,null,null,null,null,null,null,null,null,null,null,null,null,null,null,null,{"$f":"FlashCards!AQ793","v":"2839"},2839,0,0,2839,2576025,{"$f":"FlashCards!AE793","v":790}]
[null,null,null,null,null,null,null,null,null,null,null,null,null,null,null,null,null,null,null,null,null,null,null,{"$f":"FlashCards!AQ794","v":"2840"},2840,0,0,2840,2572816,{"$f":"FlashCards!AE794","v":791}]
[null,null,null,null,null,null,null,null,null,null,null,null,null,null,null,null,null,null,null,null,null,null,null,{"$f":"FlashCards!AQ795","v":"2842"},2842,0,0,2842,2566404,{"$f":"FlashCards!AE795","v":792}]
[null,null,null,null,null,null,null,null,null,null,null,null,null,null,null,null,null,null,null,null,null,null,null,{"$f":"FlashCards!AQ796","v":"2844"},2844,0,0,2844,2560000,{"$f":"FlashCards!AE796","v":793}]
[null,null,null,null,null,null,null,null,null,null,null,null,null,null,null,null,null,null,null,null,null,null,null,{"$f":"FlashCards!AQ797","v":"2853"},2853,0,0,2853,2531281,{"$f":"FlashCards!AE797","v":794}]
[null,null,null,null,null,null,null,null,null,null,null,null,null,null,null,null,null,null,null,null,null,null,null,{"$f":"FlashCards!AQ798","v":"2865"},2865,0,0,2865,2493241,{"$f":"FlashCards!AE798","v":795}]
[null,null,null,null,null,null,null,null,null,null,null,null,null,null,null,null,null,null,null,null,null,null,null,{"$f":"FlashCards!AQ799","v":"2872"},2872,0,0,2872,2471184,{"$f":"FlashCards!AE799","v":796}]
[null,null,null,null,null,null,null,null,null,null,null,null,null,null,null,null,null,null,null,null,null,null,null,{"$f":"FlashCards!AQ800","v":"2873"},2873,0,0,2873,2468041,{"$f":"FlashCards!AE800","v":797}]
[null,null,null,null,null,null,null,null,null,null,null,null,null,null,null,null,null,null,null,null,null,null,null,{"$f":"FlashCards!AQ801","v":"2885"},2885,0,0,2885,2430481,{"$f":"FlashCards!AE801","v":798}]
[null,null,null,null,null,null,null,null,null,null,null,null,null,null,null,null,null,null,null,null,null,null,null,{"$f":"FlashCards!AQ802","v":"2889"},2889,0,0,2889,2418025,{"$f":"FlashCards!AE802","v":799}]
[null,null,null,null,null,null,null,null,null,null,null,null,null,null,null,null,null,null,null,null,null,null,null,{"$f":"FlashCards!AQ803","v":"2895"},2895,0,0,2895,2399401,{"$f":"FlashCards!AE803","v":800}]
[null,null,null,null,null,null,null,null,null,null,null,null,null,null,null,null,null,null,null,null,null,null,null,{"$f":"FlashCards!AQ804","v":"2896"},2896,0,0,2896,2396304,{"$f":"FlashCards!AE804","v":801}]
[null,null,null,null,null,null,null,null,null,null,null,null,null,null,null,null,null,null,null,null,null,null,null,{"$f":"FlashCards!AQ805","v":"2902"},2902,0,0,2902,2377764,{"$f":"FlashCards!AE805","v":802}]
[null,null,null,null,null,null,null,null,null,null,null,null,null,null,null,null,null,null,null,null,null,null,null,{"$f":"FlashCards!AQ806","v":"2904"},2904,0,0,2904,2371600,{"$f":"FlashCards!AE806","v":803}]
[null,null,null,null,null,null,null,null,null,null,null,null,null,null,null,null,null,null,null,null,null,null,null,{"$f":"FlashCards!AQ807","v":"2908"},2908,0,0,2908,2359296,{"$f":"FlashCards!AE807","v":804}]
[null,null,null,null,null,null,null,null,null,null,null,null,null,null,null,null,null,null,null,null,null,null,null,{"$f":"FlashCards!AQ808","v":"2909"},2909,0,0,2909,2356225,{"$f":"FlashCards!AE808","v":805}]
[null,null,null,null,null,null,null,null,null,null,null,null,null,null,null,null,null,null,null,null,null,null,null,{"$f":"FlashCards!AQ809","v":"2917"},2917,0,0,2917,2331729,{"$f":"FlashCards!AE809","v":806}]
[null,null,null,null,null,null,null,null,null,null,null,null,null,null,null,null,null,null,null,null,null,null,null,{"$f":"FlashCards!AQ810","v":"2919"},2919,0,0,2919,2325625,{"$f":"FlashCards!AE810","v":807}]
[null,null,null,null,null,null,null,null,null,null,null,null,null,null,null,null,null,null,null,null,null,null,null,{"$f":"FlashCards!AQ811","v":"2920"},2920,0,0,2920,2322576,{"$f":"FlashCards!AE811","v":808}]
[null,null,null,null,null,null,null,null,null,null,null,null,null,null,null,null,null,null,null,null,null,null,null,{"$f":"FlashCards!AQ812","v":"2923"},2923,0,0,2923,2313441,{"$f":"FlashCards!AE812","v":809}]
[null,null,null,null,null,null,null,null,null,null,null,null,null,null,null,null,null,null,null,null,null,null,null,{"$f":"FlashCards!AQ813","v":"2927"},2927,0,0,2927,2301289,{"$f":"FlashCards!AE813","v":810}]
[null,null,null,null,null,null,null,null,null,null,null,null,null,null,null,null,null,null,null,null,null,null,null,{"$f":"FlashCards!AQ814","v":"2928"},2928,0,0,2928,2298256,{"$f":"FlashCards!AE814","v":811}]
[null,null,null,null,null,null,null,null,null,null,null,null,null,null,null,null,null,null,null,null,null,null,null,{"$f":"FlashCards!AQ815","v":"2931a"},{"$error":"#VALUE!"},0,0,2931,2289169,{"$f":"FlashCards!AE815","v":812}]
[null,null,null,null,null,null,null,null,null,null,null,null,null,null,null,null,null,null,null,null,null,null,null,{"$f":"FlashCards!AQ816","v":"2931c"},{"$error":"#VALUE!"},0,0,2931,2289169,{"$f":"FlashCards!AE816","v":813}]
[null,null,null,null,null,null,null,null,null,null,null,null,null,null,null,null,null,null,null,null,null,null,null,{"$f":"FlashCards!AQ817","v":"2936"},2936,0,0,2936,2274064,{"$f":"FlashCards!AE817","v":814}]
[null,null,null,null,null,null,null,null,null,null,null,null,null,null,null,null,null,null,null,null,null,null,null,{"$f":"FlashCards!AQ818","v":"2937"},2937,0,0,2937,2271049,{"$f":"FlashCards!AE818","v":815}]
[null,null,null,null,null,null,null,null,null,null,null,null,null,null,null,null,null,null,null,null,null,null,null,{"$f":"FlashCards!AQ819","v":"2962"},2962,0,0,2962,2196324,{"$f":"FlashCards!AE819","v":816}]
[null,null,null,null,null,null,null,null,null,null,null,null,null,null,null,null,null,null,null,null,null,null,null,{"$f":"FlashCards!AQ820","v":"2967"},2967,0,0,2967,2181529,{"$f":"FlashCards!AE820","v":817}]
[null,null,null,null,null,null,null,null,null,null,null,null,null,null,null,null,null,null,null,null,null,null,null,{"$f":"FlashCards!AQ821","v":"2968"},2968,0,0,2968,2178576,{"$f":"FlashCards!AE821","v":818}]
[null,null,null,null,null,null,null,null,null,null,null,null,null,null,null,null,null,null,null,null,null,null,null,{"$f":"FlashCards!AQ822","v":"2974"},2974,0,0,2974,2160900,{"$f":"FlashCards!AE822","v":819}]
[null,null,null,null,null,null,null,null,null,null,null,null,null,null,null,null,null,null,null,null,null,null,null,{"$f":"FlashCards!AQ823","v":"2976"},2976,0,0,2976,2155024,{"$f":"FlashCards!AE823","v":820}]
[null,null,null,null,null,null,null,null,null,null,null,null,null,null,null,null,null,null,null,null,null,null,null,{"$f":"FlashCards!AQ824","v":"2980"},2980,0,0,2980,2143296,{"$f":"FlashCards!AE824","v":821}]
[null,null,null,null,null,null,null,null,null,null,null,null,null,null,null,null,null,null,null,null,null,null,null,{"$f":"FlashCards!AQ825","v":"2983"},2983,0,0,2983,2134521,{"$f":"FlashCards!AE825","v":822}]
[null,null,null,null,null,null,null,null,null,null,null,null,null,null,null,null,null,null,null,null,null,null,null,{"$f":"FlashCards!AQ826","v":"2992"},2992,0,0,2992,2108304,{"$f":"FlashCards!AE826","v":823}]
[null,null,null,null,null,null,null,null,null,null,null,null,null,null,null,null,null,null,null,null,null,null,null,{"$f":"FlashCards!AQ827","v":"3000"},3000,0,0,3000,2085136,{"$f":"FlashCards!AE827","v":824}]
[null,null,null,null,null,null,null,null,null,null,null,null,null,null,null,null,null,null,null,null,null,null,null,{"$f":"FlashCards!AQ828","v":"3004"},3004,0,0,3004,2073600,{"$f":"FlashCards!AE828","v":825}]
[null,null,null,null,null,null,null,null,null,null,null,null,null,null,null,null,null,null,null,null,null,null,null,{"$f":"FlashCards!AQ829","v":"3004"},3004,0,0,3004,2073600,{"$f":"FlashCards!AE829","v":826}]
[null,null,null,null,null,null,null,null,null,null,null,null,null,null,null,null,null,null,null,null,null,null,null,{"$f":"FlashCards!AQ830","v":"3022"},3022,0,0,3022,2022084,{"$f":"FlashCards!AE830","v":827}]
[null,null,null,null,null,null,null,null,null,null,null,null,null,null,null,null,null,null,null,null,null,null,null,{"$f":"FlashCards!AQ831","v":"3027"},3027,0,0,3027,2007889,{"$f":"FlashCards!AE831","v":828}]
[null,null,null,null,null,null,null,null,null,null,null,null,null,null,null,null,null,null,null,null,null,null,null,{"$f":"FlashCards!AQ832","v":"3029"},3029,0,0,3029,2002225,{"$f":"FlashCards!AE832","v":829}]
[null,null,null,null,null,null,null,null,null,null,null,null,null,null,null,null,null,null,null,null,null,null,null,{"$f":"FlashCards!AQ833","v":"3037"},3037,0,0,3037,1979649,{"$f":"FlashCards!AE833","v":830}]
[null,null,null,null,null,null,null,null,null,null,null,null,null,null,null,null,null,null,null,null,null,null,null,{"$f":"FlashCards!AQ834","v":"3041"},3041,0,0,3041,1968409,{"$f":"FlashCards!AE834","v":831}]
[null,null,null,null,null,null,null,null,null,null,null,null,null,null,null,null,null,null,null,null,null,null,null,{"$f":"FlashCards!AQ835","v":"3042"},3042,0,0,3042,1965604,{"$f":"FlashCards!AE835","v":832}]
[null,null,null,null,null,null,null,null,null,null,null,null,null,null,null,null,null,null,null,null,null,null,null,{"$f":"FlashCards!AQ836","v":"3049"},3049,0,0,3049,1946025,{"$f":"FlashCards!AE836","v":833}]
[null,null,null,null,null,null,null,null,null,null,null,null,null,null,null,null,null,null,null,null,null,null,null,{"$f":"FlashCards!AQ837","v":"3056"},{"$f":"VALUE(X836)","v":3056},{"$f":"IF(ISERR(FIND(\"+\",X836,1)),0,FIND(\"+\",X836,1))","v":0},{"$f":"IF(ISERR(FIND(\",\",X836,1)),0,FIND(\",\",X836,1))","v":0},{"$f":"IF(Z836>0,VALUE(LEFT(X836,Z836-1)),IF(AA836>0,VALUE(LEFT(X836,AA836-1)),IF(ISERR(Y836),VALUE(LEFT(X836,LEN(X836)-1)),Y836)))","v":3056},{"$f":"(AB836-U$28)^2","v":1926544},{"$f":"FlashCards!AE837","v":834}]
[null,null,null,null,null,null,null,null,null,null,null,null,null,null,null,null,null,null,null,null,null,null,null,{"$f":"FlashCards!AQ838","v":"3062"},3062,0,0,3062,1909924,{"$f":"FlashCards!AE838","v":835}]
[null,null,null,null,null,null,null,null,null,null,null,null,null,null,null,null,null,null,null,null,null,null,null,{"$f":"FlashCards!AQ839","v":"3062"},3062,0,0,3062,1909924,{"$f":"FlashCards!AE839","v":836}]
[null,null,null,null,null,null,null,null,null,null,null,null,null,null,null,null,null,null,null,null,null,null,null,{"$f":"FlashCards!AQ840","v":"3062"},3062,0,0,3062,1909924,{"$f":"FlashCards!AE840","v":837}]
[null,null,null,null,null,null,null,null,null,null,null,null,null,null,null,null,null,null,null,null,null,null,null,{"$f":"FlashCards!AQ841","v":"3076"},3076,0,0,3076,1871424,{"$f":"FlashCards!AE841","v":838}]
[null,null,null,null,null,null,null,null,null,null,null,null,null,null,null,null,null,null,null,null,null,null,null,{"$f":"FlashCards!AQ842","v":"3077"},3077,0,0,3077,1868689,{"$f":"FlashCards!AE842","v":839}]
[null,null,null,null,null,null,null,null,null,null,null,null,null,null,null,null,null,null,null,null,null,null,null,{"$f":"FlashCards!AQ843","v":"3084"},3084,0,0,3084,1849600,{"$f":"FlashCards!AE843","v":840}]
[null,null,null,null,null,null,null,null,null,null,null,null,null,null,null,null,null,null,null,null,null,null,null,{"$f":"FlashCards!AQ844","v":"3087"},3087,0,0,3087,1841449,{"$f":"FlashCards!AE844","v":841}]
[null,null,null,null,null,null,null,null,null,null,null,null,null,null,null,null,null,null,null,null,null,null,null,{"$f":"FlashCards!AQ845","v":"3088"},3088,0,0,3088,1838736,{"$f":"FlashCards!AE845","v":842}]
[null,null,null,null,null,null,null,null,null,null,null,null,null,null,null,null,null,null,null,null,null,null,null,{"$f":"FlashCards!AQ846","v":"3089"},3089,0,0,3089,1836025,{"$f":"FlashCards!AE846","v":843}]
[null,null,null,null,null,null,null,null,null,null,null,null,null,null,null,null,null,null,null,null,null,null,null,{"$f":"FlashCards!AQ847","v":"3094"},3094,0,0,3094,1822500,{"$f":"FlashCards!AE847","v":844}]
[null,null,null,null,null,null,null,null,null,null,null,null,null,null,null,null,null,null,null,null,null,null,null,{"$f":"FlashCards!AQ848","v":"3101"},3101,0,0,3101,1803649,{"$f":"FlashCards!AE848","v":845}]
[null,null,null,null,null,null,null,null,null,null,null,null,null,null,null,null,null,null,null,null,null,null,null,{"$f":"FlashCards!AQ849","v":"3107"},3107,0,0,3107,1787569,{"$f":"FlashCards!AE849","v":846}]
[null,null,null,null,null,null,null,null,null,null,null,null,null,null,null,null,null,null,null,null,null,null,null,{"$f":"FlashCards!AQ850","v":"3109"},3109,0,0,3109,1782225,{"$f":"FlashCards!AE850","v":847}]
[null,null,null,null,null,null,null,null,null,null,null,null,null,null,null,null,null,null,null,null,null,null,null,{"$f":"FlashCards!AQ851","v":"3112"},3112,0,0,3112,1774224,{"$f":"FlashCards!AE851","v":848}]
[null,null,null,null,null,null,null,null,null,null,null,null,null,null,null,null,null,null,null,null,null,null,null,{"$f":"FlashCards!AQ852","v":"3113"},3113,0,0,3113,1771561,{"$f":"FlashCards!AE852","v":849}]
[null,null,null,null,null,null,null,null,null,null,null,null,null,null,null,null,null,null,null,null,null,null,null,{"$f":"FlashCards!AQ853","v":"3114"},3114,0,0,3114,1768900,{"$f":"FlashCards!AE853","v":850}]
[null,null,null,null,null,null,null,null,null,null,null,null,null,null,null,null,null,null,null,null,null,null,null,{"$f":"FlashCards!AQ854","v":"3115"},3115,0,0,3115,1766241,{"$f":"FlashCards!AE854","v":851}]
[null,null,null,null,null,null,null,null,null,null,null,null,null,null,null,null,null,null,null,null,null,null,null,{"$f":"FlashCards!AQ855","v":"3112"},3112,0,0,3112,1774224,{"$f":"FlashCards!AE855","v":852}]
[null,null,null,null,null,null,null,null,null,null,null,null,null,null,null,null,null,null,null,null,null,null,null,{"$f":"FlashCards!AQ856","v":"3123"},3123,0,0,3123,1745041,{"$f":"FlashCards!AE856","v":853}]
[null,null,null,null,null,null,null,null,null,null,null,null,null,null,null,null,null,null,null,null,null,null,null,{"$f":"FlashCards!AQ857","v":"3129"},3129,0,0,3129,1729225,{"$f":"FlashCards!AE857","v":854}]
[null,null,null,null,null,null,null,null,null,null,null,null,null,null,null,null,null,null,null,null,null,null,null,{"$f":"FlashCards!AQ858","v":"3136"},3136,0,0,3136,1710864,{"$f":"FlashCards!AE858","v":855}]
[null,null,null,null,null,null,null,null,null,null,null,null,null,null,null,null,null,null,null,null,null,null,null,{"$f":"FlashCards!AQ859","v":"3137"},3137,0,0,3137,1708249,{"$f":"FlashCards!AE859","v":856}]
[null,null,null,null,null,null,null,null,null,null,null,null,null,null,null,null,null,null,null,null,null,null,null,{"$f":"FlashCards!AQ860","v":"3137"},3137,0,0,3137,1708249,{"$f":"FlashCards!AE860","v":857}]
[null,null,null,null,null,null,null,null,null,null,null,null,null,null,null,null,null,null,null,null,null,null,null,{"$f":"FlashCards!AQ861","v":"3140"},3140,0,0,3140,1700416,{"$f":"FlashCards!AE861","v":858}]
[null,null,null,null,null,null,null,null,null,null,null,null,null,null,null,null,null,null,null,null,null,null,null,{"$f":"FlashCards!AQ862","v":"3141"},3141,0,0,3141,1697809,{"$f":"FlashCards!AE862","v":859}]
[null,null,null,null,null,null,null,null,null,null,null,null,null,null,null,null,null,null,null,null,null,null,null,{"$f":"FlashCards!AQ863","v":"3142"},3142,0,0,3142,1695204,{"$f":"FlashCards!AE863","v":860}]
[null,null,null,null,null,null,null,null,null,null,null,null,null,null,null,null,null,null,null,null,null,null,null,{"$f":"FlashCards!AQ864","v":"3144"},3144,0,0,3144,1690000,{"$f":"FlashCards!AE864","v":861}]
[null,null,null,null,null,null,null,null,null,null,null,null,null,null,null,null,null,null,null,null,null,null,null,{"$f":"FlashCards!AQ865","v":"3162"},3162,0,0,3162,1643524,{"$f":"FlashCards!AE865","v":862}]
[null,null,null,null,null,null,null,null,null,null,null,null,null,null,null,null,null,null,null,null,null,null,null,{"$f":"FlashCards!AQ866","v":"3173"},3173,0,0,3173,1615441,{"$f":"FlashCards!AE866","v":863}]
[null,null,null,null,null,null,null,null,null,null,null,null,null,null,null,null,null,null,null,null,null,null,null,{"$f":"FlashCards!AQ867","v":"3173"},3173,0,0,3173,1615441,{"$f":"FlashCards!AE867","v":864}]
[null,null,null,null,null,null,null,null,null,null,null,null,null,null,null,null,null,null,null,null,null,null,null,{"$f":"FlashCards!AQ868","v":"3173"},3173,0,0,3173,1615441,{"$f":"FlashCards!AE868","v":865}]
[null,null,null,null,null,null,null,null,null,null,null,null,null,null,null,null,null,null,null,null,null,null,null,{"$f":"FlashCards!AQ869","v":"3187"},3187,0,0,3187,1580049,{"$f":"FlashCards!AE869","v":866}]
[null,null,null,null,null,null,null,null,null,null,null,null,null,null,null,null,null,null,null,null,null,null,null,{"$f":"FlashCards!AQ870","v":"3191"},3191,0,0,3191,1570009,{"$f":"FlashCards!AE870","v":867}]
[null,null,null,null,null,null,null,null,null,null,null,null,null,null,null,null,null,null,null,null,null,null,null,{"$f":"FlashCards!AQ871","v":"3195"},3195,0,0,3195,1560001,{"$f":"FlashCards!AE871","v":868}]
[null,null,null,null,null,null,null,null,null,null,null,null,null,null,null,null,null,null,null,null,null,null,null,{"$f":"FlashCards!AQ872","v":"3196"},3196,0,0,3196,1557504,{"$f":"FlashCards!AE872","v":869}]
[null,null,null,null,null,null,null,null,null,null,null,null,null,null,null,null,null,null,null,null,null,null,null,{"$f":"FlashCards!AQ873","v":"3199"},3199,0,0,3199,1550025,{"$f":"FlashCards!AE873","v":870}]
[null,null,null,null,null,null,null,null,null,null,null,null,null,null,null,null,null,null,null,null,null,null,null,{"$f":"FlashCards!AQ874","v":"3303"},3303,0,0,3303,1301881,{"$f":"FlashCards!AE874","v":871}]
[null,null,null,null,null,null,null,null,null,null,null,null,null,null,null,null,null,null,null,null,null,null,null,{"$f":"FlashCards!AQ875","v":"3303+1161"},{"$error":"#VALUE!"},5,0,3303,1301881,{"$f":"FlashCards!AE875","v":872}]
[null,null,null,null,null,null,null,null,null,null,null,null,null,null,null,null,null,null,null,null,null,null,null,{"$f":"FlashCards!AQ876","v":"3305"},3305,0,0,3305,1297321,{"$f":"FlashCards!AE876","v":873}]
[null,null,null,null,null,null,null,null,null,null,null,null,null,null,null,null,null,null,null,null,null,null,null,{"$f":"FlashCards!AQ877","v":"3306"},3306,0,0,3306,1295044,{"$f":"FlashCards!AE877","v":874}]
[null,null,null,null,null,null,null,null,null,null,null,null,null,null,null,null,null,null,null,null,null,null,null,{"$f":"FlashCards!AQ878","v":"3307"},3307,0,0,3307,1292769,{"$f":"FlashCards!AE878","v":875}]
[null,null,null,null,null,null,null,null,null,null,null,null,null,null,null,null,null,null,null,null,null,null,null,{"$f":"FlashCards!AQ879","v":"3309"},3309,0,0,3309,1288225,{"$f":"FlashCards!AE879","v":876}]
[null,null,null,null,null,null,null,null,null,null,null,null,null,null,null,null,null,null,null,null,null,null,null,{"$f":"FlashCards!AQ880","v":"3313"},3313,0,0,3313,1279161,{"$f":"FlashCards!AE880","v":877}]
[null,null,null,null,null,null,null,null,null,null,null,null,null,null,null,null,null,null,null,null,null,null,null,{"$f":"FlashCards!AQ881","v":"3319"},3319,0,0,3319,1265625,{"$f":"FlashCards!AE881","v":878}]
[null,null,null,null,null,null,null,null,null,null,null,null,null,null,null,null,null,null,null,null,null,null,null,{"$f":"FlashCards!AQ882","v":"3326"},3326,0,0,3326,1249924,{"$f":"FlashCards!AE882","v":879}]
[null,null,null,null,null,null,null,null,null,null,null,null,null,null,null,null,null,null,null,null,null,null,null,{"$f":"FlashCards!AQ883","v":"3326"},3326,0,0,3326,1249924,{"$f":"FlashCards!AE883","v":880}]
[null,null,null,null,null,null,null,null,null,null,null,null,null,null,null,null,null,null,null,null,null,null,null,{"$f":"FlashCards!AQ884","v":"3327"},3327,0,0,3327,1247689,{"$f":"FlashCards!AE884","v":881}]
[null,null,null,null,null,null,null,null,null,null,null,null,null,null,null,null,null,null,null,null,null,null,null,{"$f":"FlashCards!AQ885","v":"3340"},3340,0,0,3340,1218816,{"$f":"FlashCards!AE885","v":882}]
[null,null,null,null,null,null,null,null,null,null,null,null,null,null,null,null,null,null,null,null,null,null,null,{"$f":"FlashCards!AQ886","v":"3341"},3341,0,0,3341,1216609,{"$f":"FlashCards!AE886","v":883}]
[null,null,null,null,null,null,null,null,null,null,null,null,null,null,null,null,null,null,null,null,null,null,null,{"$f":"FlashCards!AQ887","v":"3354"},3354,0,0,3354,1188100,{"$f":"FlashCards!AE887","v":884}]
[null,null,null,null,null,null,null,null,null,null,null,null,null,null,null,null,null,null,null,null,null,null,null,{"$f":"FlashCards!AQ888","v":"3358"},3358,0,0,3358,1179396,{"$f":"FlashCards!AE888","v":885}]
[null,null,null,null,null,null,null,null,null,null,null,null,null,null,null,null,null,null,null,null,null,null,null,{"$f":"FlashCards!AQ889","v":"3360"},3360,0,0,3360,1175056,{"$f":"FlashCards!AE889","v":886}]
[null,null,null,null,null,null,null,null,null,null,null,null,null,null,null,null,null,null,null,null,null,null,null,{"$f":"FlashCards!AQ890","v":"3360"},3360,0,0,3360,1175056,{"$f":"FlashCards!AE890","v":887}]
[null,null,null,null,null,null,null,null,null,null,null,null,null,null,null,null,null,null,null,null,null,null,null,{"$f":"FlashCards!AQ891","v":"3361"},3361,0,0,3361,1172889,{"$f":"FlashCards!AE891","v":888}]
[null,null,null,null,null,null,null,null,null,null,null,null,null,null,null,null,null,null,null,null,null,null,null,{"$f":"FlashCards!AQ892","v":"3366"},3366,0,0,3366,1162084,{"$f":"FlashCards!AE892","v":889}]
[null,null,null,null,null,null,null,null,null,null,null,null,null,null,null,null,null,null,null,null,null,null,null,{"$f":"FlashCards!AQ893","v":"3367"},3367,0,0,3367,1159929,{"$f":"FlashCards!AE893","v":890}]
[null,null,null,null,null,null,null,null,null,null,null,null,null,null,null,null,null,null,null,null,null,null,null,{"$f":"FlashCards!AQ894","v":"3367"},3367,0,0,3367,1159929,{"$f":"FlashCards!AE894","v":891}]
[null,null,null,null,null,null,null,null,null,null,null,null,null,null,null,null,null,null,null,null,null,null,null,{"$f":"FlashCards!AQ895","v":"3367"},3367,0,0,3367,1159929,{"$f":"FlashCards!AE895","v":892}]
[null,null,null,null,null,null,null,null,null,null,null,null,null,null,null,null,null,null,null,null,null,null,null,{"$f":"FlashCards!AQ896","v":"3371"},3371,0,0,3371,1151329,{"$f":"FlashCards!AE896","v":893}]
[null,null,null,null,null,null,null,null,null,null,null,null,null,null,null,null,null,null,null,null,null,null,null,{"$f":"FlashCards!AQ897","v":"3375"},3375,0,0,3375,1142761,{"$f":"FlashCards!AE897","v":894}]
[null,null,null,null,null,null,null,null,null,null,null,null,null,null,null,null,null,null,null,null,null,null,null,{"$f":"FlashCards!AQ898","v":"3376"},3376,0,0,3376,1140624,{"$f":"FlashCards!AE898","v":895}]
[null,null,null,null,null,null,null,null,null,null,null,null,null,null,null,null,null,null,null,null,null,null,null,{"$f":"FlashCards!AQ899","v":"3379"},3379,0,0,3379,1134225,{"$f":"FlashCards!AE899","v":896}]
[null,null,null,null,null,null,null,null,null,null,null,null,null,null,null,null,null,null,null,null,null,null,null,{"$f":"FlashCards!AQ900","v":"3383"},3383,0,0,3383,1125721,{"$f":"FlashCards!AE900","v":897}]
[null,null,null,null,null,null,null,null,null,null,null,null,null,null,null,null,null,null,null,null,null,null,null,{"$f":"FlashCards!AQ901","v":"3384"},{"$f":"VALUE(X900)","v":3384},{"$f":"IF(ISERR(FIND(\"+\",X900,1)),0,FIND(\"+\",X900,1))","v":0},{"$f":"IF(ISERR(FIND(\",\",X900,1)),0,FIND(\",\",X900,1))","v":0},{"$f":"IF(Z900>0,VALUE(LEFT(X900,Z900-1)),IF(AA900>0,VALUE(LEFT(X900,AA900-1)),IF(ISERR(Y900),VALUE(LEFT(X900,LEN(X900)-1)),Y900)))","v":3384},{"$f":"(AB900-U$28)^2","v":1123600},{"$f":"FlashCards!AE901","v":898}]
[null,null,null,null,null,null,null,null,null,null,null,null,null,null,null,null,null,null,null,null,null,null,null,{"$f":"FlashCards!AQ902","v":"3385"},3385,0,0,3385,1121481,{"$f":"FlashCards!AE902","v":899}]
[null,null,null,null,null,null,null,null,null,null,null,null,null,null,null,null,null,null,null,null,null,null,null,{"$f":"FlashCards!AQ903","v":"3397"},3397,0,0,3397,1096209,{"$f":"FlashCards!AE903","v":900}]
[null,null,null,null,null,null,null,null,null,null,null,null,null,null,null,null,null,null,null,null,null,null,null,{"$f":"FlashCards!AQ904","v":"3403"},3403,0,0,3403,1083681,{"$f":"FlashCards!AE904","v":901}]
[null,null,null,null,null,null,null,null,null,null,null,null,null,null,null,null,null,null,null,null,null,null,null,{"$f":"FlashCards!AQ905","v":"3404"},3404,0,0,3404,1081600,{"$f":"FlashCards!AE905","v":902}]
[null,null,null,null,null,null,null,null,null,null,null,null,null,null,null,null,null,null,null,null,null,null,null,{"$f":"FlashCards!AQ906","v":"3408"},3408,0,0,3408,1073296,{"$f":"FlashCards!AE906","v":903}]
[null,null,null,null,null,null,null,null,null,null,null,null,null,null,null,null,null,null,null,null,null,null,null,{"$f":"FlashCards!AQ907","v":"3419"},3419,0,0,3419,1050625,{"$f":"FlashCards!AE907","v":904}]
[null,null,null,null,null,null,null,null,null,null,null,null,null,null,null,null,null,null,null,null,null,null,null,{"$f":"FlashCards!AQ908","v":"3421"},3421,0,0,3421,1046529,{"$f":"FlashCards!AE908","v":905}]
[null,null,null,null,null,null,null,null,null,null,null,null,null,null,null,null,null,null,null,null,null,null,null,{"$f":"FlashCards!AQ909","v":"3431"},3431,0,0,3431,1026169,{"$f":"FlashCards!AE909","v":906}]
[null,null,null,null,null,null,null,null,null,null,null,null,null,null,null,null,null,null,null,null,null,null,null,{"$f":"FlashCards!AQ910","v":"3441"},3441,0,0,3441,1006009,{"$f":"FlashCards!AE910","v":907}]
[null,null,null,null,null,null,null,null,null,null,null,null,null,null,null,null,null,null,null,null,null,null,null,{"$f":"FlashCards!AQ911","v":"3450"},3450,0,0,3450,988036,{"$f":"FlashCards!AE911","v":908}]
[null,null,null,null,null,null,null,null,null,null,null,null,null,null,null,null,null,null,null,null,null,null,null,{"$f":"FlashCards!AQ912","v":"3450"},3450,0,0,3450,988036,{"$f":"FlashCards!AE912","v":909}]
[null,null,null,null,null,null,null,null,null,null,null,null,null,null,null,null,null,null,null,null,null,null,null,{"$f":"FlashCards!AQ913","v":"3464"},3464,0,0,3464,960400,{"$f":"FlashCards!AE913","v":910}]
[null,null,null,null,null,null,null,null,null,null,null,null,null,null,null,null,null,null,null,null,null,null,null,{"$f":"FlashCards!AQ914","v":"3466"},3466,0,0,3466,956484,{"$f":"FlashCards!AE914","v":911}]
[null,null,null,null,null,null,null,null,null,null,null,null,null,null,null,null,null,null,null,null,null,null,null,{"$f":"FlashCards!AQ915","v":"3474"},3474,0,0,3474,940900,{"$f":"FlashCards!AE915","v":912}]
[null,null,null,null,null,null,null,null,null,null,null,null,null,null,null,null,null,null,null,null,null,null,null,{"$f":"FlashCards!AQ916","v":"3475"},3475,0,0,3475,938961,{"$f":"FlashCards!AE916","v":913}]
[null,null,null,null,null,null,null,null,null,null,null,null,null,null,null,null,null,null,null,null,null,null,null,{"$f":"FlashCards!AQ917","v":"3480"},3480,0,0,3480,929296,{"$f":"FlashCards!AE917","v":914}]
[null,null,null,null,null,null,null,null,null,null,null,null,null,null,null,null,null,null,null,null,null,null,null,{"$f":"FlashCards!AQ918","v":"3483"},3483,0,0,3483,923521,{"$f":"FlashCards!AE918","v":915}]
[null,null,null,null,null,null,null,null,null,null,null,null,null,null,null,null,null,null,null,null,null,null,null,{"$f":"FlashCards!AQ919","v":"3485"},3485,0,0,3485,919681,{"$f":"FlashCards!AE919","v":916}]
[null,null,null,null,null,null,null,null,null,null,null,null,null,null,null,null,null,null,null,null,null,null,null,{"$f":"FlashCards!AQ920","v":"3495"},3495,0,0,3495,900601,{"$f":"FlashCards!AE920","v":917}]
[null,null,null,null,null,null,null,null,null,null,null,null,null,null,null,null,null,null,null,null,null,null,null,{"$f":"FlashCards!AQ921","v":"3498"},3498,0,0,3498,894916,{"$f":"FlashCards!AE921","v":918}]
[null,null,null,null,null,null,null,null,null,null,null,null,null,null,null,null,null,null,null,null,null,null,null,{"$f":"FlashCards!AQ922","v":"3498"},3498,0,0,3498,894916,{"$f":"FlashCards!AE922","v":919}]
[null,null,null,null,null,null,null,null,null,null,null,null,null,null,null,null,null,null,null,null,null,null,null,{"$f":"FlashCards!AQ923","v":"3501"},3501,0,0,3501,889249,{"$f":"FlashCards!AE923","v":920}]
[null,null,null,null,null,null,null,null,null,null,null,null,null,null,null,null,null,null,null,null,null,null,null,{"$f":"FlashCards!AQ924","v":"3507"},3507,0,0,3507,877969,{"$f":"FlashCards!AE924","v":921}]
[null,null,null,null,null,null,null,null,null,null,null,null,null,null,null,null,null,null,null,null,null,null,null,{"$f":"FlashCards!AQ925","v":"3510"},3510,0,0,3510,872356,{"$f":"FlashCards!AE925","v":922}]
[null,null,null,null,null,null,null,null,null,null,null,null,null,null,null,null,null,null,null,null,null,null,null,{"$f":"FlashCards!AQ926","v":"3516"},3516,0,0,3516,861184,{"$f":"FlashCards!AE926","v":923}]
[null,null,null,null,null,null,null,null,null,null,null,null,null,null,null,null,null,null,null,null,null,null,null,{"$f":"FlashCards!AQ927","v":"3522"},3522,0,0,3522,850084,{"$f":"FlashCards!AE927","v":924}]
[null,null,null,null,null,null,null,null,null,null,null,null,null,null,null,null,null,null,null,null,null,null,null,{"$f":"FlashCards!AQ928","v":"3528"},3528,0,0,3528,839056,{"$f":"FlashCards!AE928","v":925}]
[null,null,null,null,null,null,null,null,null,null,null,null,null,null,null,null,null,null,null,null,null,null,null,{"$f":"FlashCards!AQ929","v":"3538"},3538,0,0,3538,820836,{"$f":"FlashCards!AE929","v":926}]
[null,null,null,null,null,null,null,null,null,null,null,null,null,null,null,null,null,null,null,null,null,null,null,{"$f":"FlashCards!AQ930","v":"3539"},3539,0,0,3539,819025,{"$f":"FlashCards!AE930","v":927}]
[null,null,null,null,null,null,null,null,null,null,null,null,null,null,null,null,null,null,null,null,null,null,null,{"$f":"FlashCards!AQ931","v":"3543"},3543,0,0,3543,811801,{"$f":"FlashCards!AE931","v":928}]
[null,null,null,null,null,null,null,null,null,null,null,null,null,null,null,null,null,null,null,null,null,null,null,{"$f":"FlashCards!AQ932","v":"3551"},3551,0,0,3551,797449,{"$f":"FlashCards!AE932","v":929}]
[null,null,null,null,null,null,null,null,null,null,null,null,null,null,null,null,null,null,null,null,null,null,null,{"$f":"FlashCards!AQ933","v":"3554"},3554,0,0,3554,792100,{"$f":"FlashCards!AE933","v":930}]
[null,null,null,null,null,null,null,null,null,null,null,null,null,null,null,null,null,null,null,null,null,null,null,{"$f":"FlashCards!AQ934","v":"3563"},3563,0,0,3563,776161,{"$f":"FlashCards!AE934","v":931}]
[null,null,null,null,null,null,null,null,null,null,null,null,null,null,null,null,null,null,null,null,null,null,null,{"$f":"FlashCards!AQ935","v":"3566"},3566,0,0,3566,770884,{"$f":"FlashCards!AE935","v":932}]
[null,null,null,null,null,null,null,null,null,null,null,null,null,null,null,null,null,null,null,null,null,null,null,{"$f":"FlashCards!AQ936","v":"3568"},3568,0,0,3568,767376,{"$f":"FlashCards!AE936","v":933}]
[null,null,null,null,null,null,null,null,null,null,null,null,null,null,null,null,null,null,null,null,null,null,null,{"$f":"FlashCards!AQ937","v":"3570"},3570,0,0,3570,763876,{"$f":"FlashCards!AE937","v":934}]
[null,null,null,null,null,null,null,null,null,null,null,null,null,null,null,null,null,null,null,null,null,null,null,{"$f":"FlashCards!AQ938","v":"3571"},3571,0,0,3571,762129,{"$f":"FlashCards!AE938","v":935}]
[null,null,null,null,null,null,null,null,null,null,null,null,null,null,null,null,null,null,null,null,null,null,null,{"$f":"FlashCards!AQ939","v":"3579"},3579,0,0,3579,748225,{"$f":"FlashCards!AE939","v":936}]
[null,null,null,null,null,null,null,null,null,null,null,null,null,null,null,null,null,null,null,null,null,null,null,{"$f":"FlashCards!AQ940","v":"3581"},3581,0,0,3581,744769,{"$f":"FlashCards!AE940","v":937}]
[null,null,null,null,null,null,null,null,null,null,null,null,null,null,null,null,null,null,null,null,null,null,null,{"$f":"FlashCards!AQ941","v":"3583"},3583,0,0,3583,741321,{"$f":"FlashCards!AE941","v":938}]
[null,null,null,null,null,null,null,null,null,null,null,null,null,null,null,null,null,null,null,null,null,null,null,{"$f":"FlashCards!AQ942","v":"3586"},3586,0,0,3586,736164,{"$f":"FlashCards!AE942","v":939}]
[null,null,null,null,null,null,null,null,null,null,null,null,null,null,null,null,null,null,null,null,null,null,null,{"$f":"FlashCards!AQ943","v":"3588"},3588,0,0,3588,732736,{"$f":"FlashCards!AE943","v":940}]
[null,null,null,null,null,null,null,null,null,null,null,null,null,null,null,null,null,null,null,null,null,null,null,{"$f":"FlashCards!AQ944","v":"3588"},3588,0,0,3588,732736,{"$f":"FlashCards!AE944","v":941}]
[null,null,null,null,null,null,null,null,null,null,null,null,null,null,null,null,null,null,null,null,null,null,null,{"$f":"FlashCards!AQ945","v":"3588"},3588,0,0,3588,732736,{"$f":"FlashCards!AE945","v":942}]
[null,null,null,null,null,null,null,null,null,null,null,null,null,null,null,null,null,null,null,null,null,null,null,{"$f":"FlashCards!AQ946","v":"3588"},3588,0,0,3588,732736,{"$f":"FlashCards!AE946","v":943}]
[null,null,null,null,null,null,null,null,null,null,null,null,null,null,null,null,null,null,null,null,null,null,null,{"$f":"FlashCards!AQ947","v":"3588"},3588,0,0,3588,732736,{"$f":"FlashCards!AE947","v":944}]
[null,null,null,null,null,null,null,null,null,null,null,null,null,null,null,null,null,null,null,null,null,null,null,{"$f":"FlashCards!AQ948","v":"3588"},3588,0,0,3588,732736,{"$f":"FlashCards!AE948","v":945}]
[null,null,null,null,null,null,null,null,null,null,null,null,null,null,null,null,null,null,null,null,null,null,null,{"$f":"FlashCards!AQ949","v":"3588"},3588,0,0,3588,732736,{"$f":"FlashCards!AE949","v":946}]
[null,null,null,null,null,null,null,null,null,null,null,null,null,null,null,null,null,null,null,null,null,null,null,{"$f":"FlashCards!AQ950","v":"3588"},3588,0,0,3588,732736,{"$f":"FlashCards!AE950","v":947}]
[null,null,null,null,null,null,null,null,null,null,null,null,null,null,null,null,null,null,null,null,null,null,null,{"$f":"FlashCards!AQ951","v":"3588"},3588,0,0,3588,732736,{"$f":"FlashCards!AE951","v":948}]
[null,null,null,null,null,null,null,null,null,null,null,null,null,null,null,null,null,null,null,null,null,null,null,{"$f":"FlashCards!AQ952","v":"3588"},3588,0,0,3588,732736,{"$f":"FlashCards!AE952","v":949}]
[null,null,null,null,null,null,null,null,null,null,null,null,null,null,null,null,null,null,null,null,null,null,null,{"$f":"FlashCards!AQ953","v":"3588"},3588,0,0,3588,732736,{"$f":"FlashCards!AE953","v":950}]
[null,null,null,null,null,null,null,null,null,null,null,null,null,null,null,null,null,null,null,null,null,null,null,{"$f":"FlashCards!AQ954","v":"3588"},3588,0,0,3588,732736,{"$f":"FlashCards!AE954","v":951}]
[null,null,null,null,null,null,null,null,null,null,null,null,null,null,null,null,null,null,null,null,null,null,null,{"$f":"FlashCards!AQ955","v":"3588"},3588,0,0,3588,732736,{"$f":"FlashCards!AE955","v":952}]
[null,null,null,null,null,null,null,null,null,null,null,null,null,null,null,null,null,null,null,null,null,null,null,{"$f":"FlashCards!AQ956","v":"3588"},3588,0,0,3588,732736,{"$f":"FlashCards!AE956","v":953}]
[null,null,null,null,null,null,null,null,null,null,null,null,null,null,null,null,null,null,null,null,null,null,null,{"$f":"FlashCards!AQ957","v":"3588"},3588,0,0,3588,732736,{"$f":"FlashCards!AE957","v":954}]
[null,null,null,null,null,null,null,null,null,null,null,null,null,null,null,null,null,null,null,null,null,null,null,{"$f":"FlashCards!AQ958","v":"3588"},3588,0,0,3588,732736,{"$f":"FlashCards!AE958","v":955}]
[null,null,null,null,null,null,null,null,null,null,null,null,null,null,null,null,null,null,null,null,null,null,null,{"$f":"FlashCards!AQ959","v":"3588"},3588,0,0,3588,732736,{"$f":"FlashCards!AE959","v":956}]
[null,null,null,null,null,null,null,null,null,null,null,null,null,null,null,null,null,null,null,null,null,null,null,{"$f":"FlashCards!AQ960","v":"3592"},3592,0,0,3592,725904,{"$f":"FlashCards!AE960","v":957}]
[null,null,null,null,null,null,null,null,null,null,null,null,null,null,null,null,null,null,null,null,null,null,null,{"$f":"FlashCards!AQ961","v":"3598"},3598,0,0,3598,715716,{"$f":"FlashCards!AE961","v":958}]
[null,null,null,null,null,null,null,null,null,null,null,null,null,null,null,null,null,null,null,null,null,null,null,{"$f":"FlashCards!AQ962","v":"3599"},3599,0,0,3599,714025,{"$f":"FlashCards!AE962","v":959}]
[null,null,null,null,null,null,null,null,null,null,null,null,null,null,null,null,null,null,null,null,null,null,null,{"$f":"FlashCards!AQ963","v":"3606"},3606,0,0,3606,702244,{"$f":"FlashCards!AE963","v":960}]
[null,null,null,null,null,null,null,null,null,null,null,null,null,null,null,null,null,null,null,null,null,null,null,{"$f":"FlashCards!AQ964","v":"3608"},3608,0,0,3608,698896,{"$f":"FlashCards!AE964","v":961}]
[null,null,null,null,null,null,null,null,null,null,null,null,null,null,null,null,null,null,null,null,null,null,null,{"$f":"FlashCards!AQ965","v":"3614"},{"$f":"VALUE(X964)","v":3614},{"$f":"IF(ISERR(FIND(\"+\",X964,1)),0,FIND(\"+\",X964,1))","v":0},{"$f":"IF(ISERR(FIND(\",\",X964,1)),0,FIND(\",\",X964,1))","v":0},{"$f":"IF(Z964>0,VALUE(LEFT(X964,Z964-1)),IF(AA964>0,VALUE(LEFT(X964,AA964-1)),IF(ISERR(Y964),VALUE(LEFT(X964,LEN(X964)-1)),Y964)))","v":3614},{"$f":"(AB964-U$28)^2","v":688900},{"$f":"FlashCards!AE965","v":962}]
[null,null,null,null,null,null,null,null,null,null,null,null,null,null,null,null,null,null,null,null,null,null,null,{"$f":"FlashCards!AQ966","v":"3617"},3617,0,0,3617,683929,{"$f":"FlashCards!AE966","v":963}]
[null,null,null,null,null,null,null,null,null,null,null,null,null,null,null,null,null,null,null,null,null,null,null,{"$f":"FlashCards!AQ967","v":"3618"},3618,0,0,3618,682276,{"$f":"FlashCards!AE967","v":964}]
[null,null,null,null,null,null,null,null,null,null,null,null,null,null,null,null,null,null,null,null,null,null,null,{"$f":"FlashCards!AQ968","v":"3619"},3619,0,0,3619,680625,{"$f":"FlashCards!AE968","v":965}]
[null,null,null,null,null,null,null,null,null,null,null,null,null,null,null,null,null,null,null,null,null,null,null,{"$f":"FlashCards!AQ969","v":"3623"},3623,0,0,3623,674041,{"$f":"FlashCards!AE969","v":966}]
[null,null,null,null,null,null,null,null,null,null,null,null,null,null,null,null,null,null,null,null,null,null,null,{"$f":"FlashCards!AQ970","v":"3624"},3624,0,0,3624,672400,{"$f":"FlashCards!AE970","v":967}]
[null,null,null,null,null,null,null,null,null,null,null,null,null,null,null,null,null,null,null,null,null,null,null,{"$f":"FlashCards!AQ971","v":"3625"},3625,0,0,3625,670761,{"$f":"FlashCards!AE971","v":968}]
[null,null,null,null,null,null,null,null,null,null,null,null,null,null,null,null,null,null,null,null,null,null,null,{"$f":"FlashCards!AQ972","v":"3631"},3631,0,0,3631,660969,{"$f":"FlashCards!AE972","v":969}]
[null,null,null,null,null,null,null,null,null,null,null,null,null,null,null,null,null,null,null,null,null,null,null,{"$f":"FlashCards!AQ973","v":"3634"},3634,0,0,3634,656100,{"$f":"FlashCards!AE973","v":970}]
[null,null,null,null,null,null,null,null,null,null,null,null,null,null,null,null,null,null,null,null,null,null,null,{"$f":"FlashCards!AQ974","v":"3641"},3641,0,0,3641,644809,{"$f":"FlashCards!AE974","v":971}]
[null,null,null,null,null,null,null,null,null,null,null,null,null,null,null,null,null,null,null,null,null,null,null,{"$f":"FlashCards!AQ975","v":"3650"},3650,0,0,3650,630436,{"$f":"FlashCards!AE975","v":972}]
[null,null,null,null,null,null,null,null,null,null,null,null,null,null,null,null,null,null,null,null,null,null,null,{"$f":"FlashCards!AQ976","v":"3650"},3650,0,0,3650,630436,{"$f":"FlashCards!AE976","v":973}]
[null,null,null,null,null,null,null,null,null,null,null,null,null,null,null,null,null,null,null,null,null,null,null,{"$f":"FlashCards!AQ977","v":"3656"},3656,0,0,3656,620944,{"$f":"FlashCards!AE977","v":974}]
[null,null,null,null,null,null,null,null,null,null,null,null,null,null,null,null,null,null,null,null,null,null,null,{"$f":"FlashCards!AQ978","v":"3660"},3660,0,0,3660,614656,{"$f":"FlashCards!AE978","v":975}]
[null,null,null,null,null,null,null,null,null,null,null,null,null,null,null,null,null,null,null,null,null,null,null,{"$f":"FlashCards!AQ979","v":"3661"},3661,0,0,3661,613089,{"$f":"FlashCards!AE979","v":976}]
[null,null,null,null,null,null,null,null,null,null,null,null,null,null,null,null,null,null,null,null,null,null,null,{"$f":"FlashCards!AQ980","v":"3664"},3664,0,0,3664,608400,{"$f":"FlashCards!AE980","v":977}]
[null,null,null,null,null,null,null,null,null,null,null,null,null,null,null,null,null,null,null,null,null,null,null,{"$f":"FlashCards!AQ981","v":"3666"},3666,0,0,3666,605284,{"$f":"FlashCards!AE981","v":978}]
[null,null,null,null,null,null,null,null,null,null,null,null,null,null,null,null,null,null,null,null,null,null,null,{"$f":"FlashCards!AQ982","v":"3668"},3668,0,0,3668,602176,{"$f":"FlashCards!AE982","v":979}]
[null,null,null,null,null,null,null,null,null,null,null,null,null,null,null,null,null,null,null,null,null,null,null,{"$f":"FlashCards!AQ983","v":"3670"},3670,0,0,3670,599076,{"$f":"FlashCards!AE983","v":980}]
[null,null,null,null,null,null,null,null,null,null,null,null,null,null,null,null,null,null,null,null,null,null,null,{"$f":"FlashCards!AQ984","v":"3686"},3686,0,0,3686,574564,{"$f":"FlashCards!AE984","v":981}]
[null,null,null,null,null,null,null,null,null,null,null,null,null,null,null,null,null,null,null,null,null,null,null,{"$f":"FlashCards!AQ985","v":"5101+3686+4771"},{"$error":"#VALUE!"},5,0,5101,431649,{"$f":"FlashCards!AE985","v":982}]
[null,null,null,null,null,null,null,null,null,null,null,null,null,null,null,null,null,null,null,null,null,null,null,{"$f":"FlashCards!AQ986","v":"3687"},3687,0,0,3687,573049,{"$f":"FlashCards!AE986","v":983}]
[null,null,null,null,null,null,null,null,null,null,null,null,null,null,null,null,null,null,null,null,null,null,null,{"$f":"FlashCards!AQ987","v":"3689"},3689,0,0,3689,570025,{"$f":"FlashCards!AE987","v":984}]
[null,null,null,null,null,null,null,null,null,null,null,null,null,null,null,null,null,null,null,null,null,null,null,{"$f":"FlashCards!AQ988","v":"3689"},3689,0,0,3689,570025,{"$f":"FlashCards!AE988","v":985}]
[null,null,null,null,null,null,null,null,null,null,null,null,null,null,null,null,null,null,null,null,null,null,null,{"$f":"FlashCards!AQ989","v":"3694"},3694,0,0,3694,562500,{"$f":"FlashCards!AE989","v":986}]
[null,null,null,null,null,null,null,null,null,null,null,null,null,null,null,null,null,null,null,null,null,null,null,{"$f":"FlashCards!AQ990","v":"3699"},3699,0,0,3699,555025,{"$f":"FlashCards!AE990","v":987}]
[null,null,null,null,null,null,null,null,null,null,null,null,null,null,null,null,null,null,null,null,null,null,null,{"$f":"FlashCards!AQ991","v":"3700"},3700,0,0,3700,553536,{"$f":"FlashCards!AE991","v":988}]
[null,null,null,null,null,null,null,null,null,null,null,null,null,null,null,null,null,null,null,null,null,null,null,{"$f":"FlashCards!AQ992","v":"3701"},3701,0,0,3701,552049,{"$f":"FlashCards!AE992","v":989}]
[null,null,null,null,null,null,null,null,null,null,null,null,null,null,null,null,null,null,null,null,null,null,null,{"$f":"FlashCards!AQ993","v":"3704"},3704,0,0,3704,547600,{"$f":"FlashCards!AE993","v":990}]
[null,null,null,null,null,null,null,null,null,null,null,null,null,null,null,null,null,null,null,null,null,null,null,{"$f":"FlashCards!AQ994","v":"3705"},3705,0,0,3705,546121,{"$f":"FlashCards!AE994","v":991}]
[null,null,null,null,null,null,null,null,null,null,null,null,null,null,null,null,null,null,null,null,null,null,null,{"$f":"FlashCards!AQ995","v":"3708"},3708,0,0,3708,541696,{"$f":"FlashCards!AE995","v":992}]
[null,null,null,null,null,null,null,null,null,null,null,null,null,null,null,null,null,null,null,null,null,null,null,{"$f":"FlashCards!AQ996","v":"3709"},3709,0,0,3709,540225,{"$f":"FlashCards!AE996","v":993}]
[null,null,null,null,null,null,null,null,null,null,null,null,null,null,null,null,null,null,null,null,null,null,null,{"$f":"FlashCards!AQ997","v":"3722"},3722,0,0,3722,521284,{"$f":"FlashCards!AE997","v":994}]
[null,null,null,null,null,null,null,null,null,null,null,null,null,null,null,null,null,null,null,null,null,null,null,{"$f":"FlashCards!AQ998","v":"3725"},3725,0,0,3725,516961,{"$f":"FlashCards!AE998","v":995}]
[null,null,null,null,null,null,null,null,null,null,null,null,null,null,null,null,null,null,null,null,null,null,null,{"$f":"FlashCards!AQ999","v":"3727"},3727,0,0,3727,514089,{"$f":"FlashCards!AE999","v":996}]
[null,null,null,null,null,null,null,null,null,null,null,null,null,null,null,null,null,null,null,null,null,null,null,{"$f":"FlashCards!AQ1000","v":"3735"},3735,0,0,3735,502681,{"$f":"FlashCards!AE1000","v":997}]
[null,null,null,null,null,null,null,null,null,null,null,null,null,null,null,null,null,null,null,null,null,null,null,{"$f":"FlashCards!AQ1001","v":"3739"},3739,0,0,3739,497025,{"$f":"FlashCards!AE1001","v":998}]
[null,null,null,null,null,null,null,null,null,null,null,null,null,null,null,null,null,null,null,null,null,null,null,{"$f":"FlashCards!AQ1002","v":"3739"},3739,0,0,3739,497025,{"$f":"FlashCards!AE1002","v":999}]
[null,null,null,null,null,null,null,null,null,null,null,null,null,null,null,null,null,null,null,null,null,null,null,{"$f":"FlashCards!AQ1003","v":"3739"},3739,0,0,3739,497025,{"$f":"FlashCards!AE1003","v":1000}]
[null,null,null,null,null,null,null,null,null,null,null,null,null,null,null,null,null,null,null,null,null,null,null,{"$f":"FlashCards!AQ1004","v":"3739"},3739,0,0,3739,497025,{"$f":"FlashCards!AE1004","v":1001}]
[null,null,null,null,null,null,null,null,null,null,null,null,null,null,null,null,null,null,null,null,null,null,null,{"$f":"FlashCards!AQ1005","v":"3739"},3739,0,0,3739,497025,{"$f":"FlashCards!AE1005","v":1002}]
[null,null,null,null,null,null,null,null,null,null,null,null,null,null,null,null,null,null,null,null,null,null,null,{"$f":"FlashCards!AQ1006","v":"3739"},3739,0,0,3739,497025,{"$f":"FlashCards!AE1006","v":1003}]
[null,null,null,null,null,null,null,null,null,null,null,null,null,null,null,null,null,null,null,null,null,null,null,{"$f":"FlashCards!AQ1007","v":"3739"},3739,0,0,3739,497025,{"$f":"FlashCards!AE1007","v":1004}]
[null,null,null,null,null,null,null,null,null,null,null,null,null,null,null,null,null,null,null,null,null,null,null,{"$f":"FlashCards!AQ1008","v":"3739"},3739,0,0,3739,497025,{"$f":"FlashCards!AE1008","v":1005}]
[null,null,null,null,null,null,null,null,null,null,null,null,null,null,null,null,null,null,null,null,null,null,null,{"$f":"FlashCards!AQ1009","v":"3739"},3739,0,0,3739,497025,{"$f":"FlashCards!AE1009","v":1006}]
[null,null,null,null,null,null,null,null,null,null,null,null,null,null,null,null,null,null,null,null,null,null,null,{"$f":"FlashCards!AQ1010","v":"3739"},3739,0,0,3739,497025,{"$f":"FlashCards!AE1010","v":1007}]
[null,null,null,null,null,null,null,null,null,null,null,null,null,null,null,null,null,null,null,null,null,null,null,{"$f":"FlashCards!AQ1011","v":"3739"},3739,0,0,3739,497025,{"$f":"FlashCards!AE1011","v":1008}]
[null,null,null,null,null,null,null,null,null,null,null,null,null,null,null,null,null,null,null,null,null,null,null,{"$f":"FlashCards!AQ1012","v":"3739"},3739,0,0,3739,497025,{"$f":"FlashCards!AE1012","v":1009}]
[null,null,null,null,null,null,null,null,null,null,null,null,null,null,null,null,null,null,null,null,null,null,null,{"$f":"FlashCards!AQ1013","v":"3739"},3739,0,0,3739,497025,{"$f":"FlashCards!AE1013","v":1010}]
[null,null,null,null,null,null,null,null,null,null,null,null,null,null,null,null,null,null,null,null,null,null,null,{"$f":"FlashCards!AQ1014","v":"3739"},3739,0,0,3739,497025,{"$f":"FlashCards!AE1014","v":1011}]
[null,null,null,null,null,null,null,null,null,null,null,null,null,null,null,null,null,null,null,null,null,null,null,{"$f":"FlashCards!AQ1015","v":"3739"},3739,0,0,3739,497025,{"$f":"FlashCards!AE1015","v":1012}]
[null,null,null,null,null,null,null,null,null,null,null,null,null,null,null,null,null,null,null,null,null,null,null,{"$f":"FlashCards!AQ1016","v":"3739"},3739,0,0,3739,497025,{"$f":"FlashCards!AE1016","v":1013}]
[null,null,null,null,null,null,null,null,null,null,null,null,null,null,null,null,null,null,null,null,null,null,null,{"$f":"FlashCards!AQ1017","v":"3739"},3739,0,0,3739,497025,{"$f":"FlashCards!AE1017","v":1014}]
[null,null,null,null,null,null,null,null,null,null,null,null,null,null,null,null,null,null,null,null,null,null,null,{"$f":"FlashCards!AQ1018","v":"3739+5101"},{"$error":"#VALUE!"},5,0,3739,497025,{"$f":"FlashCards!AE1018","v":1015}]
[null,null,null,null,null,null,null,null,null,null,null,null,null,null,null,null,null,null,null,null,null,null,null,{"$f":"FlashCards!AQ1019","v":"3739+1437"},{"$error":"#VALUE!"},5,0,3739,497025,{"$f":"FlashCards!AE1019","v":1016}]
[null,null,null,null,null,null,null,null,null,null,null,null,null,null,null,null,null,null,null,null,null,null,null,{"$f":"FlashCards!AQ1020","v":"3745"},3745,0,0,3745,488601,{"$f":"FlashCards!AE1020","v":1017}]
[null,null,null,null,null,null,null,null,null,null,null,null,null,null,null,null,null,null,null,null,null,null,null,{"$f":"FlashCards!AQ1021","v":"3747"},3747,0,0,3747,485809,{"$f":"FlashCards!AE1021","v":1018}]
[null,null,null,null,null,null,null,null,null,null,null,null,null,null,null,null,null,null,null,null,null,null,null,{"$f":"FlashCards!AQ1022","v":"3748.1"},3748.1,0,0,3748.1,484276.81000000011,{"$f":"FlashCards!AE1022","v":1019}]
[null,null,null,null,null,null,null,null,null,null,null,null,null,null,null,null,null,null,null,null,null,null,null,{"$f":"FlashCards!AQ1023","v":"3748"},3748,0,0,3748,484416,{"$f":"FlashCards!AE1023","v":1020}]
[null,null,null,null,null,null,null,null,null,null,null,null,null,null,null,null,null,null,null,null,null,null,null,{"$f":"FlashCards!AQ1024","v":"3748.2"},3748.2,0,0,3748.2,484137.64000000025,{"$f":"FlashCards!AE1024","v":1021}]
[null,null,null,null,null,null,null,null,null,null,null,null,null,null,null,null,null,null,null,null,null,null,null,{"$f":"FlashCards!AQ1025","v":"3752"},3752,0,0,3752,478864,{"$f":"FlashCards!AE1025","v":1022}]
[null,null,null,null,null,null,null,null,null,null,null,null,null,null,null,null,null,null,null,null,null,null,null,{"$f":"FlashCards!AQ1026","v":"3753"},3753,0,0,3753,477481,{"$f":"FlashCards!AE1026","v":1023}]
[null,null,null,null,null,null,null,null,null,null,null,null,null,null,null,null,null,null,null,null,null,null,null,{"$f":"FlashCards!AQ1027","v":"3754"},3754,0,0,3754,476100,{"$f":"FlashCards!AE1027","v":1024}]
[null,null,null,null,null,null,null,null,null,null,null,null,null,null,null,null,null,null,null,null,null,null,null,{"$f":"FlashCards!AQ1028","v":"3756"},3756,0,0,3756,473344,{"$f":"FlashCards!AE1028","v":1025}]
[null,null,null,null,null,null,null,null,null,null,null,null,null,null,null,null,null,null,null,null,null,null,null,{"$f":"FlashCards!AQ1029","v":"3756+3361"},{"$f":"VALUE(X1028)","v":{"$error":"#VALUE!"}},{"$f":"IF(ISERR(FIND(\"+\",X1028,1)),0,FIND(\"+\",X1028,1))","v":5},{"$f":"IF(ISERR(FIND(\",\",X1028,1)),0,FIND(\",\",X1028,1))","v":0},{"$f":"IF(Z1028>0,VALUE(LEFT(X1028,Z1028-1)),IF(AA1028>0,VALUE(LEFT(X1028,AA1028-1)),IF(ISERR(Y1028),VALUE(LEFT(X1028,LEN(X1028)-1)),Y1028)))","v":3756},{"$f":"(AB1028-U$28)^2","v":473344},{"$f":"FlashCards!AE1029","v":1026}]
[null,null,null,null,null,null,null,null,null,null,null,null,null,null,null,null,null,null,null,null,null,null,null,{"$f":"FlashCards!AQ1030","v":"3757"},3757,0,0,3757,471969,{"$f":"FlashCards!AE1030","v":1027}]
[null,null,null,null,null,null,null,null,null,null,null,null,null,null,null,null,null,null,null,null,null,null,null,{"$f":"FlashCards!AQ1031","v":"3759"},3759,0,0,3759,469225,{"$f":"FlashCards!AE1031","v":1028}]
[null,null,null,null,null,null,null,null,null,null,null,null,null,null,null,null,null,null,null,null,null,null,null,{"$f":"FlashCards!AQ1032","v":"3761"},3761,0,0,3761,466489,{"$f":"FlashCards!AE1032","v":1029}]
[null,null,null,null,null,null,null,null,null,null,null,null,null,null,null,null,null,null,null,null,null,null,null,{"$f":"FlashCards!AQ1033","v":"3762"},3762,0,0,3762,465124,{"$f":"FlashCards!AE1033","v":1030}]
[null,null,null,null,null,null,null,null,null,null,null,null,null,null,null,null,null,null,null,null,null,null,null,{"$f":"FlashCards!AQ1034","v":"3762.2"},3762.2,0,0,3762.2,464851.24000000022,{"$f":"FlashCards!AE1034","v":1031}]
[null,null,null,null,null,null,null,null,null,null,null,null,null,null,null,null,null,null,null,null,null,null,null,{"$f":"FlashCards!AQ1035","v":"3762.4"},3762.4,0,0,3762.4,464578.55999999988,{"$f":"FlashCards!AE1035","v":1032}]
[null,null,null,null,null,null,null,null,null,null,null,null,null,null,null,null,null,null,null,null,null,null,null,{"$f":"FlashCards!AQ1036","v":"3763"},3763,0,0,3763,463761,{"$f":"FlashCards!AE1036","v":1033}]
[null,null,null,null,null,null,null,null,null,null,null,null,null,null,null,null,null,null,null,null,null,null,null,{"$f":"FlashCards!AQ1037","v":"3765"},3765,0,0,3765,461041,{"$f":"FlashCards!AE1037","v":1034}]
[null,null,null,null,null,null,null,null,null,null,null,null,null,null,null,null,null,null,null,null,null,null,null,{"$f":"FlashCards!AQ1038","v":"3766"},3766,0,0,3766,459684,{"$f":"FlashCards!AE1038","v":1035}]
[null,null,null,null,null,null,null,null,null,null,null,null,null,null,null,null,null,null,null,null,null,null,null,{"$f":"FlashCards!AQ1039","v":"3767"},3767,0,0,3767,458329,{"$f":"FlashCards!AE1039","v":1036}]
[null,null,null,null,null,null,null,null,null,null,null,null,null,null,null,null,null,null,null,null,null,null,null,{"$f":"FlashCards!AQ1040","v":"3768"},3768,0,0,3768,456976,{"$f":"FlashCards!AE1040","v":1037}]
[null,null,null,null,null,null,null,null,null,null,null,null,null,null,null,null,null,null,null,null,null,null,null,{"$f":"FlashCards!AQ1041","v":"3770"},3770,0,0,3770,454276,{"$f":"FlashCards!AE1041","v":1038}]
[null,null,null,null,null,null,null,null,null,null,null,null,null,null,null,null,null,null,null,null,null,null,null,{"$f":"FlashCards!AQ1042","v":"3772"},3772,0,0,3772,451584,{"$f":"FlashCards!AE1042","v":1039}]
[null,null,null,null,null,null,null,null,null,null,null,null,null,null,null,null,null,null,null,null,null,null,null,{"$f":"FlashCards!AQ1043","v":"3775"},3775,0,0,3775,447561,{"$f":"FlashCards!AE1043","v":1040}]
[null,null,null,null,null,null,null,null,null,null,null,null,null,null,null,null,null,null,null,null,null,null,null,{"$f":"FlashCards!AQ1044","v":"3777"},3777,0,0,3777,444889,{"$f":"FlashCards!AE1044","v":1041}]
[null,null,null,null,null,null,null,null,null,null,null,null,null,null,null,null,null,null,null,null,null,null,null,{"$f":"FlashCards!AQ1045","v":"3778"},3778,0,0,3778,443556,{"$f":"FlashCards!AE1045","v":1042}]
[null,null,null,null,null,null,null,null,null,null,null,null,null,null,null,null,null,null,null,null,null,null,null,{"$f":"FlashCards!AQ1046","v":"3778"},3778,0,0,3778,443556,{"$f":"FlashCards!AE1046","v":1043}]
[null,null,null,null,null,null,null,null,null,null,null,null,null,null,null,null,null,null,null,null,null,null,null,{"$f":"FlashCards!AQ1047","v":"846"},846,0,0,846,12945604,{"$f":"FlashCards!AE1047","v":1044}]
[null,null,null,null,null,null,null,null,null,null,null,null,null,null,null,null,null,null,null,null,null,null,null,{"$f":"FlashCards!AQ1048","v":"3778"},3778,0,0,3778,443556,{"$f":"FlashCards!AE1048","v":1045}]
[null,null,null,null,null,null,null,null,null,null,null,null,null,null,null,null,null,null,null,null,null,null,null,{"$f":"FlashCards!AQ1049","v":"3778"},3778,0,0,3778,443556,{"$f":"FlashCards!AE1049","v":1046}]
[null,null,null,null,null,null,null,null,null,null,null,null,null,null,null,null,null,null,null,null,null,null,null,{"$f":"FlashCards!AQ1050","v":"3778"},3778,0,0,3778,443556,{"$f":"FlashCards!AE1050","v":1047}]
[null,null,null,null,null,null,null,null,null,null,null,null,null,null,null,null,null,null,null,null,null,null,null,{"$f":"FlashCards!AQ1051","v":"3778"},3778,0,0,3778,443556,{"$f":"FlashCards!AE1051","v":1048}]
[null,null,null,null,null,null,null,null,null,null,null,null,null,null,null,null,null,null,null,null,null,null,null,{"$f":"FlashCards!AQ1052","v":"3778"},3778,0,0,3778,443556,{"$f":"FlashCards!AE1052","v":1049}]
[null,null,null,null,null,null,null,null,null,null,null,null,null,null,null,null,null,null,null,null,null,null,null,{"$f":"FlashCards!AQ1053","v":"3778"},3778,0,0,3778,443556,{"$f":"FlashCards!AE1053","v":1050}]
[null,null,null,null,null,null,null,null,null,null,null,null,null,null,null,null,null,null,null,null,null,null,null,{"$f":"FlashCards!AQ1054","v":"3779"},3779,0,0,3779,442225,{"$f":"FlashCards!AE1054","v":1051}]
[null,null,null,null,null,null,null,null,null,null,null,null,null,null,null,null,null,null,null,null,null,null,null,{"$f":"FlashCards!AQ1055","v":"3780"},3780,0,0,3780,440896,{"$f":"FlashCards!AE1055","v":1052}]
[null,null,null,null,null,null,null,null,null,null,null,null,null,null,null,null,null,null,null,null,null,null,null,{"$f":"FlashCards!AQ1056","v":"3784"},3784,0,0,3784,435600,{"$f":"FlashCards!AE1056","v":1053}]
[null,null,null,null,null,null,null,null,null,null,null,null,null,null,null,null,null,null,null,null,null,null,null,{"$f":"FlashCards!AQ1057","v":"3788"},3788,0,0,3788,430336,{"$f":"FlashCards!AE1057","v":1054}]
[null,null,null,null,null,null,null,null,null,null,null,null,null,null,null,null,null,null,null,null,null,null,null,{"$f":"FlashCards!AQ1058","v":"3789"},3789,0,0,3789,429025,{"$f":"FlashCards!AE1058","v":1055}]
[null,null,null,null,null,null,null,null,null,null,null,null,null,null,null,null,null,null,null,null,null,null,null,{"$f":"FlashCards!AQ1059","v":"3793"},3793,0,0,3793,423801,{"$f":"FlashCards!AE1059","v":1056}]
[null,null,null,null,null,null,null,null,null,null,null,null,null,null,null,null,null,null,null,null,null,null,null,{"$f":"FlashCards!AQ1060","v":"3798"},3798,0,0,3798,417316,{"$f":"FlashCards!AE1060","v":1057}]
[null,null,null,null,null,null,null,null,null,null,null,null,null,null,null,null,null,null,null,null,null,null,null,{"$f":"FlashCards!AQ1061","v":"3804"},3804,0,0,3804,409600,{"$f":"FlashCards!AE1061","v":1058}]
[null,null,null,null,null,null,null,null,null,null,null,null,null,null,null,null,null,null,null,null,null,null,null,{"$f":"FlashCards!AQ1062","v":"3811"},3811,0,0,3811,400689,{"$f":"FlashCards!AE1062","v":1059}]
[null,null,null,null,null,null,null,null,null,null,null,null,null,null,null,null,null,null,null,null,null,null,null,{"$f":"FlashCards!AQ1063","v":"3813"},3813,0,0,3813,398161,{"$f":"FlashCards!AE1063","v":1060}]
[null,null,null,null,null,null,null,null,null,null,null,null,null,null,null,null,null,null,null,null,null,null,null,{"$f":"FlashCards!AQ1064","v":"3814"},3814,0,0,3814,396900,{"$f":"FlashCards!AE1064","v":1061}]
[null,null,null,null,null,null,null,null,null,null,null,null,null,null,null,null,null,null,null,null,null,null,null,{"$f":"FlashCards!AQ1065","v":"3816.5"},3816.5,0,0,3816.5,393756.25,{"$f":"FlashCards!AE1065","v":1062}]
[null,null,null,null,null,null,null,null,null,null,null,null,null,null,null,null,null,null,null,null,null,null,null,{"$f":"FlashCards!AQ1066","v":"3816"},3816,0,0,3816,394384,{"$f":"FlashCards!AE1066","v":1063}]
[null,null,null,null,null,null,null,null,null,null,null,null,null,null,null,null,null,null,null,null,null,null,null,{"$f":"FlashCards!AQ1067","v":"3820"},3820,0,0,3820,389376,{"$f":"FlashCards!AE1067","v":1064}]
[null,null,null,null,null,null,null,null,null,null,null,null,null,null,null,null,null,null,null,null,null,null,null,{"$f":"FlashCards!AQ1068","v":"3825"},3825,0,0,3825,383161,{"$f":"FlashCards!AE1068","v":1065}]
[null,null,null,null,null,null,null,null,null,null,null,null,null,null,null,null,null,null,null,null,null,null,null,{"$f":"FlashCards!AQ1069","v":"3841"},3841,0,0,3841,363609,{"$f":"FlashCards!AE1069","v":1066}]
[null,null,null,null,null,null,null,null,null,null,null,null,null,null,null,null,null,null,null,null,null,null,null,{"$f":"FlashCards!AQ1070","v":"3842"},3842,0,0,3842,362404,{"$f":"FlashCards!AE1070","v":1067}]
[null,null,null,null,null,null,null,null,null,null,null,null,null,null,null,null,null,null,null,null,null,null,null,{"$f":"FlashCards!AQ1071","v":"3843"},3843,0,0,3843,361201,{"$f":"FlashCards!AE1071","v":1068}]
[null,null,null,null,null,null,null,null,null,null,null,null,null,null,null,null,null,null,null,null,null,null,null,{"$f":"FlashCards!AQ1072","v":"3844"},3844,0,0,3844,360000,{"$f":"FlashCards!AE1072","v":1069}]
[null,null,null,null,null,null,null,null,null,null,null,null,null,null,null,null,null,null,null,null,null,null,null,{"$f":"FlashCards!AQ1073","v":"3844.5"},3844.5,0,0,3844.5,359400.25,{"$f":"FlashCards!AE1073","v":1070}]
[null,null,null,null,null,null,null,null,null,null,null,null,null,null,null,null,null,null,null,null,null,null,null,{"$f":"FlashCards!AQ1074","v":"3844"},3844,0,0,3844,360000,{"$f":"FlashCards!AE1074","v":1071}]
[null,null,null,null,null,null,null,null,null,null,null,null,null,null,null,null,null,null,null,null,null,null,null,{"$f":"FlashCards!AQ1075","v":"3850"},3850,0,0,3850,352836,{"$f":"FlashCards!AE1075","v":1072}]
[null,null,null,null,null,null,null,null,null,null,null,null,null,null,null,null,null,null,null,null,null,null,null,{"$f":"FlashCards!AQ1076","v":"3853"},3853,0,0,3853,349281,{"$f":"FlashCards!AE1076","v":1073}]
[null,null,null,null,null,null,null,null,null,null,null,null,null,null,null,null,null,null,null,null,null,null,null,{"$f":"FlashCards!AQ1077","v":"3854"},3854,0,0,3854,348100,{"$f":"FlashCards!AE1077","v":1074}]
[null,null,null,null,null,null,null,null,null,null,null,null,null,null,null,null,null,null,null,null,null,null,null,{"$f":"FlashCards!AQ1078","v":"3855"},3855,0,0,3855,346921,{"$f":"FlashCards!AE1078","v":1075}]
[null,null,null,null,null,null,null,null,null,null,null,null,null,null,null,null,null,null,null,null,null,null,null,{"$f":"FlashCards!AQ1079","v":"3857"},3857,0,0,3857,344569,{"$f":"FlashCards!AE1079","v":1076}]
[null,null,null,null,null,null,null,null,null,null,null,null,null,null,null,null,null,null,null,null,null,null,null,{"$f":"FlashCards!AQ1080","v":"3860"},3860,0,0,3860,341056,{"$f":"FlashCards!AE1080","v":1077}]
[null,null,null,null,null,null,null,null,null,null,null,null,null,null,null,null,null,null,null,null,null,null,null,{"$f":"FlashCards!AQ1081","v":"3862"},3862,0,0,3862,338724,{"$f":"FlashCards!AE1081","v":1078}]
[null,null,null,null,null,null,null,null,null,null,null,null,null,null,null,null,null,null,null,null,null,null,null,{"$f":"FlashCards!AQ1082","v":"3868"},3868,0,0,3868,331776,{"$f":"FlashCards!AE1082","v":1079}]
[null,null,null,null,null,null,null,null,null,null,null,null,null,null,null,null,null,null,null,null,null,null,null,{"$f":"FlashCards!AQ1083","v":"3870"},3870,0,0,3870,329476,{"$f":"FlashCards!AE1083","v":1080}]
[null,null,null,null,null,null,null,null,null,null,null,null,null,null,null,null,null,null,null,null,null,null,null,{"$f":"FlashCards!AQ1084","v":"3874"},3874,0,0,3874,324900,{"$f":"FlashCards!AE1084","v":1081}]
[null,null,null,null,null,null,null,null,null,null,null,null,null,null,null,null,null,null,null,null,null,null,null,{"$f":"FlashCards!AQ1085","v":"3875"},3875,0,0,3875,323761,{"$f":"FlashCards!AE1085","v":1082}]
[null,null,null,null,null,null,null,null,null,null,null,null,null,null,null,null,null,null,null,null,null,null,null,{"$f":"FlashCards!AQ1086","v":"3879"},3879,0,0,3879,319225,{"$f":"FlashCards!AE1086","v":1083}]
[null,null,null,null,null,null,null,null,null,null,null,null,null,null,null,null,null,null,null,null,null,null,null,{"$f":"FlashCards!AQ1087","v":"3880"},3880,0,0,3880,318096,{"$f":"FlashCards!AE1087","v":1084}]
[null,null,null,null,null,null,null,null,null,null,null,null,null,null,null,null,null,null,null,null,null,null,null,{"$f":"FlashCards!AQ1088","v":"3885.5"},3885.5,0,0,3885.5,311922.25,{"$f":"FlashCards!AE1088","v":1085}]
[null,null,null,null,null,null,null,null,null,null,null,null,null,null,null,null,null,null,null,null,null,null,null,{"$f":"FlashCards!AQ1089","v":"3885"},3885,0,0,3885,312481,{"$f":"FlashCards!AE1089","v":1086}]
[null,null,null,null,null,null,null,null,null,null,null,null,null,null,null,null,null,null,null,null,null,null,null,{"$f":"FlashCards!AQ1090","v":"3900"},3900,0,0,3900,295936,{"$f":"FlashCards!AE1090","v":1087}]
[null,null,null,null,null,null,null,null,null,null,null,null,null,null,null,null,null,null,null,null,null,null,null,{"$f":"FlashCards!AQ1091","v":"3908"},3908,0,0,3908,287296,{"$f":"FlashCards!AE1091","v":1088}]
[null,null,null,null,null,null,null,null,null,null,null,null,null,null,null,null,null,null,null,null,null,null,null,{"$f":"FlashCards!AQ1092","v":"3916"},3916,0,0,3916,278784,{"$f":"FlashCards!AE1092","v":1089}]
[null,null,null,null,null,null,null,null,null,null,null,null,null,null,null,null,null,null,null,null,null,null,null,{"$f":"FlashCards!AQ1093","v":"3918"},{"$f":"VALUE(X1092)","v":3918},{"$f":"IF(ISERR(FIND(\"+\",X1092,1)),0,FIND(\"+\",X1092,1))","v":0},{"$f":"IF(ISERR(FIND(\",\",X1092,1)),0,FIND(\",\",X1092,1))","v":0},{"$f":"IF(Z1092>0,VALUE(LEFT(X1092,Z1092-1)),IF(AA1092>0,VALUE(LEFT(X1092,AA1092-1)),IF(ISERR(Y1092),VALUE(LEFT(X1092,LEN(X1092)-1)),Y1092)))","v":3918},{"$f":"(AB1092-U$28)^2","v":276676},{"$f":"FlashCards!AE1093","v":1090}]
[null,null,null,null,null,null,null,null,null,null,null,null,null,null,null,null,null,null,null,null,null,null,null,{"$f":"FlashCards!AQ1094","v":"3925"},3925,0,0,3925,269361,{"$f":"FlashCards!AE1094","v":1091}]
[null,null,null,null,null,null,null,null,null,null,null,null,null,null,null,null,null,null,null,null,null,null,null,{"$f":"FlashCards!AQ1095","v":"3928"},3928,0,0,3928,266256,{"$f":"FlashCards!AE1095","v":1092}]
[null,null,null,null,null,null,null,null,null,null,null,null,null,null,null,null,null,null,null,null,null,null,null,{"$f":"FlashCards!AQ1096","v":"3930"},3930,0,0,3930,264196,{"$f":"FlashCards!AE1096","v":1093}]
[null,null,null,null,null,null,null,null,null,null,null,null,null,null,null,null,null,null,null,null,null,null,null,{"$f":"FlashCards!AQ1097","v":"3933"},3933,0,0,3933,261121,{"$f":"FlashCards!AE1097","v":1094}]
[null,null,null,null,null,null,null,null,null,null,null,null,null,null,null,null,null,null,null,null,null,null,null,{"$f":"FlashCards!AQ1098","v":"3936"},3936,0,0,3936,258064,{"$f":"FlashCards!AE1098","v":1095}]
[null,null,null,null,null,null,null,null,null,null,null,null,null,null,null,null,null,null,null,null,null,null,null,{"$f":"FlashCards!AQ1099","v":"3939"},3939,0,0,3939,255025,{"$f":"FlashCards!AE1099","v":1096}]
[null,null,null,null,null,null,null,null,null,null,null,null,null,null,null,null,null,null,null,null,null,null,null,{"$f":"FlashCards!AQ1100","v":"3952"},3952,0,0,3952,242064,{"$f":"FlashCards!AE1100","v":1097}]
[null,null,null,null,null,null,null,null,null,null,null,null,null,null,null,null,null,null,null,null,null,null,null,{"$f":"FlashCards!AQ1101","v":"3954"},3954,0,0,3954,240100,{"$f":"FlashCards!AE1101","v":1098}]
[null,null,null,null,null,null,null,null,null,null,null,null,null,null,null,null,null,null,null,null,null,null,null,{"$f":"FlashCards!AQ1102","v":"3956.4"},3956.4,0,0,3956.4,237753.75999999992,{"$f":"FlashCards!AE1102","v":1099}]
[null,null,null,null,null,null,null,null,null,null,null,null,null,null,null,null,null,null,null,null,null,null,null,{"$f":"FlashCards!AQ1103","v":"3956"},3956,0,0,3956,238144,{"$f":"FlashCards!AE1103","v":1100}]
[null,null,null,null,null,null,null,null,null,null,null,null,null,null,null,null,null,null,null,null,null,null,null,{"$f":"FlashCards!AQ1104","v":"3956.2"},3956.2,0,0,3956.2,237948.84000000017,{"$f":"FlashCards!AE1104","v":1101}]
[null,null,null,null,null,null,null,null,null,null,null,null,null,null,null,null,null,null,null,null,null,null,null,{"$f":"FlashCards!AQ1105","v":"3957"},3957,0,0,3957,237169,{"$f":"FlashCards!AE1105","v":1102}]
[null,null,null,null,null,null,null,null,null,null,null,null,null,null,null,null,null,null,null,null,null,null,null,{"$f":"FlashCards!AQ1106","v":"3958"},3958,0,0,3958,236196,{"$f":"FlashCards!AE1106","v":1103}]
[null,null,null,null,null,null,null,null,null,null,null,null,null,null,null,null,null,null,null,null,null,null,null,{"$f":"FlashCards!AQ1107","v":"3960"},3960,0,0,3960,234256,{"$f":"FlashCards!AE1107","v":1104}]
[null,null,null,null,null,null,null,null,null,null,null,null,null,null,null,null,null,null,null,null,null,null,null,{"$f":"FlashCards!AQ1108","v":"3962"},3962,0,0,3962,232324,{"$f":"FlashCards!AE1108","v":1105}]
[null,null,null,null,null,null,null,null,null,null,null,null,null,null,null,null,null,null,null,null,null,null,null,{"$f":"FlashCards!AQ1109","v":"3972"},3972,0,0,3972,222784,{"$f":"FlashCards!AE1109","v":1106}]
[null,null,null,null,null,null,null,null,null,null,null,null,null,null,null,null,null,null,null,null,null,null,null,{"$f":"FlashCards!AQ1110","v":"3973"},3973,0,0,3973,221841,{"$f":"FlashCards!AE1110","v":1107}]
[null,null,null,null,null,null,null,null,null,null,null,null,null,null,null,null,null,null,null,null,null,null,null,{"$f":"FlashCards!AQ1111","v":"3982"},3982,0,0,3982,213444,{"$f":"FlashCards!AE1111","v":1108}]
[null,null,null,null,null,null,null,null,null,null,null,null,null,null,null,null,null,null,null,null,null,null,null,{"$f":"FlashCards!AQ1112","v":"3983"},3983,0,0,3983,212521,{"$f":"FlashCards!AE1112","v":1109}]
[null,null,null,null,null,null,null,null,null,null,null,null,null,null,null,null,null,null,null,null,null,null,null,{"$f":"FlashCards!AQ1113","v":"3985"},3985,0,0,3985,210681,{"$f":"FlashCards!AE1113","v":1110}]
[null,null,null,null,null,null,null,null,null,null,null,null,null,null,null,null,null,null,null,null,null,null,null,{"$f":"FlashCards!AQ1114","v":"3986"},3986,0,0,3986,209764,{"$f":"FlashCards!AE1114","v":1111}]
[null,null,null,null,null,null,null,null,null,null,null,null,null,null,null,null,null,null,null,null,null,null,null,{"$f":"FlashCards!AQ1115","v":"3992"},3992,0,0,3992,204304,{"$f":"FlashCards!AE1115","v":1112}]
[null,null,null,null,null,null,null,null,null,null,null,null,null,null,null,null,null,null,null,null,null,null,null,{"$f":"FlashCards!AQ1116","v":"3996"},3996,0,0,3996,200704,{"$f":"FlashCards!AE1116","v":1113}]
[null,null,null,null,null,null,null,null,null,null,null,null,null,null,null,null,null,null,null,null,null,null,null,{"$f":"FlashCards!AQ1117","v":"4002"},4002,0,0,4002,195364,{"$f":"FlashCards!AE1117","v":1114}]
[null,null,null,null,null,null,null,null,null,null,null,null,null,null,null,null,null,null,null,null,null,null,null,{"$f":"FlashCards!AQ1118","v":"4008"},4008,0,0,4008,190096,{"$f":"FlashCards!AE1118","v":1115}]
[null,null,null,null,null,null,null,null,null,null,null,null,null,null,null,null,null,null,null,null,null,null,null,{"$f":"FlashCards!AQ1119","v":"4012.5"},4012.5,0,0,4012.5,186192.25,{"$f":"FlashCards!AE1119","v":1116}]
[null,null,null,null,null,null,null,null,null,null,null,null,null,null,null,null,null,null,null,null,null,null,null,{"$f":"FlashCards!AQ1120","v":"4012"},4012,0,0,4012,186624,{"$f":"FlashCards!AE1120","v":1117}]
[null,null,null,null,null,null,null,null,null,null,null,null,null,null,null,null,null,null,null,null,null,null,null,{"$f":"FlashCards!AQ1121","v":"4016"},4016,0,0,4016,183184,{"$f":"FlashCards!AE1121","v":1118}]
[null,null,null,null,null,null,null,null,null,null,null,null,null,null,null,null,null,null,null,null,null,null,null,{"$f":"FlashCards!AQ1122","v":"4037"},4037,0,0,4037,165649,{"$f":"FlashCards!AE1122","v":1119}]
[null,null,null,null,null,null,null,null,null,null,null,null,null,null,null,null,null,null,null,null,null,null,null,{"$f":"FlashCards!AQ1123","v":"4043"},4043,0,0,4043,160801,{"$f":"FlashCards!AE1123","v":1120}]
[null,null,null,null,null,null,null,null,null,null,null,null,null,null,null,null,null,null,null,null,null,null,null,{"$f":"FlashCards!AQ1124","v":"4052"},4052,0,0,4052,153664,{"$f":"FlashCards!AE1124","v":1121}]
[null,null,null,null,null,null,null,null,null,null,null,null,null,null,null,null,null,null,null,null,null,null,null,{"$f":"FlashCards!AQ1125","v":"4055"},4055,0,0,4055,151321,{"$f":"FlashCards!AE1125","v":1122}]
[null,null,null,null,null,null,null,null,null,null,null,null,null,null,null,null,null,null,null,null,null,null,null,{"$f":"FlashCards!AQ1126","v":"4056"},4056,0,0,4056,150544,{"$f":"FlashCards!AE1126","v":1123}]
[null,null,null,null,null,null,null,null,null,null,null,null,null,null,null,null,null,null,null,null,null,null,null,{"$f":"FlashCards!AQ1127","v":"4058"},4058,0,0,4058,148996,{"$f":"FlashCards!AE1127","v":1124}]
[null,null,null,null,null,null,null,null,null,null,null,null,null,null,null,null,null,null,null,null,null,null,null,{"$f":"FlashCards!AQ1128","v":"4059"},4059,0,0,4059,148225,{"$f":"FlashCards!AE1128","v":1125}]
[null,null,null,null,null,null,null,null,null,null,null,null,null,null,null,null,null,null,null,null,null,null,null,{"$f":"FlashCards!AQ1129","v":"4061"},4061,0,0,4061,146689,{"$f":"FlashCards!AE1129","v":1126}]
[null,null,null,null,null,null,null,null,null,null,null,null,null,null,null,null,null,null,null,null,null,null,null,{"$f":"FlashCards!AQ1130","v":"4071"},4071,0,0,4071,139129,{"$f":"FlashCards!AE1130","v":1127}]
[null,null,null,null,null,null,null,null,null,null,null,null,null,null,null,null,null,null,null,null,null,null,null,{"$f":"FlashCards!AQ1131","v":"4073"},4073,0,0,4073,137641,{"$f":"FlashCards!AE1131","v":1128}]
[null,null,null,null,null,null,null,null,null,null,null,null,null,null,null,null,null,null,null,null,null,null,null,{"$f":"FlashCards!AQ1132","v":"4074"},4074,0,0,4074,136900,{"$f":"FlashCards!AE1132","v":1129}]
[null,null,null,null,null,null,null,null,null,null,null,null,null,null,null,null,null,null,null,null,null,null,null,{"$f":"FlashCards!AQ1133","v":"4077"},4077,0,0,4077,134689,{"$f":"FlashCards!AE1133","v":1130}]
[null,null,null,null,null,null,null,null,null,null,null,null,null,null,null,null,null,null,null,null,null,null,null,{"$f":"FlashCards!AQ1134","v":"4084"},4084,0,0,4084,129600,{"$f":"FlashCards!AE1134","v":1131}]
[null,null,null,null,null,null,null,null,null,null,null,null,null,null,null,null,null,null,null,null,null,null,null,{"$f":"FlashCards!AQ1135","v":"4091"},4091,0,0,4091,124609,{"$f":"FlashCards!AE1135","v":1132}]
[null,null,null,null,null,null,null,null,null,null,null,null,null,null,null,null,null,null,null,null,null,null,null,{"$f":"FlashCards!AQ1136","v":"4095"},4095,0,0,4095,121801,{"$f":"FlashCards!AE1136","v":1133}]
[null,null,null,null,null,null,null,null,null,null,null,null,null,null,null,null,null,null,null,null,null,null,null,{"$f":"FlashCards!AQ1137","v":"4098"},4098,0,0,4098,119716,{"$f":"FlashCards!AE1137","v":1134}]
[null,null,null,null,null,null,null,null,null,null,null,null,null,null,null,null,null,null,null,null,null,null,null,{"$f":"FlashCards!AQ1138","v":"4100"},4100,0,0,4100,118336,{"$f":"FlashCards!AE1138","v":1135}]
[null,null,null,null,null,null,null,null,null,null,null,null,null,null,null,null,null,null,null,null,null,null,null,{"$f":"FlashCards!AQ1139","v":"4102"},4102,0,0,4102,116964,{"$f":"FlashCards!AE1139","v":1136}]
[null,null,null,null,null,null,null,null,null,null,null,null,null,null,null,null,null,null,null,null,null,null,null,{"$f":"FlashCards!AQ1140","v":"4103"},4103,0,0,4103,116281,{"$f":"FlashCards!AE1140","v":1137}]
[null,null,null,null,null,null,null,null,null,null,null,null,null,null,null,null,null,null,null,null,null,null,null,{"$f":"FlashCards!AQ1141","v":"4105"},4105,0,0,4105,114921,{"$f":"FlashCards!AE1141","v":1138}]
[null,null,null,null,null,null,null,null,null,null,null,null,null,null,null,null,null,null,null,null,null,null,null,{"$f":"FlashCards!AQ1142","v":"4106"},4106,0,0,4106,114244,{"$f":"FlashCards!AE1142","v":1139}]
[null,null,null,null,null,null,null,null,null,null,null,null,null,null,null,null,null,null,null,null,null,null,null,{"$f":"FlashCards!AQ1143","v":"4118.2"},4118.2,0,0,4118.2,106145.64000000012,{"$f":"FlashCards!AE1143","v":1140}]
[null,null,null,null,null,null,null,null,null,null,null,null,null,null,null,null,null,null,null,null,null,null,null,{"$f":"FlashCards!AQ1144","v":"4118.4"},4118.3999999999996,0,0,4118.3999999999996,106015.36000000023,{"$f":"FlashCards!AE1144","v":1141}]
[null,null,null,null,null,null,null,null,null,null,null,null,null,null,null,null,null,null,null,null,null,null,null,{"$f":"FlashCards!AQ1145","v":"4118"},4118,0,0,4118,106276,{"$f":"FlashCards!AE1145","v":1142}]
[null,null,null,null,null,null,null,null,null,null,null,null,null,null,null,null,null,null,null,null,null,null,null,{"$f":"FlashCards!AQ1146","v":"4119.5"},4119.5,0,0,4119.5,105300.25,{"$f":"FlashCards!AE1146","v":1143}]
[null,null,null,null,null,null,null,null,null,null,null,null,null,null,null,null,null,null,null,null,null,null,null,{"$f":"FlashCards!AQ1147","v":"4119"},4119,0,0,4119,105625,{"$f":"FlashCards!AE1147","v":1144}]
[null,null,null,null,null,null,null,null,null,null,null,null,null,null,null,null,null,null,null,null,null,null,null,{"$f":"FlashCards!AQ1148","v":"4124"},4124,0,0,4124,102400,{"$f":"FlashCards!AE1148","v":1145}]
[null,null,null,null,null,null,null,null,null,null,null,null,null,null,null,null,null,null,null,null,null,null,null,{"$f":"FlashCards!AQ1149","v":"4127"},4127,0,0,4127,100489,{"$f":"FlashCards!AE1149","v":1146}]
[null,null,null,null,null,null,null,null,null,null,null,null,null,null,null,null,null,null,null,null,null,null,null,{"$f":"FlashCards!AQ1150","v":"4128"},4128,0,0,4128,99856,{"$f":"FlashCards!AE1150","v":1147}]
[null,null,null,null,null,null,null,null,null,null,null,null,null,null,null,null,null,null,null,null,null,null,null,{"$f":"FlashCards!AQ1151","v":"4129"},4129,0,0,4129,99225,{"$f":"FlashCards!AE1151","v":1148}]
[null,null,null,null,null,null,null,null,null,null,null,null,null,null,null,null,null,null,null,null,null,null,null,{"$f":"FlashCards!AQ1152","v":"4130"},4130,0,0,4130,98596,{"$f":"FlashCards!AE1152","v":1149}]
[null,null,null,null,null,null,null,null,null,null,null,null,null,null,null,null,null,null,null,null,null,null,null,{"$f":"FlashCards!AQ1153","v":"4133"},4133,0,0,4133,96721,{"$f":"FlashCards!AE1153","v":1150}]
[null,null,null,null,null,null,null,null,null,null,null,null,null,null,null,null,null,null,null,null,null,null,null,{"$f":"FlashCards!AQ1154","v":"4134"},4134,0,0,4134,96100,{"$f":"FlashCards!AE1154","v":1151}]
[null,null,null,null,null,null,null,null,null,null,null,null,null,null,null,null,null,null,null,null,null,null,null,{"$f":"FlashCards!AQ1155","v":"4137"},4137,0,0,4137,94249,{"$f":"FlashCards!AE1155","v":1152}]
[null,null,null,null,null,null,null,null,null,null,null,null,null,null,null,null,null,null,null,null,null,null,null,{"$f":"FlashCards!AQ1156","v":"4138"},4138,0,0,4138,93636,{"$f":"FlashCards!AE1156","v":1153}]
[null,null,null,null,null,null,null,null,null,null,null,null,null,null,null,null,null,null,null,null,null,null,null,{"$f":"FlashCards!AQ1157","v":"4139.5"},{"$f":"VALUE(X1156)","v":4139.5},{"$f":"IF(ISERR(FIND(\"+\",X1156,1)),0,FIND(\"+\",X1156,1))","v":0},{"$f":"IF(ISERR(FIND(\",\",X1156,1)),0,FIND(\",\",X1156,1))","v":0},{"$f":"IF(Z1156>0,VALUE(LEFT(X1156,Z1156-1)),IF(AA1156>0,VALUE(LEFT(X1156,AA1156-1)),IF(ISERR(Y1156),VALUE(LEFT(X1156,LEN(X1156)-1)),Y1156)))","v":4139.5},{"$f":"(AB1156-U$28)^2","v":92720.25},{"$f":"FlashCards!AE1157","v":1154}]
[null,null,null,null,null,null,null,null,null,null,null,null,null,null,null,null,null,null,null,null,null,null,null,{"$f":"FlashCards!AQ1158","v":"4139"},4139,0,0,4139,93025,{"$f":"FlashCards!AE1158","v":1155}]
[null,null,null,null,null,null,null,null,null,null,null,null,null,null,null,null,null,null,null,null,null,null,null,{"$f":"FlashCards!AQ1159","v":"4143"},4143,0,0,4143,90601,{"$f":"FlashCards!AE1159","v":1156}]
[null,null,null,null,null,null,null,null,null,null,null,null,null,null,null,null,null,null,null,null,null,null,null,{"$f":"FlashCards!AQ1160","v":"4145"},4145,0,0,4145,89401,{"$f":"FlashCards!AE1160","v":1157}]
[null,null,null,null,null,null,null,null,null,null,null,null,null,null,null,null,null,null,null,null,null,null,null,{"$f":"FlashCards!AQ1161","v":"4147"},4147,0,0,4147,88209,{"$f":"FlashCards!AE1161","v":1158}]
[null,null,null,null,null,null,null,null,null,null,null,null,null,null,null,null,null,null,null,null,null,null,null,{"$f":"FlashCards!AQ1162","v":"4149"},4149,0,0,4149,87025,{"$f":"FlashCards!AE1162","v":1159}]
[null,null,null,null,null,null,null,null,null,null,null,null,null,null,null,null,null,null,null,null,null,null,null,{"$f":"FlashCards!AQ1163","v":"4151"},4151,0,0,4151,85849,{"$f":"FlashCards!AE1163","v":1160}]
[null,null,null,null,null,null,null,null,null,null,null,null,null,null,null,null,null,null,null,null,null,null,null,{"$f":"FlashCards!AQ1164","v":"4152"},4152,0,0,4152,85264,{"$f":"FlashCards!AE1164","v":1161}]
[null,null,null,null,null,null,null,null,null,null,null,null,null,null,null,null,null,null,null,null,null,null,null,{"$f":"FlashCards!AQ1165","v":"4159"},4159,0,0,4159,81225,{"$f":"FlashCards!AE1165","v":1162}]
[null,null,null,null,null,null,null,null,null,null,null,null,null,null,null,null,null,null,null,null,null,null,null,{"$f":"FlashCards!AQ1166","v":"4160"},4160,0,0,4160,80656,{"$f":"FlashCards!AE1166","v":1163}]
[null,null,null,null,null,null,null,null,null,null,null,null,null,null,null,null,null,null,null,null,null,null,null,{"$f":"FlashCards!AQ1167","v":"4164"},4164,0,0,4164,78400,{"$f":"FlashCards!AE1167","v":1164}]
[null,null,null,null,null,null,null,null,null,null,null,null,null,null,null,null,null,null,null,null,null,null,null,{"$f":"FlashCards!AQ1168","v":"4165"},4165,0,0,4165,77841,{"$f":"FlashCards!AE1168","v":1165}]
[null,null,null,null,null,null,null,null,null,null,null,null,null,null,null,null,null,null,null,null,null,null,null,{"$f":"FlashCards!AQ1169","v":"4166"},4166,0,0,4166,77284,{"$f":"FlashCards!AE1169","v":1166}]
[null,null,null,null,null,null,null,null,null,null,null,null,null,null,null,null,null,null,null,null,null,null,null,{"$f":"FlashCards!AQ1170","v":"4169"},4169,0,0,4169,75625,{"$f":"FlashCards!AE1170","v":1167}]
[null,null,null,null,null,null,null,null,null,null,null,null,null,null,null,null,null,null,null,null,null,null,null,{"$f":"FlashCards!AQ1171","v":"1722+4169"},{"$error":"#VALUE!"},5,0,1722,7409284,{"$f":"FlashCards!AE1171","v":1168}]
[null,null,null,null,null,null,null,null,null,null,null,null,null,null,null,null,null,null,null,null,null,null,null,{"$f":"FlashCards!AQ1172","v":"4171"},4171,0,0,4171,74529,{"$f":"FlashCards!AE1172","v":1169}]
[null,null,null,null,null,null,null,null,null,null,null,null,null,null,null,null,null,null,null,null,null,null,null,{"$f":"FlashCards!AQ1173","v":"4172"},4172,0,0,4172,73984,{"$f":"FlashCards!AE1173","v":1170}]
[null,null,null,null,null,null,null,null,null,null,null,null,null,null,null,null,null,null,null,null,null,null,null,{"$f":"FlashCards!AQ1174","v":"4178"},4178,0,0,4178,70756,{"$f":"FlashCards!AE1174","v":1171}]
[null,null,null,null,null,null,null,null,null,null,null,null,null,null,null,null,null,null,null,null,null,null,null,{"$f":"FlashCards!AQ1175","v":"4190"},4190,0,0,4190,64516,{"$f":"FlashCards!AE1175","v":1172}]
[null,null,null,null,null,null,null,null,null,null,null,null,null,null,null,null,null,null,null,null,null,null,null,{"$f":"FlashCards!AQ1176","v":"4198"},4198,0,0,4198,60516,{"$f":"FlashCards!AE1176","v":1173}]
[null,null,null,null,null,null,null,null,null,null,null,null,null,null,null,null,null,null,null,null,null,null,null,{"$f":"FlashCards!AQ1177","v":"4202"},4202,0,0,4202,58564,{"$f":"FlashCards!AE1177","v":1174}]
[null,null,null,null,null,null,null,null,null,null,null,null,null,null,null,null,null,null,null,null,null,null,null,{"$f":"FlashCards!AQ1178","v":"4204"},4204,0,0,4204,57600,{"$f":"FlashCards!AE1178","v":1175}]
[null,null,null,null,null,null,null,null,null,null,null,null,null,null,null,null,null,null,null,null,null,null,null,{"$f":"FlashCards!AQ1179","v":"4205"},4205,0,0,4205,57121,{"$f":"FlashCards!AE1179","v":1176}]
[null,null,null,null,null,null,null,null,null,null,null,null,null,null,null,null,null,null,null,null,null,null,null,{"$f":"FlashCards!AQ1180","v":"4214"},4214,0,0,4214,52900,{"$f":"FlashCards!AE1180","v":1177}]
[null,null,null,null,null,null,null,null,null,null,null,null,null,null,null,null,null,null,null,null,null,null,null,{"$f":"FlashCards!AQ1181","v":"4215"},4215,0,0,4215,52441,{"$f":"FlashCards!AE1181","v":1178}]
[null,null,null,null,null,null,null,null,null,null,null,null,null,null,null,null,null,null,null,null,null,null,null,{"$f":"FlashCards!AQ1182","v":"4218"},4218,0,0,4218,51076,{"$f":"FlashCards!AE1182","v":1179}]
[null,null,null,null,null,null,null,null,null,null,null,null,null,null,null,null,null,null,null,null,null,null,null,{"$f":"FlashCards!AQ1183","v":"4219"},4219,0,0,4219,50625,{"$f":"FlashCards!AE1183","v":1180}]
[null,null,null,null,null,null,null,null,null,null,null,null,null,null,null,null,null,null,null,null,null,null,null,{"$f":"FlashCards!AQ1184","v":"4221"},4221,0,0,4221,49729,{"$f":"FlashCards!AE1184","v":1181}]
[null,null,null,null,null,null,null,null,null,null,null,null,null,null,null,null,null,null,null,null,null,null,null,{"$f":"FlashCards!AQ1185","v":"4222"},4222,0,0,4222,49284,{"$f":"FlashCards!AE1185","v":1182}]
[null,null,null,null,null,null,null,null,null,null,null,null,null,null,null,null,null,null,null,null,null,null,null,{"$f":"FlashCards!AQ1186","v":"4226"},4226,0,0,4226,47524,{"$f":"FlashCards!AE1186","v":1183}]
[null,null,null,null,null,null,null,null,null,null,null,null,null,null,null,null,null,null,null,null,null,null,null,{"$f":"FlashCards!AQ1187","v":"4228"},4228,0,0,4228,46656,{"$f":"FlashCards!AE1187","v":1184}]
[null,null,null,null,null,null,null,null,null,null,null,null,null,null,null,null,null,null,null,null,null,null,null,{"$f":"FlashCards!AQ1188","v":"4229"},4229,0,0,4229,46225,{"$f":"FlashCards!AE1188","v":1185}]
[null,null,null,null,null,null,null,null,null,null,null,null,null,null,null,null,null,null,null,null,null,null,null,{"$f":"FlashCards!AQ1189","v":"4238"},4238,0,0,4238,42436,{"$f":"FlashCards!AE1189","v":1186}]
[null,null,null,null,null,null,null,null,null,null,null,null,null,null,null,null,null,null,null,null,null,null,null,{"$f":"FlashCards!AQ1190","v":"4240"},4240,0,0,4240,41616,{"$f":"FlashCards!AE1190","v":1187}]
[null,null,null,null,null,null,null,null,null,null,null,null,null,null,null,null,null,null,null,null,null,null,null,{"$f":"FlashCards!AQ1191","v":"4245.5"},4245.5,0,0,4245.5,39402.25,{"$f":"FlashCards!AE1191","v":1188}]
[null,null,null,null,null,null,null,null,null,null,null,null,null,null,null,null,null,null,null,null,null,null,null,{"$f":"FlashCards!AQ1192","v":"4245"},4245,0,0,4245,39601,{"$f":"FlashCards!AE1192","v":1189}]
[null,null,null,null,null,null,null,null,null,null,null,null,null,null,null,null,null,null,null,null,null,null,null,{"$f":"FlashCards!AQ1193","v":"4250"},4250,0,0,4250,37636,{"$f":"FlashCards!AE1193","v":1190}]
[null,null,null,null,null,null,null,null,null,null,null,null,null,null,null,null,null,null,null,null,null,null,null,{"$f":"FlashCards!AQ1194","v":"4253"},4253,0,0,4253,36481,{"$f":"FlashCards!AE1194","v":1191}]
[null,null,null,null,null,null,null,null,null,null,null,null,null,null,null,null,null,null,null,null,null,null,null,{"$f":"FlashCards!AQ1195","v":"4254"},4254,0,0,4254,36100,{"$f":"FlashCards!AE1195","v":1192}]
[null,null,null,null,null,null,null,null,null,null,null,null,null,null,null,null,null,null,null,null,null,null,null,{"$f":"FlashCards!AQ1196","v":"4263"},4263,0,0,4263,32761,{"$f":"FlashCards!AE1196","v":1193}]
[null,null,null,null,null,null,null,null,null,null,null,null,null,null,null,null,null,null,null,null,null,null,null,{"$f":"FlashCards!AQ1197","v":"4286"},4286,0,0,4286,24964,{"$f":"FlashCards!AE1197","v":1194}]
[null,null,null,null,null,null,null,null,null,null,null,null,null,null,null,null,null,null,null,null,null,null,null,{"$f":"FlashCards!AQ1198","v":"4302"},4302,0,0,4302,20164,{"$f":"FlashCards!AE1198","v":1195}]
[null,null,null,null,null,null,null,null,null,null,null,null,null,null,null,null,null,null,null,null,null,null,null,{"$f":"FlashCards!AQ1199","v":"4314"},4314,0,0,4314,16900,{"$f":"FlashCards!AE1199","v":1196}]
[null,null,null,null,null,null,null,null,null,null,null,null,null,null,null,null,null,null,null,null,null,null,null,{"$f":"FlashCards!AQ1200","v":"4327"},4327,0,0,4327,13689,{"$f":"FlashCards!AE1200","v":1197}]
[null,null,null,null,null,null,null,null,null,null,null,null,null,null,null,null,null,null,null,null,null,null,null,{"$f":"FlashCards!AQ1201","v":"4328"},4328,0,0,4328,13456,{"$f":"FlashCards!AE1201","v":1198}]
[null,null,null,null,null,null,null,null,null,null,null,null,null,null,null,null,null,null,null,null,null,null,null,{"$f":"FlashCards!AQ1202","v":"4334"},4334,0,0,4334,12100,{"$f":"FlashCards!AE1202","v":1199}]
[null,null,null,null,null,null,null,null,null,null,null,null,null,null,null,null,null,null,null,null,null,null,null,{"$f":"FlashCards!AQ1203","v":"4335"},4335,0,0,4335,11881,{"$f":"FlashCards!AE1203","v":1200}]
[null,null,null,null,null,null,null,null,null,null,null,null,null,null,null,null,null,null,null,null,null,null,null,{"$f":"FlashCards!AQ1204","v":"4336"},4336,0,0,4336,11664,{"$f":"FlashCards!AE1204","v":1201}]
[null,null,null,null,null,null,null,null,null,null,null,null,null,null,null,null,null,null,null,null,null,null,null,{"$f":"FlashCards!AQ1205","v":"4337"},4337,0,0,4337,11449,{"$f":"FlashCards!AE1205","v":1202}]
[null,null,null,null,null,null,null,null,null,null,null,null,null,null,null,null,null,null,null,null,null,null,null,{"$f":"FlashCards!AQ1206","v":"4341"},4341,0,0,4341,10609,{"$f":"FlashCards!AE1206","v":1203}]
[null,null,null,null,null,null,null,null,null,null,null,null,null,null,null,null,null,null,null,null,null,null,null,{"$f":"FlashCards!AQ1207","v":"4342"},4342,0,0,4342,10404,{"$f":"FlashCards!AE1207","v":1204}]
[null,null,null,null,null,null,null,null,null,null,null,null,null,null,null,null,null,null,null,null,null,null,null,{"$f":"FlashCards!AQ1208","v":"4352"},4352,0,0,4352,8464,{"$f":"FlashCards!AE1208","v":1205}]
[null,null,null,null,null,null,null,null,null,null,null,null,null,null,null,null,null,null,null,null,null,null,null,{"$f":"FlashCards!AQ1209","v":"4355"},4355,0,0,4355,7921,{"$f":"FlashCards!AE1209","v":1206}]
[null,null,null,null,null,null,null,null,null,null,null,null,null,null,null,null,null,null,null,null,null,null,null,{"$f":"FlashCards!AQ1210","v":"4369"},4369,0,0,4369,5625,{"$f":"FlashCards!AE1210","v":1207}]
[null,null,null,null,null,null,null,null,null,null,null,null,null,null,null,null,null,null,null,null,null,null,null,{"$f":"FlashCards!AQ1211","v":"4374"},4374,0,0,4374,4900,{"$f":"FlashCards!AE1211","v":1208}]
[null,null,null,null,null,null,null,null,null,null,null,null,null,null,null,null,null,null,null,null,null,null,null,{"$f":"FlashCards!AQ1212","v":"4383"},4383,0,0,4383,3721,{"$f":"FlashCards!AE1212","v":1209}]
[null,null,null,null,null,null,null,null,null,null,null,null,null,null,null,null,null,null,null,null,null,null,null,{"$f":"FlashCards!AQ1213","v":"4387"},4387,0,0,4387,3249,{"$f":"FlashCards!AE1213","v":1210}]
[null,null,null,null,null,null,null,null,null,null,null,null,null,null,null,null,null,null,null,null,null,null,null,{"$f":"FlashCards!AQ1214","v":"4394"},4394,0,0,4394,2500,{"$f":"FlashCards!AE1214","v":1211}]
[null,null,null,null,null,null,null,null,null,null,null,null,null,null,null,null,null,null,null,null,null,null,null,{"$f":"FlashCards!AQ1215","v":"4395"},4395,0,0,4395,2401,{"$f":"FlashCards!AE1215","v":1212}]
[null,null,null,null,null,null,null,null,null,null,null,null,null,null,null,null,null,null,null,null,null,null,null,{"$f":"FlashCards!AQ1216","v":"4396"},4396,0,0,4396,2304,{"$f":"FlashCards!AE1216","v":1213}]
[null,null,null,null,null,null,null,null,null,null,null,null,null,null,null,null,null,null,null,null,null,null,null,{"$f":"FlashCards!AQ1217","v":"4404"},4404,0,0,4404,1600,{"$f":"FlashCards!AE1217","v":1214}]
[null,null,null,null,null,null,null,null,null,null,null,null,null,null,null,null,null,null,null,null,null,null,null,{"$f":"FlashCards!AQ1218","v":"4413"},4413,0,0,4413,961,{"$f":"FlashCards!AE1218","v":1215}]
[null,null,null,null,null,null,null,null,null,null,null,null,null,null,null,null,null,null,null,null,null,null,null,{"$f":"FlashCards!AQ1219","v":"4416"},4416,0,0,4416,784,{"$f":"FlashCards!AE1219","v":1216}]
[null,null,null,null,null,null,null,null,null,null,null,null,null,null,null,null,null,null,null,null,null,null,null,{"$f":"FlashCards!AQ1220","v":"4434.5"},4434.5,0,0,4434.5,90.25,{"$f":"FlashCards!AE1220","v":1217}]
[null,null,null,null,null,null,null,null,null,null,null,null,null,null,null,null,null,null,null,null,null,null,null,{"$f":"FlashCards!AQ1221","v":"4434"},{"$f":"VALUE(X1220)","v":4434},{"$f":"IF(ISERR(FIND(\"+\",X1220,1)),0,FIND(\"+\",X1220,1))","v":0},{"$f":"IF(ISERR(FIND(\",\",X1220,1)),0,FIND(\",\",X1220,1))","v":0},{"$f":"IF(Z1220>0,VALUE(LEFT(X1220,Z1220-1)),IF(AA1220>0,VALUE(LEFT(X1220,AA1220-1)),IF(ISERR(Y1220),VALUE(LEFT(X1220,LEN(X1220)-1)),Y1220)))","v":4434},{"$f":"(AB1220-U$28)^2","v":100},{"$f":"FlashCards!AE1221","v":1218}]
[null,null,null,null,null,null,null,null,null,null,null,null,null,null,null,null,null,null,null,null,null,null,null,{"$f":"FlashCards!AQ1222","v":"4439"},4439,0,0,4439,25,{"$f":"FlashCards!AE1222","v":1219}]
[null,null,null,null,null,null,null,null,null,null,null,null,null,null,null,null,null,null,null,null,null,null,null,{"$f":"FlashCards!AQ1223","v":"4440"},4440,0,0,4440,16,{"$f":"FlashCards!AE1223","v":1220}]
[null,null,null,null,null,null,null,null,null,null,null,null,null,null,null,null,null,null,null,null,null,null,null,{"$f":"FlashCards!AQ1224","v":"4441"},4441,0,0,4441,9,{"$f":"FlashCards!AE1224","v":1221}]
[null,null,null,null,null,null,null,null,null,null,null,null,null,null,null,null,null,null,null,null,null,null,null,{"$f":"FlashCards!AQ1225","v":"4442"},4442,0,0,4442,4,{"$f":"FlashCards!AE1225","v":1222}]
[null,null,null,null,null,null,null,null,null,null,null,null,null,null,null,null,null,null,null,null,null,null,null,{"$f":"FlashCards!AQ1226","v":"4453"},4453,0,0,4453,81,{"$f":"FlashCards!AE1226","v":1223}]
[null,null,null,null,null,null,null,null,null,null,null,null,null,null,null,null,null,null,null,null,null,null,null,{"$f":"FlashCards!AQ1227","v":"4454"},4454,0,0,4454,100,{"$f":"FlashCards!AE1227","v":1224}]
[null,null,null,null,null,null,null,null,null,null,null,null,null,null,null,null,null,null,null,null,null,null,null,{"$f":"FlashCards!AQ1228","v":"4458"},4458,0,0,4458,196,{"$f":"FlashCards!AE1228","v":1225}]
[null,null,null,null,null,null,null,null,null,null,null,null,null,null,null,null,null,null,null,null,null,null,null,{"$f":"FlashCards!AQ1229","v":"4459"},4459,0,0,4459,225,{"$f":"FlashCards!AE1229","v":1226}]
[null,null,null,null,null,null,null,null,null,null,null,null,null,null,null,null,null,null,null,null,null,null,null,{"$f":"FlashCards!AQ1230","v":"4461"},4461,0,0,4461,289,{"$f":"FlashCards!AE1230","v":1227}]
[null,null,null,null,null,null,null,null,null,null,null,null,null,null,null,null,null,null,null,null,null,null,null,{"$f":"FlashCards!AQ1231","v":"4464"},4464,0,0,4464,400,{"$f":"FlashCards!AE1231","v":1228}]
[null,null,null,null,null,null,null,null,null,null,null,null,null,null,null,null,null,null,null,null,null,null,null,{"$f":"FlashCards!AQ1232","v":"4487"},4487,0,0,4487,1849,{"$f":"FlashCards!AE1232","v":1229}]
[null,null,null,null,null,null,null,null,null,null,null,null,null,null,null,null,null,null,null,null,null,null,null,{"$f":"FlashCards!AQ1233","v":"4491"},4491,0,0,4491,2209,{"$f":"FlashCards!AE1233","v":1230}]
[null,null,null,null,null,null,null,null,null,null,null,null,null,null,null,null,null,null,null,null,null,null,null,{"$f":"FlashCards!AQ1234","v":"4506"},4506,0,0,4506,3844,{"$f":"FlashCards!AE1234","v":1231}]
[null,null,null,null,null,null,null,null,null,null,null,null,null,null,null,null,null,null,null,null,null,null,null,{"$f":"FlashCards!AQ1235","v":"4514"},4514,0,0,4514,4900,{"$f":"FlashCards!AE1235","v":1232}]
[null,null,null,null,null,null,null,null,null,null,null,null,null,null,null,null,null,null,null,null,null,null,null,{"$f":"FlashCards!AQ1236","v":"4521"},4521,0,0,4521,5929,{"$f":"FlashCards!AE1236","v":1233}]
[null,null,null,null,null,null,null,null,null,null,null,null,null,null,null,null,null,null,null,null,null,null,null,{"$f":"FlashCards!AQ1237","v":"4523"},4523,0,0,4523,6241,{"$f":"FlashCards!AE1237","v":1234}]
[null,null,null,null,null,null,null,null,null,null,null,null,null,null,null,null,null,null,null,null,null,null,null,{"$f":"FlashCards!AQ1238","v":"4531"},4531,0,0,4531,7569,{"$f":"FlashCards!AE1238","v":1235}]
[null,null,null,null,null,null,null,null,null,null,null,null,null,null,null,null,null,null,null,null,null,null,null,{"$f":"FlashCards!AQ1239","v":"4536"},4536,0,0,4536,8464,{"$f":"FlashCards!AE1239","v":1236}]
[null,null,null,null,null,null,null,null,null,null,null,null,null,null,null,null,null,null,null,null,null,null,null,{"$f":"FlashCards!AQ1240","v":"4537"},4537,0,0,4537,8649,{"$f":"FlashCards!AE1240","v":1237}]
[null,null,null,null,null,null,null,null,null,null,null,null,null,null,null,null,null,null,null,null,null,null,null,{"$f":"FlashCards!AQ1241","v":"4540"},4540,0,0,4540,9216,{"$f":"FlashCards!AE1241","v":1238}]
[null,null,null,null,null,null,null,null,null,null,null,null,null,null,null,null,null,null,null,null,null,null,null,{"$f":"FlashCards!AQ1242","v":"4561"},4561,0,0,4561,13689,{"$f":"FlashCards!AE1242","v":1239}]
[null,null,null,null,null,null,null,null,null,null,null,null,null,null,null,null,null,null,null,null,null,null,null,{"$f":"FlashCards!AQ1243","v":"4567"},4567,0,0,4567,15129,{"$f":"FlashCards!AE1243","v":1240}]
[null,null,null,null,null,null,null,null,null,null,null,null,null,null,null,null,null,null,null,null,null,null,null,{"$f":"FlashCards!AQ1244","v":"4569"},4569,0,0,4569,15625,{"$f":"FlashCards!AE1244","v":1241}]
[null,null,null,null,null,null,null,null,null,null,null,null,null,null,null,null,null,null,null,null,null,null,null,{"$f":"FlashCards!AQ1245","v":"4571"},4571,0,0,4571,16129,{"$f":"FlashCards!AE1245","v":1242}]
[null,null,null,null,null,null,null,null,null,null,null,null,null,null,null,null,null,null,null,null,null,null,null,{"$f":"FlashCards!AQ1246","v":"4571.4"},4571.3999999999996,0,0,4571.3999999999996,16230.759999999907,{"$f":"FlashCards!AE1246","v":1243}]
[null,null,null,null,null,null,null,null,null,null,null,null,null,null,null,null,null,null,null,null,null,null,null,{"$f":"FlashCards!AQ1247","v":"4571.6"},4571.6000000000004,0,0,4571.6000000000004,16281.760000000093,{"$f":"FlashCards!AE1247","v":1244}]
[null,null,null,null,null,null,null,null,null,null,null,null,null,null,null,null,null,null,null,null,null,null,null,{"$f":"FlashCards!AQ1248","v":"4571.2"},4571.2,0,0,4571.2,16179.839999999953,{"$f":"FlashCards!AE1248","v":1245}]
[null,null,null,null,null,null,null,null,null,null,null,null,null,null,null,null,null,null,null,null,null,null,null,{"$f":"FlashCards!AQ1249","v":"4571"},4571,0,0,4571,16129,{"$f":"FlashCards!AE1249","v":1246}]
[null,null,null,null,null,null,null,null,null,null,null,null,null,null,null,null,null,null,null,null,null,null,null,{"$f":"FlashCards!AQ1250","v":"4572"},4572,0,0,4572,16384,{"$f":"FlashCards!AE1250","v":1247}]
[null,null,null,null,null,null,null,null,null,null,null,null,null,null,null,null,null,null,null,null,null,null,null,{"$f":"FlashCards!AQ1251","v":"4576"},4576,0,0,4576,17424,{"$f":"FlashCards!AE1251","v":1248}]
[null,null,null,null,null,null,null,null,null,null,null,null,null,null,null,null,null,null,null,null,null,null,null,{"$f":"FlashCards!AQ1252","v":"4578"},4578,0,0,4578,17956,{"$f":"FlashCards!AE1252","v":1249}]
[null,null,null,null,null,null,null,null,null,null,null,null,null,null,null,null,null,null,null,null,null,null,null,{"$f":"FlashCards!AQ1253","v":"4592"},4592,0,0,4592,21904,{"$f":"FlashCards!AE1253","v":1250}]
[null,null,null,null,null,null,null,null,null,null,null,null,null,null,null,null,null,null,null,null,null,null,null,{"$f":"FlashCards!AQ1254","v":"4594"},4594,0,0,4594,22500,{"$f":"FlashCards!AE1254","v":1251}]
[null,null,null,null,null,null,null,null,null,null,null,null,null,null,null,null,null,null,null,null,null,null,null,{"$f":"FlashCards!AQ1255","v":"4601"},4601,0,0,4601,24649,{"$f":"FlashCards!AE1255","v":1252}]
[null,null,null,null,null,null,null,null,null,null,null,null,null,null,null,null,null,null,null,null,null,null,null,{"$f":"FlashCards!AQ1256","v":"4609"},4609,0,0,4609,27225,{"$f":"FlashCards!AE1256","v":1253}]
[null,null,null,null,null,null,null,null,null,null,null,null,null,null,null,null,null,null,null,null,null,null,null,{"$f":"FlashCards!AQ1257","v":"4613"},4613,0,0,4613,28561,{"$f":"FlashCards!AE1257","v":1254}]
[null,null,null,null,null,null,null,null,null,null,null,null,null,null,null,null,null,null,null,null,null,null,null,{"$f":"FlashCards!AQ1258","v":"4621"},4621,0,0,4621,31329,{"$f":"FlashCards!AE1258","v":1255}]
[null,null,null,null,null,null,null,null,null,null,null,null,null,null,null,null,null,null,null,null,null,null,null,{"$f":"FlashCards!AQ1259","v":"4623"},4623,0,0,4623,32041,{"$f":"FlashCards!AE1259","v":1256}]
[null,null,null,null,null,null,null,null,null,null,null,null,null,null,null,null,null,null,null,null,null,null,null,{"$f":"FlashCards!AQ1260","v":"4624"},4624,0,0,4624,32400,{"$f":"FlashCards!AE1260","v":1257}]
[null,null,null,null,null,null,null,null,null,null,null,null,null,null,null,null,null,null,null,null,null,null,null,{"$f":"FlashCards!AQ1261","v":"4625"},4625,0,0,4625,32761,{"$f":"FlashCards!AE1261","v":1258}]
[null,null,null,null,null,null,null,null,null,null,null,null,null,null,null,null,null,null,null,null,null,null,null,{"$f":"FlashCards!AQ1262","v":"4632"},4632,0,0,4632,35344,{"$f":"FlashCards!AE1262","v":1259}]
[null,null,null,null,null,null,null,null,null,null,null,null,null,null,null,null,null,null,null,null,null,null,null,{"$f":"FlashCards!AQ1263","v":"4633"},4633,0,0,4633,35721,{"$f":"FlashCards!AE1263","v":1260}]
[null,null,null,null,null,null,null,null,null,null,null,null,null,null,null,null,null,null,null,null,null,null,null,{"$f":"FlashCards!AQ1264","v":"4653"},4653,0,0,4653,43681,{"$f":"FlashCards!AE1264","v":1261}]
[null,null,null,null,null,null,null,null,null,null,null,null,null,null,null,null,null,null,null,null,null,null,null,{"$f":"FlashCards!AQ1265","v":"4655"},4655,0,0,4655,44521,{"$f":"FlashCards!AE1265","v":1262}]
[null,null,null,null,null,null,null,null,null,null,null,null,null,null,null,null,null,null,null,null,null,null,null,{"$f":"FlashCards!AQ1266","v":"4671"},4671,0,0,4671,51529,{"$f":"FlashCards!AE1266","v":1263}]
[null,null,null,null,null,null,null,null,null,null,null,null,null,null,null,null,null,null,null,null,null,null,null,{"$f":"FlashCards!AQ1267","v":"4672"},4672,0,0,4672,51984,{"$f":"FlashCards!AE1267","v":1264}]
[null,null,null,null,null,null,null,null,null,null,null,null,null,null,null,null,null,null,null,null,null,null,null,{"$f":"FlashCards!AQ1268","v":"4674"},4674,0,0,4674,52900,{"$f":"FlashCards!AE1268","v":1265}]
[null,null,null,null,null,null,null,null,null,null,null,null,null,null,null,null,null,null,null,null,null,null,null,{"$f":"FlashCards!AQ1269","v":"4674"},4674,0,0,4674,52900,{"$f":"FlashCards!AE1269","v":1266}]
[null,null,null,null,null,null,null,null,null,null,null,null,null,null,null,null,null,null,null,null,null,null,null,{"$f":"FlashCards!AQ1270","v":"4674"},4674,0,0,4674,52900,{"$f":"FlashCards!AE1270","v":1267}]
[null,null,null,null,null,null,null,null,null,null,null,null,null,null,null,null,null,null,null,null,null,null,null,{"$f":"FlashCards!AQ1271","v":"4674"},4674,0,0,4674,52900,{"$f":"FlashCards!AE1271","v":1268}]
[null,null,null,null,null,null,null,null,null,null,null,null,null,null,null,null,null,null,null,null,null,null,null,{"$f":"FlashCards!AQ1272","v":"4678"},4678,0,0,4678,54756,{"$f":"FlashCards!AE1272","v":1269}]
[null,null,null,null,null,null,null,null,null,null,null,null,null,null,null,null,null,null,null,null,null,null,null,{"$f":"FlashCards!AQ1273","v":"4680"},4680,0,0,4680,55696,{"$f":"FlashCards!AE1273","v":1270}]
[null,null,null,null,null,null,null,null,null,null,null,null,null,null,null,null,null,null,null,null,null,null,null,{"$f":"FlashCards!AQ1274","v":"4687"},4687,0,0,4687,59049,{"$f":"FlashCards!AE1274","v":1271}]
[null,null,null,null,null,null,null,null,null,null,null,null,null,null,null,null,null,null,null,null,null,null,null,{"$f":"FlashCards!AQ1275","v":"4690"},4690,0,0,4690,60516,{"$f":"FlashCards!AE1275","v":1272}]
[null,null,null,null,null,null,null,null,null,null,null,null,null,null,null,null,null,null,null,null,null,null,null,{"$f":"FlashCards!AQ1276","v":"4697"},4697,0,0,4697,64009,{"$f":"FlashCards!AE1276","v":1273}]
[null,null,null,null,null,null,null,null,null,null,null,null,null,null,null,null,null,null,null,null,null,null,null,{"$f":"FlashCards!AQ1277","v":"4698"},4698,0,0,4698,64516,{"$f":"FlashCards!AE1277","v":1274}]
[null,null,null,null,null,null,null,null,null,null,null,null,null,null,null,null,null,null,null,null,null,null,null,{"$f":"FlashCards!AQ1278","v":"4704"},4704,0,0,4704,67600,{"$f":"FlashCards!AE1278","v":1275}]
[null,null,null,null,null,null,null,null,null,null,null,null,null,null,null,null,null,null,null,null,null,null,null,{"$f":"FlashCards!AQ1279","v":"4710"},4710,0,0,4710,70756,{"$f":"FlashCards!AE1279","v":1276}]
[null,null,null,null,null,null,null,null,null,null,null,null,null,null,null,null,null,null,null,null,null,null,null,{"$f":"FlashCards!AQ1280","v":"4716"},4716,0,0,4716,73984,{"$f":"FlashCards!AE1280","v":1277}]
[null,null,null,null,null,null,null,null,null,null,null,null,null,null,null,null,null,null,null,null,null,null,null,{"$f":"FlashCards!AQ1281","v":"4717"},4717,0,0,4717,74529,{"$f":"FlashCards!AE1281","v":1278}]
[null,null,null,null,null,null,null,null,null,null,null,null,null,null,null,null,null,null,null,null,null,null,null,{"$f":"FlashCards!AQ1282","v":"4735"},4735,0,0,4735,84681,{"$f":"FlashCards!AE1282","v":1279}]
[null,null,null,null,null,null,null,null,null,null,null,null,null,null,null,null,null,null,null,null,null,null,null,{"$f":"FlashCards!AQ1283","v":"4739"},4739,0,0,4739,87025,{"$f":"FlashCards!AE1283","v":1280}]
[null,null,null,null,null,null,null,null,null,null,null,null,null,null,null,null,null,null,null,null,null,null,null,{"$f":"FlashCards!AQ1284","v":"4741"},4741,0,0,4741,88209,{"$f":"FlashCards!AE1284","v":1281}]
[null,null,null,null,null,null,null,null,null,null,null,null,null,null,null,null,null,null,null,null,null,null,null,{"$f":"FlashCards!AQ1285","v":"4750"},{"$f":"VALUE(X1284)","v":4750},{"$f":"IF(ISERR(FIND(\"+\",X1284,1)),0,FIND(\"+\",X1284,1))","v":0},{"$f":"IF(ISERR(FIND(\",\",X1284,1)),0,FIND(\",\",X1284,1))","v":0},{"$f":"IF(Z1284>0,VALUE(LEFT(X1284,Z1284-1)),IF(AA1284>0,VALUE(LEFT(X1284,AA1284-1)),IF(ISERR(Y1284),VALUE(LEFT(X1284,LEN(X1284)-1)),Y1284)))","v":4750},{"$f":"(AB1284-U$28)^2","v":93636},{"$f":"FlashCards!AE1285","v":1282}]
[null,null,null,null,null,null,null,null,null,null,null,null,null,null,null,null,null,null,null,null,null,null,null,{"$f":"FlashCards!AQ1286","v":"4755"},4755,0,0,4755,96721,{"$f":"FlashCards!AE1286","v":1283}]
[null,null,null,null,null,null,null,null,null,null,null,null,null,null,null,null,null,null,null,null,null,null,null,{"$f":"FlashCards!AQ1287","v":"4757"},4757,0,0,4757,97969,{"$f":"FlashCards!AE1287","v":1284}]
[null,null,null,null,null,null,null,null,null,null,null,null,null,null,null,null,null,null,null,null,null,null,null,{"$f":"FlashCards!AQ1288","v":"4762"},4762,0,0,4762,101124,{"$f":"FlashCards!AE1288","v":1285}]
[null,null,null,null,null,null,null,null,null,null,null,null,null,null,null,null,null,null,null,null,null,null,null,{"$f":"FlashCards!AQ1289","v":"4771.5"},4771.5,0,0,4771.5,107256.25,{"$f":"FlashCards!AE1289","v":1286}]
[null,null,null,null,null,null,null,null,null,null,null,null,null,null,null,null,null,null,null,null,null,null,null,{"$f":"FlashCards!AQ1290","v":"4771"},4771,0,0,4771,106929,{"$f":"FlashCards!AE1290","v":1287}]
[null,null,null,null,null,null,null,null,null,null,null,null,null,null,null,null,null,null,null,null,null,null,null,{"$f":"FlashCards!AQ1291","v":"4773.5"},4773.5,0,0,4773.5,108570.25,{"$f":"FlashCards!AE1291","v":1288}]
[null,null,null,null,null,null,null,null,null,null,null,null,null,null,null,null,null,null,null,null,null,null,null,{"$f":"FlashCards!AQ1292","v":"4773.1"},4773.1000000000004,0,0,4773.1000000000004,108306.81000000025,{"$f":"FlashCards!AE1292","v":1289}]
[null,null,null,null,null,null,null,null,null,null,null,null,null,null,null,null,null,null,null,null,null,null,null,{"$f":"FlashCards!AQ1293","v":"4773"},4773,0,0,4773,108241,{"$f":"FlashCards!AE1293","v":1290}]
[null,null,null,null,null,null,null,null,null,null,null,null,null,null,null,null,null,null,null,null,null,null,null,{"$f":"FlashCards!AQ1294","v":"4802"},4802,0,0,4802,128164,{"$f":"FlashCards!AE1294","v":1291}]
[null,null,null,null,null,null,null,null,null,null,null,null,null,null,null,null,null,null,null,null,null,null,null,{"$f":"FlashCards!AQ1295","v":"4808"},4808,0,0,4808,132496,{"$f":"FlashCards!AE1295","v":1292}]
[null,null,null,null,null,null,null,null,null,null,null,null,null,null,null,null,null,null,null,null,null,null,null,{"$f":"FlashCards!AQ1296","v":"4815"},4815,0,0,4815,137641,{"$f":"FlashCards!AE1296","v":1293}]
[null,null,null,null,null,null,null,null,null,null,null,null,null,null,null,null,null,null,null,null,null,null,null,{"$f":"FlashCards!AQ1297","v":"4819"},4819,0,0,4819,140625,{"$f":"FlashCards!AE1297","v":1294}]
[null,null,null,null,null,null,null,null,null,null,null,null,null,null,null,null,null,null,null,null,null,null,null,{"$f":"FlashCards!AQ1298","v":"4851"},4851,0,0,4851,165649,{"$f":"FlashCards!AE1298","v":1295}]
[null,null,null,null,null,null,null,null,null,null,null,null,null,null,null,null,null,null,null,null,null,null,null,{"$f":"FlashCards!AQ1299","v":"4862"},4862,0,0,4862,174724,{"$f":"FlashCards!AE1299","v":1296}]
[null,null,null,null,null,null,null,null,null,null,null,null,null,null,null,null,null,null,null,null,null,null,null,{"$f":"FlashCards!AQ1300","v":"4863"},4863,0,0,4863,175561,{"$f":"FlashCards!AE1300","v":1297}]
[null,null,null,null,null,null,null,null,null,null,null,null,null,null,null,null,null,null,null,null,null,null,null,{"$f":"FlashCards!AQ1301","v":"4864"},4864,0,0,4864,176400,{"$f":"FlashCards!AE1301","v":1298}]
[null,null,null,null,null,null,null,null,null,null,null,null,null,null,null,null,null,null,null,null,null,null,null,{"$f":"FlashCards!AQ1302","v":"4871"},4871,0,0,4871,182329,{"$f":"FlashCards!AE1302","v":1299}]
[null,null,null,null,null,null,null,null,null,null,null,null,null,null,null,null,null,null,null,null,null,null,null,{"$f":"FlashCards!AQ1303","v":"4889"},4889,0,0,4889,198025,{"$f":"FlashCards!AE1303","v":1300}]
[null,null,null,null,null,null,null,null,null,null,null,null,null,null,null,null,null,null,null,null,null,null,null,{"$f":"FlashCards!AQ1304","v":"4892"},4892,0,0,4892,200704,{"$f":"FlashCards!AE1304","v":1301}]
[null,null,null,null,null,null,null,null,null,null,null,null,null,null,null,null,null,null,null,null,null,null,null,{"$f":"FlashCards!AQ1305","v":"4893"},4893,0,0,4893,201601,{"$f":"FlashCards!AE1305","v":1302}]
[null,null,null,null,null,null,null,null,null,null,null,null,null,null,null,null,null,null,null,null,null,null,null,{"$f":"FlashCards!AQ1306","v":"4904"},4904,0,0,4904,211600,{"$f":"FlashCards!AE1306","v":1303}]
[null,null,null,null,null,null,null,null,null,null,null,null,null,null,null,null,null,null,null,null,null,null,null,{"$f":"FlashCards!AQ1307","v":"4905"},4905,0,0,4905,212521,{"$f":"FlashCards!AE1307","v":1304}]
[null,null,null,null,null,null,null,null,null,null,null,null,null,null,null,null,null,null,null,null,null,null,null,{"$f":"FlashCards!AQ1308","v":"4912"},4912,0,0,4912,219024,{"$f":"FlashCards!AE1308","v":1305}]
[null,null,null,null,null,null,null,null,null,null,null,null,null,null,null,null,null,null,null,null,null,null,null,{"$f":"FlashCards!AQ1309","v":"4920"},4920,0,0,4920,226576,{"$f":"FlashCards!AE1309","v":1306}]
[null,null,null,null,null,null,null,null,null,null,null,null,null,null,null,null,null,null,null,null,null,null,null,{"$f":"FlashCards!AQ1310","v":"4921"},4921,0,0,4921,227529,{"$f":"FlashCards!AE1310","v":1307}]
[null,null,null,null,null,null,null,null,null,null,null,null,null,null,null,null,null,null,null,null,null,null,null,{"$f":"FlashCards!AQ1311","v":"4969"},4969,0,0,4969,275625,{"$f":"FlashCards!AE1311","v":1308}]
[null,null,null,null,null,null,null,null,null,null,null,null,null,null,null,null,null,null,null,null,null,null,null,{"$f":"FlashCards!AQ1312","v":"4970"},4970,0,0,4970,276676,{"$f":"FlashCards!AE1312","v":1309}]
[null,null,null,null,null,null,null,null,null,null,null,null,null,null,null,null,null,null,null,null,null,null,null,{"$f":"FlashCards!AQ1313","v":"4972"},4972,0,0,4972,278784,{"$f":"FlashCards!AE1313","v":1310}]
[null,null,null,null,null,null,null,null,null,null,null,null,null,null,null,null,null,null,null,null,null,null,null,{"$f":"FlashCards!AQ1314","v":"4973"},4973,0,0,4973,279841,{"$f":"FlashCards!AE1314","v":1311}]
[null,null,null,null,null,null,null,null,null,null,null,null,null,null,null,null,null,null,null,null,null,null,null,{"$f":"FlashCards!AQ1315","v":"4977"},4977,0,0,4977,284089,{"$f":"FlashCards!AE1315","v":1312}]
[null,null,null,null,null,null,null,null,null,null,null,null,null,null,null,null,null,null,null,null,null,null,null,{"$f":"FlashCards!AQ1316","v":"4982"},4982,0,0,4982,289444,{"$f":"FlashCards!AE1316","v":1313}]
[null,null,null,null,null,null,null,null,null,null,null,null,null,null,null,null,null,null,null,null,null,null,null,{"$f":"FlashCards!AQ1317","v":"4982.8"},4982.8,0,0,4982.8,290305.44000000018,{"$f":"FlashCards!AE1317","v":1314}]
[null,null,null,null,null,null,null,null,null,null,null,null,null,null,null,null,null,null,null,null,null,null,null,{"$f":"FlashCards!AQ1318","v":"4983"},4983,0,0,4983,290521,{"$f":"FlashCards!AE1318","v":1315}]
[null,null,null,null,null,null,null,null,null,null,null,null,null,null,null,null,null,null,null,null,null,null,null,{"$f":"FlashCards!AQ1319","v":"4990"},4990,0,0,4990,298116,{"$f":"FlashCards!AE1319","v":1316}]
[null,null,null,null,null,null,null,null,null,null,null,null,null,null,null,null,null,null,null,null,null,null,null,{"$f":"FlashCards!AQ1320","v":"4991"},4991,0,0,4991,299209,{"$f":"FlashCards!AE1320","v":1317}]
[null,null,null,null,null,null,null,null,null,null,null,null,null,null,null,null,null,null,null,null,null,null,null,{"$f":"FlashCards!AQ1321","v":"5007"},5007,0,0,5007,316969,{"$f":"FlashCards!AE1321","v":1318}]
[null,null,null,null,null,null,null,null,null,null,null,null,null,null,null,null,null,null,null,null,null,null,null,{"$f":"FlashCards!AQ1322","v":"5013"},5013,0,0,5013,323761,{"$f":"FlashCards!AE1322","v":1319}]
[null,null,null,null,null,null,null,null,null,null,null,null,null,null,null,null,null,null,null,null,null,null,null,{"$f":"FlashCards!AQ1323","v":"5015"},5015,0,0,5015,326041,{"$f":"FlashCards!AE1323","v":1320}]
[null,null,null,null,null,null,null,null,null,null,null,null,null,null,null,null,null,null,null,null,null,null,null,{"$f":"FlashCards!AQ1324","v":"5023"},5023,0,0,5023,335241,{"$f":"FlashCards!AE1324","v":1321}]
[null,null,null,null,null,null,null,null,null,null,null,null,null,null,null,null,null,null,null,null,null,null,null,{"$f":"FlashCards!AQ1325","v":"5025"},5025,0,0,5025,337561,{"$f":"FlashCards!AE1325","v":1322}]
[null,null,null,null,null,null,null,null,null,null,null,null,null,null,null,null,null,null,null,null,null,null,null,{"$f":"FlashCards!AQ1326","v":"5026"},5026,0,0,5026,338724,{"$f":"FlashCards!AE1326","v":1323}]
[null,null,null,null,null,null,null,null,null,null,null,null,null,null,null,null,null,null,null,null,null,null,null,{"$f":"FlashCards!AQ1327","v":"5030"},5030,0,0,5030,343396,{"$f":"FlashCards!AE1327","v":1324}]
[null,null,null,null,null,null,null,null,null,null,null,null,null,null,null,null,null,null,null,null,null,null,null,{"$f":"FlashCards!AQ1328","v":"5036"},5036,0,0,5036,350464,{"$f":"FlashCards!AE1328","v":1325}]
[null,null,null,null,null,null,null,null,null,null,null,null,null,null,null,null,null,null,null,null,null,null,null,{"$f":"FlashCards!AQ1329","v":"5037"},5037,0,0,5037,351649,{"$f":"FlashCards!AE1329","v":1326}]
[null,null,null,null,null,null,null,null,null,null,null,null,null,null,null,null,null,null,null,null,null,null,null,{"$f":"FlashCards!AQ1330","v":"5037+2532"},{"$error":"#VALUE!"},5,0,5037,351649,{"$f":"FlashCards!AE1330","v":1327}]
[null,null,null,null,null,null,null,null,null,null,null,null,null,null,null,null,null,null,null,null,null,null,null,{"$f":"FlashCards!AQ1331","v":"5039"},5039,0,0,5039,354025,{"$f":"FlashCards!AE1331","v":1328}]
[null,null,null,null,null,null,null,null,null,null,null,null,null,null,null,null,null,null,null,null,null,null,null,{"$f":"FlashCards!AQ1332","v":"5040"},5040,0,0,5040,355216,{"$f":"FlashCards!AE1332","v":1329}]
[null,null,null,null,null,null,null,null,null,null,null,null,null,null,null,null,null,null,null,null,null,null,null,{"$f":"FlashCards!AQ1333","v":"5043"},5043,0,0,5043,358801,{"$f":"FlashCards!AE1333","v":1330}]
[null,null,null,null,null,null,null,null,null,null,null,null,null,null,null,null,null,null,null,null,null,null,null,{"$f":"FlashCards!AQ1334","v":"5046"},5046,0,0,5046,362404,{"$f":"FlashCards!AE1334","v":1331}]
[null,null,null,null,null,null,null,null,null,null,null,null,null,null,null,null,null,null,null,null,null,null,null,{"$f":"FlashCards!AQ1335","v":"5048"},5048,0,0,5048,364816,{"$f":"FlashCards!AE1335","v":1332}]
[null,null,null,null,null,null,null,null,null,null,null,null,null,null,null,null,null,null,null,null,null,null,null,{"$f":"FlashCards!AQ1336","v":"5053"},5053,0,0,5053,370881,{"$f":"FlashCards!AE1336","v":1333}]
[null,null,null,null,null,null,null,null,null,null,null,null,null,null,null,null,null,null,null,null,null,null,null,{"$f":"FlashCards!AQ1337","v":"5055"},5055,0,0,5055,373321,{"$f":"FlashCards!AE1337","v":1334}]
[null,null,null,null,null,null,null,null,null,null,null,null,null,null,null,null,null,null,null,null,null,null,null,{"$f":"FlashCards!AQ1338","v":"5056"},5056,0,0,5056,374544,{"$f":"FlashCards!AE1338","v":1335}]
[null,null,null,null,null,null,null,null,null,null,null,null,null,null,null,null,null,null,null,null,null,null,null,{"$f":"FlashCards!AQ1339","v":"5057"},5057,0,0,5057,375769,{"$f":"FlashCards!AE1339","v":1336}]
[null,null,null,null,null,null,null,null,null,null,null,null,null,null,null,null,null,null,null,null,null,null,null,{"$f":"FlashCards!AQ1340","v":"5059"},5059,0,0,5059,378225,{"$f":"FlashCards!AE1340","v":1337}]
[null,null,null,null,null,null,null,null,null,null,null,null,null,null,null,null,null,null,null,null,null,null,null,{"$f":"FlashCards!AQ1341","v":"5062"},5062,0,0,5062,381924,{"$f":"FlashCards!AE1341","v":1338}]
[null,null,null,null,null,null,null,null,null,null,null,null,null,null,null,null,null,null,null,null,null,null,null,{"$f":"FlashCards!AQ1342","v":"5064"},5064,0,0,5064,384400,{"$f":"FlashCards!AE1342","v":1339}]
[null,null,null,null,null,null,null,null,null,null,null,null,null,null,null,null,null,null,null,null,null,null,null,{"$f":"FlashCards!AQ1343","v":"5067"},5067,0,0,5067,388129,{"$f":"FlashCards!AE1343","v":1340}]
[null,null,null,null,null,null,null,null,null,null,null,null,null,null,null,null,null,null,null,null,null,null,null,{"$f":"FlashCards!AQ1344","v":"5083"},5083,0,0,5083,408321,{"$f":"FlashCards!AE1344","v":1341}]
[null,null,null,null,null,null,null,null,null,null,null,null,null,null,null,null,null,null,null,null,null,null,null,{"$f":"FlashCards!AQ1345","v":"5087"},5087,0,0,5087,413449,{"$f":"FlashCards!AE1345","v":1342}]
[null,null,null,null,null,null,null,null,null,null,null,null,null,null,null,null,null,null,null,null,null,null,null,{"$f":"FlashCards!AQ1346","v":"5088"},5088,0,0,5088,414736,{"$f":"FlashCards!AE1346","v":1343}]
[null,null,null,null,null,null,null,null,null,null,null,null,null,null,null,null,null,null,null,null,null,null,null,{"$f":"FlashCards!AQ1347","v":"5091"},5091,0,0,5091,418609,{"$f":"FlashCards!AE1347","v":1344}]
[null,null,null,null,null,null,null,null,null,null,null,null,null,null,null,null,null,null,null,null,null,null,null,{"$f":"FlashCards!AQ1348","v":"5092"},5092,0,0,5092,419904,{"$f":"FlashCards!AE1348","v":1345}]
[null,null,null,null,null,null,null,null,null,null,null,null,null,null,null,null,null,null,null,null,null,null,null,{"$f":"FlashCards!AQ1349","v":"5093"},{"$f":"VALUE(X1348)","v":5093},{"$f":"IF(ISERR(FIND(\"+\",X1348,1)),0,FIND(\"+\",X1348,1))","v":0},{"$f":"IF(ISERR(FIND(\",\",X1348,1)),0,FIND(\",\",X1348,1))","v":0},{"$f":"IF(Z1348>0,VALUE(LEFT(X1348,Z1348-1)),IF(AA1348>0,VALUE(LEFT(X1348,AA1348-1)),IF(ISERR(Y1348),VALUE(LEFT(X1348,LEN(X1348)-1)),Y1348)))","v":5093},{"$f":"(AB1348-U$28)^2","v":421201},{"$f":"FlashCards!AE1349","v":1346}]
[null,null,null,null,null,null,null,null,null,null,null,null,null,null,null,null,null,null,null,null,null,null,null,{"$f":"FlashCards!AQ1350","v":"5095"},5095,0,0,5095,423801,{"$f":"FlashCards!AE1350","v":1347}]
[null,null,null,null,null,null,null,null,null,null,null,null,null,null,null,null,null,null,null,null,null,null,null,{"$f":"FlashCards!AQ1351","v":"5100"},5100,0,0,5100,430336,{"$f":"FlashCards!AE1351","v":1348}]
[null,null,null,null,null,null,null,null,null,null,null,null,null,null,null,null,null,null,null,null,null,null,null,{"$f":"FlashCards!AQ1352","v":"5100"},5100,0,0,5100,430336,{"$f":"FlashCards!AE1352","v":1349}]
[null,null,null,null,null,null,null,null,null,null,null,null,null,null,null,null,null,null,null,null,null,null,null,{"$f":"FlashCards!AQ1353","v":"5100"},5100,0,0,5100,430336,{"$f":"FlashCards!AE1353","v":1350}]
[null,null,null,null,null,null,null,null,null,null,null,null,null,null,null,null,null,null,null,null,null,null,null,{"$f":"FlashCards!AQ1354","v":"5100"},5100,0,0,5100,430336,{"$f":"FlashCards!AE1354","v":1351}]
[null,null,null,null,null,null,null,null,null,null,null,null,null,null,null,null,null,null,null,null,null,null,null,{"$f":"FlashCards!AQ1355","v":"5100"},5100,0,0,5100,430336,{"$f":"FlashCards!AE1355","v":1352}]
[null,null,null,null,null,null,null,null,null,null,null,null,null,null,null,null,null,null,null,null,null,null,null,{"$f":"FlashCards!AQ1356","v":"5100"},5100,0,0,5100,430336,{"$f":"FlashCards!AE1356","v":1353}]
[null,null,null,null,null,null,null,null,null,null,null,null,null,null,null,null,null,null,null,null,null,null,null,{"$f":"FlashCards!AQ1357","v":"5100"},5100,0,0,5100,430336,{"$f":"FlashCards!AE1357","v":1354}]
[null,null,null,null,null,null,null,null,null,null,null,null,null,null,null,null,null,null,null,null,null,null,null,{"$f":"FlashCards!AQ1358","v":"5100"},5100,0,0,5100,430336,{"$f":"FlashCards!AE1358","v":1355}]
[null,null,null,null,null,null,null,null,null,null,null,null,null,null,null,null,null,null,null,null,null,null,null,{"$f":"FlashCards!AQ1359","v":"5100"},5100,0,0,5100,430336,{"$f":"FlashCards!AE1359","v":1356}]
[null,null,null,null,null,null,null,null,null,null,null,null,null,null,null,null,null,null,null,null,null,null,null,{"$f":"FlashCards!AQ1360","v":"5101"},5101,0,0,5101,431649,{"$f":"FlashCards!AE1360","v":1357}]
[null,null,null,null,null,null,null,null,null,null,null,null,null,null,null,null,null,null,null,null,null,null,null,{"$f":"FlashCards!AQ1361","v":"5101"},5101,0,0,5101,431649,{"$f":"FlashCards!AE1361","v":1358}]
[null,null,null,null,null,null,null,null,null,null,null,null,null,null,null,null,null,null,null,null,null,null,null,{"$f":"FlashCards!AQ1362","v":"5101"},5101,0,0,5101,431649,{"$f":"FlashCards!AE1362","v":1359}]
[null,null,null,null,null,null,null,null,null,null,null,null,null,null,null,null,null,null,null,null,null,null,null,{"$f":"FlashCards!AQ1363","v":"5101"},5101,0,0,5101,431649,{"$f":"FlashCards!AE1363","v":1360}]
[null,null,null,null,null,null,null,null,null,null,null,null,null,null,null,null,null,null,null,null,null,null,null,{"$f":"FlashCards!AQ1364","v":"5100"},5100,0,0,5100,430336,{"$f":"FlashCards!AE1364","v":1361}]
[null,null,null,null,null,null,null,null,null,null,null,null,null,null,null,null,null,null,null,null,null,null,null,{"$f":"FlashCards!AQ1365","v":"5101"},5101,0,0,5101,431649,{"$f":"FlashCards!AE1365","v":1362}]
[null,null,null,null,null,null,null,null,null,null,null,null,null,null,null,null,null,null,null,null,null,null,null,{"$f":"FlashCards!AQ1366","v":"5101"},5101,0,0,5101,431649,{"$f":"FlashCards!AE1366","v":1363}]
[null,null,null,null,null,null,null,null,null,null,null,null,null,null,null,null,null,null,null,null,null,null,null,{"$f":"FlashCards!AQ1367","v":"5101"},5101,0,0,5101,431649,{"$f":"FlashCards!AE1367","v":1364}]
[null,null,null,null,null,null,null,null,null,null,null,null,null,null,null,null,null,null,null,null,null,null,null,{"$f":"FlashCards!AQ1368","v":"5101"},5101,0,0,5101,431649,{"$f":"FlashCards!AE1368","v":1365}]
[null,null,null,null,null,null,null,null,null,null,null,null,null,null,null,null,null,null,null,null,null,null,null,{"$f":"FlashCards!AQ1369","v":"5103"},5103,0,0,5103,434281,{"$f":"FlashCards!AE1369","v":1366}]
[null,null,null,null,null,null,null,null,null,null,null,null,null,null,null,null,null,null,null,null,null,null,null,{"$f":"FlashCards!AQ1370","v":"5104"},5104,0,0,5104,435600,{"$f":"FlashCards!AE1370","v":1367}]
[null,null,null,null,null,null,null,null,null,null,null,null,null,null,null,null,null,null,null,null,null,null,null,{"$f":"FlashCards!AQ1371","v":"5106"},5106,0,0,5106,438244,{"$f":"FlashCards!AE1371","v":1368}]
[null,null,null,null,null,null,null,null,null,null,null,null,null,null,null,null,null,null,null,null,null,null,null,{"$f":"FlashCards!AQ1372","v":"5108"},5108,0,0,5108,440896,{"$f":"FlashCards!AE1372","v":1369}]
[null,null,null,null,null,null,null,null,null,null,null,null,null,null,null,null,null,null,null,null,null,null,null,{"$f":"FlashCards!AQ1373","v":"5111"},5111,0,0,5111,444889,{"$f":"FlashCards!AE1373","v":1370}]
[null,null,null,null,null,null,null,null,null,null,null,null,null,null,null,null,null,null,null,null,null,null,null,{"$f":"FlashCards!AQ1374","v":"5117"},5117,0,0,5117,452929,{"$f":"FlashCards!AE1374","v":1371}]
[null,null,null,null,null,null,null,null,null,null,null,null,null,null,null,null,null,null,null,null,null,null,null,{"$f":"FlashCards!AQ1375","v":"5118"},5118,0,0,5118,454276,{"$f":"FlashCards!AE1375","v":1372}]
[null,null,null,null,null,null,null,null,null,null,null,null,null,null,null,null,null,null,null,null,null,null,null,{"$f":"FlashCards!AQ1376","v":"5119"},5119,0,0,5119,455625,{"$f":"FlashCards!AE1376","v":1373}]
[null,null,null,null,null,null,null,null,null,null,null,null,null,null,null,null,null,null,null,null,null,null,null,{"$f":"FlashCards!AQ1377","v":"5124"},5124,0,0,5124,462400,{"$f":"FlashCards!AE1377","v":1374}]
[null,null,null,null,null,null,null,null,null,null,null,null,null,null,null,null,null,null,null,null,null,null,null,{"$f":"FlashCards!AQ1378","v":"5124.2"},5124.2,0,0,5124.2,462672.03999999975,{"$f":"FlashCards!AE1378","v":1375}]
[null,null,null,null,null,null,null,null,null,null,null,null,null,null,null,null,null,null,null,null,null,null,null,{"$f":"FlashCards!AQ1379","v":"5125"},5125,0,0,5125,463761,{"$f":"FlashCards!AE1379","v":1376}]
[null,null,null,null,null,null,null,null,null,null,null,null,null,null,null,null,null,null,null,null,null,null,null,{"$f":"FlashCards!AQ1380","v":"5126"},5126,0,0,5126,465124,{"$f":"FlashCards!AE1380","v":1377}]
[null,null,null,null,null,null,null,null,null,null,null,null,null,null,null,null,null,null,null,null,null,null,null,{"$f":"FlashCards!AQ1381","v":"5127"},5127,0,0,5127,466489,{"$f":"FlashCards!AE1381","v":1378}]
[null,null,null,null,null,null,null,null,null,null,null,null,null,null,null,null,null,null,null,null,null,null,null,{"$f":"FlashCards!AQ1382","v":"1537, 5127"},{"$error":"#VALUE!"},0,5,1537,8450649,{"$f":"FlashCards!AE1382","v":1379}]
[null,null,null,null,null,null,null,null,null,null,null,null,null,null,null,null,null,null,null,null,null,null,null,{"$f":"FlashCards!AQ1383","v":"5128"},5128,0,0,5128,467856,{"$f":"FlashCards!AE1383","v":1380}]
[null,null,null,null,null,null,null,null,null,null,null,null,null,null,null,null,null,null,null,null,null,null,null,{"$f":"FlashCards!AQ1384","v":"5129"},5129,0,0,5129,469225,{"$f":"FlashCards!AE1384","v":1381}]
[null,null,null,null,null,null,null,null,null,null,null,null,null,null,null,null,null,null,null,null,null,null,null,{"$f":"FlashCards!AQ1385","v":"5130"},5130,0,0,5130,470596,{"$f":"FlashCards!AE1385","v":1382}]
[null,null,null,null,null,null,null,null,null,null,null,null,null,null,null,null,null,null,null,null,null,null,null,{"$f":"FlashCards!AQ1386","v":"5132"},5132,0,0,5132,473344,{"$f":"FlashCards!AE1386","v":1383}]
[null,null,null,null,null,null,null,null,null,null,null,null,null,null,null,null,null,null,null,null,null,null,null,{"$f":"FlashCards!AQ1387","v":"5140"},5140,0,0,5140,484416,{"$f":"FlashCards!AE1387","v":1384}]
[null,null,null,null,null,null,null,null,null,null,null,null,null,null,null,null,null,null,null,null,null,null,null,{"$f":"FlashCards!AQ1388","v":"5140.5"},5140.5,0,0,5140.5,485112.25,{"$f":"FlashCards!AE1388","v":1385}]
[null,null,null,null,null,null,null,null,null,null,null,null,null,null,null,null,null,null,null,null,null,null,null,{"$f":"FlashCards!AQ1389","v":"5143"},5143,0,0,5143,488601,{"$f":"FlashCards!AE1389","v":1386}]
[null,null,null,null,null,null,null,null,null,null,null,null,null,null,null,null,null,null,null,null,null,null,null,{"$f":"FlashCards!AQ1390","v":"5144"},5144,0,0,5144,490000,{"$f":"FlashCards!AE1390","v":1387}]
[null,null,null,null,null,null,null,null,null,null,null,null,null,null,null,null,null,null,null,null,null,null,null,{"$f":"FlashCards!AQ1391","v":"5151"},5151,0,0,5151,499849,{"$f":"FlashCards!AE1391","v":1388}]
[null,null,null,null,null,null,null,null,null,null,null,null,null,null,null,null,null,null,null,null,null,null,null,{"$f":"FlashCards!AQ1392","v":"5154"},5154,0,0,5154,504100,{"$f":"FlashCards!AE1392","v":1389}]
[null,null,null,null,null,null,null,null,null,null,null,null,null,null,null,null,null,null,null,null,null,null,null,{"$f":"FlashCards!AQ1393","v":"5158"},5158,0,0,5158,509796,{"$f":"FlashCards!AE1393","v":1390}]
[null,null,null,null,null,null,null,null,null,null,null,null,null,null,null,null,null,null,null,null,null,null,null,{"$f":"FlashCards!AQ1394","v":"5160"},5160,0,0,5160,512656,{"$f":"FlashCards!AE1394","v":1391}]
[null,null,null,null,null,null,null,null,null,null,null,null,null,null,null,null,null,null,null,null,null,null,null,{"$f":"FlashCards!AQ1395","v":"5177"},5177,0,0,5177,537289,{"$f":"FlashCards!AE1395","v":1392}]
[null,null,null,null,null,null,null,null,null,null,null,null,null,null,null,null,null,null,null,null,null,null,null,{"$f":"FlashCards!AQ1396","v":"5179"},5179,0,0,5179,540225,{"$f":"FlashCards!AE1396","v":1393}]
[null,null,null,null,null,null,null,null,null,null,null,null,null,null,null,null,null,null,null,null,null,null,null,{"$f":"FlashCards!AQ1397","v":"5180"},5180,0,0,5180,541696,{"$f":"FlashCards!AE1397","v":1394}]
[null,null,null,null,null,null,null,null,null,null,null,null,null,null,null,null,null,null,null,null,null,null,null,{"$f":"FlashCards!AQ1398","v":"5184"},5184,0,0,5184,547600,{"$f":"FlashCards!AE1398","v":1395}]
[null,null,null,null,null,null,null,null,null,null,null,null,null,null,null,null,null,null,null,null,null,null,null,{"$f":"FlashCards!AQ1399","v":"5185"},5185,0,0,5185,549081,{"$f":"FlashCards!AE1399","v":1396}]
[null,null,null,null,null,null,null,null,null,null,null,null,null,null,null,null,null,null,null,null,null,null,null,{"$f":"FlashCards!AQ1400","v":"5198"},5198,0,0,5198,568516,{"$f":"FlashCards!AE1400","v":1397}]
[null,null,null,null,null,null,null,null,null,null,null,null,null,null,null,null,null,null,null,null,null,null,null,{"$f":"FlashCards!AQ1401","v":"5199"},5199,0,0,5199,570025,{"$f":"FlashCards!AE1401","v":1398}]
[null,null,null,null,null,null,null,null,null,null,null,null,null,null,null,null,null,null,null,null,null,null,null,{"$f":"FlashCards!AQ1402","v":"5204"},5204,0,0,5204,577600,{"$f":"FlashCards!AE1402","v":1399}]
[null,null,null,null,null,null,null,null,null,null,null,null,null,null,null,null,null,null,null,null,null,null,null,{"$f":"FlashCards!AQ1403","v":"5207"},5207,0,0,5207,582169,{"$f":"FlashCards!AE1403","v":1400}]
[null,null,null,null,null,null,null,null,null,null,null,null,null,null,null,null,null,null,null,null,null,null,null,{"$f":"FlashCards!AQ1404","v":"5209"},5209,0,0,5209,585225,{"$f":"FlashCards!AE1404","v":1401}]
[null,null,null,null,null,null,null,null,null,null,null,null,null,null,null,null,null,null,null,null,null,null,null,{"$f":"FlashCards!AQ1405","v":"5210"},5210,0,0,5210,586756,{"$f":"FlashCards!AE1405","v":1402}]
[null,null,null,null,null,null,null,null,null,null,null,null,null,null,null,null,null,null,null,null,null,null,null,{"$f":"FlashCards!AQ1406","v":"5212"},5212,0,0,5212,589824,{"$f":"FlashCards!AE1406","v":1403}]
[null,null,null,null,null,null,null,null,null,null,null,null,null,null,null,null,null,null,null,null,null,null,null,{"$f":"FlashCards!AQ1407","v":"5213"},5213,0,0,5213,591361,{"$f":"FlashCards!AE1407","v":1404}]
[null,null,null,null,null,null,null,null,null,null,null,null,null,null,null,null,null,null,null,null,null,null,null,{"$f":"FlashCards!AQ1408","v":"5216"},5216,0,0,5216,595984,{"$f":"FlashCards!AE1408","v":1405}]
[null,null,null,null,null,null,null,null,null,null,null,null,null,null,null,null,null,null,null,null,null,null,null,{"$f":"FlashCards!AQ1409","v":"5217"},5217,0,0,5217,597529,{"$f":"FlashCards!AE1409","v":1406}]
[null,null,null,null,null,null,null,null,null,null,null,null,null,null,null,null,null,null,null,null,null,null,null,{"$f":"FlashCards!AQ1410","v":"5218"},5218,0,0,5218,599076,{"$f":"FlashCards!AE1410","v":1407}]
[null,null,null,null,null,null,null,null,null,null,null,null,null,null,null,null,null,null,null,null,null,null,null,{"$f":"FlashCards!AQ1411","v":"5219"},5219,0,0,5219,600625,{"$f":"FlashCards!AE1411","v":1408}]
[null,null,null,null,null,null,null,null,null,null,null,null,null,null,null,null,null,null,null,null,null,null,null,{"$f":"FlashCards!AQ1412","v":"5221"},5221,0,0,5221,603729,{"$f":"FlashCards!AE1412","v":1409}]
[null,null,null,null,null,null,null,null,null,null,null,null,null,null,null,null,null,null,null,null,null,null,null,{"$f":"FlashCards!AQ1413","v":"5225"},{"$f":"VALUE(X1412)","v":5225},{"$f":"IF(ISERR(FIND(\"+\",X1412,1)),0,FIND(\"+\",X1412,1))","v":0},{"$f":"IF(ISERR(FIND(\",\",X1412,1)),0,FIND(\",\",X1412,1))","v":0},{"$f":"IF(Z1412>0,VALUE(LEFT(X1412,Z1412-1)),IF(AA1412>0,VALUE(LEFT(X1412,AA1412-1)),IF(ISERR(Y1412),VALUE(LEFT(X1412,LEN(X1412)-1)),Y1412)))","v":5225},{"$f":"(AB1412-U$28)^2","v":609961},{"$f":"FlashCards!AE1413","v":1410}]
[null,null,null,null,null,null,null,null,null,null,null,null,null,null,null,null,null,null,null,null,null,null,null,{"$f":"FlashCards!AQ1414","v":"5228.5"},5228.5,0,0,5228.5,615440.25,{"$f":"FlashCards!AE1414","v":1411}]
[null,null,null,null,null,null,null,null,null,null,null,null,null,null,null,null,null,null,null,null,null,null,null,{"$f":"FlashCards!AQ1415","v":"5228"},5228,0,0,5228,614656,{"$f":"FlashCards!AE1415","v":1412}]
[null,null,null,null,null,null,null,null,null,null,null,null,null,null,null,null,null,null,null,null,null,null,null,{"$f":"FlashCards!AQ1416","v":"5257"},5257,0,0,5257,660969,{"$f":"FlashCards!AE1416","v":1413}]
[null,null,null,null,null,null,null,null,null,null,null,null,null,null,null,null,null,null,null,null,null,null,null,{"$f":"FlashCards!AQ1417","v":"5259.5"},5259.5,0,0,5259.5,665040.25,{"$f":"FlashCards!AE1417","v":1414}]
[null,null,null,null,null,null,null,null,null,null,null,null,null,null,null,null,null,null,null,null,null,null,null,{"$f":"FlashCards!AQ1418","v":"5259"},5259,0,0,5259,664225,{"$f":"FlashCards!AE1418","v":1415}]
[null,null,null,null,null,null,null,null,null,null,null,null,null,null,null,null,null,null,null,null,null,null,null,{"$f":"FlashCards!AQ1419","v":"5266"},5266,0,0,5266,675684,{"$f":"FlashCards!AE1419","v":1416}]
[null,null,null,null,null,null,null,null,null,null,null,null,null,null,null,null,null,null,null,null,null,null,null,{"$f":"FlashCards!AQ1420","v":"5270"},5270,0,0,5270,682276,{"$f":"FlashCards!AE1420","v":1417}]
[null,null,null,null,null,null,null,null,null,null,null,null,null,null,null,null,null,null,null,null,null,null,null,{"$f":"FlashCards!AQ1421","v":"5273"},5273,0,0,5273,687241,{"$f":"FlashCards!AE1421","v":1418}]
[null,null,null,null,null,null,null,null,null,null,null,null,null,null,null,null,null,null,null,null,null,null,null,{"$f":"FlashCards!AQ1422","v":"5274"},5274,0,0,5274,688900,{"$f":"FlashCards!AE1422","v":1419}]
[null,null,null,null,null,null,null,null,null,null,null,null,null,null,null,null,null,null,null,null,null,null,null,{"$f":"FlashCards!AQ1423","v":"5278"},5278,0,0,5278,695556,{"$f":"FlashCards!AE1423","v":1420}]
[null,null,null,null,null,null,null,null,null,null,null,null,null,null,null,null,null,null,null,null,null,null,null,{"$f":"FlashCards!AQ1424","v":"5281"},5281,0,0,5281,700569,{"$f":"FlashCards!AE1424","v":1421}]
[null,null,null,null,null,null,null,null,null,null,null,null,null,null,null,null,null,null,null,null,null,null,null,{"$f":"FlashCards!AQ1425","v":"5290"},5290,0,0,5290,715716,{"$f":"FlashCards!AE1425","v":1422}]
[null,null,null,null,null,null,null,null,null,null,null,null,null,null,null,null,null,null,null,null,null,null,null,{"$f":"FlashCards!AQ1426","v":"5293"},5293,0,0,5293,720801,{"$f":"FlashCards!AE1426","v":1423}]
[null,null,null,null,null,null,null,null,null,null,null,null,null,null,null,null,null,null,null,null,null,null,null,{"$f":"FlashCards!AQ1427","v":"5302"},5302,0,0,5302,736164,{"$f":"FlashCards!AE1427","v":1424}]
[null,null,null,null,null,null,null,null,null,null,null,null,null,null,null,null,null,null,null,null,null,null,null,{"$f":"FlashCards!AQ1428","v":"5306"},5306,0,0,5306,743044,{"$f":"FlashCards!AE1428","v":1425}]
[null,null,null,null,null,null,null,null,null,null,null,null,null,null,null,null,null,null,null,null,null,null,null,{"$f":"FlashCards!AQ1429","v":"5308"},5308,0,0,5308,746496,{"$f":"FlashCards!AE1429","v":1426}]
[null,null,null,null,null,null,null,null,null,null,null,null,null,null,null,null,null,null,null,null,null,null,null,{"$f":"FlashCards!AQ1430","v":"5310"},5310,0,0,5310,749956,{"$f":"FlashCards!AE1430","v":1427}]
[null,null,null,null,null,null,null,null,null,null,null,null,null,null,null,null,null,null,null,null,null,null,null,{"$f":"FlashCards!AQ1431","v":"5312"},5312,0,0,5312,753424,{"$f":"FlashCards!AE1431","v":1428}]
[null,null,null,null,null,null,null,null,null,null,null,null,null,null,null,null,null,null,null,null,null,null,null,{"$f":"FlashCards!AQ1432","v":"5316"},5316,0,0,5316,760384,{"$f":"FlashCards!AE1432","v":1429}]
[null,null,null,null,null,null,null,null,null,null,null,null,null,null,null,null,null,null,null,null,null,null,null,{"$f":"FlashCards!AQ1433","v":"5318"},5318,0,0,5318,763876,{"$f":"FlashCards!AE1433","v":1430}]
[null,null,null,null,null,null,null,null,null,null,null,null,null,null,null,null,null,null,null,null,null,null,null,{"$f":"FlashCards!AQ1434","v":"5319"},5319,0,0,5319,765625,{"$f":"FlashCards!AE1434","v":1431}]
[null,null,null,null,null,null,null,null,null,null,null,null,null,null,null,null,null,null,null,null,null,null,null,{"$f":"FlashCards!AQ1435","v":"5330"},5330,0,0,5330,784996,{"$f":"FlashCards!AE1435","v":1432}]
[null,null,null,null,null,null,null,null,null,null,null,null,null,null,null,null,null,null,null,null,null,null,null,{"$f":"FlashCards!AQ1436","v":"5339"},5339,0,0,5339,801025,{"$f":"FlashCards!AE1436","v":1433}]
[null,null,null,null,null,null,null,null,null,null,null,null,null,null,null,null,null,null,null,null,null,null,null,{"$f":"FlashCards!AQ1437","v":"5342"},5342,0,0,5342,806404,{"$f":"FlashCards!AE1437","v":1434}]
[null,null,null,null,null,null,null,null,null,null,null,null,null,null,null,null,null,null,null,null,null,null,null,{"$f":"FlashCards!AQ1438","v":"5343"},5343,0,0,5343,808201,{"$f":"FlashCards!AE1438","v":1435}]
[null,null,null,null,null,null,null,null,null,null,null,null,null,null,null,null,null,null,null,null,null,null,null,{"$f":"FlashCards!AQ1439","v":"5346.5"},5346.5,0,0,5346.5,814506.25,{"$f":"FlashCards!AE1439","v":1436}]
[null,null,null,null,null,null,null,null,null,null,null,null,null,null,null,null,null,null,null,null,null,null,null,{"$f":"FlashCards!AQ1440","v":"5346"},5346,0,0,5346,813604,{"$f":"FlashCards!AE1440","v":1437}]
[null,null,null,null,null,null,null,null,null,null,null,null,null,null,null,null,null,null,null,null,null,null,null,{"$f":"FlashCards!AQ1441","v":"5347"},5347,0,0,5347,815409,{"$f":"FlashCards!AE1441","v":1438}]
[null,null,null,null,null,null,null,null,null,null,null,null,null,null,null,null,null,null,null,null,null,null,null,{"$f":"FlashCards!AQ1442","v":"5357"},5357,0,0,5357,833569,{"$f":"FlashCards!AE1442","v":1439}]
[null,null,null,null,null,null,null,null,null,null,null,null,null,null,null,null,null,null,null,null,null,null,null,{"$f":"FlashCards!AQ1443","v":"5368"},5368,0,0,5368,853776,{"$f":"FlashCards!AE1443","v":1440}]
[null,null,null,null,null,null,null,null,null,null,null,null,null,null,null,null,null,null,null,null,null,null,null,{"$f":"FlashCards!AQ1444","v":"5370"},5370,0,0,5370,857476,{"$f":"FlashCards!AE1444","v":1441}]
[null,null,null,null,null,null,null,null,null,null,null,null,null,null,null,null,null,null,null,null,null,null,null,{"$f":"FlashCards!AQ1445","v":"5376"},5376,0,0,5376,868624,{"$f":"FlashCards!AE1445","v":1442}]
[null,null,null,null,null,null,null,null,null,null,null,null,null,null,null,null,null,null,null,null,null,null,null,{"$f":"FlashCards!AQ1446","v":"5384.5"},5384.5,0,0,5384.5,884540.25,{"$f":"FlashCards!AE1446","v":1443}]
[null,null,null,null,null,null,null,null,null,null,null,null,null,null,null,null,null,null,null,null,null,null,null,{"$f":"FlashCards!AQ1447","v":"5384"},5384,0,0,5384,883600,{"$f":"FlashCards!AE1447","v":1444}]
[null,null,null,null,null,null,null,null,null,null,null,null,null,null,null,null,null,null,null,null,null,null,null,{"$f":"FlashCards!AQ1448","v":"5399"},5399,0,0,5399,912025,{"$f":"FlashCards!AE1448","v":1445}]
[null,null,null,null,null,null,null,null,null,null,null,null,null,null,null,null,null,null,null,null,null,null,null,{"$f":"FlashCards!AQ1449","v":"5401"},5401,0,0,5401,915849,{"$f":"FlashCards!AE1449","v":1446}]
[null,null,null,null,null,null,null,null,null,null,null,null,null,null,null,null,null,null,null,null,null,null,null,{"$f":"FlashCards!AQ1450","v":"5407"},5407,0,0,5407,927369,{"$f":"FlashCards!AE1450","v":1447}]
[null,null,null,null,null,null,null,null,null,null,null,null,null,null,null,null,null,null,null,null,null,null,null,{"$f":"FlashCards!AQ1451","v":"5425"},5425,0,0,5425,962361,{"$f":"FlashCards!AE1451","v":1448}]
[null,null,null,null,null,null,null,null,null,null,null,null,null,null,null,null,null,null,null,null,null,null,null,{"$f":"FlashCards!AQ1452","v":"5426"},5426,0,0,5426,964324,{"$f":"FlashCards!AE1452","v":1449}]
[null,null,null,null,null,null,null,null,null,null,null,null,null,null,null,null,null,null,null,null,null,null,null,{"$f":"FlashCards!AQ1453","v":"5429"},5429,0,0,5429,970225,{"$f":"FlashCards!AE1453","v":1450}]
[null,null,null,null,null,null,null,null,null,null,null,null,null,null,null,null,null,null,null,null,null,null,null,{"$f":"FlashCards!AQ1454","v":"5438"},5438,0,0,5438,988036,{"$f":"FlashCards!AE1454","v":1451}]
[null,null,null,null,null,null,null,null,null,null,null,null,null,null,null,null,null,null,null,null,null,null,null,{"$f":"FlashCards!AQ1455","v":"5442"},5442,0,0,5442,996004,{"$f":"FlashCards!AE1455","v":1452}]
[null,null,null,null,null,null,null,null,null,null,null,null,null,null,null,null,null,null,null,null,null,null,null,{"$f":"FlashCards!AQ1456","v":"5443"},5443,0,0,5443,998001,{"$f":"FlashCards!AE1456","v":1453}]
[null,null,null,null,null,null,null,null,null,null,null,null,null,null,null,null,null,null,null,null,null,null,null,{"$f":"FlashCards!AQ1457","v":"5449"},5449,0,0,5449,1010025,{"$f":"FlashCards!AE1457","v":1454}]
[null,null,null,null,null,null,null,null,null,null,null,null,null,null,null,null,null,null,null,null,null,null,null,{"$f":"FlashCards!AQ1458","v":"5452"},5452,0,0,5452,1016064,{"$f":"FlashCards!AE1458","v":1455}]
[null,null,null,null,null,null,null,null,null,null,null,null,null,null,null,null,null,null,null,null,null,null,null,{"$f":"FlashCards!AQ1459","v":"5455"},5455,0,0,5455,1022121,{"$f":"FlashCards!AE1459","v":1456}]
[null,null,null,null,null,null,null,null,null,null,null,null,null,null,null,null,null,null,null,null,null,null,null,{"$f":"FlashCards!AQ1460","v":"5456"},5456,0,0,5456,1024144,{"$f":"FlashCards!AE1460","v":1457}]
[null,null,null,null,null,null,null,null,null,null,null,null,null,null,null,null,null,null,null,null,null,null,null,{"$f":"FlashCards!AQ1461","v":"5457"},5457,0,0,5457,1026169,{"$f":"FlashCards!AE1461","v":1458}]
[null,null,null,null,null,null,null,null,null,null,null,null,null,null,null,null,null,null,null,null,null,null,null,{"$f":"FlashCards!AQ1462","v":"5461"},5461,0,0,5461,1034289,{"$f":"FlashCards!AE1462","v":1459}]
[null,null,null,null,null,null,null,null,null,null,null,null,null,null,null,null,null,null,null,null,null,null,null,{"$f":"FlashCards!AQ1463","v":"5463"},5463,0,0,5463,1038361,{"$f":"FlashCards!AE1463","v":1460}]
[null,null,null,null,null,null,null,null,null,null,null,null,null,null,null,null,null,null,null,null,null,null,null,{"$f":"FlashCards!AQ1464","v":"5479"},5479,0,0,5479,1071225,{"$f":"FlashCards!AE1464","v":1461}]
[null,null,null,null,null,null,null,null,null,null,null,null,null,null,null,null,null,null,null,null,null,null,null,{"$f":"FlashCards!AQ1465","v":"5483"},5483,0,0,5483,1079521,{"$f":"FlashCards!AE1465","v":1462}]
[null,null,null,null,null,null,null,null,null,null,null,null,null,null,null,null,null,null,null,null,null,null,null,{"$f":"FlashCards!AQ1466","v":"5485"},5485,0,0,5485,1083681,{"$f":"FlashCards!AE1466","v":1463}]
[null,null,null,null,null,null,null,null,null,null,null,null,null,null,null,null,null,null,null,null,null,null,null,{"$f":"FlashCards!AQ1467","v":"5486"},5486,0,0,5486,1085764,{"$f":"FlashCards!AE1467","v":1464}]
[null,null,null,null,null,null,null,null,null,null,null,null,null,null,null,null,null,null,null,null,null,null,null,{"$f":"FlashCards!AQ1468","v":"5495"},5495,0,0,5495,1104601,{"$f":"FlashCards!AE1468","v":1465}]
[null,null,null,null,null,null,null,null,null,null,null,null,null,null,null,null,null,null,null,null,null,null,null,{"$f":"FlashCards!AQ1469","v":"5501"},5501,0,0,5501,1117249,{"$f":"FlashCards!AE1469","v":1466}]
[null,null,null,null,null,null,null,null,null,null,null,null,null,null,null,null,null,null,null,null,null,null,null,{"$f":"FlashCards!AQ1470","v":"5503"},5503,0,0,5503,1121481,{"$f":"FlashCards!AE1470","v":1467}]
[null,null,null,null,null,null,null,null,null,null,null,null,null,null,null,null,null,null,null,null,null,null,null,{"$f":"FlashCards!AQ1471","v":"5504"},5504,0,0,5504,1123600,{"$f":"FlashCards!AE1471","v":1468}]
[null,null,null,null,null,null,null,null,null,null,null,null,null,null,null,null,null,null,null,null,null,null,null,{"$f":"FlashCards!AQ1472","v":"5505"},5505,0,0,5505,1125721,{"$f":"FlashCards!AE1472","v":1469}]
[null,null,null,null,null,null,null,null,null,null,null,null,null,null,null,null,null,null,null,null,null,null,null,{"$f":"FlashCards!AQ1473","v":"5506"},5506,0,0,5506,1127844,{"$f":"FlashCards!AE1473","v":1470}]
[null,null,null,null,null,null,null,null,null,null,null,null,null,null,null,null,null,null,null,null,null,null,null,{"$f":"FlashCards!AQ1474","v":"5507"},5507,0,0,5507,1129969,{"$f":"FlashCards!AE1474","v":1471}]
[null,null,null,null,null,null,null,null,null,null,null,null,null,null,null,null,null,null,null,null,null,null,null,{"$f":"FlashCards!AQ1475","v":"5509"},5509,0,0,5509,1134225,{"$f":"FlashCards!AE1475","v":1472}]
[null,null,null,null,null,null,null,null,null,null,null,null,null,null,null,null,null,null,null,null,null,null,null,{"$f":"FlashCards!AQ1476","v":"5519"},5519,0,0,5519,1155625,{"$f":"FlashCards!AE1476","v":1473}]
[null,null,null,null,null,null,null,null,null,null,null,null,null,null,null,null,null,null,null,null,null,null,null,{"$f":"FlashCards!AQ1477","v":"5526"},{"$f":"VALUE(X1476)","v":5526},{"$f":"IF(ISERR(FIND(\"+\",X1476,1)),0,FIND(\"+\",X1476,1))","v":0},{"$f":"IF(ISERR(FIND(\",\",X1476,1)),0,FIND(\",\",X1476,1))","v":0},{"$f":"IF(Z1476>0,VALUE(LEFT(X1476,Z1476-1)),IF(AA1476>0,VALUE(LEFT(X1476,AA1476-1)),IF(ISERR(Y1476),VALUE(LEFT(X1476,LEN(X1476)-1)),Y1476)))","v":5526},{"$f":"(AB1476-U$28)^2","v":1170724},{"$f":"FlashCards!AE1477","v":1474}]
[null,null,null,null,null,null,null,null,null,null,null,null,null,null,null,null,null,null,null,null,null,null,null,{"$f":"FlashCards!AQ1478","v":"5528"},5528,0,0,5528,1175056,{"$f":"FlashCards!AE1478","v":1475}]
[null,null,null,null,null,null,null,null,null,null,null,null,null,null,null,null,null,null,null,null,null,null,null,{"$f":"FlashCards!AQ1479","v":"5530"},5530,0,0,5530,1179396,{"$f":"FlashCards!AE1479","v":1476}]
[null,null,null,null,null,null,null,null,null,null,null,null,null,null,null,null,null,null,null,null,null,null,null,{"$f":"FlashCards!AQ1480","v":"5532"},5532,0,0,5532,1183744,{"$f":"FlashCards!AE1480","v":1477}]
[null,null,null,null,null,null,null,null,null,null,null,null,null,null,null,null,null,null,null,null,null,null,null,{"$f":"FlashCards!AQ1481","v":"5544"},5544,0,0,5544,1210000,{"$f":"FlashCards!AE1481","v":1478}]
[null,null,null,null,null,null,null,null,null,null,null,null,null,null,null,null,null,null,null,null,null,null,null,{"$f":"FlashCards!AQ1482","v":"5547"},5547,0,0,5547,1216609,{"$f":"FlashCards!AE1482","v":1479}]
[null,null,null,null,null,null,null,null,null,null,null,null,null,null,null,null,null,null,null,null,null,null,null,{"$f":"FlashCards!AQ1483","v":"5550"},5550,0,0,5550,1223236,{"$f":"FlashCards!AE1483","v":1480}]
[null,null,null,null,null,null,null,null,null,null,null,null,null,null,null,null,null,null,null,null,null,null,null,{"$f":"FlashCards!AQ1484","v":"5552"},5552,0,0,5552,1227664,{"$f":"FlashCards!AE1484","v":1481}]
[null,null,null,null,null,null,null,null,null,null,null,null,null,null,null,null,null,null,null,null,null,null,null,{"$f":"FlashCards!AQ1485","v":"5553"},5553,0,0,5553,1229881,{"$f":"FlashCards!AE1485","v":1482}]
[null,null,null,null,null,null,null,null,null,null,null,null,null,null,null,null,null,null,null,null,null,null,null,{"$f":"FlashCards!AQ1486","v":"5557"},5557,0,0,5557,1238769,{"$f":"FlashCards!AE1486","v":1483}]
[null,null,null,null,null,null,null,null,null,null,null,null,null,null,null,null,null,null,null,null,null,null,null,{"$f":"FlashCards!AQ1487","v":"5560"},5560,0,0,5560,1245456,{"$f":"FlashCards!AE1487","v":1484}]
[null,null,null,null,null,null,null,null,null,null,null,null,null,null,null,null,null,null,null,null,null,null,null,{"$f":"FlashCards!AQ1488","v":"5561"},5561,0,0,5561,1247689,{"$f":"FlashCards!AE1488","v":1485}]
[null,null,null,null,null,null,null,null,null,null,null,null,null,null,null,null,null,null,null,null,null,null,null,{"$f":"FlashCards!AQ1489","v":"5562"},5562,0,0,5562,1249924,{"$f":"FlashCards!AE1489","v":1486}]
[null,null,null,null,null,null,null,null,null,null,null,null,null,null,null,null,null,null,null,null,null,null,null,{"$f":"FlashCards!AQ1490","v":"5563"},5563,0,0,5563,1252161,{"$f":"FlashCards!AE1490","v":1487}]
[null,null,null,null,null,null,null,null,null,null,null,null,null,null,null,null,null,null,null,null,null,null,null,{"$f":"FlashCards!AQ1491","v":"5564"},5564,0,0,5564,1254400,{"$f":"FlashCards!AE1491","v":1488}]
[null,null,null,null,null,null,null,null,null,null,null,null,null,null,null,null,null,null,null,null,null,null,null,{"$f":"FlashCards!AQ1492","v":"5565"},5565,0,0,5565,1256641,{"$f":"FlashCards!AE1492","v":1489}]
[null,null,null,null,null,null,null,null,null,null,null,null,null,null,null,null,null,null,null,null,null,null,null,{"$f":"FlashCards!AQ1493","v":"5571"},5571,0,0,5571,1270129,{"$f":"FlashCards!AE1493","v":1490}]
[null,null,null,null,null,null,null,null,null,null,null,null,null,null,null,null,null,null,null,null,null,null,null,{"$f":"FlashCards!AQ1494","v":"5574"},5574,0,0,5574,1276900,{"$f":"FlashCards!AE1494","v":1491}]
[null,null,null,null,null,null,null,null,null,null,null,null,null,null,null,null,null,null,null,null,null,null,null,{"$f":"FlashCards!AQ1495","v":"5578"},5578,0,0,5578,1285956,{"$f":"FlashCards!AE1495","v":1492}]
[null,null,null,null,null,null,null,null,null,null,null,null,null,null,null,null,null,null,null,null,null,null,null,{"$f":"FlashCards!AQ1496","v":"5579"},5579,0,0,5579,1288225,{"$f":"FlashCards!AE1496","v":1493}]
[null,null,null,null,null,null,null,null,null,null,null,null,null,null,null,null,null,null,null,null,null,null,null,{"$f":"FlashCards!AQ1497","v":"5583"},5583,0,0,5583,1297321,{"$f":"FlashCards!AE1497","v":1494}]
[null,null,null,null,null,null,null,null,null,null,null,null,null,null,null,null,null,null,null,null,null,null,null,{"$f":"FlashCards!AQ1498","v":"5590"},5590,0,0,5590,1313316,{"$f":"FlashCards!AE1498","v":1495}]
[null,null,null,null,null,null,null,null,null,null,null,null,null,null,null,null,null,null,null,null,null,null,null,{"$f":"FlashCards!AQ1499","v":"5599"},5599,0,0,5599,1334025,{"$f":"FlashCards!AE1499","v":1496}]
[null,null,null,null,null,null,null,null,null,null,null,null,null,null,null,null,null,null,null,null,null,null,null,{"$f":"FlashCards!AQ1500","v":"5602"},5602,0,0,5602,1340964,{"$f":"FlashCards!AE1500","v":1497}]
[null,null,null,null,null,null,null,null,null,null,null,null,null,null,null,null,null,null,null,null,null,null,null,{"$f":"FlashCards!AQ1501","v":"5610"},5610,0,0,5610,1359556,{"$f":"FlashCards!AE1501","v":1498}]
[null,null,null,null,null,null,null,null,null,null,null,null,null,null,null,null,null,null,null,null,null,null,null,{"$f":"FlashCards!AQ1502","v":"5613"},5613,0,0,5613,1366561,{"$f":"FlashCards!AE1502","v":1499}]
[null,null,null,null,null,null,null,null,null,null,null,null,null,null,null,null,null,null,null,null,null,null,null,{"$f":"FlashCards!AQ1503","v":"5615"},5615,0,0,5615,1371241,{"$f":"FlashCards!AE1503","v":1500}]
[null,null,null,null,null,null,null,null,null,null,null,null,null,null,null,null,null,null,null,null,null,null,null,{"$f":"FlashCards!AQ1504","v":"5616"},5616,0,0,5616,1373584,{"$f":"FlashCards!AE1504","v":1501}]
[null,null,null,null,null,null,null,null,null,null,null,null,null,null,null,null,null,null,null,null,null,null,null,{"$f":"FlashCards!AQ1505","v":"5618"},5618,0,0,5618,1378276,{"$f":"FlashCards!AE1505","v":1502}]
[null,null,null,null,null,null,null,null,null,null,null,null,null,null,null,null,null,null,null,null,null,null,null,{"$f":"FlashCards!AQ1506","v":"5620"},5620,0,0,5620,1382976,{"$f":"FlashCards!AE1506","v":1503}]
[null,null,null,null,null,null,null,null,null,null,null,null,null,null,null,null,null,null,null,null,null,null,null,{"$f":"FlashCards!AQ1507","v":"5623"},5623,0,0,5623,1390041,{"$f":"FlashCards!AE1507","v":1504}]
[null,null,null,null,null,null,null,null,null,null,null,null,null,null,null,null,null,null,null,null,null,null,null,{"$f":"FlashCards!AQ1508","v":0},0,0,0,0,19749136,{"$f":"FlashCards!AE1508","v":1505}]
[null,null,null,null,null,null,null,null,null,null,null,null,null,null,null,null,null,null,null,null,null,null,null,{"$f":"FlashCards!AQ1509","v":0},0,0,0,0,19749136,{"$f":"FlashCards!AE1509","v":1506}]
[null,null,null,null,null,null,null,null,null,null,null,null,null,null,null,null,null,null,null,null,null,null,null,{"$f":"FlashCards!AQ1510","v":0},0,0,0,0,19749136,{"$f":"FlashCards!AE1510","v":1507}]
[null,null,null,null,null,null,null,null,null,null,null,null,null,null,null,null,null,null,null,null,null,null,null,{"$f":"FlashCards!AQ1511","v":0},0,0,0,0,19749136,{"$f":"FlashCards!AE1511","v":1508}]
[null,null,null,null,null,null,null,null,null,null,null,null,null,null,null,null,null,null,null,null,null,null,null,{"$f":"FlashCards!AQ1512","v":0},0,0,0,0,19749136,{"$f":"FlashCards!AE1512","v":1509}]
[null,null,null,null,null,null,null,null,null,null,null,null,null,null,null,null,null,null,null,null,null,null,null,{"$f":"FlashCards!AQ1513","v":0},0,0,0,0,19749136,{"$f":"FlashCards!AE1513","v":1510}]
[null,null,null,null,null,null,null,null,null,null,null,null,null,null,null,null,null,null,null,null,null,null,null,{"$f":"FlashCards!AQ1514","v":0},0,0,0,0,19749136,{"$f":"FlashCards!AE1514","v":1511}]
[null,null,null,null,null,null,null,null,null,null,null,null,null,null,null,null,null,null,null,null,null,null,null,{"$f":"FlashCards!AQ1515","v":0},0,0,0,0,19749136,{"$f":"FlashCards!AE1515","v":1512}]
[null,null,null,null,null,null,null,null,null,null,null,null,null,null,null,null,null,null,null,null,null,null,null,{"$f":"FlashCards!AQ1516","v":0},0,0,0,0,19749136,{"$f":"FlashCards!AE1516","v":1513}]
[null,null,null,null,null,null,null,null,null,null,null,null,null,null,null,null,null,null,null,null,null,null,null,{"$f":"FlashCards!AQ1517","v":0},0,0,0,0,19749136,{"$f":"FlashCards!AE1517","v":1514}]
[null,null,null,null,null,null,null,null,null,null,null,null,null,null,null,null,null,null,null,null,null,null,null,{"$f":"FlashCards!AQ1518","v":0},0,0,0,0,19749136,{"$f":"FlashCards!AE1518","v":1515}]
[null,null,null,null,null,null,null,null,null,null,null,null,null,null,null,null,null,null,null,null,null,null,null,{"$f":"FlashCards!AQ1519","v":0},0,0,0,0,19749136,{"$f":"FlashCards!AE1519","v":1516}]
[null,null,null,null,null,null,null,null,null,null,null,null,null,null,null,null,null,null,null,null,null,null,null,{"$f":"FlashCards!AQ1520","v":0},0,0,0,0,19749136,{"$f":"FlashCards!AE1520","v":1517}]
[null,null,null,null,null,null,null,null,null,null,null,null,null,null,null,null,null,null,null,null,null,null,null,{"$f":"FlashCards!AQ1521","v":0},0,0,0,0,19749136,{"$f":"FlashCards!AE1521","v":1518}]
[null,null,null,null,null,null,null,null,null,null,null,null,null,null,null,null,null,null,null,null,null,null,null,{"$f":"FlashCards!AQ1522","v":0},0,0,0,0,19749136,{"$f":"FlashCards!AE1522","v":1519}]
[null,null,null,null,null,null,null,null,null,null,null,null,null,null,null,null,null,null,null,null,null,null,null,{"$f":"FlashCards!AQ1523","v":0},0,0,0,0,19749136,{"$f":"FlashCards!AE1523","v":1520}]
[null,null,null,null,null,null,null,null,null,null,null,null,null,null,null,null,null,null,null,null,null,null,null,{"$f":"FlashCards!AQ1524","v":0},0,0,0,0,19749136,{"$f":"FlashCards!AE1524","v":1521}]
[null,null,null,null,null,null,null,null,null,null,null,null,null,null,null,null,null,null,null,null,null,null,null,{"$f":"FlashCards!AQ1525","v":0},0,0,0,0,19749136,{"$f":"FlashCards!AE1525","v":1522}]
[null,null,null,null,null,null,null,null,null,null,null,null,null,null,null,null,null,null,null,null,null,null,null,{"$f":"FlashCards!AQ1526","v":0},0,0,0,0,19749136,{"$f":"FlashCards!AE1526","v":1523}]
[null,null,null,null,null,null,null,null,null,null,null,null,null,null,null,null,null,null,null,null,null,null,null,{"$f":"FlashCards!AQ1527","v":0},0,0,0,0,19749136,{"$f":"FlashCards!AE1527","v":1524}]
[null,null,null,null,null,null,null,null,null,null,null,null,null,null,null,null,null,null,null,null,null,null,null,{"$f":"FlashCards!AQ1528","v":0},0,0,0,0,19749136,{"$f":"FlashCards!AE1528","v":1525}]
[null,null,null,null,null,null,null,null,null,null,null,null,null,null,null,null,null,null,null,null,null,null,null,{"$f":"FlashCards!AQ1529","v":0},0,0,0,0,19749136,{"$f":"FlashCards!AE1529","v":1526}]
[null,null,null,null,null,null,null,null,null,null,null,null,null,null,null,null,null,null,null,null,null,null,null,{"$f":"FlashCards!AQ1530","v":0},0,0,0,0,19749136,{"$f":"FlashCards!AE1530","v":1527}]
[null,null,null,null,null,null,null,null,null,null,null,null,null,null,null,null,null,null,null,null,null,null,null,{"$f":"FlashCards!AQ1531","v":0},0,0,0,0,19749136,{"$f":"FlashCards!AE1531","v":1528}]
[null,null,null,null,null,null,null,null,null,null,null,null,null,null,null,null,null,null,null,null,null,null,null,{"$f":"FlashCards!AQ1532","v":0},0,0,0,0,19749136,{"$f":"FlashCards!AE1532","v":1529}]
[null,null,null,null,null,null,null,null,null,null,null,null,null,null,null,null,null,null,null,null,null,null,null,{"$f":"FlashCards!AQ1533","v":0},0,0,0,0,19749136,{"$f":"FlashCards!AE1533","v":1530}]
[null,null,null,null,null,null,null,null,null,null,null,null,null,null,null,null,null,null,null,null,null,null,null,{"$f":"FlashCards!AQ1534","v":0},0,0,0,0,19749136,{"$f":"FlashCards!AE1534","v":1531}]
[null,null,null,null,null,null,null,null,null,null,null,null,null,null,null,null,null,null,null,null,null,null,null,{"$f":"FlashCards!AQ1535","v":0},0,0,0,0,19749136,{"$f":"FlashCards!AE1535","v":1532}]
[null,null,null,null,null,null,null,null,null,null,null,null,null,null,null,null,null,null,null,null,null,null,null,{"$f":"FlashCards!AQ1536","v":0},0,0,0,0,19749136,{"$f":"FlashCards!AE1536","v":1533}]
[null,null,null,null,null,null,null,null,null,null,null,null,null,null,null,null,null,null,null,null,null,null,null,{"$f":"FlashCards!AQ1537","v":0},0,0,0,0,19749136,{"$f":"FlashCards!AE1537","v":1534}]
[null,null,null,null,null,null,null,null,null,null,null,null,null,null,null,null,null,null,null,null,null,null,null,{"$f":"FlashCards!AQ1538","v":0},0,0,0,0,19749136,{"$f":"FlashCards!AE1538","v":1535}]
[null,null,null,null,null,null,null,null,null,null,null,null,null,null,null,null,null,null,null,null,null,null,null,{"$f":"FlashCards!AQ1539","v":0},0,0,0,0,19749136,{"$f":"FlashCards!AE1539","v":1536}]
[null,null,null,null,null,null,null,null,null,null,null,null,null,null,null,null,null,null,null,null,null,null,null,{"$f":"FlashCards!AQ1540","v":0},0,0,0,0,19749136,{"$f":"FlashCards!AE1540","v":1537}]
[null,null,null,null,null,null,null,null,null,null,null,null,null,null,null,null,null,null,null,null,null,null,null,{"$f":"FlashCards!AQ1541","v":0},{"$f":"VALUE(X1540)","v":0},{"$f":"IF(ISERR(FIND(\"+\",X1540,1)),0,FIND(\"+\",X1540,1))","v":0},{"$f":"IF(ISERR(FIND(\",\",X1540,1)),0,FIND(\",\",X1540,1))","v":0},{"$f":"IF(Z1540>0,VALUE(LEFT(X1540,Z1540-1)),IF(AA1540>0,VALUE(LEFT(X1540,AA1540-1)),IF(ISERR(Y1540),VALUE(LEFT(X1540,LEN(X1540)-1)),Y1540)))","v":0},{"$f":"(AB1540-U$28)^2","v":19749136},{"$f":"FlashCards!AE1541","v":1538}]
[null,null,null,null,null,null,null,null,null,null,null,null,null,null,null,null,null,null,null,null,null,null,null,{"$f":"FlashCards!AQ1542","v":0},0,0,0,0,19749136,{"$f":"FlashCards!AE1542","v":1539}]
[null,null,null,null,null,null,null,null,null,null,null,null,null,null,null,null,null,null,null,null,null,null,null,{"$f":"FlashCards!AQ1543","v":0},0,0,0,0,19749136,{"$f":"FlashCards!AE1543","v":1540}]
[null,null,null,null,null,null,null,null,null,null,null,null,null,null,null,null,null,null,null,null,null,null,null,{"$f":"FlashCards!AQ1544","v":0},0,0,0,0,19749136,{"$f":"FlashCards!AE1544","v":1541}]
[null,null,null,null,null,null,null,null,null,null,null,null,null,null,null,null,null,null,null,null,null,null,null,{"$f":"FlashCards!AQ1545","v":0},0,0,0,0,19749136,{"$f":"FlashCards!AE1545","v":1542}]
[null,null,null,null,null,null,null,null,null,null,null,null,null,null,null,null,null,null,null,null,null,null,null,{"$f":"FlashCards!AQ1546","v":0},0,0,0,0,19749136,{"$f":"FlashCards!AE1546","v":1543}]
[null,null,null,null,null,null,null,null,null,null,null,null,null,null,null,null,null,null,null,null,null,null,null,{"$f":"FlashCards!AQ1547","v":0},0,0,0,0,19749136,{"$f":"FlashCards!AE1547","v":1544}]
[null,null,null,null,null,null,null,null,null,null,null,null,null,null,null,null,null,null,null,null,null,null,null,{"$f":"FlashCards!AQ1548","v":0},0,0,0,0,19749136,{"$f":"FlashCards!AE1548","v":1545}]
[null,null,null,null,null,null,null,null,null,null,null,null,null,null,null,null,null,null,null,null,null,null,null,{"$f":"FlashCards!AQ1549","v":0},0,0,0,0,19749136,{"$f":"FlashCards!AE1549","v":1546}]
[null,null,null,null,null,null,null,null,null,null,null,null,null,null,null,null,null,null,null,null,null,null,null,{"$f":"FlashCards!AQ1550","v":0},0,0,0,0,19749136,{"$f":"FlashCards!AE1550","v":1547}]
[null,null,null,null,null,null,null,null,null,null,null,null,null,null,null,null,null,null,null,null,null,null,null,{"$f":"FlashCards!AQ1551","v":0},0,0,0,0,19749136,{"$f":"FlashCards!AE1551","v":1548}]
[null,null,null,null,null,null,null,null,null,null,null,null,null,null,null,null,null,null,null,null,null,null,null,{"$f":"FlashCards!AQ1552","v":0},0,0,0,0,19749136,{"$f":"FlashCards!AE1552","v":1549}]
[null,null,null,null,null,null,null,null,null,null,null,null,null,null,null,null,null,null,null,null,null,null,null,{"$f":"FlashCards!AQ1553","v":0},0,0,0,0,19749136,{"$f":"FlashCards!AE1553","v":1550}]
[null,null,null,null,null,null,null,null,null,null,null,null,null,null,null,null,null,null,null,null,null,null,null,{"$f":"FlashCards!AQ1554","v":0},0,0,0,0,19749136,{"$f":"FlashCards!AE1554","v":1551}]
[null,null,null,null,null,null,null,null,null,null,null,null,null,null,null,null,null,null,null,null,null,null,null,{"$f":"FlashCards!AQ1555","v":0},0,0,0,0,19749136,{"$f":"FlashCards!AE1555","v":1552}]
[null,null,null,null,null,null,null,null,null,null,null,null,null,null,null,null,null,null,null,null,null,null,null,{"$f":"FlashCards!AQ1556","v":0},0,0,0,0,19749136,{"$f":"FlashCards!AE1556","v":1553}]
[null,null,null,null,null,null,null,null,null,null,null,null,null,null,null,null,null,null,null,null,null,null,null,{"$f":"FlashCards!AQ1557","v":0},0,0,0,0,19749136,{"$f":"FlashCards!AE1557","v":1554}]
[null,null,null,null,null,null,null,null,null,null,null,null,null,null,null,null,null,null,null,null,null,null,null,{"$f":"FlashCards!AQ1558","v":0},0,0,0,0,19749136,{"$f":"FlashCards!AE1558","v":1555}]
[null,null,null,null,null,null,null,null,null,null,null,null,null,null,null,null,null,null,null,null,null,null,null,{"$f":"FlashCards!AQ1559","v":0},0,0,0,0,19749136,{"$f":"FlashCards!AE1559","v":1556}]
[null,null,null,null,null,null,null,null,null,null,null,null,null,null,null,null,null,null,null,null,null,null,null,{"$f":"FlashCards!AQ1560","v":0},0,0,0,0,19749136,{"$f":"FlashCards!AE1560","v":1557}]
[null,null,null,null,null,null,null,null,null,null,null,null,null,null,null,null,null,null,null,null,null,null,null,{"$f":"FlashCards!AQ1561","v":0},0,0,0,0,19749136,{"$f":"FlashCards!AE1561","v":1558}]
[null,null,null,null,null,null,null,null,null,null,null,null,null,null,null,null,null,null,null,null,null,null,null,{"$f":"FlashCards!AQ1562","v":0},0,0,0,0,19749136,{"$f":"FlashCards!AE1562","v":1559}]
[null,null,null,null,null,null,null,null,null,null,null,null,null,null,null,null,null,null,null,null,null,null,null,{"$f":"FlashCards!AQ1563","v":0},0,0,0,0,19749136,{"$f":"FlashCards!AE1563","v":1560}]
[null,null,null,null,null,null,null,null,null,null,null,null,null,null,null,null,null,null,null,null,null,null,null,{"$f":"FlashCards!AQ1564","v":0},0,0,0,0,19749136,{"$f":"FlashCards!AE1564","v":1561}]
[null,null,null,null,null,null,null,null,null,null,null,null,null,null,null,null,null,null,null,null,null,null,null,{"$f":"FlashCards!AQ1565","v":0},0,0,0,0,19749136,{"$f":"FlashCards!AE1565","v":1562}]
[null,null,null,null,null,null,null,null,null,null,null,null,null,null,null,null,null,null,null,null,null,null,null,{"$f":"FlashCards!AQ1566","v":0},0,0,0,0,19749136,{"$f":"FlashCards!AE1566","v":1563}]
[null,null,null,null,null,null,null,null,null,null,null,null,null,null,null,null,null,null,null,null,null,null,null,{"$f":"FlashCards!AQ1567","v":0},0,0,0,0,19749136,{"$f":"FlashCards!AE1567","v":1564}]
[null,null,null,null,null,null,null,null,null,null,null,null,null,null,null,null,null,null,null,null,null,null,null,{"$f":"FlashCards!AQ1568","v":0},0,0,0,0,19749136,{"$f":"FlashCards!AE1568","v":1565}]
[null,null,null,null,null,null,null,null,null,null,null,null,null,null,null,null,null,null,null,null,null,null,null,{"$f":"FlashCards!AQ1569","v":0},0,0,0,0,19749136,{"$f":"FlashCards!AE1569","v":1566}]
[null,null,null,null,null,null,null,null,null,null,null,null,null,null,null,null,null,null,null,null,null,null,null,{"$f":"FlashCards!AQ1570","v":0},0,0,0,0,19749136,{"$f":"FlashCards!AE1570","v":1567}]
[null,null,null,null,null,null,null,null,null,null,null,null,null,null,null,null,null,null,null,null,null,null,null,{"$f":"FlashCards!AQ1571","v":0},0,0,0,0,19749136,{"$f":"FlashCards!AE1571","v":1568}]
[null,null,null,null,null,null,null,null,null,null,null,null,null,null,null,null,null,null,null,null,null,null,null,{"$f":"FlashCards!AQ1572","v":0},0,0,0,0,19749136,{"$f":"FlashCards!AE1572","v":1569}]
[null,null,null,null,null,null,null,null,null,null,null,null,null,null,null,null,null,null,null,null,null,null,null,{"$f":"FlashCards!AQ1573","v":0},0,0,0,0,19749136,{"$f":"FlashCards!AE1573","v":1570}]
[null,null,null,null,null,null,null,null,null,null,null,null,null,null,null,null,null,null,null,null,null,null,null,{"$f":"FlashCards!AQ1574","v":0},0,0,0,0,19749136,{"$f":"FlashCards!AE1574","v":1571}]
[null,null,null,null,null,null,null,null,null,null,null,null,null,null,null,null,null,null,null,null,null,null,null,{"$f":"FlashCards!AQ1575","v":0},0,0,0,0,19749136,{"$f":"FlashCards!AE1575","v":1572}]
[null,null,null,null,null,null,null,null,null,null,null,null,null,null,null,null,null,null,null,null,null,null,null,{"$f":"FlashCards!AQ1576","v":0},0,0,0,0,19749136,{"$f":"FlashCards!AE1576","v":1573}]
[null,null,null,null,null,null,null,null,null,null,null,null,null,null,null,null,null,null,null,null,null,null,null,{"$f":"FlashCards!AQ1577","v":0},0,0,0,0,19749136,{"$f":"FlashCards!AE1577","v":1574}]
[null,null,null,null,null,null,null,null,null,null,null,null,null,null,null,null,null,null,null,null,null,null,null,{"$f":"FlashCards!AQ1578","v":0},0,0,0,0,19749136,{"$f":"FlashCards!AE1578","v":1575}]
[null,null,null,null,null,null,null,null,null,null,null,null,null,null,null,null,null,null,null,null,null,null,null,{"$f":"FlashCards!AQ1579","v":0},0,0,0,0,19749136,{"$f":"FlashCards!AE1579","v":1576}]
[null,null,null,null,null,null,null,null,null,null,null,null,null,null,null,null,null,null,null,null,null,null,null,{"$f":"FlashCards!AQ1580","v":0},0,0,0,0,19749136,{"$f":"FlashCards!AE1580","v":1577}]
[null,null,null,null,null,null,null,null,null,null,null,null,null,null,null,null,null,null,null,null,null,null,null,{"$f":"FlashCards!AQ1581","v":0},0,0,0,0,19749136,{"$f":"FlashCards!AE1581","v":1578}]
[null,null,null,null,null,null,null,null,null,null,null,null,null,null,null,null,null,null,null,null,null,null,null,{"$f":"FlashCards!AQ1582","v":0},0,0,0,0,19749136,{"$f":"FlashCards!AE1582","v":1579}]
[null,null,null,null,null,null,null,null,null,null,null,null,null,null,null,null,null,null,null,null,null,null,null,{"$f":"FlashCards!AQ1583","v":0},0,0,0,0,19749136,{"$f":"FlashCards!AE1583","v":1580}]
[null,null,null,null,null,null,null,null,null,null,null,null,null,null,null,null,null,null,null,null,null,null,null,{"$f":"FlashCards!AQ1584","v":0},0,0,0,0,19749136,{"$f":"FlashCards!AE1584","v":1581}]
[null,null,null,null,null,null,null,null,null,null,null,null,null,null,null,null,null,null,null,null,null,null,null,{"$f":"FlashCards!AQ1585","v":0},0,0,0,0,19749136,{"$f":"FlashCards!AE1585","v":1582}]
[null,null,null,null,null,null,null,null,null,null,null,null,null,null,null,null,null,null,null,null,null,null,null,{"$f":"FlashCards!AQ1586","v":0},0,0,0,0,19749136,{"$f":"FlashCards!AE1586","v":1583}]
[null,null,null,null,null,null,null,null,null,null,null,null,null,null,null,null,null,null,null,null,null,null,null,{"$f":"FlashCards!AQ1587","v":0},0,0,0,0,19749136,{"$f":"FlashCards!AE1587","v":1584}]
[null,null,null,null,null,null,null,null,null,null,null,null,null,null,null,null,null,null,null,null,null,null,null,{"$f":"FlashCards!AQ1588","v":0},0,0,0,0,19749136,{"$f":"FlashCards!AE1588","v":1585}]
[null,null,null,null,null,null,null,null,null,null,null,null,null,null,null,null,null,null,null,null,null,null,null,{"$f":"FlashCards!AQ1589","v":0},0,0,0,0,19749136,{"$f":"FlashCards!AE1589","v":1586}]
[null,null,null,null,null,null,null,null,null,null,null,null,null,null,null,null,null,null,null,null,null,null,null,{"$f":"FlashCards!AQ1590","v":0},0,0,0,0,19749136,{"$f":"FlashCards!AE1590","v":1587}]
[null,null,null,null,null,null,null,null,null,null,null,null,null,null,null,null,null,null,null,null,null,null,null,{"$f":"FlashCards!AQ1591","v":0},0,0,0,0,19749136,{"$f":"FlashCards!AE1591","v":1588}]
[null,null,null,null,null,null,null,null,null,null,null,null,null,null,null,null,null,null,null,null,null,null,null,{"$f":"FlashCards!AQ1592","v":0},0,0,0,0,19749136,{"$f":"FlashCards!AE1592","v":1589}]
[null,null,null,null,null,null,null,null,null,null,null,null,null,null,null,null,null,null,null,null,null,null,null,{"$f":"FlashCards!AQ1593","v":0},0,0,0,0,19749136,{"$f":"FlashCards!AE1593","v":1590}]
[null,null,null,null,null,null,null,null,null,null,null,null,null,null,null,null,null,null,null,null,null,null,null,{"$f":"FlashCards!AQ1594","v":0},0,0,0,0,19749136,{"$f":"FlashCards!AE1594","v":1591}]
[null,null,null,null,null,null,null,null,null,null,null,null,null,null,null,null,null,null,null,null,null,null,null,{"$f":"FlashCards!AQ1595","v":0},0,0,0,0,19749136,{"$f":"FlashCards!AE1595","v":1592}]
[null,null,null,null,null,null,null,null,null,null,null,null,null,null,null,null,null,null,null,null,null,null,null,{"$f":"FlashCards!AQ1596","v":0},0,0,0,0,19749136,{"$f":"FlashCards!AE1596","v":1593}]
[null,null,null,null,null,null,null,null,null,null,null,null,null,null,null,null,null,null,null,null,null,null,null,{"$f":"FlashCards!AQ1597","v":0},0,0,0,0,19749136,{"$f":"FlashCards!AE1597","v":1594}]
[null,null,null,null,null,null,null,null,null,null,null,null,null,null,null,null,null,null,null,null,null,null,null,{"$f":"FlashCards!AQ1598","v":0},0,0,0,0,19749136,{"$f":"FlashCards!AE1598","v":1595}]
[null,null,null,null,null,null,null,null,null,null,null,null,null,null,null,null,null,null,null,null,null,null,null,{"$f":"FlashCards!AQ1599","v":0},0,0,0,0,19749136,{"$f":"FlashCards!AE1599","v":1596}]
[null,null,null,null,null,null,null,null,null,null,null,null,null,null,null,null,null,null,null,null,null,null,null,{"$f":"FlashCards!AQ1600","v":0},0,0,0,0,19749136,{"$f":"FlashCards!AE1600","v":1597}]
[null,null,null,null,null,null,null,null,null,null,null,null,null,null,null,null,null,null,null,null,null,null,null,{"$f":"FlashCards!AQ1601","v":0},0,0,0,0,19749136,{"$f":"FlashCards!AE1601","v":1598}]
[null,null,null,null,null,null,null,null,null,null,null,null,null,null,null,null,null,null,null,null,null,null,null,{"$f":"FlashCards!AQ1602","v":0},0,0,0,0,19749136,{"$f":"FlashCards!AE1602","v":1599}]
[null,null,null,null,null,null,null,null,null,null,null,null,null,null,null,null,null,null,null,null,null,null,null,{"$f":"FlashCards!AQ1603","v":0},0,0,0,0,19749136,{"$f":"FlashCards!AE1603","v":1600}]
[null,null,null,null,null,null,null,null,null,null,null,null,null,null,null,null,null,null,null,null,null,null,null,{"$f":"FlashCards!AQ1604","v":0},0,0,0,0,19749136,{"$f":"FlashCards!AE1604","v":1601}]
[null,null,null,null,null,null,null,null,null,null,null,null,null,null,null,null,null,null,null,null,null,null,null,{"$f":"FlashCards!AQ1605","v":0},{"$f":"VALUE(X1604)","v":0},{"$f":"IF(ISERR(FIND(\"+\",X1604,1)),0,FIND(\"+\",X1604,1))","v":0},{"$f":"IF(ISERR(FIND(\",\",X1604,1)),0,FIND(\",\",X1604,1))","v":0},{"$f":"IF(Z1604>0,VALUE(LEFT(X1604,Z1604-1)),IF(AA1604>0,VALUE(LEFT(X1604,AA1604-1)),IF(ISERR(Y1604),VALUE(LEFT(X1604,LEN(X1604)-1)),Y1604)))","v":0},{"$f":"(AB1604-U$28)^2","v":19749136},{"$f":"FlashCards!AE1605","v":1602}]
[null,null,null,null,null,null,null,null,null,null,null,null,null,null,null,null,null,null,null,null,null,null,null,{"$f":"FlashCards!AQ1606","v":0},0,0,0,0,19749136,{"$f":"FlashCards!AE1606","v":1603}]
[null,null,null,null,null,null,null,null,null,null,null,null,null,null,null,null,null,null,null,null,null,null,null,{"$f":"FlashCards!AQ1607","v":0},0,0,0,0,19749136,{"$f":"FlashCards!AE1607","v":1604}]
[null,null,null,null,null,null,null,null,null,null,null,null,null,null,null,null,null,null,null,null,null,null,null,{"$f":"FlashCards!AQ1608","v":0},0,0,0,0,19749136,{"$f":"FlashCards!AE1608","v":1605}]
[null,null,null,null,null,null,null,null,null,null,null,null,null,null,null,null,null,null,null,null,null,null,null,{"$f":"FlashCards!AQ1609","v":0},0,0,0,0,19749136,{"$f":"FlashCards!AE1609","v":1606}]
[null,null,null,null,null,null,null,null,null,null,null,null,null,null,null,null,null,null,null,null,null,null,null,{"$f":"FlashCards!AQ1610","v":0},0,0,0,0,19749136,{"$f":"FlashCards!AE1610","v":1607}]
[null,null,null,null,null,null,null,null,null,null,null,null,null,null,null,null,null,null,null,null,null,null,null,{"$f":"FlashCards!AQ1611","v":0},0,0,0,0,19749136,{"$f":"FlashCards!AE1611","v":1608}]
[null,null,null,null,null,null,null,null,null,null,null,null,null,null,null,null,null,null,null,null,null,null,null,{"$f":"FlashCards!AQ1612","v":0},0,0,0,0,19749136,{"$f":"FlashCards!AE1612","v":1609}]
[null,null,null,null,null,null,null,null,null,null,null,null,null,null,null,null,null,null,null,null,null,null,null,{"$f":"FlashCards!AQ1613","v":0},0,0,0,0,19749136,{"$f":"FlashCards!AE1613","v":1610}]
[null,null,null,null,null,null,null,null,null,null,null,null,null,null,null,null,null,null,null,null,null,null,null,{"$f":"FlashCards!AQ1614","v":0},0,0,0,0,19749136,{"$f":"FlashCards!AE1614","v":1611}]
[null,null,null,null,null,null,null,null,null,null,null,null,null,null,null,null,null,null,null,null,null,null,null,{"$f":"FlashCards!AQ1615","v":0},0,0,0,0,19749136,{"$f":"FlashCards!AE1615","v":1612}]
[null,null,null,null,null,null,null,null,null,null,null,null,null,null,null,null,null,null,null,null,null,null,null,{"$f":"FlashCards!AQ1616","v":0},0,0,0,0,19749136,{"$f":"FlashCards!AE1616","v":1613}]
[null,null,null,null,null,null,null,null,null,null,null,null,null,null,null,null,null,null,null,null,null,null,null,{"$f":"FlashCards!AQ1617","v":0},0,0,0,0,19749136,{"$f":"FlashCards!AE1617","v":1614}]
[null,null,null,null,null,null,null,null,null,null,null,null,null,null,null,null,null,null,null,null,null,null,null,{"$f":"FlashCards!AQ1618","v":0},0,0,0,0,19749136,{"$f":"FlashCards!AE1618","v":1615}]
[null,null,null,null,null,null,null,null,null,null,null,null,null,null,null,null,null,null,null,null,null,null,null,{"$f":"FlashCards!AQ1619","v":0},0,0,0,0,19749136,{"$f":"FlashCards!AE1619","v":1616}]
[null,null,null,null,null,null,null,null,null,null,null,null,null,null,null,null,null,null,null,null,null,null,null,{"$f":"FlashCards!AQ1620","v":0},0,0,0,0,19749136,{"$f":"FlashCards!AE1620","v":1617}]
[null,null,null,null,null,null,null,null,null,null,null,null,null,null,null,null,null,null,null,null,null,null,null,{"$f":"FlashCards!AQ1621","v":0},0,0,0,0,19749136,{"$f":"FlashCards!AE1621","v":1618}]
[null,null,null,null,null,null,null,null,null,null,null,null,null,null,null,null,null,null,null,null,null,null,null,{"$f":"FlashCards!AQ1622","v":0},0,0,0,0,19749136,{"$f":"FlashCards!AE1622","v":1619}]
[null,null,null,null,null,null,null,null,null,null,null,null,null,null,null,null,null,null,null,null,null,null,null,{"$f":"FlashCards!AQ1623","v":0},0,0,0,0,19749136,{"$f":"FlashCards!AE1623","v":1620}]
[null,null,null,null,null,null,null,null,null,null,null,null,null,null,null,null,null,null,null,null,null,null,null,{"$f":"FlashCards!AQ1624","v":0},0,0,0,0,19749136,{"$f":"FlashCards!AE1624","v":1621}]
[null,null,null,null,null,null,null,null,null,null,null,null,null,null,null,null,null,null,null,null,null,null,null,{"$f":"FlashCards!AQ1625","v":0},0,0,0,0,19749136,{"$f":"FlashCards!AE1625","v":1622}]
[null,null,null,null,null,null,null,null,null,null,null,null,null,null,null,null,null,null,null,null,null,null,null,{"$f":"FlashCards!AQ1626","v":0},0,0,0,0,19749136,{"$f":"FlashCards!AE1626","v":1623}]
[null,null,null,null,null,null,null,null,null,null,null,null,null,null,null,null,null,null,null,null,null,null,null,{"$f":"FlashCards!AQ1627","v":0},0,0,0,0,19749136,{"$f":"FlashCards!AE1627","v":1624}]
[null,null,null,null,null,null,null,null,null,null,null,null,null,null,null,null,null,null,null,null,null,null,null,{"$f":"FlashCards!AQ1628","v":0},0,0,0,0,19749136,{"$f":"FlashCards!AE1628","v":1625}]
[null,null,null,null,null,null,null,null,null,null,null,null,null,null,null,null,null,null,null,null,null,null,null,{"$f":"FlashCards!AQ1629","v":0},0,0,0,0,19749136,{"$f":"FlashCards!AE1629","v":1626}]
[null,null,null,null,null,null,null,null,null,null,null,null,null,null,null,null,null,null,null,null,null,null,null,{"$f":"FlashCards!AQ1630","v":0},0,0,0,0,19749136,{"$f":"FlashCards!AE1630","v":1627}]
[null,null,null,null,null,null,null,null,null,null,null,null,null,null,null,null,null,null,null,null,null,null,null,{"$f":"FlashCards!AQ1631","v":0},0,0,0,0,19749136,{"$f":"FlashCards!AE1631","v":1628}]
[null,null,null,null,null,null,null,null,null,null,null,null,null,null,null,null,null,null,null,null,null,null,null,{"$f":"FlashCards!AQ1632","v":0},0,0,0,0,19749136,{"$f":"FlashCards!AE1632","v":1629}]
[null,null,null,null,null,null,null,null,null,null,null,null,null,null,null,null,null,null,null,null,null,null,null,{"$f":"FlashCards!AQ1633","v":0},0,0,0,0,19749136,{"$f":"FlashCards!AE1633","v":1630}]
[null,null,null,null,null,null,null,null,null,null,null,null,null,null,null,null,null,null,null,null,null,null,null,{"$f":"FlashCards!AQ1634","v":0},0,0,0,0,19749136,{"$f":"FlashCards!AE1634","v":1631}]
[null,null,null,null,null,null,null,null,null,null,null,null,null,null,null,null,null,null,null,null,null,null,null,{"$f":"FlashCards!AQ1635","v":0},0,0,0,0,19749136,{"$f":"FlashCards!AE1635","v":1632}]
[null,null,null,null,null,null,null,null,null,null,null,null,null,null,null,null,null,null,null,null,null,null,null,{"$f":"FlashCards!AQ1636","v":0},0,0,0,0,19749136,{"$f":"FlashCards!AE1636","v":1633}]
[null,null,null,null,null,null,null,null,null,null,null,null,null,null,null,null,null,null,null,null,null,null,null,{"$f":"FlashCards!AQ1637","v":0},0,0,0,0,19749136,{"$f":"FlashCards!AE1637","v":1634}]
[null,null,null,null,null,null,null,null,null,null,null,null,null,null,null,null,null,null,null,null,null,null,null,{"$f":"FlashCards!AQ1638","v":0},0,0,0,0,19749136,{"$f":"FlashCards!AE1638","v":1635}]
[null,null,null,null,null,null,null,null,null,null,null,null,null,null,null,null,null,null,null,null,null,null,null,{"$f":"FlashCards!AQ1639","v":0},0,0,0,0,19749136,{"$f":"FlashCards!AE1639","v":1636}]
[null,null,null,null,null,null,null,null,null,null,null,null,null,null,null,null,null,null,null,null,null,null,null,{"$f":"FlashCards!AQ1640","v":0},0,0,0,0,19749136,{"$f":"FlashCards!AE1640","v":1637}]
[null,null,null,null,null,null,null,null,null,null,null,null,null,null,null,null,null,null,null,null,null,null,null,{"$f":"FlashCards!AQ1641","v":0},0,0,0,0,19749136,{"$f":"FlashCards!AE1641","v":1638}]
[null,null,null,null,null,null,null,null,null,null,null,null,null,null,null,null,null,null,null,null,null,null,null,{"$f":"FlashCards!AQ1642","v":0},0,0,0,0,19749136,{"$f":"FlashCards!AE1642","v":1639}]
[null,null,null,null,null,null,null,null,null,null,null,null,null,null,null,null,null,null,null,null,null,null,null,{"$f":"FlashCards!AQ1643","v":0},0,0,0,0,19749136,{"$f":"FlashCards!AE1643","v":1640}]
[null,null,null,null,null,null,null,null,null,null,null,null,null,null,null,null,null,null,null,null,null,null,null,{"$f":"FlashCards!AQ1644","v":0},0,0,0,0,19749136,{"$f":"FlashCards!AE1644","v":1641}]
[null,null,null,null,null,null,null,null,null,null,null,null,null,null,null,null,null,null,null,null,null,null,null,{"$f":"FlashCards!AQ1645","v":0},0,0,0,0,19749136,{"$f":"FlashCards!AE1645","v":1642}]
[null,null,null,null,null,null,null,null,null,null,null,null,null,null,null,null,null,null,null,null,null,null,null,{"$f":"FlashCards!AQ1646","v":0},0,0,0,0,19749136,{"$f":"FlashCards!AE1646","v":1643}]
[null,null,null,null,null,null,null,null,null,null,null,null,null,null,null,null,null,null,null,null,null,null,null,{"$f":"FlashCards!AQ1647","v":0},0,0,0,0,19749136,{"$f":"FlashCards!AE1647","v":1644}]
[null,null,null,null,null,null,null,null,null,null,null,null,null,null,null,null,null,null,null,null,null,null,null,{"$f":"FlashCards!AQ1648","v":0},0,0,0,0,19749136,{"$f":"FlashCards!AE1648","v":1645}]
[null,null,null,null,null,null,null,null,null,null,null,null,null,null,null,null,null,null,null,null,null,null,null,{"$f":"FlashCards!AQ1649","v":0},0,0,0,0,19749136,{"$f":"FlashCards!AE1649","v":1646}]
[null,null,null,null,null,null,null,null,null,null,null,null,null,null,null,null,null,null,null,null,null,null,null,{"$f":"FlashCards!AQ1650","v":0},0,0,0,0,19749136,{"$f":"FlashCards!AE1650","v":1647}]
[null,null,null,null,null,null,null,null,null,null,null,null,null,null,null,null,null,null,null,null,null,null,null,{"$f":"FlashCards!AQ1651","v":0},0,0,0,0,19749136,{"$f":"FlashCards!AE1651","v":1648}]
[null,null,null,null,null,null,null,null,null,null,null,null,null,null,null,null,null,null,null,null,null,null,null,{"$f":"FlashCards!AQ1652","v":0},0,0,0,0,19749136,{"$f":"FlashCards!AE1652","v":1649}]
[null,null,null,null,null,null,null,null,null,null,null,null,null,null,null,null,null,null,null,null,null,null,null,{"$f":"FlashCards!AQ1653","v":0},0,0,0,0,19749136,{"$f":"FlashCards!AE1653","v":1650}]
[null,null,null,null,null,null,null,null,null,null,null,null,null,null,null,null,null,null,null,null,null,null,null,{"$f":"FlashCards!AQ1654","v":0},0,0,0,0,19749136,{"$f":"FlashCards!AE1654","v":1651}]
[null,null,null,null,null,null,null,null,null,null,null,null,null,null,null,null,null,null,null,null,null,null,null,{"$f":"FlashCards!AQ1655","v":0},0,0,0,0,19749136,{"$f":"FlashCards!AE1655","v":1652}]
[null,null,null,null,null,null,null,null,null,null,null,null,null,null,null,null,null,null,null,null,null,null,null,{"$f":"FlashCards!AQ1656","v":0},0,0,0,0,19749136,{"$f":"FlashCards!AE1656","v":1653}]
[null,null,null,null,null,null,null,null,null,null,null,null,null,null,null,null,null,null,null,null,null,null,null,{"$f":"FlashCards!AQ1657","v":0},0,0,0,0,19749136,{"$f":"FlashCards!AE1657","v":1654}]
[null,null,null,null,null,null,null,null,null,null,null,null,null,null,null,null,null,null,null,null,null,null,null,{"$f":"FlashCards!AQ1658","v":0},0,0,0,0,19749136,{"$f":"FlashCards!AE1658","v":1655}]
[null,null,null,null,null,null,null,null,null,null,null,null,null,null,null,null,null,null,null,null,null,null,null,{"$f":"FlashCards!AQ1659","v":0},0,0,0,0,19749136,{"$f":"FlashCards!AE1659","v":1656}]
[null,null,null,null,null,null,null,null,null,null,null,null,null,null,null,null,null,null,null,null,null,null,null,{"$f":"FlashCards!AQ1660","v":0},0,0,0,0,19749136,{"$f":"FlashCards!AE1660","v":1657}]
[null,null,null,null,null,null,null,null,null,null,null,null,null,null,null,null,null,null,null,null,null,null,null,{"$f":"FlashCards!AQ1661","v":0},0,0,0,0,19749136,{"$f":"FlashCards!AE1661","v":1658}]
[null,null,null,null,null,null,null,null,null,null,null,null,null,null,null,null,null,null,null,null,null,null,null,{"$f":"FlashCards!AQ1662","v":0},0,0,0,0,19749136,{"$f":"FlashCards!AE1662","v":1659}]
[null,null,null,null,null,null,null,null,null,null,null,null,null,null,null,null,null,null,null,null,null,null,null,{"$f":"FlashCards!AQ1663","v":0},0,0,0,0,19749136,{"$f":"FlashCards!AE1663","v":1660}]
[null,null,null,null,null,null,null,null,null,null,null,null,null,null,null,null,null,null,null,null,null,null,null,{"$f":"FlashCards!AQ1664","v":0},0,0,0,0,19749136,{"$f":"FlashCards!AE1664","v":1661}]
[null,null,null,null,null,null,null,null,null,null,null,null,null,null,null,null,null,null,null,null,null,null,null,{"$f":"FlashCards!AQ1665","v":0},0,0,0,0,19749136,{"$f":"FlashCards!AE1665","v":1662}]
[null,null,null,null,null,null,null,null,null,null,null,null,null,null,null,null,null,null,null,null,null,null,null,{"$f":"FlashCards!AQ1666","v":0},0,0,0,0,19749136,{"$f":"FlashCards!AE1666","v":1663}]
[null,null,null,null,null,null,null,null,null,null,null,null,null,null,null,null,null,null,null,null,null,null,null,{"$f":"FlashCards!AQ1667","v":0},0,0,0,0,19749136,{"$f":"FlashCards!AE1667","v":1664}]
[null,null,null,null,null,null,null,null,null,null,null,null,null,null,null,null,null,null,null,null,null,null,null,{"$f":"FlashCards!AQ1668","v":0},0,0,0,0,19749136,{"$f":"FlashCards!AE1668","v":1665}]
[null,null,null,null,null,null,null,null,null,null,null,null,null,null,null,null,null,null,null,null,null,null,null,{"$f":"FlashCards!AQ1669","v":0},{"$f":"VALUE(X1668)","v":0},{"$f":"IF(ISERR(FIND(\"+\",X1668,1)),0,FIND(\"+\",X1668,1))","v":0},{"$f":"IF(ISERR(FIND(\",\",X1668,1)),0,FIND(\",\",X1668,1))","v":0},{"$f":"IF(Z1668>0,VALUE(LEFT(X1668,Z1668-1)),IF(AA1668>0,VALUE(LEFT(X1668,AA1668-1)),IF(ISERR(Y1668),VALUE(LEFT(X1668,LEN(X1668)-1)),Y1668)))","v":0},{"$f":"(AB1668-U$28)^2","v":19749136},{"$f":"FlashCards!AE1669","v":1666}]
[null,null,null,null,null,null,null,null,null,null,null,null,null,null,null,null,null,null,null,null,null,null,null,{"$f":"FlashCards!AQ1670","v":0},0,0,0,0,19749136,{"$f":"FlashCards!AE1670","v":1667}]
[null,null,null,null,null,null,null,null,null,null,null,null,null,null,null,null,null,null,null,null,null,null,null,{"$f":"FlashCards!AQ1671","v":0},0,0,0,0,19749136,{"$f":"FlashCards!AE1671","v":1668}]
[null,null,null,null,null,null,null,null,null,null,null,null,null,null,null,null,null,null,null,null,null,null,null,{"$f":"FlashCards!AQ1672","v":0},0,0,0,0,19749136,{"$f":"FlashCards!AE1672","v":1669}]
[null,null,null,null,null,null,null,null,null,null,null,null,null,null,null,null,null,null,null,null,null,null,null,{"$f":"FlashCards!AQ1673","v":0},0,0,0,0,19749136,{"$f":"FlashCards!AE1673","v":1670}]
[null,null,null,null,null,null,null,null,null,null,null,null,null,null,null,null,null,null,null,null,null,null,null,{"$f":"FlashCards!AQ1674","v":0},0,0,0,0,19749136,{"$f":"FlashCards!AE1674","v":1671}]
[null,null,null,null,null,null,null,null,null,null,null,null,null,null,null,null,null,null,null,null,null,null,null,{"$f":"FlashCards!AQ1675","v":0},0,0,0,0,19749136,{"$f":"FlashCards!AE1675","v":1672}]
[null,null,null,null,null,null,null,null,null,null,null,null,null,null,null,null,null,null,null,null,null,null,null,{"$f":"FlashCards!AQ1676","v":0},0,0,0,0,19749136,{"$f":"FlashCards!AE1676","v":1673}]
[null,null,null,null,null,null,null,null,null,null,null,null,null,null,null,null,null,null,null,null,null,null,null,{"$f":"FlashCards!AQ1677","v":0},0,0,0,0,19749136,{"$f":"FlashCards!AE1677","v":1674}]
[null,null,null,null,null,null,null,null,null,null,null,null,null,null,null,null,null,null,null,null,null,null,null,{"$f":"FlashCards!AQ1678","v":0},0,0,0,0,19749136,{"$f":"FlashCards!AE1678","v":1675}]
[null,null,null,null,null,null,null,null,null,null,null,null,null,null,null,null,null,null,null,null,null,null,null,{"$f":"FlashCards!AQ1679","v":0},0,0,0,0,19749136,{"$f":"FlashCards!AE1679","v":1676}]
[null,null,null,null,null,null,null,null,null,null,null,null,null,null,null,null,null,null,null,null,null,null,null,{"$f":"FlashCards!AQ1680","v":0},0,0,0,0,19749136,{"$f":"FlashCards!AE1680","v":1677}]
[null,null,null,null,null,null,null,null,null,null,null,null,null,null,null,null,null,null,null,null,null,null,null,{"$f":"FlashCards!AQ1681","v":0},0,0,0,0,19749136,{"$f":"FlashCards!AE1681","v":1678}]
[null,null,null,null,null,null,null,null,null,null,null,null,null,null,null,null,null,null,null,null,null,null,null,{"$f":"FlashCards!AQ1682","v":0},0,0,0,0,19749136,{"$f":"FlashCards!AE1682","v":1679}]
[null,null,null,null,null,null,null,null,null,null,null,null,null,null,null,null,null,null,null,null,null,null,null,{"$f":"FlashCards!AQ1683","v":0},0,0,0,0,19749136,{"$f":"FlashCards!AE1683","v":1680}]
[null,null,null,null,null,null,null,null,null,null,null,null,null,null,null,null,null,null,null,null,null,null,null,{"$f":"FlashCards!AQ1684","v":0},0,0,0,0,19749136,{"$f":"FlashCards!AE1684","v":1681}]
[null,null,null,null,null,null,null,null,null,null,null,null,null,null,null,null,null,null,null,null,null,null,null,{"$f":"FlashCards!AQ1685","v":0},0,0,0,0,19749136,{"$f":"FlashCards!AE1685","v":1682}]
[null,null,null,null,null,null,null,null,null,null,null,null,null,null,null,null,null,null,null,null,null,null,null,{"$f":"FlashCards!AQ1686","v":0},0,0,0,0,19749136,{"$f":"FlashCards!AE1686","v":1683}]
[null,null,null,null,null,null,null,null,null,null,null,null,null,null,null,null,null,null,null,null,null,null,null,{"$f":"FlashCards!AQ1687","v":0},0,0,0,0,19749136,{"$f":"FlashCards!AE1687","v":1684}]
[null,null,null,null,null,null,null,null,null,null,null,null,null,null,null,null,null,null,null,null,null,null,null,{"$f":"FlashCards!AQ1688","v":0},0,0,0,0,19749136,{"$f":"FlashCards!AE1688","v":1685}]
[null,null,null,null,null,null,null,null,null,null,null,null,null,null,null,null,null,null,null,null,null,null,null,{"$f":"FlashCards!AQ1689","v":0},0,0,0,0,19749136,{"$f":"FlashCards!AE1689","v":1686}]
[null,null,null,null,null,null,null,null,null,null,null,null,null,null,null,null,null,null,null,null,null,null,null,{"$f":"FlashCards!AQ1690","v":0},0,0,0,0,19749136,{"$f":"FlashCards!AE1690","v":1687}]
[null,null,null,null,null,null,null,null,null,null,null,null,null,null,null,null,null,null,null,null,null,null,null,{"$f":"FlashCards!AQ1691","v":0},0,0,0,0,19749136,{"$f":"FlashCards!AE1691","v":1688}]
[null,null,null,null,null,null,null,null,null,null,null,null,null,null,null,null,null,null,null,null,null,null,null,{"$f":"FlashCards!AQ1692","v":0},0,0,0,0,19749136,{"$f":"FlashCards!AE1692","v":1689}]
[null,null,null,null,null,null,null,null,null,null,null,null,null,null,null,null,null,null,null,null,null,null,null,{"$f":"FlashCards!AQ1693","v":0},0,0,0,0,19749136,{"$f":"FlashCards!AE1693","v":1690}]
[null,null,null,null,null,null,null,null,null,null,null,null,null,null,null,null,null,null,null,null,null,null,null,{"$f":"FlashCards!AQ1694","v":0},0,0,0,0,19749136,{"$f":"FlashCards!AE1694","v":1691}]
[null,null,null,null,null,null,null,null,null,null,null,null,null,null,null,null,null,null,null,null,null,null,null,{"$f":"FlashCards!AQ1695","v":0},0,0,0,0,19749136,{"$f":"FlashCards!AE1695","v":1692}]
[null,null,null,null,null,null,null,null,null,null,null,null,null,null,null,null,null,null,null,null,null,null,null,{"$f":"FlashCards!AQ1696","v":0},0,0,0,0,19749136,{"$f":"FlashCards!AE1696","v":1693}]
[null,null,null,null,null,null,null,null,null,null,null,null,null,null,null,null,null,null,null,null,null,null,null,{"$f":"FlashCards!AQ1697","v":0},0,0,0,0,19749136,{"$f":"FlashCards!AE1697","v":1694}]
[null,null,null,null,null,null,null,null,null,null,null,null,null,null,null,null,null,null,null,null,null,null,null,{"$f":"FlashCards!AQ1698","v":0},0,0,0,0,19749136,{"$f":"FlashCards!AE1698","v":1695}]
[null,null,null,null,null,null,null,null,null,null,null,null,null,null,null,null,null,null,null,null,null,null,null,{"$f":"FlashCards!AQ1699","v":0},0,0,0,0,19749136,{"$f":"FlashCards!AE1699","v":1696}]
[null,null,null,null,null,null,null,null,null,null,null,null,null,null,null,null,null,null,null,null,null,null,null,{"$f":"FlashCards!AQ1700","v":0},0,0,0,0,19749136,{"$f":"FlashCards!AE1700","v":1697}]
[null,null,null,null,null,null,null,null,null,null,null,null,null,null,null,null,null,null,null,null,null,null,null,{"$f":"FlashCards!AQ1701","v":0},0,0,0,0,19749136,{"$f":"FlashCards!AE1701","v":1698}]
[null,null,null,null,null,null,null,null,null,null,null,null,null,null,null,null,null,null,null,null,null,null,null,{"$f":"FlashCards!AQ1702","v":0},0,0,0,0,19749136,{"$f":"FlashCards!AE1702","v":1699}]
[null,null,null,null,null,null,null,null,null,null,null,null,null,null,null,null,null,null,null,null,null,null,null,{"$f":"FlashCards!AQ1703","v":0},0,0,0,0,19749136,{"$f":"FlashCards!AE1703","v":1700}]
[null,null,null,null,null,null,null,null,null,null,null,null,null,null,null,null,null,null,null,null,null,null,null,{"$f":"FlashCards!AQ1704","v":0},0,0,0,0,19749136,{"$f":"FlashCards!AE1704","v":1701}]
[null,null,null,null,null,null,null,null,null,null,null,null,null,null,null,null,null,null,null,null,null,null,null,{"$f":"FlashCards!AQ1705","v":0},0,0,0,0,19749136,{"$f":"FlashCards!AE1705","v":1702}]
[null,null,null,null,null,null,null,null,null,null,null,null,null,null,null,null,null,null,null,null,null,null,null,{"$f":"FlashCards!AQ1706","v":0},0,0,0,0,19749136,{"$f":"FlashCards!AE1706","v":1703}]
[null,null,null,null,null,null,null,null,null,null,null,null,null,null,null,null,null,null,null,null,null,null,null,{"$f":"FlashCards!AQ1707","v":0},0,0,0,0,19749136,{"$f":"FlashCards!AE1707","v":1704}]
[null,null,null,null,null,null,null,null,null,null,null,null,null,null,null,null,null,null,null,null,null,null,null,{"$f":"FlashCards!AQ1708","v":0},0,0,0,0,19749136,{"$f":"FlashCards!AE1708","v":1705}]
[null,null,null,null,null,null,null,null,null,null,null,null,null,null,null,null,null,null,null,null,null,null,null,{"$f":"FlashCards!AQ1709","v":0},0,0,0,0,19749136,{"$f":"FlashCards!AE1709","v":1706}]
[null,null,null,null,null,null,null,null,null,null,null,null,null,null,null,null,null,null,null,null,null,null,null,{"$f":"FlashCards!AQ1710","v":0},0,0,0,0,19749136,{"$f":"FlashCards!AE1710","v":1707}]
[null,null,null,null,null,null,null,null,null,null,null,null,null,null,null,null,null,null,null,null,null,null,null,{"$f":"FlashCards!AQ1711","v":0},0,0,0,0,19749136,{"$f":"FlashCards!AE1711","v":1708}]
[null,null,null,null,null,null,null,null,null,null,null,null,null,null,null,null,null,null,null,null,null,null,null,{"$f":"FlashCards!AQ1712","v":0},0,0,0,0,19749136,{"$f":"FlashCards!AE1712","v":1709}]
[null,null,null,null,null,null,null,null,null,null,null,null,null,null,null,null,null,null,null,null,null,null,null,{"$f":"FlashCards!AQ1713","v":0},0,0,0,0,19749136,{"$f":"FlashCards!AE1713","v":1710}]
[null,null,null,null,null,null,null,null,null,null,null,null,null,null,null,null,null,null,null,null,null,null,null,{"$f":"FlashCards!AQ1714","v":0},0,0,0,0,19749136,{"$f":"FlashCards!AE1714","v":1711}]
[null,null,null,null,null,null,null,null,null,null,null,null,null,null,null,null,null,null,null,null,null,null,null,{"$f":"FlashCards!AQ1715","v":0},0,0,0,0,19749136,{"$f":"FlashCards!AE1715","v":1712}]
[null,null,null,null,null,null,null,null,null,null,null,null,null,null,null,null,null,null,null,null,null,null,null,{"$f":"FlashCards!AQ1716","v":0},0,0,0,0,19749136,{"$f":"FlashCards!AE1716","v":1713}]
[null,null,null,null,null,null,null,null,null,null,null,null,null,null,null,null,null,null,null,null,null,null,null,{"$f":"FlashCards!AQ1717","v":0},0,0,0,0,19749136,{"$f":"FlashCards!AE1717","v":1714}]
[null,null,null,null,null,null,null,null,null,null,null,null,null,null,null,null,null,null,null,null,null,null,null,{"$f":"FlashCards!AQ1718","v":0},0,0,0,0,19749136,{"$f":"FlashCards!AE1718","v":1715}]
[null,null,null,null,null,null,null,null,null,null,null,null,null,null,null,null,null,null,null,null,null,null,null,{"$f":"FlashCards!AQ1719","v":0},0,0,0,0,19749136,{"$f":"FlashCards!AE1719","v":1716}]
[null,null,null,null,null,null,null,null,null,null,null,null,null,null,null,null,null,null,null,null,null,null,null,{"$f":"FlashCards!AQ1720","v":0},0,0,0,0,19749136,{"$f":"FlashCards!AE1720","v":1717}]
[null,null,null,null,null,null,null,null,null,null,null,null,null,null,null,null,null,null,null,null,null,null,null,{"$f":"FlashCards!AQ1721","v":0},0,0,0,0,19749136,{"$f":"FlashCards!AE1721","v":1718}]
[null,null,null,null,null,null,null,null,null,null,null,null,null,null,null,null,null,null,null,null,null,null,null,{"$f":"FlashCards!AQ1722","v":0},0,0,0,0,19749136,{"$f":"FlashCards!AE1722","v":1719}]
[null,null,null,null,null,null,null,null,null,null,null,null,null,null,null,null,null,null,null,null,null,null,null,{"$f":"FlashCards!AQ1723","v":0},0,0,0,0,19749136,{"$f":"FlashCards!AE1723","v":1720}]
[null,null,null,null,null,null,null,null,null,null,null,null,null,null,null,null,null,null,null,null,null,null,null,{"$f":"FlashCards!AQ1724","v":0},0,0,0,0,19749136,{"$f":"FlashCards!AE1724","v":1721}]
[null,null,null,null,null,null,null,null,null,null,null,null,null,null,null,null,null,null,null,null,null,null,null,{"$f":"FlashCards!AQ1725","v":0},0,0,0,0,19749136,{"$f":"FlashCards!AE1725","v":1722}]
[null,null,null,null,null,null,null,null,null,null,null,null,null,null,null,null,null,null,null,null,null,null,null,{"$f":"FlashCards!AQ1726","v":0},0,0,0,0,19749136,{"$f":"FlashCards!AE1726","v":1723}]
[null,null,null,null,null,null,null,null,null,null,null,null,null,null,null,null,null,null,null,null,null,null,null,{"$f":"FlashCards!AQ1727","v":0},0,0,0,0,19749136,{"$f":"FlashCards!AE1727","v":1724}]
[null,null,null,null,null,null,null,null,null,null,null,null,null,null,null,null,null,null,null,null,null,null,null,{"$f":"FlashCards!AQ1728","v":0},0,0,0,0,19749136,{"$f":"FlashCards!AE1728","v":1725}]
[null,null,null,null,null,null,null,null,null,null,null,null,null,null,null,null,null,null,null,null,null,null,null,{"$f":"FlashCards!AQ1729","v":0},0,0,0,0,19749136,{"$f":"FlashCards!AE1729","v":1726}]
[null,null,null,null,null,null,null,null,null,null,null,null,null,null,null,null,null,null,null,null,null,null,null,{"$f":"FlashCards!AQ1730","v":0},0,0,0,0,19749136,{"$f":"FlashCards!AE1730","v":1727}]
[null,null,null,null,null,null,null,null,null,null,null,null,null,null,null,null,null,null,null,null,null,null,null,{"$f":"FlashCards!AQ1731","v":0},0,0,0,0,19749136,{"$f":"FlashCards!AE1731","v":1728}]
[null,null,null,null,null,null,null,null,null,null,null,null,null,null,null,null,null,null,null,null,null,null,null,{"$f":"FlashCards!AQ1732","v":0},0,0,0,0,19749136,{"$f":"FlashCards!AE1732","v":1729}]
[null,null,null,null,null,null,null,null,null,null,null,null,null,null,null,null,null,null,null,null,null,null,null,{"$f":"FlashCards!AQ1733","v":0},{"$f":"VALUE(X1732)","v":0},{"$f":"IF(ISERR(FIND(\"+\",X1732,1)),0,FIND(\"+\",X1732,1))","v":0},{"$f":"IF(ISERR(FIND(\",\",X1732,1)),0,FIND(\",\",X1732,1))","v":0},{"$f":"IF(Z1732>0,VALUE(LEFT(X1732,Z1732-1)),IF(AA1732>0,VALUE(LEFT(X1732,AA1732-1)),IF(ISERR(Y1732),VALUE(LEFT(X1732,LEN(X1732)-1)),Y1732)))","v":0},{"$f":"(AB1732-U$28)^2","v":19749136},{"$f":"FlashCards!AE1733","v":1730}]
[null,null,null,null,null,null,null,null,null,null,null,null,null,null,null,null,null,null,null,null,null,null,null,{"$f":"FlashCards!AQ1734","v":0},0,0,0,0,19749136,{"$f":"FlashCards!AE1734","v":1731}]
[null,null,null,null,null,null,null,null,null,null,null,null,null,null,null,null,null,null,null,null,null,null,null,{"$f":"FlashCards!AQ1735","v":0},0,0,0,0,19749136,{"$f":"FlashCards!AE1735","v":1732}]
[null,null,null,null,null,null,null,null,null,null,null,null,null,null,null,null,null,null,null,null,null,null,null,{"$f":"FlashCards!AQ1736","v":0},0,0,0,0,19749136,{"$f":"FlashCards!AE1736","v":1733}]
[null,null,null,null,null,null,null,null,null,null,null,null,null,null,null,null,null,null,null,null,null,null,null,{"$f":"FlashCards!AQ1737","v":0},0,0,0,0,19749136,{"$f":"FlashCards!AE1737","v":1734}]
[null,null,null,null,null,null,null,null,null,null,null,null,null,null,null,null,null,null,null,null,null,null,null,{"$f":"FlashCards!AQ1738","v":0},0,0,0,0,19749136,{"$f":"FlashCards!AE1738","v":1735}]
[null,null,null,null,null,null,null,null,null,null,null,null,null,null,null,null,null,null,null,null,null,null,null,{"$f":"FlashCards!AQ1739","v":0},0,0,0,0,19749136,{"$f":"FlashCards!AE1739","v":1736}]
[null,null,null,null,null,null,null,null,null,null,null,null,null,null,null,null,null,null,null,null,null,null,null,{"$f":"FlashCards!AQ1740","v":0},0,0,0,0,19749136,{"$f":"FlashCards!AE1740","v":1737}]
[null,null,null,null,null,null,null,null,null,null,null,null,null,null,null,null,null,null,null,null,null,null,null,{"$f":"FlashCards!AQ1741","v":0},0,0,0,0,19749136,{"$f":"FlashCards!AE1741","v":1738}]
[null,null,null,null,null,null,null,null,null,null,null,null,null,null,null,null,null,null,null,null,null,null,null,{"$f":"FlashCards!AQ1742","v":0},0,0,0,0,19749136,{"$f":"FlashCards!AE1742","v":1739}]
[null,null,null,null,null,null,null,null,null,null,null,null,null,null,null,null,null,null,null,null,null,null,null,{"$f":"FlashCards!AQ1743","v":0},0,0,0,0,19749136,{"$f":"FlashCards!AE1743","v":1740}]
[null,null,null,null,null,null,null,null,null,null,null,null,null,null,null,null,null,null,null,null,null,null,null,{"$f":"FlashCards!AQ1744","v":0},0,0,0,0,19749136,{"$f":"FlashCards!AE1744","v":1741}]
[null,null,null,null,null,null,null,null,null,null,null,null,null,null,null,null,null,null,null,null,null,null,null,{"$f":"FlashCards!AQ1745","v":0},0,0,0,0,19749136,{"$f":"FlashCards!AE1745","v":1742}]
[null,null,null,null,null,null,null,null,null,null,null,null,null,null,null,null,null,null,null,null,null,null,null,{"$f":"FlashCards!AQ1746","v":0},0,0,0,0,19749136,{"$f":"FlashCards!AE1746","v":1743}]
[null,null,null,null,null,null,null,null,null,null,null,null,null,null,null,null,null,null,null,null,null,null,null,{"$f":"FlashCards!AQ1747","v":0},0,0,0,0,19749136,{"$f":"FlashCards!AE1747","v":1744}]
[null,null,null,null,null,null,null,null,null,null,null,null,null,null,null,null,null,null,null,null,null,null,null,{"$f":"FlashCards!AQ1748","v":0},0,0,0,0,19749136,{"$f":"FlashCards!AE1748","v":1745}]
[null,null,null,null,null,null,null,null,null,null,null,null,null,null,null,null,null,null,null,null,null,null,null,{"$f":"FlashCards!AQ1749","v":0},0,0,0,0,19749136,{"$f":"FlashCards!AE1749","v":1746}]
[null,null,null,null,null,null,null,null,null,null,null,null,null,null,null,null,null,null,null,null,null,null,null,{"$f":"FlashCards!AQ1750","v":0},0,0,0,0,19749136,{"$f":"FlashCards!AE1750","v":1747}]
[null,null,null,null,null,null,null,null,null,null,null,null,null,null,null,null,null,null,null,null,null,null,null,{"$f":"FlashCards!AQ1751","v":0},0,0,0,0,19749136,{"$f":"FlashCards!AE1751","v":1748}]
[null,null,null,null,null,null,null,null,null,null,null,null,null,null,null,null,null,null,null,null,null,null,null,{"$f":"FlashCards!AQ1752","v":0},0,0,0,0,19749136,{"$f":"FlashCards!AE1752","v":1749}]
[null,null,null,null,null,null,null,null,null,null,null,null,null,null,null,null,null,null,null,null,null,null,null,{"$f":"FlashCards!AQ1753","v":0},0,0,0,0,19749136,{"$f":"FlashCards!AE1753","v":1750}]
[null,null,null,null,null,null,null,null,null,null,null,null,null,null,null,null,null,null,null,null,null,null,null,{"$f":"FlashCards!AQ1754","v":0},0,0,0,0,19749136,{"$f":"FlashCards!AE1754","v":1751}]
[null,null,null,null,null,null,null,null,null,null,null,null,null,null,null,null,null,null,null,null,null,null,null,{"$f":"FlashCards!AQ1755","v":0},0,0,0,0,19749136,{"$f":"FlashCards!AE1755","v":1752}]
[null,null,null,null,null,null,null,null,null,null,null,null,null,null,null,null,null,null,null,null,null,null,null,{"$f":"FlashCards!AQ1756","v":0},0,0,0,0,19749136,{"$f":"FlashCards!AE1756","v":1753}]
[null,null,null,null,null,null,null,null,null,null,null,null,null,null,null,null,null,null,null,null,null,null,null,{"$f":"FlashCards!AQ1757","v":0},0,0,0,0,19749136,{"$f":"FlashCards!AE1757","v":1754}]
[null,null,null,null,null,null,null,null,null,null,null,null,null,null,null,null,null,null,null,null,null,null,null,{"$f":"FlashCards!AQ1758","v":0},0,0,0,0,19749136,{"$f":"FlashCards!AE1758","v":1755}]
[null,null,null,null,null,null,null,null,null,null,null,null,null,null,null,null,null,null,null,null,null,null,null,{"$f":"FlashCards!AQ1759","v":0},0,0,0,0,19749136,{"$f":"FlashCards!AE1759","v":1756}]
[null,null,null,null,null,null,null,null,null,null,null,null,null,null,null,null,null,null,null,null,null,null,null,{"$f":"FlashCards!AQ1760","v":0},0,0,0,0,19749136,{"$f":"FlashCards!AE1760","v":1757}]
[null,null,null,null,null,null,null,null,null,null,null,null,null,null,null,null,null,null,null,null,null,null,null,{"$f":"FlashCards!AQ1761","v":0},0,0,0,0,19749136,{"$f":"FlashCards!AE1761","v":1758}]
[null,null,null,null,null,null,null,null,null,null,null,null,null,null,null,null,null,null,null,null,null,null,null,{"$f":"FlashCards!AQ1762","v":0},0,0,0,0,19749136,{"$f":"FlashCards!AE1762","v":1759}]
[null,null,null,null,null,null,null,null,null,null,null,null,null,null,null,null,null,null,null,null,null,null,null,{"$f":"FlashCards!AQ1763","v":0},0,0,0,0,19749136,{"$f":"FlashCards!AE1763","v":1760}]
[null,null,null,null,null,null,null,null,null,null,null,null,null,null,null,null,null,null,null,null,null,null,null,{"$f":"FlashCards!AQ1764","v":0},0,0,0,0,19749136,{"$f":"FlashCards!AE1764","v":1761}]
[null,null,null,null,null,null,null,null,null,null,null,null,null,null,null,null,null,null,null,null,null,null,null,{"$f":"FlashCards!AQ1765","v":0},0,0,0,0,19749136,{"$f":"FlashCards!AE1765","v":1762}]
[null,null,null,null,null,null,null,null,null,null,null,null,null,null,null,null,null,null,null,null,null,null,null,{"$f":"FlashCards!AQ1766","v":0},0,0,0,0,19749136,{"$f":"FlashCards!AE1766","v":1763}]
[null,null,null,null,null,null,null,null,null,null,null,null,null,null,null,null,null,null,null,null,null,null,null,{"$f":"FlashCards!AQ1767","v":0},0,0,0,0,19749136,{"$f":"FlashCards!AE1767","v":1764}]
[null,null,null,null,null,null,null,null,null,null,null,null,null,null,null,null,null,null,null,null,null,null,null,{"$f":"FlashCards!AQ1768","v":0},0,0,0,0,19749136,{"$f":"FlashCards!AE1768","v":1765}]
[null,null,null,null,null,null,null,null,null,null,null,null,null,null,null,null,null,null,null,null,null,null,null,{"$f":"FlashCards!AQ1769","v":0},0,0,0,0,19749136,{"$f":"FlashCards!AE1769","v":1766}]
[null,null,null,null,null,null,null,null,null,null,null,null,null,null,null,null,null,null,null,null,null,null,null,{"$f":"FlashCards!AQ1770","v":0},0,0,0,0,19749136,{"$f":"FlashCards!AE1770","v":1767}]
[null,null,null,null,null,null,null,null,null,null,null,null,null,null,null,null,null,null,null,null,null,null,null,{"$f":"FlashCards!AQ1771","v":0},0,0,0,0,19749136,{"$f":"FlashCards!AE1771","v":1768}]
[null,null,null,null,null,null,null,null,null,null,null,null,null,null,null,null,null,null,null,null,null,null,null,{"$f":"FlashCards!AQ1772","v":0},0,0,0,0,19749136,{"$f":"FlashCards!AE1772","v":1769}]
[null,null,null,null,null,null,null,null,null,null,null,null,null,null,null,null,null,null,null,null,null,null,null,{"$f":"FlashCards!AQ1773","v":0},0,0,0,0,19749136,{"$f":"FlashCards!AE1773","v":1770}]
[null,null,null,null,null,null,null,null,null,null,null,null,null,null,null,null,null,null,null,null,null,null,null,{"$f":"FlashCards!AQ1774","v":0},0,0,0,0,19749136,{"$f":"FlashCards!AE1774","v":1771}]
[null,null,null,null,null,null,null,null,null,null,null,null,null,null,null,null,null,null,null,null,null,null,null,{"$f":"FlashCards!AQ1775","v":0},0,0,0,0,19749136,{"$f":"FlashCards!AE1775","v":1772}]
[null,null,null,null,null,null,null,null,null,null,null,null,null,null,null,null,null,null,null,null,null,null,null,{"$f":"FlashCards!AQ1776","v":0},0,0,0,0,19749136,{"$f":"FlashCards!AE1776","v":1773}]
[null,null,null,null,null,null,null,null,null,null,null,null,null,null,null,null,null,null,null,null,null,null,null,{"$f":"FlashCards!AQ1777","v":0},0,0,0,0,19749136,{"$f":"FlashCards!AE1777","v":1774}]
[null,null,null,null,null,null,null,null,null,null,null,null,null,null,null,null,null,null,null,null,null,null,null,{"$f":"FlashCards!AQ1778","v":0},0,0,0,0,19749136,{"$f":"FlashCards!AE1778","v":1775}]
[null,null,null,null,null,null,null,null,null,null,null,null,null,null,null,null,null,null,null,null,null,null,null,{"$f":"FlashCards!AQ1779","v":0},0,0,0,0,19749136,{"$f":"FlashCards!AE1779","v":1776}]
[null,null,null,null,null,null,null,null,null,null,null,null,null,null,null,null,null,null,null,null,null,null,null,{"$f":"FlashCards!AQ1780","v":0},0,0,0,0,19749136,{"$f":"FlashCards!AE1780","v":1777}]
[null,null,null,null,null,null,null,null,null,null,null,null,null,null,null,null,null,null,null,null,null,null,null,{"$f":"FlashCards!AQ1781","v":0},0,0,0,0,19749136,{"$f":"FlashCards!AE1781","v":1778}]
[null,null,null,null,null,null,null,null,null,null,null,null,null,null,null,null,null,null,null,null,null,null,null,{"$f":"FlashCards!AQ1782","v":0},0,0,0,0,19749136,{"$f":"FlashCards!AE1782","v":1779}]
[null,null,null,null,null,null,null,null,null,null,null,null,null,null,null,null,null,null,null,null,null,null,null,{"$f":"FlashCards!AQ1783","v":0},0,0,0,0,19749136,{"$f":"FlashCards!AE1783","v":1780}]
[null,null,null,null,null,null,null,null,null,null,null,null,null,null,null,null,null,null,null,null,null,null,null,{"$f":"FlashCards!AQ1784","v":0},0,0,0,0,19749136,{"$f":"FlashCards!AE1784","v":1781}]
[null,null,null,null,null,null,null,null,null,null,null,null,null,null,null,null,null,null,null,null,null,null,null,{"$f":"FlashCards!AQ1785","v":0},0,0,0,0,19749136,{"$f":"FlashCards!AE1785","v":1782}]
[null,null,null,null,null,null,null,null,null,null,null,null,null,null,null,null,null,null,null,null,null,null,null,{"$f":"FlashCards!AQ1786","v":0},0,0,0,0,19749136,{"$f":"FlashCards!AE1786","v":1783}]
[null,null,null,null,null,null,null,null,null,null,null,null,null,null,null,null,null,null,null,null,null,null,null,{"$f":"FlashCards!AQ1787","v":0},0,0,0,0,19749136,{"$f":"FlashCards!AE1787","v":1784}]
[null,null,null,null,null,null,null,null,null,null,null,null,null,null,null,null,null,null,null,null,null,null,null,{"$f":"FlashCards!AQ1788","v":0},0,0,0,0,19749136,{"$f":"FlashCards!AE1788","v":1785}]
[null,null,null,null,null,null,null,null,null,null,null,null,null,null,null,null,null,null,null,null,null,null,null,{"$f":"FlashCards!AQ1789","v":0},0,0,0,0,19749136,{"$f":"FlashCards!AE1789","v":1786}]
[null,null,null,null,null,null,null,null,null,null,null,null,null,null,null,null,null,null,null,null,null,null,null,{"$f":"FlashCards!AQ1790","v":0},0,0,0,0,19749136,{"$f":"FlashCards!AE1790","v":1787}]
[null,null,null,null,null,null,null,null,null,null,null,null,null,null,null,null,null,null,null,null,null,null,null,{"$f":"FlashCards!AQ1791","v":0},0,0,0,0,19749136,{"$f":"FlashCards!AE1791","v":1788}]
[null,null,null,null,null,null,null,null,null,null,null,null,null,null,null,null,null,null,null,null,null,null,null,{"$f":"FlashCards!AQ1792","v":0},0,0,0,0,19749136,{"$f":"FlashCards!AE1792","v":1789}]
[null,null,null,null,null,null,null,null,null,null,null,null,null,null,null,null,null,null,null,null,null,null,null,{"$f":"FlashCards!AQ1793","v":0},0,0,0,0,19749136,{"$f":"FlashCards!AE1793","v":1790}]
[null,null,null,null,null,null,null,null,null,null,null,null,null,null,null,null,null,null,null,null,null,null,null,{"$f":"FlashCards!AQ1794","v":0},0,0,0,0,19749136,{"$f":"FlashCards!AE1794","v":1791}]
[null,null,null,null,null,null,null,null,null,null,null,null,null,null,null,null,null,null,null,null,null,null,null,{"$f":"FlashCards!AQ1795","v":0},0,0,0,0,19749136,{"$f":"FlashCards!AE1795","v":1792}]
[null,null,null,null,null,null,null,null,null,null,null,null,null,null,null,null,null,null,null,null,null,null,null,{"$f":"FlashCards!AQ1796","v":0},0,0,0,0,19749136,{"$f":"FlashCards!AE1796","v":1793}]
[null,null,null,null,null,null,null,null,null,null,null,null,null,null,null,null,null,null,null,null,null,null,null,{"$f":"FlashCards!AQ1797","v":0},{"$f":"VALUE(X1796)","v":0},{"$f":"IF(ISERR(FIND(\"+\",X1796,1)),0,FIND(\"+\",X1796,1))","v":0},{"$f":"IF(ISERR(FIND(\",\",X1796,1)),0,FIND(\",\",X1796,1))","v":0},{"$f":"IF(Z1796>0,VALUE(LEFT(X1796,Z1796-1)),IF(AA1796>0,VALUE(LEFT(X1796,AA1796-1)),IF(ISERR(Y1796),VALUE(LEFT(X1796,LEN(X1796)-1)),Y1796)))","v":0},{"$f":"(AB1796-U$28)^2","v":19749136},{"$f":"FlashCards!AE1797","v":1794}]
[null,null,null,null,null,null,null,null,null,null,null,null,null,null,null,null,null,null,null,null,null,null,null,{"$f":"FlashCards!AQ1798","v":0},0,0,0,0,19749136,{"$f":"FlashCards!AE1798","v":1795}]
[null,null,null,null,null,null,null,null,null,null,null,null,null,null,null,null,null,null,null,null,null,null,null,{"$f":"FlashCards!AQ1799","v":0},0,0,0,0,19749136,{"$f":"FlashCards!AE1799","v":1796}]
[null,null,null,null,null,null,null,null,null,null,null,null,null,null,null,null,null,null,null,null,null,null,null,{"$f":"FlashCards!AQ1800","v":0},0,0,0,0,19749136,{"$f":"FlashCards!AE1800","v":1797}]
[null,null,null,null,null,null,null,null,null,null,null,null,null,null,null,null,null,null,null,null,null,null,null,{"$f":"FlashCards!AQ1801","v":0},0,0,0,0,19749136,{"$f":"FlashCards!AE1801","v":1798}]
[null,null,null,null,null,null,null,null,null,null,null,null,null,null,null,null,null,null,null,null,null,null,null,{"$f":"FlashCards!AQ1802","v":0},0,0,0,0,19749136,{"$f":"FlashCards!AE1802","v":1799}]
[null,null,null,null,null,null,null,null,null,null,null,null,null,null,null,null,null,null,null,null,null,null,null,{"$f":"FlashCards!AQ1803","v":0},0,0,0,0,19749136,{"$f":"FlashCards!AE1803","v":1800}]
[null,null,null,null,null,null,null,null,null,null,null,null,null,null,null,null,null,null,null,null,null,null,null,{"$f":"FlashCards!AQ1804","v":0},0,0,0,0,19749136,{"$f":"FlashCards!AE1804","v":1801}]
[null,null,null,null,null,null,null,null,null,null,null,null,null,null,null,null,null,null,null,null,null,null,null,{"$f":"FlashCards!AQ1805","v":0},0,0,0,0,19749136,{"$f":"FlashCards!AE1805","v":1802}]
[null,null,null,null,null,null,null,null,null,null,null,null,null,null,null,null,null,null,null,null,null,null,null,{"$f":"FlashCards!AQ1806","v":0},0,0,0,0,19749136,{"$f":"FlashCards!AE1806","v":1803}]
[null,null,null,null,null,null,null,null,null,null,null,null,null,null,null,null,null,null,null,null,null,null,null,{"$f":"FlashCards!AQ1807","v":0},0,0,0,0,19749136,{"$f":"FlashCards!AE1807","v":1804}]
[null,null,null,null,null,null,null,null,null,null,null,null,null,null,null,null,null,null,null,null,null,null,null,{"$f":"FlashCards!AQ1808","v":0},0,0,0,0,19749136,{"$f":"FlashCards!AE1808","v":1805}]
[null,null,null,null,null,null,null,null,null,null,null,null,null,null,null,null,null,null,null,null,null,null,null,{"$f":"FlashCards!AQ1809","v":0},0,0,0,0,19749136,{"$f":"FlashCards!AE1809","v":1806}]
[null,null,null,null,null,null,null,null,null,null,null,null,null,null,null,null,null,null,null,null,null,null,null,{"$f":"FlashCards!AQ1810","v":0},0,0,0,0,19749136,{"$f":"FlashCards!AE1810","v":1807}]
[null,null,null,null,null,null,null,null,null,null,null,null,null,null,null,null,null,null,null,null,null,null,null,{"$f":"FlashCards!AQ1811","v":0},0,0,0,0,19749136,{"$f":"FlashCards!AE1811","v":1808}]
[null,null,null,null,null,null,null,null,null,null,null,null,null,null,null,null,null,null,null,null,null,null,null,{"$f":"FlashCards!AQ1812","v":0},0,0,0,0,19749136,{"$f":"FlashCards!AE1812","v":1809}]
[null,null,null,null,null,null,null,null,null,null,null,null,null,null,null,null,null,null,null,null,null,null,null,{"$f":"FlashCards!AQ1813","v":0},0,0,0,0,19749136,{"$f":"FlashCards!AE1813","v":1810}]
[null,null,null,null,null,null,null,null,null,null,null,null,null,null,null,null,null,null,null,null,null,null,null,{"$f":"FlashCards!AQ1814","v":0},0,0,0,0,19749136,{"$f":"FlashCards!AE1814","v":1811}]
[null,null,null,null,null,null,null,null,null,null,null,null,null,null,null,null,null,null,null,null,null,null,null,{"$f":"FlashCards!AQ1815","v":0},0,0,0,0,19749136,{"$f":"FlashCards!AE1815","v":1812}]
[null,null,null,null,null,null,null,null,null,null,null,null,null,null,null,null,null,null,null,null,null,null,null,{"$f":"FlashCards!AQ1816","v":0},0,0,0,0,19749136,{"$f":"FlashCards!AE1816","v":1813}]
[null,null,null,null,null,null,null,null,null,null,null,null,null,null,null,null,null,null,null,null,null,null,null,{"$f":"FlashCards!AQ1817","v":0},0,0,0,0,19749136,{"$f":"FlashCards!AE1817","v":1814}]
[null,null,null,null,null,null,null,null,null,null,null,null,null,null,null,null,null,null,null,null,null,null,null,{"$f":"FlashCards!AQ1818","v":0},0,0,0,0,19749136,{"$f":"FlashCards!AE1818","v":1815}]
[null,null,null,null,null,null,null,null,null,null,null,null,null,null,null,null,null,null,null,null,null,null,null,{"$f":"FlashCards!AQ1819","v":0},0,0,0,0,19749136,{"$f":"FlashCards!AE1819","v":1816}]
[null,null,null,null,null,null,null,null,null,null,null,null,null,null,null,null,null,null,null,null,null,null,null,{"$f":"FlashCards!AQ1820","v":0},0,0,0,0,19749136,{"$f":"FlashCards!AE1820","v":1817}]
[null,null,null,null,null,null,null,null,null,null,null,null,null,null,null,null,null,null,null,null,null,null,null,{"$f":"FlashCards!AQ1821","v":0},0,0,0,0,19749136,{"$f":"FlashCards!AE1821","v":1818}]
[null,null,null,null,null,null,null,null,null,null,null,null,null,null,null,null,null,null,null,null,null,null,null,{"$f":"FlashCards!AQ1822","v":0},0,0,0,0,19749136,{"$f":"FlashCards!AE1822","v":1819}]
[null,null,null,null,null,null,null,null,null,null,null,null,null,null,null,null,null,null,null,null,null,null,null,{"$f":"FlashCards!AQ1823","v":0},0,0,0,0,19749136,{"$f":"FlashCards!AE1823","v":1820}]
[null,null,null,null,null,null,null,null,null,null,null,null,null,null,null,null,null,null,null,null,null,null,null,{"$f":"FlashCards!AQ1824","v":0},0,0,0,0,19749136,{"$f":"FlashCards!AE1824","v":1821}]
[null,null,null,null,null,null,null,null,null,null,null,null,null,null,null,null,null,null,null,null,null,null,null,{"$f":"FlashCards!AQ1825","v":0},0,0,0,0,19749136,{"$f":"FlashCards!AE1825","v":1822}]
[null,null,null,null,null,null,null,null,null,null,null,null,null,null,null,null,null,null,null,null,null,null,null,{"$f":"FlashCards!AQ1826","v":0},0,0,0,0,19749136,{"$f":"FlashCards!AE1826","v":1823}]
[null,null,null,null,null,null,null,null,null,null,null,null,null,null,null,null,null,null,null,null,null,null,null,{"$f":"FlashCards!AQ1827","v":0},0,0,0,0,19749136,{"$f":"FlashCards!AE1827","v":1824}]
[null,null,null,null,null,null,null,null,null,null,null,null,null,null,null,null,null,null,null,null,null,null,null,{"$f":"FlashCards!AQ1828","v":0},0,0,0,0,19749136,{"$f":"FlashCards!AE1828","v":1825}]
[null,null,null,null,null,null,null,null,null,null,null,null,null,null,null,null,null,null,null,null,null,null,null,{"$f":"FlashCards!AQ1829","v":0},0,0,0,0,19749136,{"$f":"FlashCards!AE1829","v":1826}]
[null,null,null,null,null,null,null,null,null,null,null,null,null,null,null,null,null,null,null,null,null,null,null,{"$f":"FlashCards!AQ1830","v":0},0,0,0,0,19749136,{"$f":"FlashCards!AE1830","v":1827}]
[null,null,null,null,null,null,null,null,null,null,null,null,null,null,null,null,null,null,null,null,null,null,null,{"$f":"FlashCards!AQ1831","v":0},0,0,0,0,19749136,{"$f":"FlashCards!AE1831","v":1828}]
[null,null,null,null,null,null,null,null,null,null,null,null,null,null,null,null,null,null,null,null,null,null,null,{"$f":"FlashCards!AQ1832","v":0},0,0,0,0,19749136,{"$f":"FlashCards!AE1832","v":1829}]
[null,null,null,null,null,null,null,null,null,null,null,null,null,null,null,null,null,null,null,null,null,null,null,{"$f":"FlashCards!AQ1833","v":0},0,0,0,0,19749136,{"$f":"FlashCards!AE1833","v":1830}]
[null,null,null,null,null,null,null,null,null,null,null,null,null,null,null,null,null,null,null,null,null,null,null,{"$f":"FlashCards!AQ1834","v":0},0,0,0,0,19749136,{"$f":"FlashCards!AE1834","v":1831}]
[null,null,null,null,null,null,null,null,null,null,null,null,null,null,null,null,null,null,null,null,null,null,null,{"$f":"FlashCards!AQ1835","v":0},0,0,0,0,19749136,{"$f":"FlashCards!AE1835","v":1832}]
[null,null,null,null,null,null,null,null,null,null,null,null,null,null,null,null,null,null,null,null,null,null,null,{"$f":"FlashCards!AQ1836","v":0},0,0,0,0,19749136,{"$f":"FlashCards!AE1836","v":1833}]
[null,null,null,null,null,null,null,null,null,null,null,null,null,null,null,null,null,null,null,null,null,null,null,{"$f":"FlashCards!AQ1837","v":0},0,0,0,0,19749136,{"$f":"FlashCards!AE1837","v":1834}]
[null,null,null,null,null,null,null,null,null,null,null,null,null,null,null,null,null,null,null,null,null,null,null,{"$f":"FlashCards!AQ1838","v":0},0,0,0,0,19749136,{"$f":"FlashCards!AE1838","v":1835}]
[null,null,null,null,null,null,null,null,null,null,null,null,null,null,null,null,null,null,null,null,null,null,null,{"$f":"FlashCards!AQ1839","v":0},0,0,0,0,19749136,{"$f":"FlashCards!AE1839","v":1836}]
[null,null,null,null,null,null,null,null,null,null,null,null,null,null,null,null,null,null,null,null,null,null,null,{"$f":"FlashCards!AQ1840","v":0},0,0,0,0,19749136,{"$f":"FlashCards!AE1840","v":1837}]
[null,null,null,null,null,null,null,null,null,null,null,null,null,null,null,null,null,null,null,null,null,null,null,{"$f":"FlashCards!AQ1841","v":0},0,0,0,0,19749136,{"$f":"FlashCards!AE1841","v":1838}]
[null,null,null,null,null,null,null,null,null,null,null,null,null,null,null,null,null,null,null,null,null,null,null,{"$f":"FlashCards!AQ1842","v":0},0,0,0,0,19749136,{"$f":"FlashCards!AE1842","v":1839}]
[null,null,null,null,null,null,null,null,null,null,null,null,null,null,null,null,null,null,null,null,null,null,null,{"$f":"FlashCards!AQ1843","v":0},0,0,0,0,19749136,{"$f":"FlashCards!AE1843","v":1840}]
[null,null,null,null,null,null,null,null,null,null,null,null,null,null,null,null,null,null,null,null,null,null,null,{"$f":"FlashCards!AQ1844","v":0},0,0,0,0,19749136,{"$f":"FlashCards!AE1844","v":1841}]
[null,null,null,null,null,null,null,null,null,null,null,null,null,null,null,null,null,null,null,null,null,null,null,{"$f":"FlashCards!AQ1845","v":0},0,0,0,0,19749136,{"$f":"FlashCards!AE1845","v":1842}]
[null,null,null,null,null,null,null,null,null,null,null,null,null,null,null,null,null,null,null,null,null,null,null,{"$f":"FlashCards!AQ1846","v":0},0,0,0,0,19749136,{"$f":"FlashCards!AE1846","v":1843}]
[null,null,null,null,null,null,null,null,null,null,null,null,null,null,null,null,null,null,null,null,null,null,null,{"$f":"FlashCards!AQ1847","v":0},0,0,0,0,19749136,{"$f":"FlashCards!AE1847","v":1844}]
[null,null,null,null,null,null,null,null,null,null,null,null,null,null,null,null,null,null,null,null,null,null,null,{"$f":"FlashCards!AQ1848","v":0},0,0,0,0,19749136,{"$f":"FlashCards!AE1848","v":1845}]
[null,null,null,null,null,null,null,null,null,null,null,null,null,null,null,null,null,null,null,null,null,null,null,{"$f":"FlashCards!AQ1849","v":0},0,0,0,0,19749136,{"$f":"FlashCards!AE1849","v":1846}]
[null,null,null,null,null,null,null,null,null,null,null,null,null,null,null,null,null,null,null,null,null,null,null,{"$f":"FlashCards!AQ1850","v":0},0,0,0,0,19749136,{"$f":"FlashCards!AE1850","v":1847}]
[null,null,null,null,null,null,null,null,null,null,null,null,null,null,null,null,null,null,null,null,null,null,null,{"$f":"FlashCards!AQ1851","v":0},0,0,0,0,19749136,{"$f":"FlashCards!AE1851","v":1848}]
[null,null,null,null,null,null,null,null,null,null,null,null,null,null,null,null,null,null,null,null,null,null,null,{"$f":"FlashCards!AQ1852","v":0},0,0,0,0,19749136,{"$f":"FlashCards!AE1852","v":1849}]
[null,null,null,null,null,null,null,null,null,null,null,null,null,null,null,null,null,null,null,null,null,null,null,{"$f":"FlashCards!AQ1853","v":0},0,0,0,0,19749136,{"$f":"FlashCards!AE1853","v":1850}]
[null,null,null,null,null,null,null,null,null,null,null,null,null,null,null,null,null,null,null,null,null,null,null,{"$f":"FlashCards!AQ1854","v":0},0,0,0,0,19749136,{"$f":"FlashCards!AE1854","v":1851}]
[null,null,null,null,null,null,null,null,null,null,null,null,null,null,null,null,null,null,null,null,null,null,null,{"$f":"FlashCards!AQ1855","v":0},0,0,0,0,19749136,{"$f":"FlashCards!AE1855","v":1852}]
[null,null,null,null,null,null,null,null,null,null,null,null,null,null,null,null,null,null,null,null,null,null,null,{"$f":"FlashCards!AQ1856","v":0},0,0,0,0,19749136,{"$f":"FlashCards!AE1856","v":1853}]
[null,null,null,null,null,null,null,null,null,null,null,null,null,null,null,null,null,null,null,null,null,null,null,{"$f":"FlashCards!AQ1857","v":0},0,0,0,0,19749136,{"$f":"FlashCards!AE1857","v":1854}]
[null,null,null,null,null,null,null,null,null,null,null,null,null,null,null,null,null,null,null,null,null,null,null,{"$f":"FlashCards!AQ1858","v":0},0,0,0,0,19749136,{"$f":"FlashCards!AE1858","v":1855}]
[null,null,null,null,null,null,null,null,null,null,null,null,null,null,null,null,null,null,null,null,null,null,null,{"$f":"FlashCards!AQ1859","v":0},0,0,0,0,19749136,{"$f":"FlashCards!AE1859","v":1856}]
[null,null,null,null,null,null,null,null,null,null,null,null,null,null,null,null,null,null,null,null,null,null,null,{"$f":"FlashCards!AQ1860","v":0},0,0,0,0,19749136,{"$f":"FlashCards!AE1860","v":1857}]
[null,null,null,null,null,null,null,null,null,null,null,null,null,null,null,null,null,null,null,null,null,null,null,{"$f":"FlashCards!AQ1861","v":0},{"$f":"VALUE(X1860)","v":0},{"$f":"IF(ISERR(FIND(\"+\",X1860,1)),0,FIND(\"+\",X1860,1))","v":0},{"$f":"IF(ISERR(FIND(\",\",X1860,1)),0,FIND(\",\",X1860,1))","v":0},{"$f":"IF(Z1860>0,VALUE(LEFT(X1860,Z1860-1)),IF(AA1860>0,VALUE(LEFT(X1860,AA1860-1)),IF(ISERR(Y1860),VALUE(LEFT(X1860,LEN(X1860)-1)),Y1860)))","v":0},{"$f":"(AB1860-U$28)^2","v":19749136},{"$f":"FlashCards!AE1861","v":1858}]
[null,null,null,null,null,null,null,null,null,null,null,null,null,null,null,null,null,null,null,null,null,null,null,{"$f":"FlashCards!AQ1862","v":0},0,0,0,0,19749136,{"$f":"FlashCards!AE1862","v":1859}]
[null,null,null,null,null,null,null,null,null,null,null,null,null,null,null,null,null,null,null,null,null,null,null,{"$f":"FlashCards!AQ1863","v":0},0,0,0,0,19749136,{"$f":"FlashCards!AE1863","v":1860}]
[null,null,null,null,null,null,null,null,null,null,null,null,null,null,null,null,null,null,null,null,null,null,null,{"$f":"FlashCards!AQ1864","v":0},0,0,0,0,19749136,{"$f":"FlashCards!AE1864","v":1861}]
[null,null,null,null,null,null,null,null,null,null,null,null,null,null,null,null,null,null,null,null,null,null,null,{"$f":"FlashCards!AQ1865","v":0},0,0,0,0,19749136,{"$f":"FlashCards!AE1865","v":1862}]
[null,null,null,null,null,null,null,null,null,null,null,null,null,null,null,null,null,null,null,null,null,null,null,{"$f":"FlashCards!AQ1866","v":0},0,0,0,0,19749136,{"$f":"FlashCards!AE1866","v":1863}]
[null,null,null,null,null,null,null,null,null,null,null,null,null,null,null,null,null,null,null,null,null,null,null,{"$f":"FlashCards!AQ1867","v":0},0,0,0,0,19749136,{"$f":"FlashCards!AE1867","v":1864}]
[null,null,null,null,null,null,null,null,null,null,null,null,null,null,null,null,null,null,null,null,null,null,null,{"$f":"FlashCards!AQ1868","v":0},0,0,0,0,19749136,{"$f":"FlashCards!AE1868","v":1865}]
[null,null,null,null,null,null,null,null,null,null,null,null,null,null,null,null,null,null,null,null,null,null,null,{"$f":"FlashCards!AQ1869","v":0},0,0,0,0,19749136,{"$f":"FlashCards!AE1869","v":1866}]
[null,null,null,null,null,null,null,null,null,null,null,null,null,null,null,null,null,null,null,null,null,null,null,{"$f":"FlashCards!AQ1870","v":0},0,0,0,0,19749136,{"$f":"FlashCards!AE1870","v":1867}]
[null,null,null,null,null,null,null,null,null,null,null,null,null,null,null,null,null,null,null,null,null,null,null,{"$f":"FlashCards!AQ1871","v":0},0,0,0,0,19749136,{"$f":"FlashCards!AE1871","v":1868}]
[null,null,null,null,null,null,null,null,null,null,null,null,null,null,null,null,null,null,null,null,null,null,null,{"$f":"FlashCards!AQ1872","v":0},0,0,0,0,19749136,{"$f":"FlashCards!AE1872","v":1869}]
[null,null,null,null,null,null,null,null,null,null,null,null,null,null,null,null,null,null,null,null,null,null,null,{"$f":"FlashCards!AQ1873","v":0},0,0,0,0,19749136,{"$f":"FlashCards!AE1873","v":1870}]
[null,null,null,null,null,null,null,null,null,null,null,null,null,null,null,null,null,null,null,null,null,null,null,{"$f":"FlashCards!AQ1874","v":0},0,0,0,0,19749136,{"$f":"FlashCards!AE1874","v":1871}]
[null,null,null,null,null,null,null,null,null,null,null,null,null,null,null,null,null,null,null,null,null,null,null,{"$f":"FlashCards!AQ1875","v":0},0,0,0,0,19749136,{"$f":"FlashCards!AE1875","v":1872}]
[null,null,null,null,null,null,null,null,null,null,null,null,null,null,null,null,null,null,null,null,null,null,null,{"$f":"FlashCards!AQ1876","v":0},0,0,0,0,19749136,{"$f":"FlashCards!AE1876","v":1873}]
[null,null,null,null,null,null,null,null,null,null,null,null,null,null,null,null,null,null,null,null,null,null,null,{"$f":"FlashCards!AQ1877","v":0},0,0,0,0,19749136,{"$f":"FlashCards!AE1877","v":1874}]
[null,null,null,null,null,null,null,null,null,null,null,null,null,null,null,null,null,null,null,null,null,null,null,{"$f":"FlashCards!AQ1878","v":0},0,0,0,0,19749136,{"$f":"FlashCards!AE1878","v":1875}]
[null,null,null,null,null,null,null,null,null,null,null,null,null,null,null,null,null,null,null,null,null,null,null,{"$f":"FlashCards!AQ1879","v":0},0,0,0,0,19749136,{"$f":"FlashCards!AE1879","v":1876}]
[null,null,null,null,null,null,null,null,null,null,null,null,null,null,null,null,null,null,null,null,null,null,null,{"$f":"FlashCards!AQ1880","v":0},0,0,0,0,19749136,{"$f":"FlashCards!AE1880","v":1877}]
[null,null,null,null,null,null,null,null,null,null,null,null,null,null,null,null,null,null,null,null,null,null,null,{"$f":"FlashCards!AQ1881","v":0},0,0,0,0,19749136,{"$f":"FlashCards!AE1881","v":1878}]
[null,null,null,null,null,null,null,null,null,null,null,null,null,null,null,null,null,null,null,null,null,null,null,{"$f":"FlashCards!AQ1882","v":0},0,0,0,0,19749136,{"$f":"FlashCards!AE1882","v":1879}]
[null,null,null,null,null,null,null,null,null,null,null,null,null,null,null,null,null,null,null,null,null,null,null,{"$f":"FlashCards!AQ1883","v":0},0,0,0,0,19749136,{"$f":"FlashCards!AE1883","v":1880}]
[null,null,null,null,null,null,null,null,null,null,null,null,null,null,null,null,null,null,null,null,null,null,null,{"$f":"FlashCards!AQ1884","v":0},0,0,0,0,19749136,{"$f":"FlashCards!AE1884","v":1881}]
[null,null,null,null,null,null,null,null,null,null,null,null,null,null,null,null,null,null,null,null,null,null,null,{"$f":"FlashCards!AQ1885","v":0},0,0,0,0,19749136,{"$f":"FlashCards!AE1885","v":1882}]
[null,null,null,null,null,null,null,null,null,null,null,null,null,null,null,null,null,null,null,null,null,null,null,{"$f":"FlashCards!AQ1886","v":0},0,0,0,0,19749136,{"$f":"FlashCards!AE1886","v":1883}]
[null,null,null,null,null,null,null,null,null,null,null,null,null,null,null,null,null,null,null,null,null,null,null,{"$f":"FlashCards!AQ1887","v":0},0,0,0,0,19749136,{"$f":"FlashCards!AE1887","v":1884}]
[null,null,null,null,null,null,null,null,null,null,null,null,null,null,null,null,null,null,null,null,null,null,null,{"$f":"FlashCards!AQ1888","v":0},0,0,0,0,19749136,{"$f":"FlashCards!AE1888","v":1885}]
[null,null,null,null,null,null,null,null,null,null,null,null,null,null,null,null,null,null,null,null,null,null,null,{"$f":"FlashCards!AQ1889","v":0},0,0,0,0,19749136,{"$f":"FlashCards!AE1889","v":1886}]
[null,null,null,null,null,null,null,null,null,null,null,null,null,null,null,null,null,null,null,null,null,null,null,{"$f":"FlashCards!AQ1890","v":0},0,0,0,0,19749136,{"$f":"FlashCards!AE1890","v":1887}]
[null,null,null,null,null,null,null,null,null,null,null,null,null,null,null,null,null,null,null,null,null,null,null,{"$f":"FlashCards!AQ1891","v":0},0,0,0,0,19749136,{"$f":"FlashCards!AE1891","v":1888}]
[null,null,null,null,null,null,null,null,null,null,null,null,null,null,null,null,null,null,null,null,null,null,null,{"$f":"FlashCards!AQ1892","v":0},0,0,0,0,19749136,{"$f":"FlashCards!AE1892","v":1889}]
[null,null,null,null,null,null,null,null,null,null,null,null,null,null,null,null,null,null,null,null,null,null,null,{"$f":"FlashCards!AQ1893","v":0},0,0,0,0,19749136,{"$f":"FlashCards!AE1893","v":1890}]
[null,null,null,null,null,null,null,null,null,null,null,null,null,null,null,null,null,null,null,null,null,null,null,{"$f":"FlashCards!AQ1894","v":0},0,0,0,0,19749136,{"$f":"FlashCards!AE1894","v":1891}]
[null,null,null,null,null,null,null,null,null,null,null,null,null,null,null,null,null,null,null,null,null,null,null,{"$f":"FlashCards!AQ1895","v":0},0,0,0,0,19749136,{"$f":"FlashCards!AE1895","v":1892}]
[null,null,null,null,null,null,null,null,null,null,null,null,null,null,null,null,null,null,null,null,null,null,null,{"$f":"FlashCards!AQ1896","v":0},0,0,0,0,19749136,{"$f":"FlashCards!AE1896","v":1893}]
[null,null,null,null,null,null,null,null,null,null,null,null,null,null,null,null,null,null,null,null,null,null,null,{"$f":"FlashCards!AQ1897","v":0},0,0,0,0,19749136,{"$f":"FlashCards!AE1897","v":1894}]
[null,null,null,null,null,null,null,null,null,null,null,null,null,null,null,null,null,null,null,null,null,null,null,{"$f":"FlashCards!AQ1898","v":0},0,0,0,0,19749136,{"$f":"FlashCards!AE1898","v":1895}]
[null,null,null,null,null,null,null,null,null,null,null,null,null,null,null,null,null,null,null,null,null,null,null,{"$f":"FlashCards!AQ1899","v":0},0,0,0,0,19749136,{"$f":"FlashCards!AE1899","v":1896}]
[null,null,null,null,null,null,null,null,null,null,null,null,null,null,null,null,null,null,null,null,null,null,null,{"$f":"FlashCards!AQ1900","v":0},0,0,0,0,19749136,{"$f":"FlashCards!AE1900","v":1897}]
[null,null,null,null,null,null,null,null,null,null,null,null,null,null,null,null,null,null,null,null,null,null,null,{"$f":"FlashCards!AQ1901","v":0},0,0,0,0,19749136,{"$f":"FlashCards!AE1901","v":1898}]
[null,null,null,null,null,null,null,null,null,null,null,null,null,null,null,null,null,null,null,null,null,null,null,{"$f":"FlashCards!AQ1902","v":0},0,0,0,0,19749136,{"$f":"FlashCards!AE1902","v":1899}]
[null,null,null,null,null,null,null,null,null,null,null,null,null,null,null,null,null,null,null,null,null,null,null,{"$f":"FlashCards!AQ1903","v":0},0,0,0,0,19749136,{"$f":"FlashCards!AE1903","v":1900}]
[null,null,null,null,null,null,null,null,null,null,null,null,null,null,null,null,null,null,null,null,null,null,null,{"$f":"FlashCards!AQ1904","v":0},0,0,0,0,19749136,{"$f":"FlashCards!AE1904","v":1901}]
[null,null,null,null,null,null,null,null,null,null,null,null,null,null,null,null,null,null,null,null,null,null,null,{"$f":"FlashCards!AQ1905","v":0},0,0,0,0,19749136,{"$f":"FlashCards!AE1905","v":1902}]
[null,null,null,null,null,null,null,null,null,null,null,null,null,null,null,null,null,null,null,null,null,null,null,{"$f":"FlashCards!AQ1906","v":0},0,0,0,0,19749136,{"$f":"FlashCards!AE1906","v":1903}]
[null,null,null,null,null,null,null,null,null,null,null,null,null,null,null,null,null,null,null,null,null,null,null,{"$f":"FlashCards!AQ1907","v":0},0,0,0,0,19749136,{"$f":"FlashCards!AE1907","v":1904}]
[null,null,null,null,null,null,null,null,null,null,null,null,null,null,null,null,null,null,null,null,null,null,null,{"$f":"FlashCards!AQ1908","v":0},0,0,0,0,19749136,{"$f":"FlashCards!AE1908","v":1905}]
[null,null,null,null,null,null,null,null,null,null,null,null,null,null,null,null,null,null,null,null,null,null,null,{"$f":"FlashCards!AQ1909","v":0},0,0,0,0,19749136,{"$f":"FlashCards!AE1909","v":1906}]
[null,null,null,null,null,null,null,null,null,null,null,null,null,null,null,null,null,null,null,null,null,null,null,{"$f":"FlashCards!AQ1910","v":0},0,0,0,0,19749136,{"$f":"FlashCards!AE1910","v":1907}]
[null,null,null,null,null,null,null,null,null,null,null,null,null,null,null,null,null,null,null,null,null,null,null,{"$f":"FlashCards!AQ1911","v":0},0,0,0,0,19749136,{"$f":"FlashCards!AE1911","v":1908}]
[null,null,null,null,null,null,null,null,null,null,null,null,null,null,null,null,null,null,null,null,null,null,null,{"$f":"FlashCards!AQ1912","v":0},0,0,0,0,19749136,{"$f":"FlashCards!AE1912","v":1909}]
[null,null,null,null,null,null,null,null,null,null,null,null,null,null,null,null,null,null,null,null,null,null,null,{"$f":"FlashCards!AQ1913","v":0},0,0,0,0,19749136,{"$f":"FlashCards!AE1913","v":1910}]
[null,null,null,null,null,null,null,null,null,null,null,null,null,null,null,null,null,null,null,null,null,null,null,{"$f":"FlashCards!AQ1914","v":0},0,0,0,0,19749136,{"$f":"FlashCards!AE1914","v":1911}]
[null,null,null,null,null,null,null,null,null,null,null,null,null,null,null,null,null,null,null,null,null,null,null,{"$f":"FlashCards!AQ1915","v":0},0,0,0,0,19749136,{"$f":"FlashCards!AE1915","v":1912}]
[null,null,null,null,null,null,null,null,null,null,null,null,null,null,null,null,null,null,null,null,null,null,null,{"$f":"FlashCards!AQ1916","v":0},0,0,0,0,19749136,{"$f":"FlashCards!AE1916","v":1913}]
[null,null,null,null,null,null,null,null,null,null,null,null,null,null,null,null,null,null,null,null,null,null,null,{"$f":"FlashCards!AQ1917","v":0},0,0,0,0,19749136,{"$f":"FlashCards!AE1917","v":1914}]
[null,null,null,null,null,null,null,null,null,null,null,null,null,null,null,null,null,null,null,null,null,null,null,{"$f":"FlashCards!AQ1918","v":0},0,0,0,0,19749136,{"$f":"FlashCards!AE1918","v":1915}]
[null,null,null,null,null,null,null,null,null,null,null,null,null,null,null,null,null,null,null,null,null,null,null,{"$f":"FlashCards!AQ1919","v":0},0,0,0,0,19749136,{"$f":"FlashCards!AE1919","v":1916}]
[null,null,null,null,null,null,null,null,null,null,null,null,null,null,null,null,null,null,null,null,null,null,null,{"$f":"FlashCards!AQ1920","v":0},0,0,0,0,19749136,{"$f":"FlashCards!AE1920","v":1917}]
[null,null,null,null,null,null,null,null,null,null,null,null,null,null,null,null,null,null,null,null,null,null,null,{"$f":"FlashCards!AQ1921","v":0},0,0,0,0,19749136,{"$f":"FlashCards!AE1921","v":1918}]
[null,null,null,null,null,null,null,null,null,null,null,null,null,null,null,null,null,null,null,null,null,null,null,{"$f":"FlashCards!AQ1922","v":0},0,0,0,0,19749136,{"$f":"FlashCards!AE1922","v":1919}]
[null,null,null,null,null,null,null,null,null,null,null,null,null,null,null,null,null,null,null,null,null,null,null,{"$f":"FlashCards!AQ1923","v":0},0,0,0,0,19749136,{"$f":"FlashCards!AE1923","v":1920}]
[null,null,null,null,null,null,null,null,null,null,null,null,null,null,null,null,null,null,null,null,null,null,null,{"$f":"FlashCards!AQ1924","v":0},0,0,0,0,19749136,{"$f":"FlashCards!AE1924","v":1921}]
[null,null,null,null,null,null,null,null,null,null,null,null,null,null,null,null,null,null,null,null,null,null,null,{"$f":"FlashCards!AQ1925","v":0},{"$f":"VALUE(X1924)","v":0},{"$f":"IF(ISERR(FIND(\"+\",X1924,1)),0,FIND(\"+\",X1924,1))","v":0},{"$f":"IF(ISERR(FIND(\",\",X1924,1)),0,FIND(\",\",X1924,1))","v":0},{"$f":"IF(Z1924>0,VALUE(LEFT(X1924,Z1924-1)),IF(AA1924>0,VALUE(LEFT(X1924,AA1924-1)),IF(ISERR(Y1924),VALUE(LEFT(X1924,LEN(X1924)-1)),Y1924)))","v":0},{"$f":"(AB1924-U$28)^2","v":19749136},{"$f":"FlashCards!AE1925","v":1922}]
[null,null,null,null,null,null,null,null,null,null,null,null,null,null,null,null,null,null,null,null,null,null,null,{"$f":"FlashCards!AQ1926","v":0},0,0,0,0,19749136,{"$f":"FlashCards!AE1926","v":1923}]
[null,null,null,null,null,null,null,null,null,null,null,null,null,null,null,null,null,null,null,null,null,null,null,{"$f":"FlashCards!AQ1927","v":0},0,0,0,0,19749136,{"$f":"FlashCards!AE1927","v":1924}]
[null,null,null,null,null,null,null,null,null,null,null,null,null,null,null,null,null,null,null,null,null,null,null,{"$f":"FlashCards!AQ1928","v":0},0,0,0,0,19749136,{"$f":"FlashCards!AE1928","v":1925}]
[null,null,null,null,null,null,null,null,null,null,null,null,null,null,null,null,null,null,null,null,null,null,null,{"$f":"FlashCards!AQ1929","v":0},0,0,0,0,19749136,{"$f":"FlashCards!AE1929","v":1926}]
[null,null,null,null,null,null,null,null,null,null,null,null,null,null,null,null,null,null,null,null,null,null,null,{"$f":"FlashCards!AQ1930","v":0},0,0,0,0,19749136,{"$f":"FlashCards!AE1930","v":1927}]
[null,null,null,null,null,null,null,null,null,null,null,null,null,null,null,null,null,null,null,null,null,null,null,{"$f":"FlashCards!AQ1931","v":0},0,0,0,0,19749136,{"$f":"FlashCards!AE1931","v":1928}]
[null,null,null,null,null,null,null,null,null,null,null,null,null,null,null,null,null,null,null,null,null,null,null,{"$f":"FlashCards!AQ1932","v":0},0,0,0,0,19749136,{"$f":"FlashCards!AE1932","v":1929}]
[null,null,null,null,null,null,null,null,null,null,null,null,null,null,null,null,null,null,null,null,null,null,null,{"$f":"FlashCards!AQ1933","v":0},0,0,0,0,19749136,{"$f":"FlashCards!AE1933","v":1930}]
[null,null,null,null,null,null,null,null,null,null,null,null,null,null,null,null,null,null,null,null,null,null,null,{"$f":"FlashCards!AQ1934","v":0},0,0,0,0,19749136,{"$f":"FlashCards!AE1934","v":1931}]
[null,null,null,null,null,null,null,null,null,null,null,null,null,null,null,null,null,null,null,null,null,null,null,{"$f":"FlashCards!AQ1935","v":0},0,0,0,0,19749136,{"$f":"FlashCards!AE1935","v":1932}]
[null,null,null,null,null,null,null,null,null,null,null,null,null,null,null,null,null,null,null,null,null,null,null,{"$f":"FlashCards!AQ1936","v":0},0,0,0,0,19749136,{"$f":"FlashCards!AE1936","v":1933}]
[null,null,null,null,null,null,null,null,null,null,null,null,null,null,null,null,null,null,null,null,null,null,null,{"$f":"FlashCards!AQ1937","v":0},0,0,0,0,19749136,{"$f":"FlashCards!AE1937","v":1934}]
[null,null,null,null,null,null,null,null,null,null,null,null,null,null,null,null,null,null,null,null,null,null,null,{"$f":"FlashCards!AQ1938","v":0},0,0,0,0,19749136,{"$f":"FlashCards!AE1938","v":1935}]
[null,null,null,null,null,null,null,null,null,null,null,null,null,null,null,null,null,null,null,null,null,null,null,{"$f":"FlashCards!AQ1939","v":0},0,0,0,0,19749136,{"$f":"FlashCards!AE1939","v":1936}]
[null,null,null,null,null,null,null,null,null,null,null,null,null,null,null,null,null,null,null,null,null,null,null,{"$f":"FlashCards!AQ1940","v":0},0,0,0,0,19749136,{"$f":"FlashCards!AE1940","v":1937}]
[null,null,null,null,null,null,null,null,null,null,null,null,null,null,null,null,null,null,null,null,null,null,null,{"$f":"FlashCards!AQ1941","v":0},0,0,0,0,19749136,{"$f":"FlashCards!AE1941","v":1938}]
[null,null,null,null,null,null,null,null,null,null,null,null,null,null,null,null,null,null,null,null,null,null,null,{"$f":"FlashCards!AQ1942","v":0},0,0,0,0,19749136,{"$f":"FlashCards!AE1942","v":1939}]
[null,null,null,null,null,null,null,null,null,null,null,null,null,null,null,null,null,null,null,null,null,null,null,{"$f":"FlashCards!AQ1943","v":0},0,0,0,0,19749136,{"$f":"FlashCards!AE1943","v":1940}]
[null,null,null,null,null,null,null,null,null,null,null,null,null,null,null,null,null,null,null,null,null,null,null,{"$f":"FlashCards!AQ1944","v":0},0,0,0,0,19749136,{"$f":"FlashCards!AE1944","v":1941}]
[null,null,null,null,null,null,null,null,null,null,null,null,null,null,null,null,null,null,null,null,null,null,null,{"$f":"FlashCards!AQ1945","v":0},0,0,0,0,19749136,{"$f":"FlashCards!AE1945","v":1942}]
[null,null,null,null,null,null,null,null,null,null,null,null,null,null,null,null,null,null,null,null,null,null,null,{"$f":"FlashCards!AQ1946","v":0},0,0,0,0,19749136,{"$f":"FlashCards!AE1946","v":1943}]
[null,null,null,null,null,null,null,null,null,null,null,null,null,null,null,null,null,null,null,null,null,null,null,{"$f":"FlashCards!AQ1947","v":0},0,0,0,0,19749136,{"$f":"FlashCards!AE1947","v":1944}]
[null,null,null,null,null,null,null,null,null,null,null,null,null,null,null,null,null,null,null,null,null,null,null,{"$f":"FlashCards!AQ1948","v":0},0,0,0,0,19749136,{"$f":"FlashCards!AE1948","v":1945}]
[null,null,null,null,null,null,null,null,null,null,null,null,null,null,null,null,null,null,null,null,null,null,null,{"$f":"FlashCards!AQ1949","v":0},0,0,0,0,19749136,{"$f":"FlashCards!AE1949","v":1946}]
[null,null,null,null,null,null,null,null,null,null,null,null,null,null,null,null,null,null,null,null,null,null,null,{"$f":"FlashCards!AQ1950","v":0},0,0,0,0,19749136,{"$f":"FlashCards!AE1950","v":1947}]
[null,null,null,null,null,null,null,null,null,null,null,null,null,null,null,null,null,null,null,null,null,null,null,{"$f":"FlashCards!AQ1951","v":0},0,0,0,0,19749136,{"$f":"FlashCards!AE1951","v":1948}]
[null,null,null,null,null,null,null,null,null,null,null,null,null,null,null,null,null,null,null,null,null,null,null,{"$f":"FlashCards!AQ1952","v":0},0,0,0,0,19749136,{"$f":"FlashCards!AE1952","v":1949}]
[null,null,null,null,null,null,null,null,null,null,null,null,null,null,null,null,null,null,null,null,null,null,null,{"$f":"FlashCards!AQ1953","v":0},0,0,0,0,19749136,{"$f":"FlashCards!AE1953","v":1950}]
[null,null,null,null,null,null,null,null,null,null,null,null,null,null,null,null,null,null,null,null,null,null,null,{"$f":"FlashCards!AQ1954","v":0},0,0,0,0,19749136,{"$f":"FlashCards!AE1954","v":1951}]
[null,null,null,null,null,null,null,null,null,null,null,null,null,null,null,null,null,null,null,null,null,null,null,{"$f":"FlashCards!AQ1955","v":0},0,0,0,0,19749136,{"$f":"FlashCards!AE1955","v":1952}]
[null,null,null,null,null,null,null,null,null,null,null,null,null,null,null,null,null,null,null,null,null,null,null,{"$f":"FlashCards!AQ1956","v":0},0,0,0,0,19749136,{"$f":"FlashCards!AE1956","v":1953}]
[null,null,null,null,null,null,null,null,null,null,null,null,null,null,null,null,null,null,null,null,null,null,null,{"$f":"FlashCards!AQ1957","v":0},0,0,0,0,19749136,{"$f":"FlashCards!AE1957","v":1954}]
[null,null,null,null,null,null,null,null,null,null,null,null,null,null,null,null,null,null,null,null,null,null,null,{"$f":"FlashCards!AQ1958","v":0},0,0,0,0,19749136,{"$f":"FlashCards!AE1958","v":1955}]
[null,null,null,null,null,null,null,null,null,null,null,null,null,null,null,null,null,null,null,null,null,null,null,{"$f":"FlashCards!AQ1959","v":0},0,0,0,0,19749136,{"$f":"FlashCards!AE1959","v":1956}]
[null,null,null,null,null,null,null,null,null,null,null,null,null,null,null,null,null,null,null,null,null,null,null,{"$f":"FlashCards!AQ1960","v":0},0,0,0,0,19749136,{"$f":"FlashCards!AE1960","v":1957}]
[null,null,null,null,null,null,null,null,null,null,null,null,null,null,null,null,null,null,null,null,null,null,null,{"$f":"FlashCards!AQ1961","v":0},0,0,0,0,19749136,{"$f":"FlashCards!AE1961","v":1958}]
[null,null,null,null,null,null,null,null,null,null,null,null,null,null,null,null,null,null,null,null,null,null,null,{"$f":"FlashCards!AQ1962","v":0},0,0,0,0,19749136,{"$f":"FlashCards!AE1962","v":1959}]
[null,null,null,null,null,null,null,null,null,null,null,null,null,null,null,null,null,null,null,null,null,null,null,{"$f":"FlashCards!AQ1963","v":0},0,0,0,0,19749136,{"$f":"FlashCards!AE1963","v":1960}]
[null,null,null,null,null,null,null,null,null,null,null,null,null,null,null,null,null,null,null,null,null,null,null,{"$f":"FlashCards!AQ1964","v":0},0,0,0,0,19749136,{"$f":"FlashCards!AE1964","v":1961}]
[null,null,null,null,null,null,null,null,null,null,null,null,null,null,null,null,null,null,null,null,null,null,null,{"$f":"FlashCards!AQ1965","v":0},0,0,0,0,19749136,{"$f":"FlashCards!AE1965","v":1962}]
[null,null,null,null,null,null,null,null,null,null,null,null,null,null,null,null,null,null,null,null,null,null,null,{"$f":"FlashCards!AQ1966","v":0},0,0,0,0,19749136,{"$f":"FlashCards!AE1966","v":1963}]
[null,null,null,null,null,null,null,null,null,null,null,null,null,null,null,null,null,null,null,null,null,null,null,{"$f":"FlashCards!AQ1967","v":0},0,0,0,0,19749136,{"$f":"FlashCards!AE1967","v":1964}]
[null,null,null,null,null,null,null,null,null,null,null,null,null,null,null,null,null,null,null,null,null,null,null,{"$f":"FlashCards!AQ1968","v":0},0,0,0,0,19749136,{"$f":"FlashCards!AE1968","v":1965}]
[null,null,null,null,null,null,null,null,null,null,null,null,null,null,null,null,null,null,null,null,null,null,null,{"$f":"FlashCards!AQ1969","v":0},0,0,0,0,19749136,{"$f":"FlashCards!AE1969","v":1966}]
[null,null,null,null,null,null,null,null,null,null,null,null,null,null,null,null,null,null,null,null,null,null,null,{"$f":"FlashCards!AQ1970","v":0},0,0,0,0,19749136,{"$f":"FlashCards!AE1970","v":1967}]
[null,null,null,null,null,null,null,null,null,null,null,null,null,null,null,null,null,null,null,null,null,null,null,{"$f":"FlashCards!AQ1971","v":0},0,0,0,0,19749136,{"$f":"FlashCards!AE1971","v":1968}]
[null,null,null,null,null,null,null,null,null,null,null,null,null,null,null,null,null,null,null,null,null,null,null,{"$f":"FlashCards!AQ1972","v":0},0,0,0,0,19749136,{"$f":"FlashCards!AE1972","v":1969}]
[null,null,null,null,null,null,null,null,null,null,null,null,null,null,null,null,null,null,null,null,null,null,null,{"$f":"FlashCards!AQ1973","v":0},0,0,0,0,19749136,{"$f":"FlashCards!AE1973","v":1970}]
[null,null,null,null,null,null,null,null,null,null,null,null,null,null,null,null,null,null,null,null,null,null,null,{"$f":"FlashCards!AQ1974","v":0},0,0,0,0,19749136,{"$f":"FlashCards!AE1974","v":1971}]
[null,null,null,null,null,null,null,null,null,null,null,null,null,null,null,null,null,null,null,null,null,null,null,{"$f":"FlashCards!AQ1975","v":0},0,0,0,0,19749136,{"$f":"FlashCards!AE1975","v":1972}]
[null,null,null,null,null,null,null,null,null,null,null,null,null,null,null,null,null,null,null,null,null,null,null,{"$f":"FlashCards!AQ1976","v":0},0,0,0,0,19749136,{"$f":"FlashCards!AE1976","v":1973}]
[null,null,null,null,null,null,null,null,null,null,null,null,null,null,null,null,null,null,null,null,null,null,null,{"$f":"FlashCards!AQ1977","v":0},0,0,0,0,19749136,{"$f":"FlashCards!AE1977","v":1974}]
[null,null,null,null,null,null,null,null,null,null,null,null,null,null,null,null,null,null,null,null,null,null,null,{"$f":"FlashCards!AQ1978","v":0},0,0,0,0,19749136,{"$f":"FlashCards!AE1978","v":1975}]
[null,null,null,null,null,null,null,null,null,null,null,null,null,null,null,null,null,null,null,null,null,null,null,{"$f":"FlashCards!AQ1979","v":0},0,0,0,0,19749136,{"$f":"FlashCards!AE1979","v":1976}]
[null,null,null,null,null,null,null,null,null,null,null,null,null,null,null,null,null,null,null,null,null,null,null,{"$f":"FlashCards!AQ1980","v":0},0,0,0,0,19749136,{"$f":"FlashCards!AE1980","v":1977}]
[null,null,null,null,null,null,null,null,null,null,null,null,null,null,null,null,null,null,null,null,null,null,null,{"$f":"FlashCards!AQ1981","v":0},0,0,0,0,19749136,{"$f":"FlashCards!AE1981","v":1978}]
[null,null,null,null,null,null,null,null,null,null,null,null,null,null,null,null,null,null,null,null,null,null,null,{"$f":"FlashCards!AQ1982","v":0},0,0,0,0,19749136,{"$f":"FlashCards!AE1982","v":1979}]
[null,null,null,null,null,null,null,null,null,null,null,null,null,null,null,null,null,null,null,null,null,null,null,{"$f":"FlashCards!AQ1983","v":0},0,0,0,0,19749136,{"$f":"FlashCards!AE1983","v":1980}]
[null,null,null,null,null,null,null,null,null,null,null,null,null,null,null,null,null,null,null,null,null,null,null,{"$f":"FlashCards!AQ1984","v":0},0,0,0,0,19749136,{"$f":"FlashCards!AE1984","v":1981}]
[null,null,null,null,null,null,null,null,null,null,null,null,null,null,null,null,null,null,null,null,null,null,null,{"$f":"FlashCards!AQ1985","v":0},0,0,0,0,19749136,{"$f":"FlashCards!AE1985","v":1982}]
[null,null,null,null,null,null,null,null,null,null,null,null,null,null,null,null,null,null,null,null,null,null,null,{"$f":"FlashCards!AQ1986","v":0},0,0,0,0,19749136,{"$f":"FlashCards!AE1986","v":1983}]
[null,null,null,null,null,null,null,null,null,null,null,null,null,null,null,null,null,null,null,null,null,null,null,{"$f":"FlashCards!AQ1987","v":0},0,0,0,0,19749136,{"$f":"FlashCards!AE1987","v":1984}]
[null,null,null,null,null,null,null,null,null,null,null,null,null,null,null,null,null,null,null,null,null,null,null,{"$f":"FlashCards!AQ1988","v":0},0,0,0,0,19749136,{"$f":"FlashCards!AE1988","v":1985}]
[null,null,null,null,null,null,null,null,null,null,null,null,null,null,null,null,null,null,null,null,null,null,null,{"$f":"FlashCards!AQ1989","v":0},{"$f":"VALUE(X1988)","v":0},{"$f":"IF(ISERR(FIND(\"+\",X1988,1)),0,FIND(\"+\",X1988,1))","v":0},{"$f":"IF(ISERR(FIND(\",\",X1988,1)),0,FIND(\",\",X1988,1))","v":0},{"$f":"IF(Z1988>0,VALUE(LEFT(X1988,Z1988-1)),IF(AA1988>0,VALUE(LEFT(X1988,AA1988-1)),IF(ISERR(Y1988),VALUE(LEFT(X1988,LEN(X1988)-1)),Y1988)))","v":0},{"$f":"(AB1988-U$28)^2","v":19749136},{"$f":"FlashCards!AE1989","v":1986}]
[null,null,null,null,null,null,null,null,null,null,null,null,null,null,null,null,null,null,null,null,null,null,null,{"$f":"FlashCards!AQ1990","v":0},0,0,0,0,19749136,{"$f":"FlashCards!AE1990","v":1987}]
[null,null,null,null,null,null,null,null,null,null,null,null,null,null,null,null,null,null,null,null,null,null,null,{"$f":"FlashCards!AQ1991","v":0},0,0,0,0,19749136,{"$f":"FlashCards!AE1991","v":1988}]
[null,null,null,null,null,null,null,null,null,null,null,null,null,null,null,null,null,null,null,null,null,null,null,{"$f":"FlashCards!AQ1992","v":0},0,0,0,0,19749136,{"$f":"FlashCards!AE1992","v":1989}]
[null,null,null,null,null,null,null,null,null,null,null,null,null,null,null,null,null,null,null,null,null,null,null,{"$f":"FlashCards!AQ1993","v":0},0,0,0,0,19749136,{"$f":"FlashCards!AE1993","v":1990}]
[null,null,null,null,null,null,null,null,null,null,null,null,null,null,null,null,null,null,null,null,null,null,null,{"$f":"FlashCards!AQ1994","v":0},0,0,0,0,19749136,{"$f":"FlashCards!AE1994","v":1991}]
[null,null,null,null,null,null,null,null,null,null,null,null,null,null,null,null,null,null,null,null,null,null,null,{"$f":"FlashCards!AQ1995","v":0},0,0,0,0,19749136,{"$f":"FlashCards!AE1995","v":1992}]
[null,null,null,null,null,null,null,null,null,null,null,null,null,null,null,null,null,null,null,null,null,null,null,{"$f":"FlashCards!AQ1996","v":0},0,0,0,0,19749136,{"$f":"FlashCards!AE1996","v":1993}]
[null,null,null,null,null,null,null,null,null,null,null,null,null,null,null,null,null,null,null,null,null,null,null,{"$f":"FlashCards!AQ1997","v":0},0,0,0,0,19749136,{"$f":"FlashCards!AE1997","v":1994}]
[null,null,null,null,null,null,null,null,null,null,null,null,null,null,null,null,null,null,null,null,null,null,null,{"$f":"FlashCards!AQ1998","v":0},0,0,0,0,19749136,{"$f":"FlashCards!AE1998","v":1995}]
[null,null,null,null,null,null,null,null,null,null,null,null,null,null,null,null,null,null,null,null,null,null,null,{"$f":"FlashCards!AQ1999","v":0},0,0,0,0,19749136,{"$f":"FlashCards!AE1999","v":1996}]
[null,null,null,null,null,null,null,null,null,null,null,null,null,null,null,null,null,null,null,null,null,null,null,{"$f":"FlashCards!AQ2000","v":0},0,0,0,0,19749136,{"$f":"FlashCards!AE2000","v":1997}]
[null,null,null,null,null,null,null,null,null,null,null,null,null,null,null,null,null,null,null,null,null,null,null,{"$f":"FlashCards!AQ2001","v":0},0,0,0,0,19749136,{"$f":"FlashCards!AE2001","v":1998}]
[null,null,null,null,null,null,null,null,null,null,null,null,null,null,null,null,null,null,null,null,null,null,null,{"$f":"FlashCards!AQ2002","v":0},0,0,0,0,19749136,{"$f":"FlashCards!AE2002","v":1999}]
[null,null,null,null,null,null,null,null,null,null,null,null,null,null,null,null,null,null,null,null,null,null,null,{"$f":"FlashCards!AQ2003","v":0},0,0,0,0,19749136,{"$f":"FlashCards!AE2003","v":2000}]

{"sheet":"English To Greek","index":4,"n_rows":37,"n_cols":5,"rows_kept":37,"cut":false,"hidden":false,"merged":[]}
[]
[]
[null,null,null,"Type at least 2 letters of the english definition that you are seeking (3 is even better!):"]
[null,null,null,"comp"]
[]
[null,null,null,{"$f":"\"# of Greek Words that include '\"& D4&\"'  in their definition: \" & FlashCards!CP2& \" (but showing no more than 30 results…)\"","v":"# of Greek Words that include 'comp'  in their definition: 13 (but showing no more than 30 results…)"}]
[]
[null,null,{"$f":"IF(FlashCards!CP2>0,1,\"\")","v":1},{"$f":"FlashCards!CQ4","v":"ἀκολουθέω"},{"$f":"FlashCards!CR4","v":"I follow, I accompany [Chap. 21]"}]
[null,null,{"$f":"IF((C8)<FlashCards!CP$2,C8+1,\"\")","v":2},{"$f":"FlashCards!CQ5","v":"ἀποδίδωμι"},{"$f":"FlashCards!CR5","v":"I pay, I recompense; [middle]: I sell [Chap. 38]"}]
[null,null,{"$f":"IF((C9)<FlashCards!CP$2,C9+1,\"\")","v":3},{"$f":"FlashCards!CQ6","v":"τό ἔλεος"},{"$f":"FlashCards!CR6","v":"mercy, compassion [Chap. 38]"}]
[null,null,{"$f":"IF((C10)<FlashCards!CP$2,C10+1,\"\")","v":4},{"$f":"FlashCards!CQ7","v":"ἐπιτελέω"},{"$f":"FlashCards!CR7","v":"I finish, I complete, I accomplish [Index]"}]
[null,null,{"$f":"IF((C11)<FlashCards!CP$2,C11+1,\"\")","v":5},{"$f":"FlashCards!CQ8","v":"κατεργάζομαι"},{"$f":"FlashCards!CR8","v":"I accomplish, I produce [Index]"}]
[null,null,{"$f":"IF((C12)<FlashCards!CP$2,C12+1,\"\")","v":6},{"$f":"FlashCards!CQ9","v":"ὅλος"},{"$f":"FlashCards!CR9","v":"whole, complete [Chap. 19]"}]
[null,null,{"$f":"IF((C13)<FlashCards!CP$2,C13+1,\"\")","v":7},{"$f":"FlashCards!CQ10","v":"ὁμιλέω"},{"$f":"FlashCards!CR10","v":"I converse with, I keep company with [Extra]"}]
[null,null,{"$f":"IF((C14)<FlashCards!CP$2,C14+1,\"\")","v":8},{"$f":"FlashCards!CQ11","v":"ὁμοιόω"},{"$f":"FlashCards!CR11","v":"I compare, I make like [Chap. 38]"}]
[null,null,{"$f":"IF((C15)<FlashCards!CP$2,C15+1,\"\")","v":9},{"$f":"FlashCards!CQ12","v":"πληρόω"},{"$f":"FlashCards!CR12","v":"I fill, I fulfill, I complete [Chap. 17]"}]
[null,null,{"$f":"IF((C16)<FlashCards!CP$2,C16+1,\"\")","v":10},{"$f":"FlashCards!CQ13","v":"τό σπλάγχνον"},{"$f":"FlashCards!CR13","v":"affection, heart, compassion [Chap. 38]"}]
[null,null,{"$f":"IF((C17)<FlashCards!CP$2,C17+1,\"\")","v":11},{"$f":"FlashCards!CQ14","v":"συνέχω"},{"$f":"FlashCards!CR14","v":"I compel, I confine, I oppress, I distress [Chap. 38]"}]
[null,null,{"$f":"IF((C18)<FlashCards!CP$2,C18+1,\"\")","v":12},{"$f":"FlashCards!CQ15","v":"τέλειος"},{"$f":"FlashCards!CR15","v":"complete, finished, perfect [Chap. 38]"}]
[null,null,{"$f":"IF((C19)<FlashCards!CP$2,C19+1,\"\")","v":13},{"$f":"FlashCards!CQ16","v":"τελειόω"},{"$f":"FlashCards!CR16","v":"I accomplish, I complete, I perfect [Index]"}]
[null,null,{"$f":"IF((C20)<FlashCards!CP$2,C20+1,\"\")","v":""},{"$f":"FlashCards!CQ17","v":" "},{"$f":"FlashCards!CR17","v":"  "}]
[null,null,{"$f":"IF((C21)<FlashCards!CP$2,C21+1,\"\")","v":""},{"$f":"FlashCards!CQ18","v":" "},{"$f":"FlashCards!CR18","v":"  "}]
[null,null,{"$f":"IF((C22)<FlashCards!CP$2,C22+1,\"\")","v":""},{"$f":"FlashCards!CQ19","v":" "},{"$f":"FlashCards!CR19","v":"  "}]
[null,null,{"$f":"IF((C23)<FlashCards!CP$2,C23+1,\"\")","v":""},{"$f":"FlashCards!CQ20","v":" "},{"$f":"FlashCards!CR20","v":"  "}]
[null,null,{"$f":"IF((C24)<FlashCards!CP$2,C24+1,\"\")","v":""},{"$f":"FlashCards!CQ21","v":" "},{"$f":"FlashCards!CR21","v":"  "}]
[null,null,{"$f":"IF((C25)<FlashCards!CP$2,C25+1,\"\")","v":""},{"$f":"FlashCards!CQ22","v":" "},{"$f":"FlashCards!CR22","v":"  "}]
[null,null,{"$f":"IF((C26)<FlashCards!CP$2,C26+1,\"\")","v":""},{"$f":"FlashCards!CQ23","v":" "},{"$f":"FlashCards!CR23","v":"  "}]
[null,null,{"$f":"IF((C27)<FlashCards!CP$2,C27+1,\"\")","v":""},{"$f":"FlashCards!CQ24","v":" "},{"$f":"FlashCards!CR24","v":"  "}]
[null,null,{"$f":"IF((C28)<FlashCards!CP$2,C28+1,\"\")","v":""},{"$f":"FlashCards!CQ25","v":" "},{"$f":"FlashCards!CR25","v":"  "}]
[null,null,{"$f":"IF((C29)<FlashCards!CP$2,C29+1,\"\")","v":""},{"$f":"FlashCards!CQ26","v":" "},{"$f":"FlashCards!CR26","v":"  "}]
[null,null,{"$f":"IF((C30)<FlashCards!CP$2,C30+1,\"\")","v":""},{"$f":"FlashCards!CQ27","v":" "},{"$f":"FlashCards!CR27","v":"  "}]
[null,null,{"$f":"IF((C31)<FlashCards!CP$2,C31+1,\"\")","v":""},{"$f":"FlashCards!CQ28","v":" "},{"$f":"FlashCards!CR28","v":"  "}]
[null,null,{"$f":"IF((C32)<FlashCards!CP$2,C32+1,\"\")","v":""},{"$f":"FlashCards!CQ29","v":" "},{"$f":"FlashCards!CR29","v":"  "}]
[null,null,{"$f":"IF((C33)<FlashCards!CP$2,C33+1,\"\")","v":""},{"$f":"FlashCards!CQ30","v":" "},{"$f":"FlashCards!CR30","v":"  "}]
[null,null,{"$f":"IF((C34)<FlashCards!CP$2,C34+1,\"\")","v":""},{"$f":"FlashCards!CQ31","v":" "},{"$f":"FlashCards!CR31","v":"  "}]
[null,null,{"$f":"IF((C35)<FlashCards!CP$2,C35+1,\"\")","v":""},{"$f":"FlashCards!CQ32","v":" "},{"$f":"FlashCards!CR32","v":"  "}]
[null,null,{"$f":"IF((C36)<FlashCards!CP$2,C36+1,\"\")","v":""},{"$f":"FlashCards!CQ33","v":" "},{"$f":"FlashCards!CR33","v":"  "}]

{"sheet":"Greek to English","index":5,"n_rows":39,"n_cols":4,"rows_kept":39,"cut":false,"hidden":false,"merged":[]}
[]
[null,null,null,"Type part of a Greek word (2 or more letters…), using a for a, b for b, g for g etc."]
[null,null,null,"Note some \"difficult\" letters:  c ® c,  h ® h,  q ® q,  u ® u,  f ® j,  x ® x, and  y ® y."]
[null,null,null,"You may not type accents or breathing marks, iota subscripts, etc., so there is no Greek \"h\"."]
[null,null,null,"Capital letters are treated as lower case. Sigma is always just \"s\", and not \"ς\"."]
[null,null,null,"dom"]
[]
[null,null,null,{"$f":"\"Number of words discovered: \"&FlashCards!DA2&\" (but showing no more than 30 results…)\"","v":"Number of words discovered: 4 (but showing no more than 30 results…)"}]
[]
[null,null,{"$f":"IF(FlashCards!DA2>0,1,\"\")","v":1},{"$f":"FlashCards!DB4","v":"οἰκοδομέω: I build, I construct  (Chapter 38, Verb [ᾠκοδόμουν] [οἰκοδομήσω])"}]
[null,null,{"$f":"IF((C10)<FlashCards!DA$2,C10+1,\"\")","v":2},{"$f":"FlashCards!DB5","v":"ἡ οἰκοδομή: building, edification  (Chapter 38, Noun)"}]
[null,null,{"$f":"IF((C11)<FlashCards!DA$2,C11+1,\"\")","v":3},{"$f":"FlashCards!DB6","v":"φείδομαι: I spare  (Chapter 38, Verb [φείσομαι])"}]
[null,null,{"$f":"IF((C12)<FlashCards!DA$2,C12+1,\"\")","v":4},{"$f":"FlashCards!DB7","v":"ψεύδομαι: I lie  (Chapter 38, Verb)"}]
[null,null,{"$f":"IF((C13)<FlashCards!DA$2,C13+1,\"\")","v":""},{"$f":"FlashCards!DB8","v":" "}]
[null,null,{"$f":"IF((C14)<FlashCards!DA$2,C14+1,\"\")","v":""},{"$f":"FlashCards!DB9","v":" "}]
[null,null,{"$f":"IF((C15)<FlashCards!DA$2,C15+1,\"\")","v":""},{"$f":"FlashCards!DB10","v":" "}]
[null,null,{"$f":"IF((C16)<FlashCards!DA$2,C16+1,\"\")","v":""},{"$f":"FlashCards!DB11","v":" "}]
[null,null,{"$f":"IF((C17)<FlashCards!DA$2,C17+1,\"\")","v":""},{"$f":"FlashCards!DB12","v":" "}]
[null,null,{"$f":"IF((C18)<FlashCards!DA$2,C18+1,\"\")","v":""},{"$f":"FlashCards!DB13","v":" "}]
[null,null,{"$f":"IF((C19)<FlashCards!DA$2,C19+1,\"\")","v":""},{"$f":"FlashCards!DB14","v":" "}]
[null,null,{"$f":"IF((C20)<FlashCards!DA$2,C20+1,\"\")","v":""},{"$f":"FlashCards!DB15","v":" "}]
[null,null,{"$f":"IF((C21)<FlashCards!DA$2,C21+1,\"\")","v":""},{"$f":"FlashCards!DB16","v":" "}]
[null,null,{"$f":"IF((C22)<FlashCards!DA$2,C22+1,\"\")","v":""},{"$f":"FlashCards!DB17","v":" "}]
[null,null,{"$f":"IF((C23)<FlashCards!DA$2,C23+1,\"\")","v":""},{"$f":"FlashCards!DB18","v":" "}]
[null,null,{"$f":"IF((C24)<FlashCards!DA$2,C24+1,\"\")","v":""},{"$f":"FlashCards!DB19","v":" "}]
[null,null,{"$f":"IF((C25)<FlashCards!DA$2,C25+1,\"\")","v":""},{"$f":"FlashCards!DB20","v":" "}]
[null,null,{"$f":"IF((C26)<FlashCards!DA$2,C26+1,\"\")","v":""},{"$f":"FlashCards!DB21","v":" "}]
[null,null,{"$f":"IF((C27)<FlashCards!DA$2,C27+1,\"\")","v":""},{"$f":"FlashCards!DB22","v":" "}]
[null,null,{"$f":"IF((C28)<FlashCards!DA$2,C28+1,\"\")","v":""},{"$f":"FlashCards!DB23","v":" "}]
[null,null,{"$f":"IF((C29)<FlashCards!DA$2,C29+1,\"\")","v":""},{"$f":"FlashCards!DB24","v":" "}]
[null,null,{"$f":"IF((C30)<FlashCards!DA$2,C30+1,\"\")","v":""},{"$f":"FlashCards!DB25","v":" "}]
[null,null,{"$f":"IF((C31)<FlashCards!DA$2,C31+1,\"\")","v":""},{"$f":"FlashCards!DB26","v":" "}]
[null,null,{"$f":"IF((C32)<FlashCards!DA$2,C32+1,\"\")","v":""},{"$f":"FlashCards!DB27","v":" "}]
[null,null,{"$f":"IF((C33)<FlashCards!DA$2,C33+1,\"\")","v":""},{"$f":"FlashCards!DB28","v":" "}]
[null,null,{"$f":"IF((C34)<FlashCards!DA$2,C34+1,\"\")","v":""},{"$f":"FlashCards!DB29","v":" "}]
[null,null,{"$f":"IF((C35)<FlashCards!DA$2,C35+1,\"\")","v":""},{"$f":"FlashCards!DB30","v":" "}]
[null,null,{"$f":"IF((C36)<FlashCards!DA$2,C36+1,\"\")","v":""},{"$f":"FlashCards!DB31","v":" "}]
[null,null,{"$f":"IF((C37)<FlashCards!DA$2,C37+1,\"\")","v":""},{"$f":"FlashCards!DB32","v":" "}]
[null,null,{"$f":"IF((C38)<FlashCards!DA$2,C38+1,\"\")","v":""},{"$f":"FlashCards!DB33","v":" "}]

{"sheet":"Short Words","index":6,"n_rows":51,"n_cols":6,"rows_kept":51,"cut":false,"hidden":false,"merged":[]}
[]
[null,{"$f":"\"There are currently \" &FlashCards!DI2&\" \"\"short\"\" words available.\"","v":"There are currently 121 \"short\" words available."},null,{"$f":"FlashCards!DL52","v":"μέν [on the one hand, indeed (particle)]"},null,{"$f":"FlashCards!DL102","v":"σύ [you (singular)]"}]
[null,"Greek Word [English Definition]",null,{"$f":"FlashCards!DL53","v":"μή [not, lest (particle; used in non-indicative moods like subjunctive or imperative)]"},null,{"$f":"FlashCards!DL103","v":"σε [you (accusative singular)]"}]
[null,{"$f":"FlashCards!DL4","v":"-ες [(nominative, plural, masculine or feminine, 3ʳᵈ declension)]"},null,{"$f":"FlashCards!DL54","v":"μου [my/of me (genitive singular)]"},null,{"$f":"FlashCards!DL104","v":"σέ [you (emphatic accusative singular)]"}]
[null,{"$f":"FlashCards!DL5","v":"ἄγω [I lead, I bring, I arrest]"},null,{"$f":"FlashCards!DL55","v":"μου [my]"},null,{"$f":"FlashCards!DL105","v":"σοῦ [your/of you (emphatic genitive singular)]"}]
[null,{"$f":"FlashCards!DL6","v":"ἅμα [together with [dative]]"},null,{"$f":"FlashCards!DL56","v":"ναί [yes, certainly]"},null,{"$f":"FlashCards!DL106","v":"σύ [you (nominative singular)]"}]
[null,{"$f":"FlashCards!DL7","v":"ἅμα [at the same time]"},null,{"$f":"FlashCards!DL57","v":"νῦν [now (particle)]"},null,{"$f":"FlashCards!DL107","v":"σοί [to you (emphatic dative singular)]"}]
[null,{"$f":"FlashCards!DL8","v":"ἄν [modifies relative pronoun (\"who\" becomes \"whoever\") (particle)]"},null,{"$f":"FlashCards!DL58","v":"ἡ νύξ [night]"},null,{"$f":"FlashCards!DL108","v":"σός [your, of you (masculine)]"}]
[null,{"$f":"FlashCards!DL9","v":"-ἄν [ending that changes \"what\" to \"whatever\"]"},null,{"$f":"FlashCards!DL59","v":"ὁ [the (nominative, singular, masculine)]"},null,{"$f":"FlashCards!DL109","v":"σή [your, of you (feminine)]"}]
[null,{"$f":"FlashCards!DL10","v":"ἀνά [among, between, each]"},null,{"$f":"FlashCards!DL60","v":"ἡ [the (nominative, singular, feminine)]"},null,{"$f":"FlashCards!DL110","v":"σόν [your, of you (neuter)]"}]
[null,{"$f":"FlashCards!DL11","v":"ἄρα [then, therefore (particle)]"},null,{"$f":"FlashCards!DL61","v":"τό [the (nominative or accusative, singular, neuter)]"},null,{"$f":"FlashCards!DL111","v":"σοι [to you (dative singular)]"}]
[null,{"$f":"FlashCards!DL12","v":"ἆρα [really? (introduces question with incredulity) (particle)]"},null,{"$f":"FlashCards!DL62","v":"τοῦ [the/of the (genitive, singular, masculine or neuter)]"},null,{"$f":"FlashCards!DL112","v":"σου [your/of you (genitive singular)]"}]
[null,{"$f":"FlashCards!DL13","v":"γάρ [for, then (particle)]"},null,{"$f":"FlashCards!DL63","v":"τῆς [the/of the (genitive, singular, feminine)]"},null,{"$f":"FlashCards!DL113","v":"τέ [so, and so]"}]
[null,{"$f":"FlashCards!DL14","v":"γε [indeed, at least, even (particle)]"},null,{"$f":"FlashCards!DL64","v":"τῷ [the/to the (dative, singular, masculine or neuter)]"},null,{"$f":"FlashCards!DL114","v":"τις [someone, something, anyone, anything (nominative, singular, masculine or feminine)]"}]
[null,{"$f":"FlashCards!DL15","v":"δεῖ [it is necessary]"},null,{"$f":"FlashCards!DL65","v":"τῇ [the/ to the (dative, singular, feminine)]"},null,{"$f":"FlashCards!DL115","v":"τι [someone, something, anyone, anything (nominative or accusative, singular, neuter)]"}]
[null,{"$f":"FlashCards!DL16","v":"δέω [I bind]"},null,{"$f":"FlashCards!DL66","v":"τόν [the (accusative, singular, masculine)]"},null,{"$f":"FlashCards!DL116","v":"τίς [who? what? which? (nominative, singular, masculine or feminine)]"}]
[null,{"$f":"FlashCards!DL17","v":"δή [now, therefore, indeed (particle)]"},null,{"$f":"FlashCards!DL67","v":"τήν [the (accusative, singular, feminine)]"},null,{"$f":"FlashCards!DL117","v":"τί [why? who? what? which? (nominative or accusative, singular, neuter)]"}]
[null,{"$f":"FlashCards!DL18","v":"διό [therefore, for this reason]"},null,{"$f":"FlashCards!DL68","v":"οἱ [the (nominative, plural, masculine)]"},null,{"$f":"FlashCards!DL118","v":"τοι [assuredly, certainly (particle)]"}]
[null,{"$f":"FlashCards!DL19","v":"δύο [two]"},null,{"$f":"FlashCards!DL69","v":"αἱ [the (nominative, plural, feminine)]"},null,{"$f":"FlashCards!DL119","v":"ἔφη [he/she/it said/was saying/was affirming (3rd person singular)]"}]
[null,{"$f":"FlashCards!DL20","v":"ἐάν [if, when]"},null,{"$f":"FlashCards!DL70","v":"τά [the (nominative or accusative, plural, neuter)]"},null,{"$f":"FlashCards!DL120","v":"τό φῶς [light]"}]
[null,{"$f":"FlashCards!DL21","v":"ἐάω [I permit, I allow, I let go]"},null,{"$f":"FlashCards!DL71","v":"τῶν [the/of the (genitive, plural, masculine, feminine, neuter)]"},null,{"$f":"FlashCards!DL121","v":"ὦ [oh!]"}]
[null,{"$f":"FlashCards!DL22","v":"ἐγώ [I (nominative, singular)]"},null,{"$f":"FlashCards!DL72","v":"τάς [the (accusative, plural, feminine)]"},null,{"$f":"FlashCards!DL122","v":"ὧδε [here]"}]
[null,{"$f":"FlashCards!DL23","v":"μοι [to me (dative singular)]"},null,{"$f":"FlashCards!DL73","v":"ὅς [who/which/that (nominative, singular, masculine)]"},null,{"$f":"FlashCards!DL123","v":"ἡ ὥρα [hour, occasion, moment]"}]
[null,{"$f":"FlashCards!DL24","v":"με [me (accusative singular)]"},null,{"$f":"FlashCards!DL74","v":"ἥ [who/which/that (nominative, singular, feminine)]"},null,{"$f":"FlashCards!DL124","v":"ὡς [as, like, that, when, after, approximately]"}]
[null,{"$f":"FlashCards!DL25","v":"ἐμέ [me (emphatic accusative singular)]"},null,{"$f":"FlashCards!DL75","v":"ὅ [who/whom/which/that (nominative or accusative, singular, neuter)]"},null,{"$f":"FlashCards!DL125","v":" "}]
[null,{"$f":"FlashCards!DL26","v":"εἰ [if (note absence of circumflex)]"},null,{"$f":"FlashCards!DL76","v":"οὗ [of whom/of which/of whose (genitive, singular, masculine or neuter)]"},null,{"$f":"FlashCards!DL126","v":" "}]
[null,{"$f":"FlashCards!DL27","v":"εἶ [you (singular) are]"},null,{"$f":"FlashCards!DL77","v":"ἧς [of whom/of which/of whose (genitive, singular, feminine)]"},null,{"$f":"FlashCards!DL127","v":" "}]
[null,{"$f":"FlashCards!DL28","v":"ἦν [he/she/it was]"},null,{"$f":"FlashCards!DL78","v":"ᾧ [to whom/to which (dative, singular, masculine or neuter)]"},null,{"$f":"FlashCards!DL128","v":" "}]
[null,{"$f":"FlashCards!DL29","v":"εἷς [one (nominative, masculine)]"},null,{"$f":"FlashCards!DL79","v":"ᾗ [to whom/to which (dative, singular, feminine)]"},null,{"$f":"FlashCards!DL129","v":" "}]
[null,{"$f":"FlashCards!DL30","v":"μία [one (nominative, feminine)]"},null,{"$f":"FlashCards!DL80","v":"ὅν [whom/which/that (accusative, singular, masculine)]"},null,{"$f":"FlashCards!DL130","v":" "}]
[null,{"$f":"FlashCards!DL31","v":"ἕν [one (nominative or accusative, neuter)]"},null,{"$f":"FlashCards!DL81","v":"ἥν [whom/which/that (accusative, singular, feminine)]"},null,{"$f":"FlashCards!DL131","v":" "}]
[null,{"$f":"FlashCards!DL32","v":"ἑνί [to one (dative, masculine)]"},null,{"$f":"FlashCards!DL82","v":"οἵ [who/which/that (nominative, plural, masculine)]"},null,{"$f":"FlashCards!DL132","v":" "}]
[null,{"$f":"FlashCards!DL33","v":"μιᾷ [to one (dative, feminine)]"},null,{"$f":"FlashCards!DL83","v":"αἵ [who/which/that (nominative, plural, feminine)]"},null,{"$f":"FlashCards!DL133","v":" "}]
[null,{"$f":"FlashCards!DL34","v":"ἕνα [one (accusative, masculine)]"},null,{"$f":"FlashCards!DL84","v":"ἅ [who/which/that/whom (nominative or accusative, plural, neuter)]"},null,{"$f":"FlashCards!DL134","v":" "}]
[null,{"$f":"FlashCards!DL35","v":"ἐμή [my, mine (feminine)]"},null,{"$f":"FlashCards!DL85","v":"ὧν [of whom/of which/of whose (genitive, plural, masculine, feminine, neuter)]"},null,{"$f":"FlashCards!DL135","v":" "}]
[null,{"$f":"FlashCards!DL36","v":"ἑνί [to one (dative, masculine or neuter)]"},null,{"$f":"FlashCards!DL86","v":"οἷς [to whom/to which (dative, plural, masculine or neuter)]"},null,{"$f":"FlashCards!DL136","v":" "}]
[null,{"$f":"FlashCards!DL37","v":"ἕξ [six]"},null,{"$f":"FlashCards!DL87","v":"αἷς [to whom/to which (dative, plural, feminine)]"},null,{"$f":"FlashCards!DL137","v":" "}]
[null,{"$f":"FlashCards!DL38","v":"ἔσῃ [you will be ]"},null,{"$f":"FlashCards!DL88","v":"οὕς [whom/which (accusative, plural, masculine)]"},null,{"$f":"FlashCards!DL138","v":" "}]
[null,{"$f":"FlashCards!DL39","v":"ἔτι [still, yet, even]"},null,{"$f":"FlashCards!DL89","v":"ἅς [whom/which (accusative, plural, feminine)]"},null,{"$f":"FlashCards!DL139","v":" "}]
[null,{"$f":"FlashCards!DL40","v":"ἔχω [I have, I hold, I possess]"},null,{"$f":"FlashCards!DL90","v":"ὅτι [whoever, whichever, whatever (neuter) (usually appears as ὅ τι)]"},null,{"$f":"FlashCards!DL140","v":" "}]
[null,{"$f":"FlashCards!DL41","v":"ζάω [I live]"},null,{"$f":"FlashCards!DL91","v":"ὄτε [when]"},null,{"$f":"FlashCards!DL141","v":" "}]
[null,{"$f":"FlashCards!DL42","v":"ἡ ζωή [life]"},null,{"$f":"FlashCards!DL92","v":"ὅτι [that, since, because, or begin a quotation]"},null,{"$f":"FlashCards!DL142","v":" "}]
[null,{"$f":"FlashCards!DL43","v":"ἤ [or, than]"},null,{"$f":"FlashCards!DL93","v":"οὗ [where]"},null,{"$f":"FlashCards!DL143","v":" "}]
[null,{"$f":"FlashCards!DL44","v":"ἤδη [now, already (particle)]"},null,{"$f":"FlashCards!DL94","v":"οὖν [so, therefore, accordingly, then (particle)]"},null,{"$f":"FlashCards!DL144","v":" "}]
[null,{"$f":"FlashCards!DL45","v":"ἥκω [I have come]"},null,{"$f":"FlashCards!DL95","v":"πᾶν [each, every, all (neuter)]"},null,{"$f":"FlashCards!DL145","v":" "}]
[null,{"$f":"FlashCards!DL46","v":"θύω [I sacrifice, I kill]"},null,{"$f":"FlashCards!DL96","v":"πᾶς [each, every, all (masculine)]"},null,{"$f":"FlashCards!DL146","v":" "}]
[null,{"$f":"FlashCards!DL47","v":"ἴδε [See! Behold!]"},null,{"$f":"FlashCards!DL97","v":"ποῦ [where? (particle)]"},null,{"$f":"FlashCards!DL147","v":" "}]
[null,{"$f":"FlashCards!DL48","v":"ἵνα [that, in order that, so that]"},null,{"$f":"FlashCards!DL98","v":"πρό [before [genitive]]"},null,{"$f":"FlashCards!DL148","v":" "}]
[null,{"$f":"FlashCards!DL49","v":"καί [and, even, also, namely, and yet (particle)]"},null,{"$f":"FlashCards!DL99","v":"τό πῦρ [fire]"},null,{"$f":"FlashCards!DL149","v":" "}]
[null,{"$f":"FlashCards!DL50","v":"κἄν [and if, even if (particle)]"},null,{"$f":"FlashCards!DL100","v":"πώς [somehow, perhaps (note the acute mark)]"},null,{"$f":"FlashCards!DL150","v":" "}]
[null,{"$f":"FlashCards!DL51","v":"λύω [I loose, I untie, I destroy, I release]"},null,{"$f":"FlashCards!DL101","v":"πῶς [how? (note the circumflex)]"},null,{"$f":"FlashCards!DL151","v":" "}]

{"sheet":"Instructions","index":7,"n_rows":41,"n_cols":3,"rows_kept":41,"cut":false,"hidden":false,"merged":[]}
[]
[]
[null,null,"1. Use the tabs at the bottom of the screen to access the different features."]
[]
[null,null,"2. The \"FlashCards\" tab has all the main settings, which are used by the other tabs, too."]
[null,null,"  In the first two columns, choose which chapters of Mounce (4th edition) you want to practice/review/etc. "]
[null,null,"  In the next column, choose the parts of speech you want to include in your practice/review."]
[null,null,"  Press \"New Word' to have a random new vocabulary word appear from the categories you have chosen. "]
[null,null,"  In the fourth column are the properties that will be visible when a new word is generated. "]
[null,null,"  So, if you feel that knowing the chapter number, or the part of speech, or whatever, gives you too much info, then turn it off!"]
[null,null,"  Naturally, you'll turn off the \"Show Definition\" if you're quizzing yourself, but you might keep it on while you're first learning some words."]
[null,null,"  If you are quizzing yourself, press the \"Definition?\" button to check the answer."]
[]
[null,null,"3. The \"Selected List\" tab makes a column containing all the words having the properties you requested using the radio"]
[null,null,"   buttons on the \"Flashcards\" tab. It might be suitable for printing…"]
[]
[null,null,"4. Use the \"English to Greek\" tab to look up words. For example, if you want to know the Greek word for \"house\", then "]
[null,null,"   type \"hou\" into the green search bar. This query will also return the word for \"shout\", and so on. "]
[null,null,"   It will only show the first 20 matches, so if there are more than this, you might have to refine your request with more letters."]
[]
[null,null,"5. Use the \"Greek to English\" tab to find English definitions of words that you see while reading in Greek. "]
[null,null,"   In the green search bar, you have to type in the matching English equivalents of each Greek letter, but they'll show up as Greek there."]
[null,null,"   The search is not case sensitive, and you can't type in breathing marks or accents. So, just use a for α, or ά, or ἀ, etc."]
[null,null,"   Some equivalents are easy to remember; for example, use a for a, and b for b. "]
[null,null,"   The harder to remember equivalents are listed at the top of that page:  c ® c,  h ® h,  q ® q,  u ® u,  f ® j,  x ® x, and  y ® y."]
[null,null,"   Again, only the first twenty results are shown. To refine your search, use more characters."]
[]
[null,null,"6. When you search for a word, at least two characters are required, but three characters are recommended. Even when you use three characters, there"]
[null,null,"   are often too many results to be useful. To scan through all the words having three or fewer characters, use the \"Short Words\" tab."]
[]
[null,null,"7. Use the \"Index\" tab to quickly flip through all words in the library. You can fast forward or fast reverse using the up/down arrows on the left side. You can also"]
[null,null,"   enter an index number to fast forward even more quickly. Or, you can enter a Strong's word number to fast forward to that particular word. Since this index does"]
[null,null,"   not contain all of Strong's words, you might fast forward to the nearest word instead. The chosen word, and all of its properties, is shown in yellow. Also, the"]
[null,null,"   nearest ten words on either side of the current word are also chosen. Note that verb and noun endings, while in the index, do not have Strong's numbers."]
[]
[null,null,"8. Use the \"Printables\" tab if you want to print out some double-sided flash cards. First, select the words you want to print using the main \"Flashcards\" tab. "]
[null,null,"   Be aware that the \"Printables\" tab can only print a maximum of 160 words, so make sure your selected list has fewer words than that!!"]
[null,null,"   Also, use \"print preview\" to make sure you don't accidentally print a bunch of \"blank\" pages. "]
[null,null,"   Each double sided printer page can print up to 16 flashcards, but by default Excel will print all 20 pages if you're not careful!"]
[null,null,"   So, if you're printing flashcards for 28 words, you need to select only the first 4 pages for printing (not just 2, because they're double-sided)"]
[null,null,"   Also, there's a good chance that the spacing will vary from printer to printer, so they might not align for you like they did for me."]

{"sheet":"Memorization","index":8,"n_rows":28,"n_cols":4,"rows_kept":28,"cut":false,"hidden":false,"merged":[]}
[]
[]
[null,null,null,"One way to try to memorize article and noun endings…"]
[]
[null,null,"0. Rules for articles must be applied in order…"]
[null,null,"1. Memorize the first 4 nominatives ὁ, ἡ, οἱ, αἱ.Also try to memorize τό."]
[null,null,"2. If it has an iota, it’s dative. If it’s subscripted, it’s singular. If it has ῆ or α it’s feminine."]
[null,null,"3. If it has a circumflex ~, it’s genitive.  If it has ῆ it’s feminine. If it has ῶ it’s plural."]
[null,null,"4. If it’s only two letters, it’s neuter (nominative OR accusative).  If it has α it’s plural."]
[null,null,"5. Otherwise, it’s accusative. If it has a ς, it’s plural. If it has ή or ά it’s feminine."]
[]
[null,null,"ὁ","the (nominative, singular, masculine)"]
[null,null,"ἡ","the (nominative, singular, feminine)"]
[null,null,"οἱ","the (nominative, plural, masculine)"]
[null,null,"αἱ","the (nominative, plural, feminine)"]
[null,null,"τῷ","the (dative, singular, masculine or neuter)"]
[null,null,"τῇ","the (dative, singular, feminine)"]
[null,null,"τοῖς","the (dative, plural, masculine or neuter)"]
[null,null,"ταῖς","the (dative, plural, feminine)"]
[null,null,"τοῦ","the (genitive, singular, masculine or neuter)"]
[null,null,"τῆς","the (genitive, singular, feminine)"]
[null,null,"τῶν","the (genitive, plural, masculine, feminine, neuter)"]
[null,null,"τό","the (nominative or accusative, singular, neuter)"]
[null,null,"τά","the (nominative or accusative, plural, neuter)"]
[null,null,"τόν","the (accusative, singular, masculine)"]
[null,null,"τήν","the (accusative, singular, feminine)"]
[null,null,"τούς","the (accusative, plural, masculine)"]
[null,null,"τάς","the (accusative, plural, feminine)"]